{"text_format":"1","workbook":"xlsx","n_sheets":11,"sheets":["INTRO","GLOSSARY","SEARCH","Roster LIMA","Roster Hornby","Operators","Internet","Logo&Box","UIC Wagon","UIC Coach","Assorted"],"not_rendered":{"charts":0,"images":18,"macros":1,"external_links":0,"defined_names":6,"comments":1,"pivot_tables":0},"unopened":[],"bounds":{"document_bytes":16777216,"sheet_cells":100000,"rows_first":2000,"rows_last":500,"rows_between":2000,"halvings":0,"cell_chars":16384,"cell_head_chars":4096},"cells_cut":0,"cells_raw":0,"read":"whole","date_system":"1900"}

{"sheet":"INTRO","index":0,"n_rows":25,"n_cols":1,"rows_kept":25,"cut":false,"hidden":false,"merged":[]}
["READ FIRST!"]
["INTRODUCTION"]
[]
["Hello, I am a long time fan of LIMA and I wanted to make a roster with all the available information regarding articles manufactured by the Italian company."]
["To do so, I have spent almost three years collecting and downloading catalogues from ebay and internet and systemizing them on this file."]
[]
["However, and in order not to make this task into a 7 head Hydra, I had to setup some ground rules:"]
["1) HO only items"]
["2) main source of information would be catalogues, price lists, and other type of official information material produced by the company"]
["3) in case of discrepancies between the catalogue and the real world, I took for real the effective manufactured item (i.e. colors do not match)"]
["4) if the same item is published on several catalogues during the very same year (for instance in the German or Italian catalogue) I only mention it once"]
["5) if the catalogue described the item erroneously (for instance wrong series) I replaced it with the real description corresponding to the article"]
[]
["In all this time (almost 3 years) I learnt a lot about European railways, mostly due to LIMA's dedication to it, and the focus of the research was placed on it accordingly."]
["Nevertheless there still is information about other parts of the world too. Although, I must say that perhaps the level of detail is not that profound when compared to Europe."]
[]
["This project started in May 2014 and I would like to thank to many sites and people who have helped me enrichening it."]
[]
["Last but not least, this is a living and continuous project. Accordingly, modifications and changes are welcome."]
["Do not hesitate to drop me a note to the email address found below, placing as subject \"Roster LIMA\"."]
["I do also receive donations in PDF format of catalogues! And Paypal too! J"]
[]
["Thanks and enjoy! Kokomo"]
["mercantilista(at)gmail.com"]
["March-17"]

{"sheet":"GLOSSARY","index":1,"n_rows":61,"n_cols":2,"rows_kept":61,"cut":false,"hidden":false,"merged":[]}
["GLOSSARY"]
["Characteristics","Explanation"]
[]
["Year","Indicates item Year of appearance on catalogue"]
["Catalogue","Indicates whether or not the item has appeared on any specific Catalogue. In case the answer is \"NO\" the item was indeed manufactured but could not be located on any printed material so far"]
["Edition","Indicates on which Edition did the item appear such as: German edition, NEW articles, Multi language edition, etc. For further info, check tab \"Assorted\""]
["Page","Indicates on which Page of the PDF document the item appears. This may or may not be the number of page of the original document"]
["Available","Internal use reference"]
["# Hornby article","Indicates Alphanumerical article # employed after LIMA's acquisition by Hornby (2004)"]
["# Ancient article","Indicates 4 digit article # employed until 1977"]
["# Article","Indicates 6 digit article # employed since 1977. Used to distinguish sets with prefix 1, locomotives with prefix 2 and other rolling stock with prefix 3"]
["Code","Indicates Alphabetical code which usually specified special item charactertistics or specifications. For further info, check tab \"Assorted\""]
["AC","Indicates whether item was available on AC version too (only Sets & Locomotives)"]
["Country","Indicates Country of item, such as: UK, France, etc"]
["Operator","Indicates Operator of item, such as: DB, SNCF, AMTRAK, etc"]
["Multiple unit","Indicates whether item is part or not of a multiple-unit set, such as: DMU or EMU"]
["Type","Indicates Type of item, such as: Locomotive, Passenger, Freight, etc"]
["Category","Indicates Category of item, such as: Electric locomotive, First class coach, Open wagon, etc"]
["Sub-category","Indicates additional information about the Category, such as: Express trains, Coach with compartments, etc"]
["Collection","Indicates whether item belonged to a specific LIMA Collection, such as: \"Golden Series\" or \"Hobby Line\""]
["Veridical","Indicates whether item Existed in real life or was an Invention by LIMA"]
["Commission","Indicates (approximated) year of Commission"]
["Withdrawal","Indicates (approximated) year of Withdrawal"]
["Era","Indicates (approximated) railway Era, such as: III b / IV a"]
["Series","Indicates item Series or Class "]
["Usual name","Indicates most frequent/actual item Denomination or Name"]
["Alternative name","Indicates alternative/former item Denomination or Name"]
["Number","Indicates item Number"]
["Description","Indicates additional useful Information regarding the item such as: quantities manufactured or typical usage"]
["Legend","Indicates any printed Legend (on either walls or roof) which may identify the item rapidly, such as: \"Shell\", \"Hapag Lloyd\", \"Interfrigo\", \"Agip\", etc"]
["Service","Indicates any specific Service the item was assigned to, such as: \"Trans Europ Express\" or \"Orient Express\""]
["Nick","Indicates Nickname under the item was usually known, such as: \"Hondekop\" or \"Silberling\""]
["Logo","Indicates type of Logo available, such as: Losanga, Keks, etc"]
["Livery","Indicates either formal or unofficial denomination of Livery employed by the item, such as: \"XMPR\", \"Castano Isabella\" or \"Corail\""]
["Bodywork","Indicates most prominent color on Walls/Laterals"]
["Roof","Indicates most prominent color on Roof. In the case of flat wagons with containers, indicates color of one of them"]
["Floor","Indicates most prominent color on Floor"]
["Stripes","Indicates color of Stripes. In case multiple colors are present, denomination can be \"Bicolor\" o \"Tricolor\""]
["Doors","Indicates most prominent color on Doors. In case multiple colors are present, denomination can be \"Bicolor\" o \"Tricolor\""]
["Box","Indicates most prominent color on Box"]
["Motor","Indicates type of Motor employed"]
["Pantograph type","Indicates type of Pantograph present: single/double armed"]
["# Pantograph","Indicates quantity of Pantographs available"]
["Bogies","Indicates quantity of Bogies available"]
["Axle","Indicates quantity of Axle available"]
["Scale","Indicates item real Scale (related to length). For instance 1/87, 1/76, 1/100 or 1/93"]
["Length","Indicates item Length, including buffers, in millimeters"]
["Photo","Indicates item Photograph availability"]
[]
[]
["Search engines"]
[]
[null,"SUGGESTED. Searchs throughout all LIMA lifespan (1959 - 2009)"]
[]
[]
[]
[null,"Recommended for specific queries in the 1959 - 1977 period with abbreviated item numbering"]
[]
[]
[]
[null,"Recommended for specific queries in the HORNBY LIMA period (after 2004) with alphanumerical item numbering"]

{"sheet":"SEARCH","index":2,"n_rows":126,"n_cols":46,"rows_kept":126,"cut":false,"hidden":false,"merged":[]}
["Year","Catalogue","Edition","Page","Available","# Hornby article","# Ancient article","# Article","Code","AC","Country","Operator","Multiple Unit","Type","Category","Sub-category","Wheel arrangement","Collection","Veridical","Commission","Withdrawal","Era","Series","Usual name","Alternative name","Number","Description","Legend","Service","Nick","Logo","Livery","Bodywork","Roof","Floor","Stripes","Doors","Box","Motor","Pantograph type","# Pantograph","Bogies","Axle","Scale","Length (mm)","Photo"]
[{"$f":"IF(AND(A3<>0,SUM(AQ7:AQ62)=0),\"Non-existent\",\"\")","v":""}]
[null,null,"Enter 6 digit item number only. No letters or special signs"]
[null,null,"If 4 digit article is available only, insert the following numbers before them: 10 for SETS, 20 for LOCOMOTIVES, 30 for OTHER ROLLING STOCK. For instance: locomotive 2002 would be 202002"]
[]
["Year","Catalogue","Edition","Page","Available","# Hornby article","# Ancient article","# Article","Code","AC","Country","Operator","Multiple Unit","Type","Category","Sub-category","Wheel arrangement","Collection","Veridical","Commission","Withdrawal","Era","Series","Usual name","Alternative name","Number","Description","Legend","Service","Nick","Logo","Livery","Bodywork","Roof","Floor","Stripes","Doors","Box","Motor","Pantograph type","# Pantograph","Bogies","Axle","Scale","Length (mm)","Photo"]
[{"$f":"+'Roster LIMA'!G3","v":1959},{"$f":"IF(COUNTBLANK($A$3)<>0,\"\",IF(ISERROR(VLOOKUP($A$3,'Roster LIMA'!$B$3:$AU$16,'Roster LIMA'!H$1,FALSE)),\"\",IF(VLOOKUP($A$3,'Roster LIMA'!$B$3:$AU$16,'Roster LIMA'!H$1,FALSE)=0,\"\",VLOOKUP($A$3,'Roster LIMA'!$B$3:$AU$16,'Roster LIMA'!H$1,FALSE))))","v":""},{"$f":"IF(COUNTBLANK($A$3)<>0,\"\",IF(ISERROR(VLOOKUP($A$3,'Roster LIMA'!$B$3:$AU$16,'Roster LIMA'!I$1,FALSE)),\"\",IF(VLOOKUP($A$3,'Roster LIMA'!$B$3:$AU$16,'Roster LIMA'!I$1,FALSE)=0,\"\",VLOOKUP($A$3,'Roster LIMA'!$B$3:$AU$16,'Roster LIMA'!I$1,FALSE))))","v":""},{"$f":"IF(COUNTBLANK($A$3)<>0,\"\",IF(ISERROR(VLOOKUP($A$3,'Roster LIMA'!$B$3:$AU$16,'Roster LIMA'!J$1,FALSE)),\"\",IF(VLOOKUP($A$3,'Roster LIMA'!$B$3:$AU$16,'Roster LIMA'!J$1,FALSE)=0,\"\",VLOOKUP($A$3,'Roster LIMA'!$B$3:$AU$16,'Roster LIMA'!J$1,FALSE))))","v":""},{"$f":"IF(COUNTBLANK($A$3)<>0,\"\",IF(ISERROR(VLOOKUP($A$3,'Roster LIMA'!$B$3:$AU$16,'Roster LIMA'!K$1,FALSE)),\"\",IF(VLOOKUP($A$3,'Roster LIMA'!$B$3:$AU$16,'Roster LIMA'!K$1,FALSE)=0,\"\",VLOOKUP($A$3,'Roster LIMA'!$B$3:$AU$16,'Roster LIMA'!K$1,FALSE))))","v":""},{"$f":"IF(COUNTBLANK($A$3)<>0,\"\",IF(ISERROR(VLOOKUP($A$3,'Roster LIMA'!$B$3:$AU$16,'Roster LIMA'!F$1,FALSE)),\"\",IF(VLOOKUP($A$3,'Roster LIMA'!$B$3:$AU$16,'Roster LIMA'!F$1,FALSE)=0,\"\",VLOOKUP($A$3,'Roster LIMA'!$B$3:$AU$16,'Roster LIMA'!F$1,FALSE))))","v":""},{"$f":"IF(COUNTBLANK($A$3)<>0,\"\",IF(ISERROR(VLOOKUP($A$3,'Roster LIMA'!$B$3:$AU$16,'Roster LIMA'!E$1,FALSE)),\"\",IF(VLOOKUP($A$3,'Roster LIMA'!$B$3:$AU$16,'Roster LIMA'!E$1,FALSE)=0,\"\",VLOOKUP($A$3,'Roster LIMA'!$B$3:$AU$16,'Roster LIMA'!E$1,FALSE))))","v":""},{"$f":"IF(COUNTBLANK($A$3)<>0,\"\",IF(ISERROR(VLOOKUP($A$3,'Roster LIMA'!$B$3:$AU$16,'Roster LIMA'!B$1,FALSE)),\"N/A\",IF(VLOOKUP($A$3,'Roster LIMA'!$B$3:$AU$16,'Roster LIMA'!B$1,FALSE)=0,\"\",VLOOKUP($A$3,'Roster LIMA'!$B$3:$AU$16,'Roster LIMA'!B$1,FALSE))))","v":""},{"$f":"IF(COUNTBLANK($A$3)<>0,\"\",IF(ISERROR(VLOOKUP($A$3,'Roster LIMA'!$B$3:$AU$16,'Roster LIMA'!C$1,FALSE)),\"\",IF(VLOOKUP($A$3,'Roster LIMA'!$B$3:$AU$16,'Roster LIMA'!C$1,FALSE)=0,\"\",VLOOKUP($A$3,'Roster LIMA'!$B$3:$AU$16,'Roster LIMA'!C$1,FALSE))))","v":""},{"$f":"IF(COUNTBLANK($A$3)<>0,\"\",IF(ISERROR(VLOOKUP($A$3,'Roster LIMA'!$B$3:$AU$16,'Roster LIMA'!D$1,FALSE)),\"\",IF(VLOOKUP($A$3,'Roster LIMA'!$B$3:$AU$16,'Roster LIMA'!D$1,FALSE)=0,\"\",VLOOKUP($A$3,'Roster LIMA'!$B$3:$AU$16,'Roster LIMA'!D$1,FALSE))))","v":""},{"$f":"IF(COUNTBLANK($A$3)<>0,\"\",IF(ISERROR(VLOOKUP($A$3,'Roster LIMA'!$B$3:$AU$16,'Roster LIMA'!L$1,FALSE)),\"\",VLOOKUP($A$3,'Roster LIMA'!$B$3:$AU$16,'Roster LIMA'!L$1,FALSE)))","v":""},{"$f":"IF(COUNTBLANK($A$3)<>0,\"\",IF(ISERROR(VLOOKUP($A$3,'Roster LIMA'!$B$3:$AU$16,'Roster LIMA'!M$1,FALSE)),\"\",VLOOKUP($A$3,'Roster LIMA'!$B$3:$AU$16,'Roster LIMA'!M$1,FALSE)))","v":""},{"$f":"IF(COUNTBLANK($A$3)<>0,\"\",IF(ISERROR(VLOOKUP($A$3,'Roster LIMA'!$B$3:$AU$16,'Roster LIMA'!N$1,FALSE)),\"\",VLOOKUP($A$3,'Roster LIMA'!$B$3:$AU$16,'Roster LIMA'!N$1,FALSE)))","v":""},{"$f":"IF(COUNTBLANK($A$3)<>0,\"\",IF(ISERROR(VLOOKUP($A$3,'Roster LIMA'!$B$3:$AU$16,'Roster LIMA'!O$1,FALSE)),\"\",VLOOKUP($A$3,'Roster LIMA'!$B$3:$AU$16,'Roster LIMA'!O$1,FALSE)))","v":""},{"$f":"IF(COUNTBLANK($A$3)<>0,\"\",IF(ISERROR(VLOOKUP($A$3,'Roster LIMA'!$B$3:$AU$16,'Roster LIMA'!P$1,FALSE)),\"\",VLOOKUP($A$3,'Roster LIMA'!$B$3:$AU$16,'Roster LIMA'!P$1,FALSE)))","v":""},{"$f":"IF(COUNTBLANK($A$3)<>0,\"\",IF(ISERROR(VLOOKUP($A$3,'Roster LIMA'!$B$3:$AU$16,'Roster LIMA'!Q$1,FALSE)),\"\",VLOOKUP($A$3,'Roster LIMA'!$B$3:$AU$16,'Roster LIMA'!Q$1,FALSE)))","v":""},{"$f":"IF(COUNTBLANK($A$3)<>0,\"\",IF(ISERROR(VLOOKUP($A$3,'Roster LIMA'!$B$3:$AU$16,'Roster LIMA'!R$1,FALSE)),\"\",VLOOKUP($A$3,'Roster LIMA'!$B$3:$AU$16,'Roster LIMA'!R$1,FALSE)))","v":""},{"$f":"IF(COUNTBLANK($A$3)<>0,\"\",IF(ISERROR(VLOOKUP($A$3,'Roster LIMA'!$B$3:$AU$16,'Roster LIMA'!S$1,FALSE)),\"\",VLOOKUP($A$3,'Roster LIMA'!$B$3:$AU$16,'Roster LIMA'!S$1,FALSE)))","v":""},{"$f":"IF(COUNTBLANK($A$3)<>0,\"\",IF(ISERROR(VLOOKUP($A$3,'Roster LIMA'!$B$3:$AU$16,'Roster LIMA'!T$1,FALSE)),\"\",VLOOKUP($A$3,'Roster LIMA'!$B$3:$AU$16,'Roster LIMA'!T$1,FALSE)))","v":""},{"$f":"IF(COUNTBLANK($A$3)<>0,\"\",IF(ISERROR(VLOOKUP($A$3,'Roster LIMA'!$B$3:$AU$16,'Roster LIMA'!U$1,FALSE)),\"\",VLOOKUP($A$3,'Roster LIMA'!$B$3:$AU$16,'Roster LIMA'!U$1,FALSE)))","v":""},{"$f":"IF(COUNTBLANK($A$3)<>0,\"\",IF(ISERROR(VLOOKUP($A$3,'Roster LIMA'!$B$3:$AU$16,'Roster LIMA'!V$1,FALSE)),\"\",VLOOKUP($A$3,'Roster LIMA'!$B$3:$AU$16,'Roster LIMA'!V$1,FALSE)))","v":""},{"$f":"IF(COUNTBLANK($A$3)<>0,\"\",IF(ISERROR(VLOOKUP($A$3,'Roster LIMA'!$B$3:$AU$16,'Roster LIMA'!W$1,FALSE)),\"\",VLOOKUP($A$3,'Roster LIMA'!$B$3:$AU$16,'Roster LIMA'!W$1,FALSE)))","v":""},{"$f":"IF(COUNTBLANK($A$3)<>0,\"\",IF(ISERROR(VLOOKUP($A$3,'Roster LIMA'!$B$3:$AU$16,'Roster LIMA'!X$1,FALSE)),\"\",VLOOKUP($A$3,'Roster LIMA'!$B$3:$AU$16,'Roster LIMA'!X$1,FALSE)))","v":""},{"$f":"IF(COUNTBLANK($A$3)<>0,\"\",IF(ISERROR(VLOOKUP($A$3,'Roster LIMA'!$B$3:$AU$16,'Roster LIMA'!Y$1,FALSE)),\"\",VLOOKUP($A$3,'Roster LIMA'!$B$3:$AU$16,'Roster LIMA'!Y$1,FALSE)))","v":""},{"$f":"IF(COUNTBLANK($A$3)<>0,\"\",IF(ISERROR(VLOOKUP($A$3,'Roster LIMA'!$B$3:$AU$16,'Roster LIMA'!Z$1,FALSE)),\"\",VLOOKUP($A$3,'Roster LIMA'!$B$3:$AU$16,'Roster LIMA'!Z$1,FALSE)))","v":""},{"$f":"IF(COUNTBLANK($A$3)<>0,\"\",IF(ISERROR(VLOOKUP($A$3,'Roster LIMA'!$B$3:$AU$16,'Roster LIMA'!AA$1,FALSE)),\"\",VLOOKUP($A$3,'Roster LIMA'!$B$3:$AU$16,'Roster LIMA'!AA$1,FALSE)))","v":""},{"$f":"IF(COUNTBLANK($A$3)<>0,\"\",IF(ISERROR(VLOOKUP($A$3,'Roster LIMA'!$B$3:$AU$16,'Roster LIMA'!AB$1,FALSE)),\"\",VLOOKUP($A$3,'Roster LIMA'!$B$3:$AU$16,'Roster LIMA'!AB$1,FALSE)))","v":""},{"$f":"IF(COUNTBLANK($A$3)<>0,\"\",IF(ISERROR(VLOOKUP($A$3,'Roster LIMA'!$B$3:$AU$16,'Roster LIMA'!AC$1,FALSE)),\"\",VLOOKUP($A$3,'Roster LIMA'!$B$3:$AU$16,'Roster LIMA'!AC$1,FALSE)))","v":""},{"$f":"IF(COUNTBLANK($A$3)<>0,\"\",IF(ISERROR(VLOOKUP($A$3,'Roster LIMA'!$B$3:$AU$16,'Roster LIMA'!AD$1,FALSE)),\"\",VLOOKUP($A$3,'Roster LIMA'!$B$3:$AU$16,'Roster LIMA'!AD$1,FALSE)))","v":""},{"$f":"IF(COUNTBLANK($A$3)<>0,\"\",IF(ISERROR(VLOOKUP($A$3,'Roster LIMA'!$B$3:$AU$16,'Roster LIMA'!AE$1,FALSE)),\"\",VLOOKUP($A$3,'Roster LIMA'!$B$3:$AU$16,'Roster LIMA'!AE$1,FALSE)))","v":""},{"$f":"IF(COUNTBLANK($A$3)<>0,\"\",IF(ISERROR(VLOOKUP($A$3,'Roster LIMA'!$B$3:$AU$16,'Roster LIMA'!AF$1,FALSE)),\"\",VLOOKUP($A$3,'Roster LIMA'!$B$3:$AU$16,'Roster LIMA'!AF$1,FALSE)))","v":""},{"$f":"IF(COUNTBLANK($A$3)<>0,\"\",IF(ISERROR(VLOOKUP($A$3,'Roster LIMA'!$B$3:$AU$16,'Roster LIMA'!AG$1,FALSE)),\"\",VLOOKUP($A$3,'Roster LIMA'!$B$3:$AU$16,'Roster LIMA'!AG$1,FALSE)))","v":""},{"$f":"IF(COUNTBLANK($A$3)<>0,\"\",IF(ISERROR(VLOOKUP($A$3,'Roster LIMA'!$B$3:$AU$16,'Roster LIMA'!AH$1,FALSE)),\"\",VLOOKUP($A$3,'Roster LIMA'!$B$3:$AU$16,'Roster LIMA'!AH$1,FALSE)))","v":""},{"$f":"IF(COUNTBLANK($A$3)<>0,\"\",IF(ISERROR(VLOOKUP($A$3,'Roster LIMA'!$B$3:$AU$16,'Roster LIMA'!AI$1,FALSE)),\"\",VLOOKUP($A$3,'Roster LIMA'!$B$3:$AU$16,'Roster LIMA'!AI$1,FALSE)))","v":""},{"$f":"IF(COUNTBLANK($A$3)<>0,\"\",IF(ISERROR(VLOOKUP($A$3,'Roster LIMA'!$B$3:$AU$16,'Roster LIMA'!AJ$1,FALSE)),\"\",VLOOKUP($A$3,'Roster LIMA'!$B$3:$AU$16,'Roster LIMA'!AJ$1,FALSE)))","v":""},{"$f":"IF(COUNTBLANK($A$3)<>0,\"\",IF(ISERROR(VLOOKUP($A$3,'Roster LIMA'!$B$3:$AU$16,'Roster LIMA'!AK$1,FALSE)),\"\",VLOOKUP($A$3,'Roster LIMA'!$B$3:$AU$16,'Roster LIMA'!AK$1,FALSE)))","v":""},{"$f":"IF(COUNTBLANK($A$3)<>0,\"\",IF(ISERROR(VLOOKUP($A$3,'Roster LIMA'!$B$3:$AU$16,'Roster LIMA'!AL$1,FALSE)),\"\",VLOOKUP($A$3,'Roster LIMA'!$B$3:$AU$16,'Roster LIMA'!AL$1,FALSE)))","v":""},{"$f":"IF(COUNTBLANK($A$3)<>0,\"\",IF(ISERROR(VLOOKUP($A$3,'Roster LIMA'!$B$3:$AU$16,'Roster LIMA'!AM$1,FALSE)),\"\",VLOOKUP($A$3,'Roster LIMA'!$B$3:$AU$16,'Roster LIMA'!AM$1,FALSE)))","v":""},{"$f":"IF(COUNTBLANK($A$3)<>0,\"\",IF(ISERROR(VLOOKUP($A$3,'Roster LIMA'!$B$3:$AU$16,'Roster LIMA'!AN$1,FALSE)),\"\",VLOOKUP($A$3,'Roster LIMA'!$B$3:$AU$16,'Roster LIMA'!AN$1,FALSE)))","v":""},{"$f":"IF(COUNTBLANK($A$3)<>0,\"\",IF(ISERROR(VLOOKUP($A$3,'Roster LIMA'!$B$3:$AU$16,'Roster LIMA'!AO$1,FALSE)),\"\",VLOOKUP($A$3,'Roster LIMA'!$B$3:$AU$16,'Roster LIMA'!AO$1,FALSE)))","v":""},{"$f":"IF(COUNTBLANK($A$3)<>0,\"\",IF(ISERROR(VLOOKUP($A$3,'Roster LIMA'!$B$3:$AU$16,'Roster LIMA'!AP$1,FALSE)),\"\",VLOOKUP($A$3,'Roster LIMA'!$B$3:$AU$16,'Roster LIMA'!AP$1,FALSE)))","v":""},{"$f":"IF(COUNTBLANK($A$3)<>0,\"\",IF(ISERROR(VLOOKUP($A$3,'Roster LIMA'!$B$3:$AU$16,'Roster LIMA'!AQ$1,FALSE)),\"\",VLOOKUP($A$3,'Roster LIMA'!$B$3:$AU$16,'Roster LIMA'!AQ$1,FALSE)))","v":""},{"$f":"IF(COUNTBLANK($A$3)<>0,\"\",IF(ISERROR(VLOOKUP($A$3,'Roster LIMA'!$B$3:$AU$16,'Roster LIMA'!AR$1,FALSE)),\"\",VLOOKUP($A$3,'Roster LIMA'!$B$3:$AU$16,'Roster LIMA'!AR$1,FALSE)))","v":""},{"$f":"IF(COUNTBLANK($A$3)<>0,\"\",IF(ISERROR(VLOOKUP($A$3,'Roster LIMA'!$B$3:$AU$16,'Roster LIMA'!AS$1,FALSE)),\"\",VLOOKUP($A$3,'Roster LIMA'!$B$3:$AU$16,'Roster LIMA'!AS$1,FALSE)))","v":""},{"$f":"IF(COUNTBLANK($A$3)<>0,\"\",IF(ISERROR(VLOOKUP($A$3,'Roster LIMA'!$B$3:$AU$16,'Roster LIMA'!AT$1,FALSE)),\"\",VLOOKUP($A$3,'Roster LIMA'!$B$3:$AU$16,'Roster LIMA'!AT$1,FALSE)))","v":""},{"$f":"IF(COUNTBLANK($A$3)<>0,\"\",IF(ISERROR(VLOOKUP($A$3,'Roster LIMA'!$B$3:$AU$16,'Roster LIMA'!AU$1,FALSE)),\"\",VLOOKUP($A$3,'Roster LIMA'!$B$3:$AU$16,'Roster LIMA'!AU$1,FALSE)))","v":""}]
[{"$f":"+'Roster LIMA'!G17","v":1960},{"$f":"IF(COUNTBLANK($A$3)<>0,\"\",IF(ISERROR(VLOOKUP($A$3,'Roster LIMA'!$B$17:$AU$54,'Roster LIMA'!H$1,FALSE)),\"\",IF(VLOOKUP($A$3,'Roster LIMA'!$B$17:$AU$54,'Roster LIMA'!H$1,FALSE)=0,\"\",VLOOKUP($A$3,'Roster LIMA'!$B$17:$AU$54,'Roster LIMA'!H$1,FALSE))))","v":""},{"$f":"IF(COUNTBLANK($A$3)<>0,\"\",IF(ISERROR(VLOOKUP($A$3,'Roster LIMA'!$B$17:$AU$54,'Roster LIMA'!I$1,FALSE)),\"\",IF(VLOOKUP($A$3,'Roster LIMA'!$B$17:$AU$54,'Roster LIMA'!I$1,FALSE)=0,\"\",VLOOKUP($A$3,'Roster LIMA'!$B$17:$AU$54,'Roster LIMA'!I$1,FALSE))))","v":""},{"$f":"IF(COUNTBLANK($A$3)<>0,\"\",IF(ISERROR(VLOOKUP($A$3,'Roster LIMA'!$B$17:$AU$54,'Roster LIMA'!J$1,FALSE)),\"\",IF(VLOOKUP($A$3,'Roster LIMA'!$B$17:$AU$54,'Roster LIMA'!J$1,FALSE)=0,\"\",VLOOKUP($A$3,'Roster LIMA'!$B$17:$AU$54,'Roster LIMA'!J$1,FALSE))))","v":""},{"$f":"IF(COUNTBLANK($A$3)<>0,\"\",IF(ISERROR(VLOOKUP($A$3,'Roster LIMA'!$B$17:$AU$54,'Roster LIMA'!K$1,FALSE)),\"\",IF(VLOOKUP($A$3,'Roster LIMA'!$B$17:$AU$54,'Roster LIMA'!K$1,FALSE)=0,\"\",VLOOKUP($A$3,'Roster LIMA'!$B$17:$AU$54,'Roster LIMA'!K$1,FALSE))))","v":""},{"$f":"IF(COUNTBLANK($A$3)<>0,\"\",IF(ISERROR(VLOOKUP($A$3,'Roster LIMA'!$B$17:$AU$54,'Roster LIMA'!F$1,FALSE)),\"\",IF(VLOOKUP($A$3,'Roster LIMA'!$B$17:$AU$54,'Roster LIMA'!F$1,FALSE)=0,\"\",VLOOKUP($A$3,'Roster LIMA'!$B$17:$AU$54,'Roster LIMA'!F$1,FALSE))))","v":""},{"$f":"IF(COUNTBLANK($A$3)<>0,\"\",IF(ISERROR(VLOOKUP($A$3,'Roster LIMA'!$B$17:$AU$54,'Roster LIMA'!E$1,FALSE)),\"\",IF(VLOOKUP($A$3,'Roster LIMA'!$B$17:$AU$54,'Roster LIMA'!E$1,FALSE)=0,\"\",VLOOKUP($A$3,'Roster LIMA'!$B$17:$AU$54,'Roster LIMA'!E$1,FALSE))))","v":""},{"$f":"IF(COUNTBLANK($A$3)<>0,\"\",IF(ISERROR(VLOOKUP($A$3,'Roster LIMA'!$B$17:$AU$54,'Roster LIMA'!B$1,FALSE)),\"N/A\",IF(VLOOKUP($A$3,'Roster LIMA'!$B$17:$AU$54,'Roster LIMA'!B$1,FALSE)=0,\"\",VLOOKUP($A$3,'Roster LIMA'!$B$17:$AU$54,'Roster LIMA'!B$1,FALSE))))","v":""},{"$f":"IF(COUNTBLANK($A$3)<>0,\"\",IF(ISERROR(VLOOKUP($A$3,'Roster LIMA'!$B$17:$AU$54,'Roster LIMA'!C$1,FALSE)),\"\",IF(VLOOKUP($A$3,'Roster LIMA'!$B$17:$AU$54,'Roster LIMA'!C$1,FALSE)=0,\"\",VLOOKUP($A$3,'Roster LIMA'!$B$17:$AU$54,'Roster LIMA'!C$1,FALSE))))","v":""},{"$f":"IF(COUNTBLANK($A$3)<>0,\"\",IF(ISERROR(VLOOKUP($A$3,'Roster LIMA'!$B$17:$AU$54,'Roster LIMA'!D$1,FALSE)),\"\",IF(VLOOKUP($A$3,'Roster LIMA'!$B$17:$AU$54,'Roster LIMA'!D$1,FALSE)=0,\"\",VLOOKUP($A$3,'Roster LIMA'!$B$17:$AU$54,'Roster LIMA'!D$1,FALSE))))","v":""},{"$f":"IF(COUNTBLANK($A$3)<>0,\"\",IF(ISERROR(VLOOKUP($A$3,'Roster LIMA'!$B$17:$AU$54,'Roster LIMA'!L$1,FALSE)),\"\",VLOOKUP($A$3,'Roster LIMA'!$B$17:$AU$54,'Roster LIMA'!L$1,FALSE)))","v":""},{"$f":"IF(COUNTBLANK($A$3)<>0,\"\",IF(ISERROR(VLOOKUP($A$3,'Roster LIMA'!$B$17:$AU$54,'Roster LIMA'!M$1,FALSE)),\"\",VLOOKUP($A$3,'Roster LIMA'!$B$17:$AU$54,'Roster LIMA'!M$1,FALSE)))","v":""},{"$f":"IF(COUNTBLANK($A$3)<>0,\"\",IF(ISERROR(VLOOKUP($A$3,'Roster LIMA'!$B$17:$AU$54,'Roster LIMA'!N$1,FALSE)),\"\",VLOOKUP($A$3,'Roster LIMA'!$B$17:$AU$54,'Roster LIMA'!N$1,FALSE)))","v":""},{"$f":"IF(COUNTBLANK($A$3)<>0,\"\",IF(ISERROR(VLOOKUP($A$3,'Roster LIMA'!$B$17:$AU$54,'Roster LIMA'!O$1,FALSE)),\"\",VLOOKUP($A$3,'Roster LIMA'!$B$17:$AU$54,'Roster LIMA'!O$1,FALSE)))","v":""},{"$f":"IF(COUNTBLANK($A$3)<>0,\"\",IF(ISERROR(VLOOKUP($A$3,'Roster LIMA'!$B$17:$AU$54,'Roster LIMA'!P$1,FALSE)),\"\",VLOOKUP($A$3,'Roster LIMA'!$B$17:$AU$54,'Roster LIMA'!P$1,FALSE)))","v":""},{"$f":"IF(COUNTBLANK($A$3)<>0,\"\",IF(ISERROR(VLOOKUP($A$3,'Roster LIMA'!$B$17:$AU$54,'Roster LIMA'!Q$1,FALSE)),\"\",VLOOKUP($A$3,'Roster LIMA'!$B$17:$AU$54,'Roster LIMA'!Q$1,FALSE)))","v":""},{"$f":"IF(COUNTBLANK($A$3)<>0,\"\",IF(ISERROR(VLOOKUP($A$3,'Roster LIMA'!$B$17:$AU$54,'Roster LIMA'!R$1,FALSE)),\"\",VLOOKUP($A$3,'Roster LIMA'!$B$17:$AU$54,'Roster LIMA'!R$1,FALSE)))","v":""},{"$f":"IF(COUNTBLANK($A$3)<>0,\"\",IF(ISERROR(VLOOKUP($A$3,'Roster LIMA'!$B$17:$AU$54,'Roster LIMA'!S$1,FALSE)),\"\",VLOOKUP($A$3,'Roster LIMA'!$B$17:$AU$54,'Roster LIMA'!S$1,FALSE)))","v":""},{"$f":"IF(COUNTBLANK($A$3)<>0,\"\",IF(ISERROR(VLOOKUP($A$3,'Roster LIMA'!$B$17:$AU$54,'Roster LIMA'!T$1,FALSE)),\"\",VLOOKUP($A$3,'Roster LIMA'!$B$17:$AU$54,'Roster LIMA'!T$1,FALSE)))","v":""},{"$f":"IF(COUNTBLANK($A$3)<>0,\"\",IF(ISERROR(VLOOKUP($A$3,'Roster LIMA'!$B$17:$AU$54,'Roster LIMA'!U$1,FALSE)),\"\",VLOOKUP($A$3,'Roster LIMA'!$B$17:$AU$54,'Roster LIMA'!U$1,FALSE)))","v":""},{"$f":"IF(COUNTBLANK($A$3)<>0,\"\",IF(ISERROR(VLOOKUP($A$3,'Roster LIMA'!$B$17:$AU$54,'Roster LIMA'!V$1,FALSE)),\"\",VLOOKUP($A$3,'Roster LIMA'!$B$17:$AU$54,'Roster LIMA'!V$1,FALSE)))","v":""},{"$f":"IF(COUNTBLANK($A$3)<>0,\"\",IF(ISERROR(VLOOKUP($A$3,'Roster LIMA'!$B$17:$AU$54,'Roster LIMA'!W$1,FALSE)),\"\",VLOOKUP($A$3,'Roster LIMA'!$B$17:$AU$54,'Roster LIMA'!W$1,FALSE)))","v":""},{"$f":"IF(COUNTBLANK($A$3)<>0,\"\",IF(ISERROR(VLOOKUP($A$3,'Roster LIMA'!$B$17:$AU$54,'Roster LIMA'!X$1,FALSE)),\"\",VLOOKUP($A$3,'Roster LIMA'!$B$17:$AU$54,'Roster LIMA'!X$1,FALSE)))","v":""},{"$f":"IF(COUNTBLANK($A$3)<>0,\"\",IF(ISERROR(VLOOKUP($A$3,'Roster LIMA'!$B$17:$AU$54,'Roster LIMA'!Y$1,FALSE)),\"\",VLOOKUP($A$3,'Roster LIMA'!$B$17:$AU$54,'Roster LIMA'!Y$1,FALSE)))","v":""},{"$f":"IF(COUNTBLANK($A$3)<>0,\"\",IF(ISERROR(VLOOKUP($A$3,'Roster LIMA'!$B$17:$AU$54,'Roster LIMA'!Z$1,FALSE)),\"\",VLOOKUP($A$3,'Roster LIMA'!$B$17:$AU$54,'Roster LIMA'!Z$1,FALSE)))","v":""},{"$f":"IF(COUNTBLANK($A$3)<>0,\"\",IF(ISERROR(VLOOKUP($A$3,'Roster LIMA'!$B$17:$AU$54,'Roster LIMA'!AA$1,FALSE)),\"\",VLOOKUP($A$3,'Roster LIMA'!$B$17:$AU$54,'Roster LIMA'!AA$1,FALSE)))","v":""},{"$f":"IF(COUNTBLANK($A$3)<>0,\"\",IF(ISERROR(VLOOKUP($A$3,'Roster LIMA'!$B$17:$AU$54,'Roster LIMA'!AB$1,FALSE)),\"\",VLOOKUP($A$3,'Roster LIMA'!$B$17:$AU$54,'Roster LIMA'!AB$1,FALSE)))","v":""},{"$f":"IF(COUNTBLANK($A$3)<>0,\"\",IF(ISERROR(VLOOKUP($A$3,'Roster LIMA'!$B$17:$AU$54,'Roster LIMA'!AC$1,FALSE)),\"\",VLOOKUP($A$3,'Roster LIMA'!$B$17:$AU$54,'Roster LIMA'!AC$1,FALSE)))","v":""},{"$f":"IF(COUNTBLANK($A$3)<>0,\"\",IF(ISERROR(VLOOKUP($A$3,'Roster LIMA'!$B$17:$AU$54,'Roster LIMA'!AD$1,FALSE)),\"\",VLOOKUP($A$3,'Roster LIMA'!$B$17:$AU$54,'Roster LIMA'!AD$1,FALSE)))","v":""},{"$f":"IF(COUNTBLANK($A$3)<>0,\"\",IF(ISERROR(VLOOKUP($A$3,'Roster LIMA'!$B$17:$AU$54,'Roster LIMA'!AE$1,FALSE)),\"\",VLOOKUP($A$3,'Roster LIMA'!$B$17:$AU$54,'Roster LIMA'!AE$1,FALSE)))","v":""},{"$f":"IF(COUNTBLANK($A$3)<>0,\"\",IF(ISERROR(VLOOKUP($A$3,'Roster LIMA'!$B$17:$AU$54,'Roster LIMA'!AF$1,FALSE)),\"\",VLOOKUP($A$3,'Roster LIMA'!$B$17:$AU$54,'Roster LIMA'!AF$1,FALSE)))","v":""},{"$f":"IF(COUNTBLANK($A$3)<>0,\"\",IF(ISERROR(VLOOKUP($A$3,'Roster LIMA'!$B$17:$AU$54,'Roster LIMA'!AG$1,FALSE)),\"\",VLOOKUP($A$3,'Roster LIMA'!$B$17:$AU$54,'Roster LIMA'!AG$1,FALSE)))","v":""},{"$f":"IF(COUNTBLANK($A$3)<>0,\"\",IF(ISERROR(VLOOKUP($A$3,'Roster LIMA'!$B$17:$AU$54,'Roster LIMA'!AH$1,FALSE)),\"\",VLOOKUP($A$3,'Roster LIMA'!$B$17:$AU$54,'Roster LIMA'!AH$1,FALSE)))","v":""},{"$f":"IF(COUNTBLANK($A$3)<>0,\"\",IF(ISERROR(VLOOKUP($A$3,'Roster LIMA'!$B$17:$AU$54,'Roster LIMA'!AI$1,FALSE)),\"\",VLOOKUP($A$3,'Roster LIMA'!$B$17:$AU$54,'Roster LIMA'!AI$1,FALSE)))","v":""},{"$f":"IF(COUNTBLANK($A$3)<>0,\"\",IF(ISERROR(VLOOKUP($A$3,'Roster LIMA'!$B$17:$AU$54,'Roster LIMA'!AJ$1,FALSE)),\"\",VLOOKUP($A$3,'Roster LIMA'!$B$17:$AU$54,'Roster LIMA'!AJ$1,FALSE)))","v":""},{"$f":"IF(COUNTBLANK($A$3)<>0,\"\",IF(ISERROR(VLOOKUP($A$3,'Roster LIMA'!$B$17:$AU$54,'Roster LIMA'!AK$1,FALSE)),\"\",VLOOKUP($A$3,'Roster LIMA'!$B$17:$AU$54,'Roster LIMA'!AK$1,FALSE)))","v":""},{"$f":"IF(COUNTBLANK($A$3)<>0,\"\",IF(ISERROR(VLOOKUP($A$3,'Roster LIMA'!$B$17:$AU$54,'Roster LIMA'!AL$1,FALSE)),\"\",VLOOKUP($A$3,'Roster LIMA'!$B$17:$AU$54,'Roster LIMA'!AL$1,FALSE)))","v":""},{"$f":"IF(COUNTBLANK($A$3)<>0,\"\",IF(ISERROR(VLOOKUP($A$3,'Roster LIMA'!$B$17:$AU$54,'Roster LIMA'!AM$1,FALSE)),\"\",VLOOKUP($A$3,'Roster LIMA'!$B$17:$AU$54,'Roster LIMA'!AM$1,FALSE)))","v":""},{"$f":"IF(COUNTBLANK($A$3)<>0,\"\",IF(ISERROR(VLOOKUP($A$3,'Roster LIMA'!$B$17:$AU$54,'Roster LIMA'!AN$1,FALSE)),\"\",VLOOKUP($A$3,'Roster LIMA'!$B$17:$AU$54,'Roster LIMA'!AN$1,FALSE)))","v":""},{"$f":"IF(COUNTBLANK($A$3)<>0,\"\",IF(ISERROR(VLOOKUP($A$3,'Roster LIMA'!$B$17:$AU$54,'Roster LIMA'!AO$1,FALSE)),\"\",VLOOKUP($A$3,'Roster LIMA'!$B$17:$AU$54,'Roster LIMA'!AO$1,FALSE)))","v":""},{"$f":"IF(COUNTBLANK($A$3)<>0,\"\",IF(ISERROR(VLOOKUP($A$3,'Roster LIMA'!$B$17:$AU$54,'Roster LIMA'!AP$1,FALSE)),\"\",VLOOKUP($A$3,'Roster LIMA'!$B$17:$AU$54,'Roster LIMA'!AP$1,FALSE)))","v":""},{"$f":"IF(COUNTBLANK($A$3)<>0,\"\",IF(ISERROR(VLOOKUP($A$3,'Roster LIMA'!$B$17:$AU$54,'Roster LIMA'!AQ$1,FALSE)),\"\",VLOOKUP($A$3,'Roster LIMA'!$B$17:$AU$54,'Roster LIMA'!AQ$1,FALSE)))","v":""},{"$f":"IF(COUNTBLANK($A$3)<>0,\"\",IF(ISERROR(VLOOKUP($A$3,'Roster LIMA'!$B$17:$AU$54,'Roster LIMA'!AR$1,FALSE)),\"\",VLOOKUP($A$3,'Roster LIMA'!$B$17:$AU$54,'Roster LIMA'!AR$1,FALSE)))","v":""},{"$f":"IF(COUNTBLANK($A$3)<>0,\"\",IF(ISERROR(VLOOKUP($A$3,'Roster LIMA'!$B$17:$AU$54,'Roster LIMA'!AS$1,FALSE)),\"\",VLOOKUP($A$3,'Roster LIMA'!$B$17:$AU$54,'Roster LIMA'!AS$1,FALSE)))","v":""},{"$f":"IF(COUNTBLANK($A$3)<>0,\"\",IF(ISERROR(VLOOKUP($A$3,'Roster LIMA'!$B$17:$AU$54,'Roster LIMA'!AT$1,FALSE)),\"\",VLOOKUP($A$3,'Roster LIMA'!$B$17:$AU$54,'Roster LIMA'!AT$1,FALSE)))","v":""},{"$f":"IF(COUNTBLANK($A$3)<>0,\"\",IF(ISERROR(VLOOKUP($A$3,'Roster LIMA'!$B$17:$AU$54,'Roster LIMA'!AU$1,FALSE)),\"\",VLOOKUP($A$3,'Roster LIMA'!$B$17:$AU$54,'Roster LIMA'!AU$1,FALSE)))","v":""}]
[{"$f":"+'Roster LIMA'!G56","v":1961},{"$f":"IF(COUNTBLANK($A$3)<>0,\"\",IF(ISERROR(VLOOKUP($A$3,'Roster LIMA'!$B$55:$AU$100,'Roster LIMA'!H$1,FALSE)),\"\",IF(VLOOKUP($A$3,'Roster LIMA'!$B$55:$AU$100,'Roster LIMA'!H$1,FALSE)=0,\"\",VLOOKUP($A$3,'Roster LIMA'!$B$55:$AU$100,'Roster LIMA'!H$1,FALSE))))","v":""},{"$f":"IF(COUNTBLANK($A$3)<>0,\"\",IF(ISERROR(VLOOKUP($A$3,'Roster LIMA'!$B$55:$AU$100,'Roster LIMA'!I$1,FALSE)),\"\",IF(VLOOKUP($A$3,'Roster LIMA'!$B$55:$AU$100,'Roster LIMA'!I$1,FALSE)=0,\"\",VLOOKUP($A$3,'Roster LIMA'!$B$55:$AU$100,'Roster LIMA'!I$1,FALSE))))","v":""},{"$f":"IF(COUNTBLANK($A$3)<>0,\"\",IF(ISERROR(VLOOKUP($A$3,'Roster LIMA'!$B$55:$AU$100,'Roster LIMA'!J$1,FALSE)),\"\",IF(VLOOKUP($A$3,'Roster LIMA'!$B$55:$AU$100,'Roster LIMA'!J$1,FALSE)=0,\"\",VLOOKUP($A$3,'Roster LIMA'!$B$55:$AU$100,'Roster LIMA'!J$1,FALSE))))","v":""},{"$f":"IF(COUNTBLANK($A$3)<>0,\"\",IF(ISERROR(VLOOKUP($A$3,'Roster LIMA'!$B$55:$AU$100,'Roster LIMA'!K$1,FALSE)),\"\",IF(VLOOKUP($A$3,'Roster LIMA'!$B$55:$AU$100,'Roster LIMA'!K$1,FALSE)=0,\"\",VLOOKUP($A$3,'Roster LIMA'!$B$55:$AU$100,'Roster LIMA'!K$1,FALSE))))","v":""},{"$f":"IF(COUNTBLANK($A$3)<>0,\"\",IF(ISERROR(VLOOKUP($A$3,'Roster LIMA'!$B$55:$AU$100,'Roster LIMA'!F$1,FALSE)),\"\",IF(VLOOKUP($A$3,'Roster LIMA'!$B$55:$AU$100,'Roster LIMA'!F$1,FALSE)=0,\"\",VLOOKUP($A$3,'Roster LIMA'!$B$55:$AU$100,'Roster LIMA'!F$1,FALSE))))","v":""},{"$f":"IF(COUNTBLANK($A$3)<>0,\"\",IF(ISERROR(VLOOKUP($A$3,'Roster LIMA'!$B$55:$AU$100,'Roster LIMA'!E$1,FALSE)),\"\",IF(VLOOKUP($A$3,'Roster LIMA'!$B$55:$AU$100,'Roster LIMA'!E$1,FALSE)=0,\"\",VLOOKUP($A$3,'Roster LIMA'!$B$55:$AU$100,'Roster LIMA'!E$1,FALSE))))","v":""},{"$f":"IF(COUNTBLANK($A$3)<>0,\"\",IF(ISERROR(VLOOKUP($A$3,'Roster LIMA'!$B$55:$AU$100,'Roster LIMA'!B$1,FALSE)),\"N/A\",IF(VLOOKUP($A$3,'Roster LIMA'!$B$55:$AU$100,'Roster LIMA'!B$1,FALSE)=0,\"\",VLOOKUP($A$3,'Roster LIMA'!$B$55:$AU$100,'Roster LIMA'!B$1,FALSE))))","v":""},{"$f":"IF(COUNTBLANK($A$3)<>0,\"\",IF(ISERROR(VLOOKUP($A$3,'Roster LIMA'!$B$55:$AU$100,'Roster LIMA'!C$1,FALSE)),\"\",IF(VLOOKUP($A$3,'Roster LIMA'!$B$55:$AU$100,'Roster LIMA'!C$1,FALSE)=0,\"\",VLOOKUP($A$3,'Roster LIMA'!$B$55:$AU$100,'Roster LIMA'!C$1,FALSE))))","v":""},{"$f":"IF(COUNTBLANK($A$3)<>0,\"\",IF(ISERROR(VLOOKUP($A$3,'Roster LIMA'!$B$55:$AU$100,'Roster LIMA'!D$1,FALSE)),\"\",IF(VLOOKUP($A$3,'Roster LIMA'!$B$55:$AU$100,'Roster LIMA'!D$1,FALSE)=0,\"\",VLOOKUP($A$3,'Roster LIMA'!$B$55:$AU$100,'Roster LIMA'!D$1,FALSE))))","v":""},{"$f":"IF(COUNTBLANK($A$3)<>0,\"\",IF(ISERROR(VLOOKUP($A$3,'Roster LIMA'!$B$55:$AU$100,'Roster LIMA'!L$1,FALSE)),\"\",VLOOKUP($A$3,'Roster LIMA'!$B$55:$AU$100,'Roster LIMA'!L$1,FALSE)))","v":""},{"$f":"IF(COUNTBLANK($A$3)<>0,\"\",IF(ISERROR(VLOOKUP($A$3,'Roster LIMA'!$B$55:$AU$100,'Roster LIMA'!M$1,FALSE)),\"\",VLOOKUP($A$3,'Roster LIMA'!$B$55:$AU$100,'Roster LIMA'!M$1,FALSE)))","v":""},{"$f":"IF(COUNTBLANK($A$3)<>0,\"\",IF(ISERROR(VLOOKUP($A$3,'Roster LIMA'!$B$55:$AU$100,'Roster LIMA'!N$1,FALSE)),\"\",VLOOKUP($A$3,'Roster LIMA'!$B$55:$AU$100,'Roster LIMA'!N$1,FALSE)))","v":""},{"$f":"IF(COUNTBLANK($A$3)<>0,\"\",IF(ISERROR(VLOOKUP($A$3,'Roster LIMA'!$B$55:$AU$100,'Roster LIMA'!O$1,FALSE)),\"\",VLOOKUP($A$3,'Roster LIMA'!$B$55:$AU$100,'Roster LIMA'!O$1,FALSE)))","v":""},{"$f":"IF(COUNTBLANK($A$3)<>0,\"\",IF(ISERROR(VLOOKUP($A$3,'Roster LIMA'!$B$55:$AU$100,'Roster LIMA'!P$1,FALSE)),\"\",VLOOKUP($A$3,'Roster LIMA'!$B$55:$AU$100,'Roster LIMA'!P$1,FALSE)))","v":""},{"$f":"IF(COUNTBLANK($A$3)<>0,\"\",IF(ISERROR(VLOOKUP($A$3,'Roster LIMA'!$B$55:$AU$100,'Roster LIMA'!Q$1,FALSE)),\"\",VLOOKUP($A$3,'Roster LIMA'!$B$55:$AU$100,'Roster LIMA'!Q$1,FALSE)))","v":""},{"$f":"IF(COUNTBLANK($A$3)<>0,\"\",IF(ISERROR(VLOOKUP($A$3,'Roster LIMA'!$B$55:$AU$100,'Roster LIMA'!R$1,FALSE)),\"\",VLOOKUP($A$3,'Roster LIMA'!$B$55:$AU$100,'Roster LIMA'!R$1,FALSE)))","v":""},{"$f":"IF(COUNTBLANK($A$3)<>0,\"\",IF(ISERROR(VLOOKUP($A$3,'Roster LIMA'!$B$55:$AU$100,'Roster LIMA'!S$1,FALSE)),\"\",VLOOKUP($A$3,'Roster LIMA'!$B$55:$AU$100,'Roster LIMA'!S$1,FALSE)))","v":""},{"$f":"IF(COUNTBLANK($A$3)<>0,\"\",IF(ISERROR(VLOOKUP($A$3,'Roster LIMA'!$B$55:$AU$100,'Roster LIMA'!T$1,FALSE)),\"\",VLOOKUP($A$3,'Roster LIMA'!$B$55:$AU$100,'Roster LIMA'!T$1,FALSE)))","v":""},{"$f":"IF(COUNTBLANK($A$3)<>0,\"\",IF(ISERROR(VLOOKUP($A$3,'Roster LIMA'!$B$55:$AU$100,'Roster LIMA'!U$1,FALSE)),\"\",VLOOKUP($A$3,'Roster LIMA'!$B$55:$AU$100,'Roster LIMA'!U$1,FALSE)))","v":""},{"$f":"IF(COUNTBLANK($A$3)<>0,\"\",IF(ISERROR(VLOOKUP($A$3,'Roster LIMA'!$B$55:$AU$100,'Roster LIMA'!V$1,FALSE)),\"\",VLOOKUP($A$3,'Roster LIMA'!$B$55:$AU$100,'Roster LIMA'!V$1,FALSE)))","v":""},{"$f":"IF(COUNTBLANK($A$3)<>0,\"\",IF(ISERROR(VLOOKUP($A$3,'Roster LIMA'!$B$55:$AU$100,'Roster LIMA'!W$1,FALSE)),\"\",VLOOKUP($A$3,'Roster LIMA'!$B$55:$AU$100,'Roster LIMA'!W$1,FALSE)))","v":""},{"$f":"IF(COUNTBLANK($A$3)<>0,\"\",IF(ISERROR(VLOOKUP($A$3,'Roster LIMA'!$B$55:$AU$100,'Roster LIMA'!X$1,FALSE)),\"\",VLOOKUP($A$3,'Roster LIMA'!$B$55:$AU$100,'Roster LIMA'!X$1,FALSE)))","v":""},{"$f":"IF(COUNTBLANK($A$3)<>0,\"\",IF(ISERROR(VLOOKUP($A$3,'Roster LIMA'!$B$55:$AU$100,'Roster LIMA'!Y$1,FALSE)),\"\",VLOOKUP($A$3,'Roster LIMA'!$B$55:$AU$100,'Roster LIMA'!Y$1,FALSE)))","v":""},{"$f":"IF(COUNTBLANK($A$3)<>0,\"\",IF(ISERROR(VLOOKUP($A$3,'Roster LIMA'!$B$55:$AU$100,'Roster LIMA'!Z$1,FALSE)),\"\",VLOOKUP($A$3,'Roster LIMA'!$B$55:$AU$100,'Roster LIMA'!Z$1,FALSE)))","v":""},{"$f":"IF(COUNTBLANK($A$3)<>0,\"\",IF(ISERROR(VLOOKUP($A$3,'Roster LIMA'!$B$55:$AU$100,'Roster LIMA'!AA$1,FALSE)),\"\",VLOOKUP($A$3,'Roster LIMA'!$B$55:$AU$100,'Roster LIMA'!AA$1,FALSE)))","v":""},{"$f":"IF(COUNTBLANK($A$3)<>0,\"\",IF(ISERROR(VLOOKUP($A$3,'Roster LIMA'!$B$55:$AU$100,'Roster LIMA'!AB$1,FALSE)),\"\",VLOOKUP($A$3,'Roster LIMA'!$B$55:$AU$100,'Roster LIMA'!AB$1,FALSE)))","v":""},{"$f":"IF(COUNTBLANK($A$3)<>0,\"\",IF(ISERROR(VLOOKUP($A$3,'Roster LIMA'!$B$55:$AU$100,'Roster LIMA'!AC$1,FALSE)),\"\",VLOOKUP($A$3,'Roster LIMA'!$B$55:$AU$100,'Roster LIMA'!AC$1,FALSE)))","v":""},{"$f":"IF(COUNTBLANK($A$3)<>0,\"\",IF(ISERROR(VLOOKUP($A$3,'Roster LIMA'!$B$55:$AU$100,'Roster LIMA'!AD$1,FALSE)),\"\",VLOOKUP($A$3,'Roster LIMA'!$B$55:$AU$100,'Roster LIMA'!AD$1,FALSE)))","v":""},{"$f":"IF(COUNTBLANK($A$3)<>0,\"\",IF(ISERROR(VLOOKUP($A$3,'Roster LIMA'!$B$55:$AU$100,'Roster LIMA'!AE$1,FALSE)),\"\",VLOOKUP($A$3,'Roster LIMA'!$B$55:$AU$100,'Roster LIMA'!AE$1,FALSE)))","v":""},{"$f":"IF(COUNTBLANK($A$3)<>0,\"\",IF(ISERROR(VLOOKUP($A$3,'Roster LIMA'!$B$55:$AU$100,'Roster LIMA'!AF$1,FALSE)),\"\",VLOOKUP($A$3,'Roster LIMA'!$B$55:$AU$100,'Roster LIMA'!AF$1,FALSE)))","v":""},{"$f":"IF(COUNTBLANK($A$3)<>0,\"\",IF(ISERROR(VLOOKUP($A$3,'Roster LIMA'!$B$55:$AU$100,'Roster LIMA'!AG$1,FALSE)),\"\",VLOOKUP($A$3,'Roster LIMA'!$B$55:$AU$100,'Roster LIMA'!AG$1,FALSE)))","v":""},{"$f":"IF(COUNTBLANK($A$3)<>0,\"\",IF(ISERROR(VLOOKUP($A$3,'Roster LIMA'!$B$55:$AU$100,'Roster LIMA'!AH$1,FALSE)),\"\",VLOOKUP($A$3,'Roster LIMA'!$B$55:$AU$100,'Roster LIMA'!AH$1,FALSE)))","v":""},{"$f":"IF(COUNTBLANK($A$3)<>0,\"\",IF(ISERROR(VLOOKUP($A$3,'Roster LIMA'!$B$55:$AU$100,'Roster LIMA'!AI$1,FALSE)),\"\",VLOOKUP($A$3,'Roster LIMA'!$B$55:$AU$100,'Roster LIMA'!AI$1,FALSE)))","v":""},{"$f":"IF(COUNTBLANK($A$3)<>0,\"\",IF(ISERROR(VLOOKUP($A$3,'Roster LIMA'!$B$55:$AU$100,'Roster LIMA'!AJ$1,FALSE)),\"\",VLOOKUP($A$3,'Roster LIMA'!$B$55:$AU$100,'Roster LIMA'!AJ$1,FALSE)))","v":""},{"$f":"IF(COUNTBLANK($A$3)<>0,\"\",IF(ISERROR(VLOOKUP($A$3,'Roster LIMA'!$B$55:$AU$100,'Roster LIMA'!AK$1,FALSE)),\"\",VLOOKUP($A$3,'Roster LIMA'!$B$55:$AU$100,'Roster LIMA'!AK$1,FALSE)))","v":""},{"$f":"IF(COUNTBLANK($A$3)<>0,\"\",IF(ISERROR(VLOOKUP($A$3,'Roster LIMA'!$B$55:$AU$100,'Roster LIMA'!AL$1,FALSE)),\"\",VLOOKUP($A$3,'Roster LIMA'!$B$55:$AU$100,'Roster LIMA'!AL$1,FALSE)))","v":""},{"$f":"IF(COUNTBLANK($A$3)<>0,\"\",IF(ISERROR(VLOOKUP($A$3,'Roster LIMA'!$B$55:$AU$100,'Roster LIMA'!AM$1,FALSE)),\"\",VLOOKUP($A$3,'Roster LIMA'!$B$55:$AU$100,'Roster LIMA'!AM$1,FALSE)))","v":""},{"$f":"IF(COUNTBLANK($A$3)<>0,\"\",IF(ISERROR(VLOOKUP($A$3,'Roster LIMA'!$B$55:$AU$100,'Roster LIMA'!AN$1,FALSE)),\"\",VLOOKUP($A$3,'Roster LIMA'!$B$55:$AU$100,'Roster LIMA'!AN$1,FALSE)))","v":""},{"$f":"IF(COUNTBLANK($A$3)<>0,\"\",IF(ISERROR(VLOOKUP($A$3,'Roster LIMA'!$B$55:$AU$100,'Roster LIMA'!AO$1,FALSE)),\"\",VLOOKUP($A$3,'Roster LIMA'!$B$55:$AU$100,'Roster LIMA'!AO$1,FALSE)))","v":""},{"$f":"IF(COUNTBLANK($A$3)<>0,\"\",IF(ISERROR(VLOOKUP($A$3,'Roster LIMA'!$B$55:$AU$100,'Roster LIMA'!AP$1,FALSE)),\"\",VLOOKUP($A$3,'Roster LIMA'!$B$55:$AU$100,'Roster LIMA'!AP$1,FALSE)))","v":""},{"$f":"IF(COUNTBLANK($A$3)<>0,\"\",IF(ISERROR(VLOOKUP($A$3,'Roster LIMA'!$B$55:$AU$100,'Roster LIMA'!AQ$1,FALSE)),\"\",VLOOKUP($A$3,'Roster LIMA'!$B$55:$AU$100,'Roster LIMA'!AQ$1,FALSE)))","v":""},{"$f":"IF(COUNTBLANK($A$3)<>0,\"\",IF(ISERROR(VLOOKUP($A$3,'Roster LIMA'!$B$55:$AU$100,'Roster LIMA'!AR$1,FALSE)),\"\",VLOOKUP($A$3,'Roster LIMA'!$B$55:$AU$100,'Roster LIMA'!AR$1,FALSE)))","v":""},{"$f":"IF(COUNTBLANK($A$3)<>0,\"\",IF(ISERROR(VLOOKUP($A$3,'Roster LIMA'!$B$55:$AU$100,'Roster LIMA'!AS$1,FALSE)),\"\",VLOOKUP($A$3,'Roster LIMA'!$B$55:$AU$100,'Roster LIMA'!AS$1,FALSE)))","v":""},{"$f":"IF(COUNTBLANK($A$3)<>0,\"\",IF(ISERROR(VLOOKUP($A$3,'Roster LIMA'!$B$55:$AU$100,'Roster LIMA'!AT$1,FALSE)),\"\",VLOOKUP($A$3,'Roster LIMA'!$B$55:$AU$100,'Roster LIMA'!AT$1,FALSE)))","v":""},{"$f":"IF(COUNTBLANK($A$3)<>0,\"\",IF(ISERROR(VLOOKUP($A$3,'Roster LIMA'!$B$55:$AU$100,'Roster LIMA'!AU$1,FALSE)),\"\",VLOOKUP($A$3,'Roster LIMA'!$B$55:$AU$100,'Roster LIMA'!AU$1,FALSE)))","v":""}]
[{"$f":"+'Roster LIMA'!G101","v":1962},{"$f":"IF(COUNTBLANK($A$3)<>0,\"\",IF(ISERROR(VLOOKUP($A$3,'Roster LIMA'!$B$101:$AU$160,'Roster LIMA'!H$1,FALSE)),\"\",IF(VLOOKUP($A$3,'Roster LIMA'!$B$101:$AU$160,'Roster LIMA'!H$1,FALSE)=0,\"\",VLOOKUP($A$3,'Roster LIMA'!$B$101:$AU$160,'Roster LIMA'!H$1,FALSE))))","v":""},{"$f":"IF(COUNTBLANK($A$3)<>0,\"\",IF(ISERROR(VLOOKUP($A$3,'Roster LIMA'!$B$101:$AU$160,'Roster LIMA'!I$1,FALSE)),\"\",IF(VLOOKUP($A$3,'Roster LIMA'!$B$101:$AU$160,'Roster LIMA'!I$1,FALSE)=0,\"\",VLOOKUP($A$3,'Roster LIMA'!$B$101:$AU$160,'Roster LIMA'!I$1,FALSE))))","v":""},{"$f":"IF(COUNTBLANK($A$3)<>0,\"\",IF(ISERROR(VLOOKUP($A$3,'Roster LIMA'!$B$101:$AU$160,'Roster LIMA'!J$1,FALSE)),\"\",IF(VLOOKUP($A$3,'Roster LIMA'!$B$101:$AU$160,'Roster LIMA'!J$1,FALSE)=0,\"\",VLOOKUP($A$3,'Roster LIMA'!$B$101:$AU$160,'Roster LIMA'!J$1,FALSE))))","v":""},{"$f":"IF(COUNTBLANK($A$3)<>0,\"\",IF(ISERROR(VLOOKUP($A$3,'Roster LIMA'!$B$101:$AU$160,'Roster LIMA'!K$1,FALSE)),\"\",IF(VLOOKUP($A$3,'Roster LIMA'!$B$101:$AU$160,'Roster LIMA'!K$1,FALSE)=0,\"\",VLOOKUP($A$3,'Roster LIMA'!$B$101:$AU$160,'Roster LIMA'!K$1,FALSE))))","v":""},{"$f":"IF(COUNTBLANK($A$3)<>0,\"\",IF(ISERROR(VLOOKUP($A$3,'Roster LIMA'!$B$101:$AU$160,'Roster LIMA'!F$1,FALSE)),\"\",IF(VLOOKUP($A$3,'Roster LIMA'!$B$101:$AU$160,'Roster LIMA'!F$1,FALSE)=0,\"\",VLOOKUP($A$3,'Roster LIMA'!$B$101:$AU$160,'Roster LIMA'!F$1,FALSE))))","v":""},{"$f":"IF(COUNTBLANK($A$3)<>0,\"\",IF(ISERROR(VLOOKUP($A$3,'Roster LIMA'!$B$101:$AU$160,'Roster LIMA'!E$1,FALSE)),\"\",IF(VLOOKUP($A$3,'Roster LIMA'!$B$101:$AU$160,'Roster LIMA'!E$1,FALSE)=0,\"\",VLOOKUP($A$3,'Roster LIMA'!$B$101:$AU$160,'Roster LIMA'!E$1,FALSE))))","v":""},{"$f":"IF(COUNTBLANK($A$3)<>0,\"\",IF(ISERROR(VLOOKUP($A$3,'Roster LIMA'!$B$101:$AU$160,'Roster LIMA'!B$1,FALSE)),\"N/A\",IF(VLOOKUP($A$3,'Roster LIMA'!$B$101:$AU$160,'Roster LIMA'!B$1,FALSE)=0,\"\",VLOOKUP($A$3,'Roster LIMA'!$B$101:$AU$160,'Roster LIMA'!B$1,FALSE))))","v":""},{"$f":"IF(COUNTBLANK($A$3)<>0,\"\",IF(ISERROR(VLOOKUP($A$3,'Roster LIMA'!$B$101:$AU$160,'Roster LIMA'!C$1,FALSE)),\"\",IF(VLOOKUP($A$3,'Roster LIMA'!$B$101:$AU$160,'Roster LIMA'!C$1,FALSE)=0,\"\",VLOOKUP($A$3,'Roster LIMA'!$B$101:$AU$160,'Roster LIMA'!C$1,FALSE))))","v":""},{"$f":"IF(COUNTBLANK($A$3)<>0,\"\",IF(ISERROR(VLOOKUP($A$3,'Roster LIMA'!$B$101:$AU$160,'Roster LIMA'!D$1,FALSE)),\"\",IF(VLOOKUP($A$3,'Roster LIMA'!$B$101:$AU$160,'Roster LIMA'!D$1,FALSE)=0,\"\",VLOOKUP($A$3,'Roster LIMA'!$B$101:$AU$160,'Roster LIMA'!D$1,FALSE))))","v":""},{"$f":"IF(COUNTBLANK($A$3)<>0,\"\",IF(ISERROR(VLOOKUP($A$3,'Roster LIMA'!$B$101:$AU$160,'Roster LIMA'!L$1,FALSE)),\"\",VLOOKUP($A$3,'Roster LIMA'!$B$101:$AU$160,'Roster LIMA'!L$1,FALSE)))","v":""},{"$f":"IF(COUNTBLANK($A$3)<>0,\"\",IF(ISERROR(VLOOKUP($A$3,'Roster LIMA'!$B$101:$AU$160,'Roster LIMA'!M$1,FALSE)),\"\",VLOOKUP($A$3,'Roster LIMA'!$B$101:$AU$160,'Roster LIMA'!M$1,FALSE)))","v":""},{"$f":"IF(COUNTBLANK($A$3)<>0,\"\",IF(ISERROR(VLOOKUP($A$3,'Roster LIMA'!$B$101:$AU$160,'Roster LIMA'!N$1,FALSE)),\"\",VLOOKUP($A$3,'Roster LIMA'!$B$101:$AU$160,'Roster LIMA'!N$1,FALSE)))","v":""},{"$f":"IF(COUNTBLANK($A$3)<>0,\"\",IF(ISERROR(VLOOKUP($A$3,'Roster LIMA'!$B$101:$AU$160,'Roster LIMA'!O$1,FALSE)),\"\",VLOOKUP($A$3,'Roster LIMA'!$B$101:$AU$160,'Roster LIMA'!O$1,FALSE)))","v":""},{"$f":"IF(COUNTBLANK($A$3)<>0,\"\",IF(ISERROR(VLOOKUP($A$3,'Roster LIMA'!$B$101:$AU$160,'Roster LIMA'!P$1,FALSE)),\"\",VLOOKUP($A$3,'Roster LIMA'!$B$101:$AU$160,'Roster LIMA'!P$1,FALSE)))","v":""},{"$f":"IF(COUNTBLANK($A$3)<>0,\"\",IF(ISERROR(VLOOKUP($A$3,'Roster LIMA'!$B$101:$AU$160,'Roster LIMA'!Q$1,FALSE)),\"\",VLOOKUP($A$3,'Roster LIMA'!$B$101:$AU$160,'Roster LIMA'!Q$1,FALSE)))","v":""},{"$f":"IF(COUNTBLANK($A$3)<>0,\"\",IF(ISERROR(VLOOKUP($A$3,'Roster LIMA'!$B$101:$AU$160,'Roster LIMA'!R$1,FALSE)),\"\",VLOOKUP($A$3,'Roster LIMA'!$B$101:$AU$160,'Roster LIMA'!R$1,FALSE)))","v":""},{"$f":"IF(COUNTBLANK($A$3)<>0,\"\",IF(ISERROR(VLOOKUP($A$3,'Roster LIMA'!$B$101:$AU$160,'Roster LIMA'!S$1,FALSE)),\"\",VLOOKUP($A$3,'Roster LIMA'!$B$101:$AU$160,'Roster LIMA'!S$1,FALSE)))","v":""},{"$f":"IF(COUNTBLANK($A$3)<>0,\"\",IF(ISERROR(VLOOKUP($A$3,'Roster LIMA'!$B$101:$AU$160,'Roster LIMA'!T$1,FALSE)),\"\",VLOOKUP($A$3,'Roster LIMA'!$B$101:$AU$160,'Roster LIMA'!T$1,FALSE)))","v":""},{"$f":"IF(COUNTBLANK($A$3)<>0,\"\",IF(ISERROR(VLOOKUP($A$3,'Roster LIMA'!$B$101:$AU$160,'Roster LIMA'!U$1,FALSE)),\"\",VLOOKUP($A$3,'Roster LIMA'!$B$101:$AU$160,'Roster LIMA'!U$1,FALSE)))","v":""},{"$f":"IF(COUNTBLANK($A$3)<>0,\"\",IF(ISERROR(VLOOKUP($A$3,'Roster LIMA'!$B$101:$AU$160,'Roster LIMA'!V$1,FALSE)),\"\",VLOOKUP($A$3,'Roster LIMA'!$B$101:$AU$160,'Roster LIMA'!V$1,FALSE)))","v":""},{"$f":"IF(COUNTBLANK($A$3)<>0,\"\",IF(ISERROR(VLOOKUP($A$3,'Roster LIMA'!$B$101:$AU$160,'Roster LIMA'!W$1,FALSE)),\"\",VLOOKUP($A$3,'Roster LIMA'!$B$101:$AU$160,'Roster LIMA'!W$1,FALSE)))","v":""},{"$f":"IF(COUNTBLANK($A$3)<>0,\"\",IF(ISERROR(VLOOKUP($A$3,'Roster LIMA'!$B$101:$AU$160,'Roster LIMA'!X$1,FALSE)),\"\",VLOOKUP($A$3,'Roster LIMA'!$B$101:$AU$160,'Roster LIMA'!X$1,FALSE)))","v":""},{"$f":"IF(COUNTBLANK($A$3)<>0,\"\",IF(ISERROR(VLOOKUP($A$3,'Roster LIMA'!$B$101:$AU$160,'Roster LIMA'!Y$1,FALSE)),\"\",VLOOKUP($A$3,'Roster LIMA'!$B$101:$AU$160,'Roster LIMA'!Y$1,FALSE)))","v":""},{"$f":"IF(COUNTBLANK($A$3)<>0,\"\",IF(ISERROR(VLOOKUP($A$3,'Roster LIMA'!$B$101:$AU$160,'Roster LIMA'!Z$1,FALSE)),\"\",VLOOKUP($A$3,'Roster LIMA'!$B$101:$AU$160,'Roster LIMA'!Z$1,FALSE)))","v":""},{"$f":"IF(COUNTBLANK($A$3)<>0,\"\",IF(ISERROR(VLOOKUP($A$3,'Roster LIMA'!$B$101:$AU$160,'Roster LIMA'!AA$1,FALSE)),\"\",VLOOKUP($A$3,'Roster LIMA'!$B$101:$AU$160,'Roster LIMA'!AA$1,FALSE)))","v":""},{"$f":"IF(COUNTBLANK($A$3)<>0,\"\",IF(ISERROR(VLOOKUP($A$3,'Roster LIMA'!$B$101:$AU$160,'Roster LIMA'!AB$1,FALSE)),\"\",VLOOKUP($A$3,'Roster LIMA'!$B$101:$AU$160,'Roster LIMA'!AB$1,FALSE)))","v":""},{"$f":"IF(COUNTBLANK($A$3)<>0,\"\",IF(ISERROR(VLOOKUP($A$3,'Roster LIMA'!$B$101:$AU$160,'Roster LIMA'!AC$1,FALSE)),\"\",VLOOKUP($A$3,'Roster LIMA'!$B$101:$AU$160,'Roster LIMA'!AC$1,FALSE)))","v":""},{"$f":"IF(COUNTBLANK($A$3)<>0,\"\",IF(ISERROR(VLOOKUP($A$3,'Roster LIMA'!$B$101:$AU$160,'Roster LIMA'!AD$1,FALSE)),\"\",VLOOKUP($A$3,'Roster LIMA'!$B$101:$AU$160,'Roster LIMA'!AD$1,FALSE)))","v":""},{"$f":"IF(COUNTBLANK($A$3)<>0,\"\",IF(ISERROR(VLOOKUP($A$3,'Roster LIMA'!$B$101:$AU$160,'Roster LIMA'!AE$1,FALSE)),\"\",VLOOKUP($A$3,'Roster LIMA'!$B$101:$AU$160,'Roster LIMA'!AE$1,FALSE)))","v":""},{"$f":"IF(COUNTBLANK($A$3)<>0,\"\",IF(ISERROR(VLOOKUP($A$3,'Roster LIMA'!$B$101:$AU$160,'Roster LIMA'!AF$1,FALSE)),\"\",VLOOKUP($A$3,'Roster LIMA'!$B$101:$AU$160,'Roster LIMA'!AF$1,FALSE)))","v":""},{"$f":"IF(COUNTBLANK($A$3)<>0,\"\",IF(ISERROR(VLOOKUP($A$3,'Roster LIMA'!$B$101:$AU$160,'Roster LIMA'!AG$1,FALSE)),\"\",VLOOKUP($A$3,'Roster LIMA'!$B$101:$AU$160,'Roster LIMA'!AG$1,FALSE)))","v":""},{"$f":"IF(COUNTBLANK($A$3)<>0,\"\",IF(ISERROR(VLOOKUP($A$3,'Roster LIMA'!$B$101:$AU$160,'Roster LIMA'!AH$1,FALSE)),\"\",VLOOKUP($A$3,'Roster LIMA'!$B$101:$AU$160,'Roster LIMA'!AH$1,FALSE)))","v":""},{"$f":"IF(COUNTBLANK($A$3)<>0,\"\",IF(ISERROR(VLOOKUP($A$3,'Roster LIMA'!$B$101:$AU$160,'Roster LIMA'!AI$1,FALSE)),\"\",VLOOKUP($A$3,'Roster LIMA'!$B$101:$AU$160,'Roster LIMA'!AI$1,FALSE)))","v":""},{"$f":"IF(COUNTBLANK($A$3)<>0,\"\",IF(ISERROR(VLOOKUP($A$3,'Roster LIMA'!$B$101:$AU$160,'Roster LIMA'!AJ$1,FALSE)),\"\",VLOOKUP($A$3,'Roster LIMA'!$B$101:$AU$160,'Roster LIMA'!AJ$1,FALSE)))","v":""},{"$f":"IF(COUNTBLANK($A$3)<>0,\"\",IF(ISERROR(VLOOKUP($A$3,'Roster LIMA'!$B$101:$AU$160,'Roster LIMA'!AK$1,FALSE)),\"\",VLOOKUP($A$3,'Roster LIMA'!$B$101:$AU$160,'Roster LIMA'!AK$1,FALSE)))","v":""},{"$f":"IF(COUNTBLANK($A$3)<>0,\"\",IF(ISERROR(VLOOKUP($A$3,'Roster LIMA'!$B$101:$AU$160,'Roster LIMA'!AL$1,FALSE)),\"\",VLOOKUP($A$3,'Roster LIMA'!$B$101:$AU$160,'Roster LIMA'!AL$1,FALSE)))","v":""},{"$f":"IF(COUNTBLANK($A$3)<>0,\"\",IF(ISERROR(VLOOKUP($A$3,'Roster LIMA'!$B$101:$AU$160,'Roster LIMA'!AM$1,FALSE)),\"\",VLOOKUP($A$3,'Roster LIMA'!$B$101:$AU$160,'Roster LIMA'!AM$1,FALSE)))","v":""},{"$f":"IF(COUNTBLANK($A$3)<>0,\"\",IF(ISERROR(VLOOKUP($A$3,'Roster LIMA'!$B$101:$AU$160,'Roster LIMA'!AN$1,FALSE)),\"\",VLOOKUP($A$3,'Roster LIMA'!$B$101:$AU$160,'Roster LIMA'!AN$1,FALSE)))","v":""},{"$f":"IF(COUNTBLANK($A$3)<>0,\"\",IF(ISERROR(VLOOKUP($A$3,'Roster LIMA'!$B$101:$AU$160,'Roster LIMA'!AO$1,FALSE)),\"\",VLOOKUP($A$3,'Roster LIMA'!$B$101:$AU$160,'Roster LIMA'!AO$1,FALSE)))","v":""},{"$f":"IF(COUNTBLANK($A$3)<>0,\"\",IF(ISERROR(VLOOKUP($A$3,'Roster LIMA'!$B$101:$AU$160,'Roster LIMA'!AP$1,FALSE)),\"\",VLOOKUP($A$3,'Roster LIMA'!$B$101:$AU$160,'Roster LIMA'!AP$1,FALSE)))","v":""},{"$f":"IF(COUNTBLANK($A$3)<>0,\"\",IF(ISERROR(VLOOKUP($A$3,'Roster LIMA'!$B$101:$AU$160,'Roster LIMA'!AQ$1,FALSE)),\"\",VLOOKUP($A$3,'Roster LIMA'!$B$101:$AU$160,'Roster LIMA'!AQ$1,FALSE)))","v":""},{"$f":"IF(COUNTBLANK($A$3)<>0,\"\",IF(ISERROR(VLOOKUP($A$3,'Roster LIMA'!$B$101:$AU$160,'Roster LIMA'!AR$1,FALSE)),\"\",VLOOKUP($A$3,'Roster LIMA'!$B$101:$AU$160,'Roster LIMA'!AR$1,FALSE)))","v":""},{"$f":"IF(COUNTBLANK($A$3)<>0,\"\",IF(ISERROR(VLOOKUP($A$3,'Roster LIMA'!$B$101:$AU$160,'Roster LIMA'!AS$1,FALSE)),\"\",VLOOKUP($A$3,'Roster LIMA'!$B$101:$AU$160,'Roster LIMA'!AS$1,FALSE)))","v":""},{"$f":"IF(COUNTBLANK($A$3)<>0,\"\",IF(ISERROR(VLOOKUP($A$3,'Roster LIMA'!$B$101:$AU$160,'Roster LIMA'!AT$1,FALSE)),\"\",VLOOKUP($A$3,'Roster LIMA'!$B$101:$AU$160,'Roster LIMA'!AT$1,FALSE)))","v":""},{"$f":"IF(COUNTBLANK($A$3)<>0,\"\",IF(ISERROR(VLOOKUP($A$3,'Roster LIMA'!$B$101:$AU$160,'Roster LIMA'!AU$1,FALSE)),\"\",VLOOKUP($A$3,'Roster LIMA'!$B$101:$AU$160,'Roster LIMA'!AU$1,FALSE)))","v":""}]
[{"$f":"+'Roster LIMA'!G161","v":1963},{"$f":"IF(COUNTBLANK($A$3)<>0,\"\",IF(ISERROR(VLOOKUP($A$3,'Roster LIMA'!$B$161:$AU$224,'Roster LIMA'!H$1,FALSE)),\"\",IF(VLOOKUP($A$3,'Roster LIMA'!$B$161:$AU$224,'Roster LIMA'!H$1,FALSE)=0,\"\",VLOOKUP($A$3,'Roster LIMA'!$B$161:$AU$224,'Roster LIMA'!H$1,FALSE))))","v":""},{"$f":"IF(COUNTBLANK($A$3)<>0,\"\",IF(ISERROR(VLOOKUP($A$3,'Roster LIMA'!$B$161:$AU$224,'Roster LIMA'!I$1,FALSE)),\"\",IF(VLOOKUP($A$3,'Roster LIMA'!$B$161:$AU$224,'Roster LIMA'!I$1,FALSE)=0,\"\",VLOOKUP($A$3,'Roster LIMA'!$B$161:$AU$224,'Roster LIMA'!I$1,FALSE))))","v":""},{"$f":"IF(COUNTBLANK($A$3)<>0,\"\",IF(ISERROR(VLOOKUP($A$3,'Roster LIMA'!$B$161:$AU$224,'Roster LIMA'!J$1,FALSE)),\"\",IF(VLOOKUP($A$3,'Roster LIMA'!$B$161:$AU$224,'Roster LIMA'!J$1,FALSE)=0,\"\",VLOOKUP($A$3,'Roster LIMA'!$B$161:$AU$224,'Roster LIMA'!J$1,FALSE))))","v":""},{"$f":"IF(COUNTBLANK($A$3)<>0,\"\",IF(ISERROR(VLOOKUP($A$3,'Roster LIMA'!$B$161:$AU$224,'Roster LIMA'!K$1,FALSE)),\"\",IF(VLOOKUP($A$3,'Roster LIMA'!$B$161:$AU$224,'Roster LIMA'!K$1,FALSE)=0,\"\",VLOOKUP($A$3,'Roster LIMA'!$B$161:$AU$224,'Roster LIMA'!K$1,FALSE))))","v":""},{"$f":"IF(COUNTBLANK($A$3)<>0,\"\",IF(ISERROR(VLOOKUP($A$3,'Roster LIMA'!$B$161:$AU$224,'Roster LIMA'!F$1,FALSE)),\"\",IF(VLOOKUP($A$3,'Roster LIMA'!$B$161:$AU$224,'Roster LIMA'!F$1,FALSE)=0,\"\",VLOOKUP($A$3,'Roster LIMA'!$B$161:$AU$224,'Roster LIMA'!F$1,FALSE))))","v":""},{"$f":"IF(COUNTBLANK($A$3)<>0,\"\",IF(ISERROR(VLOOKUP($A$3,'Roster LIMA'!$B$161:$AU$224,'Roster LIMA'!E$1,FALSE)),\"\",IF(VLOOKUP($A$3,'Roster LIMA'!$B$161:$AU$224,'Roster LIMA'!E$1,FALSE)=0,\"\",VLOOKUP($A$3,'Roster LIMA'!$B$161:$AU$224,'Roster LIMA'!E$1,FALSE))))","v":""},{"$f":"IF(COUNTBLANK($A$3)<>0,\"\",IF(ISERROR(VLOOKUP($A$3,'Roster LIMA'!$B$161:$AU$224,'Roster LIMA'!B$1,FALSE)),\"N/A\",IF(VLOOKUP($A$3,'Roster LIMA'!$B$161:$AU$224,'Roster LIMA'!B$1,FALSE)=0,\"\",VLOOKUP($A$3,'Roster LIMA'!$B$161:$AU$224,'Roster LIMA'!B$1,FALSE))))","v":""},{"$f":"IF(COUNTBLANK($A$3)<>0,\"\",IF(ISERROR(VLOOKUP($A$3,'Roster LIMA'!$B$161:$AU$224,'Roster LIMA'!C$1,FALSE)),\"\",IF(VLOOKUP($A$3,'Roster LIMA'!$B$161:$AU$224,'Roster LIMA'!C$1,FALSE)=0,\"\",VLOOKUP($A$3,'Roster LIMA'!$B$161:$AU$224,'Roster LIMA'!C$1,FALSE))))","v":""},{"$f":"IF(COUNTBLANK($A$3)<>0,\"\",IF(ISERROR(VLOOKUP($A$3,'Roster LIMA'!$B$161:$AU$224,'Roster LIMA'!D$1,FALSE)),\"\",IF(VLOOKUP($A$3,'Roster LIMA'!$B$161:$AU$224,'Roster LIMA'!D$1,FALSE)=0,\"\",VLOOKUP($A$3,'Roster LIMA'!$B$161:$AU$224,'Roster LIMA'!D$1,FALSE))))","v":""},{"$f":"IF(COUNTBLANK($A$3)<>0,\"\",IF(ISERROR(VLOOKUP($A$3,'Roster LIMA'!$B$161:$AU$224,'Roster LIMA'!L$1,FALSE)),\"\",VLOOKUP($A$3,'Roster LIMA'!$B$161:$AU$224,'Roster LIMA'!L$1,FALSE)))","v":""},{"$f":"IF(COUNTBLANK($A$3)<>0,\"\",IF(ISERROR(VLOOKUP($A$3,'Roster LIMA'!$B$161:$AU$224,'Roster LIMA'!M$1,FALSE)),\"\",VLOOKUP($A$3,'Roster LIMA'!$B$161:$AU$224,'Roster LIMA'!M$1,FALSE)))","v":""},{"$f":"IF(COUNTBLANK($A$3)<>0,\"\",IF(ISERROR(VLOOKUP($A$3,'Roster LIMA'!$B$161:$AU$224,'Roster LIMA'!N$1,FALSE)),\"\",VLOOKUP($A$3,'Roster LIMA'!$B$161:$AU$224,'Roster LIMA'!N$1,FALSE)))","v":""},{"$f":"IF(COUNTBLANK($A$3)<>0,\"\",IF(ISERROR(VLOOKUP($A$3,'Roster LIMA'!$B$161:$AU$224,'Roster LIMA'!O$1,FALSE)),\"\",VLOOKUP($A$3,'Roster LIMA'!$B$161:$AU$224,'Roster LIMA'!O$1,FALSE)))","v":""},{"$f":"IF(COUNTBLANK($A$3)<>0,\"\",IF(ISERROR(VLOOKUP($A$3,'Roster LIMA'!$B$161:$AU$224,'Roster LIMA'!P$1,FALSE)),\"\",VLOOKUP($A$3,'Roster LIMA'!$B$161:$AU$224,'Roster LIMA'!P$1,FALSE)))","v":""},{"$f":"IF(COUNTBLANK($A$3)<>0,\"\",IF(ISERROR(VLOOKUP($A$3,'Roster LIMA'!$B$161:$AU$224,'Roster LIMA'!Q$1,FALSE)),\"\",VLOOKUP($A$3,'Roster LIMA'!$B$161:$AU$224,'Roster LIMA'!Q$1,FALSE)))","v":""},{"$f":"IF(COUNTBLANK($A$3)<>0,\"\",IF(ISERROR(VLOOKUP($A$3,'Roster LIMA'!$B$161:$AU$224,'Roster LIMA'!R$1,FALSE)),\"\",VLOOKUP($A$3,'Roster LIMA'!$B$161:$AU$224,'Roster LIMA'!R$1,FALSE)))","v":""},{"$f":"IF(COUNTBLANK($A$3)<>0,\"\",IF(ISERROR(VLOOKUP($A$3,'Roster LIMA'!$B$161:$AU$224,'Roster LIMA'!S$1,FALSE)),\"\",VLOOKUP($A$3,'Roster LIMA'!$B$161:$AU$224,'Roster LIMA'!S$1,FALSE)))","v":""},{"$f":"IF(COUNTBLANK($A$3)<>0,\"\",IF(ISERROR(VLOOKUP($A$3,'Roster LIMA'!$B$161:$AU$224,'Roster LIMA'!T$1,FALSE)),\"\",VLOOKUP($A$3,'Roster LIMA'!$B$161:$AU$224,'Roster LIMA'!T$1,FALSE)))","v":""},{"$f":"IF(COUNTBLANK($A$3)<>0,\"\",IF(ISERROR(VLOOKUP($A$3,'Roster LIMA'!$B$161:$AU$224,'Roster LIMA'!U$1,FALSE)),\"\",VLOOKUP($A$3,'Roster LIMA'!$B$161:$AU$224,'Roster LIMA'!U$1,FALSE)))","v":""},{"$f":"IF(COUNTBLANK($A$3)<>0,\"\",IF(ISERROR(VLOOKUP($A$3,'Roster LIMA'!$B$161:$AU$224,'Roster LIMA'!V$1,FALSE)),\"\",VLOOKUP($A$3,'Roster LIMA'!$B$161:$AU$224,'Roster LIMA'!V$1,FALSE)))","v":""},{"$f":"IF(COUNTBLANK($A$3)<>0,\"\",IF(ISERROR(VLOOKUP($A$3,'Roster LIMA'!$B$161:$AU$224,'Roster LIMA'!W$1,FALSE)),\"\",VLOOKUP($A$3,'Roster LIMA'!$B$161:$AU$224,'Roster LIMA'!W$1,FALSE)))","v":""},{"$f":"IF(COUNTBLANK($A$3)<>0,\"\",IF(ISERROR(VLOOKUP($A$3,'Roster LIMA'!$B$161:$AU$224,'Roster LIMA'!X$1,FALSE)),\"\",VLOOKUP($A$3,'Roster LIMA'!$B$161:$AU$224,'Roster LIMA'!X$1,FALSE)))","v":""},{"$f":"IF(COUNTBLANK($A$3)<>0,\"\",IF(ISERROR(VLOOKUP($A$3,'Roster LIMA'!$B$161:$AU$224,'Roster LIMA'!Y$1,FALSE)),\"\",VLOOKUP($A$3,'Roster LIMA'!$B$161:$AU$224,'Roster LIMA'!Y$1,FALSE)))","v":""},{"$f":"IF(COUNTBLANK($A$3)<>0,\"\",IF(ISERROR(VLOOKUP($A$3,'Roster LIMA'!$B$161:$AU$224,'Roster LIMA'!Z$1,FALSE)),\"\",VLOOKUP($A$3,'Roster LIMA'!$B$161:$AU$224,'Roster LIMA'!Z$1,FALSE)))","v":""},{"$f":"IF(COUNTBLANK($A$3)<>0,\"\",IF(ISERROR(VLOOKUP($A$3,'Roster LIMA'!$B$161:$AU$224,'Roster LIMA'!AA$1,FALSE)),\"\",VLOOKUP($A$3,'Roster LIMA'!$B$161:$AU$224,'Roster LIMA'!AA$1,FALSE)))","v":""},{"$f":"IF(COUNTBLANK($A$3)<>0,\"\",IF(ISERROR(VLOOKUP($A$3,'Roster LIMA'!$B$161:$AU$224,'Roster LIMA'!AB$1,FALSE)),\"\",VLOOKUP($A$3,'Roster LIMA'!$B$161:$AU$224,'Roster LIMA'!AB$1,FALSE)))","v":""},{"$f":"IF(COUNTBLANK($A$3)<>0,\"\",IF(ISERROR(VLOOKUP($A$3,'Roster LIMA'!$B$161:$AU$224,'Roster LIMA'!AC$1,FALSE)),\"\",VLOOKUP($A$3,'Roster LIMA'!$B$161:$AU$224,'Roster LIMA'!AC$1,FALSE)))","v":""},{"$f":"IF(COUNTBLANK($A$3)<>0,\"\",IF(ISERROR(VLOOKUP($A$3,'Roster LIMA'!$B$161:$AU$224,'Roster LIMA'!AD$1,FALSE)),\"\",VLOOKUP($A$3,'Roster LIMA'!$B$161:$AU$224,'Roster LIMA'!AD$1,FALSE)))","v":""},{"$f":"IF(COUNTBLANK($A$3)<>0,\"\",IF(ISERROR(VLOOKUP($A$3,'Roster LIMA'!$B$161:$AU$224,'Roster LIMA'!AE$1,FALSE)),\"\",VLOOKUP($A$3,'Roster LIMA'!$B$161:$AU$224,'Roster LIMA'!AE$1,FALSE)))","v":""},{"$f":"IF(COUNTBLANK($A$3)<>0,\"\",IF(ISERROR(VLOOKUP($A$3,'Roster LIMA'!$B$161:$AU$224,'Roster LIMA'!AF$1,FALSE)),\"\",VLOOKUP($A$3,'Roster LIMA'!$B$161:$AU$224,'Roster LIMA'!AF$1,FALSE)))","v":""},{"$f":"IF(COUNTBLANK($A$3)<>0,\"\",IF(ISERROR(VLOOKUP($A$3,'Roster LIMA'!$B$161:$AU$224,'Roster LIMA'!AG$1,FALSE)),\"\",VLOOKUP($A$3,'Roster LIMA'!$B$161:$AU$224,'Roster LIMA'!AG$1,FALSE)))","v":""},{"$f":"IF(COUNTBLANK($A$3)<>0,\"\",IF(ISERROR(VLOOKUP($A$3,'Roster LIMA'!$B$161:$AU$224,'Roster LIMA'!AH$1,FALSE)),\"\",VLOOKUP($A$3,'Roster LIMA'!$B$161:$AU$224,'Roster LIMA'!AH$1,FALSE)))","v":""},{"$f":"IF(COUNTBLANK($A$3)<>0,\"\",IF(ISERROR(VLOOKUP($A$3,'Roster LIMA'!$B$161:$AU$224,'Roster LIMA'!AI$1,FALSE)),\"\",VLOOKUP($A$3,'Roster LIMA'!$B$161:$AU$224,'Roster LIMA'!AI$1,FALSE)))","v":""},{"$f":"IF(COUNTBLANK($A$3)<>0,\"\",IF(ISERROR(VLOOKUP($A$3,'Roster LIMA'!$B$161:$AU$224,'Roster LIMA'!AJ$1,FALSE)),\"\",VLOOKUP($A$3,'Roster LIMA'!$B$161:$AU$224,'Roster LIMA'!AJ$1,FALSE)))","v":""},{"$f":"IF(COUNTBLANK($A$3)<>0,\"\",IF(ISERROR(VLOOKUP($A$3,'Roster LIMA'!$B$161:$AU$224,'Roster LIMA'!AK$1,FALSE)),\"\",VLOOKUP($A$3,'Roster LIMA'!$B$161:$AU$224,'Roster LIMA'!AK$1,FALSE)))","v":""},{"$f":"IF(COUNTBLANK($A$3)<>0,\"\",IF(ISERROR(VLOOKUP($A$3,'Roster LIMA'!$B$161:$AU$224,'Roster LIMA'!AL$1,FALSE)),\"\",VLOOKUP($A$3,'Roster LIMA'!$B$161:$AU$224,'Roster LIMA'!AL$1,FALSE)))","v":""},{"$f":"IF(COUNTBLANK($A$3)<>0,\"\",IF(ISERROR(VLOOKUP($A$3,'Roster LIMA'!$B$161:$AU$224,'Roster LIMA'!AM$1,FALSE)),\"\",VLOOKUP($A$3,'Roster LIMA'!$B$161:$AU$224,'Roster LIMA'!AM$1,FALSE)))","v":""},{"$f":"IF(COUNTBLANK($A$3)<>0,\"\",IF(ISERROR(VLOOKUP($A$3,'Roster LIMA'!$B$161:$AU$224,'Roster LIMA'!AN$1,FALSE)),\"\",VLOOKUP($A$3,'Roster LIMA'!$B$161:$AU$224,'Roster LIMA'!AN$1,FALSE)))","v":""},{"$f":"IF(COUNTBLANK($A$3)<>0,\"\",IF(ISERROR(VLOOKUP($A$3,'Roster LIMA'!$B$161:$AU$224,'Roster LIMA'!AO$1,FALSE)),\"\",VLOOKUP($A$3,'Roster LIMA'!$B$161:$AU$224,'Roster LIMA'!AO$1,FALSE)))","v":""},{"$f":"IF(COUNTBLANK($A$3)<>0,\"\",IF(ISERROR(VLOOKUP($A$3,'Roster LIMA'!$B$161:$AU$224,'Roster LIMA'!AP$1,FALSE)),\"\",VLOOKUP($A$3,'Roster LIMA'!$B$161:$AU$224,'Roster LIMA'!AP$1,FALSE)))","v":""},{"$f":"IF(COUNTBLANK($A$3)<>0,\"\",IF(ISERROR(VLOOKUP($A$3,'Roster LIMA'!$B$161:$AU$224,'Roster LIMA'!AQ$1,FALSE)),\"\",VLOOKUP($A$3,'Roster LIMA'!$B$161:$AU$224,'Roster LIMA'!AQ$1,FALSE)))","v":""},{"$f":"IF(COUNTBLANK($A$3)<>0,\"\",IF(ISERROR(VLOOKUP($A$3,'Roster LIMA'!$B$161:$AU$224,'Roster LIMA'!AR$1,FALSE)),\"\",VLOOKUP($A$3,'Roster LIMA'!$B$161:$AU$224,'Roster LIMA'!AR$1,FALSE)))","v":""},{"$f":"IF(COUNTBLANK($A$3)<>0,\"\",IF(ISERROR(VLOOKUP($A$3,'Roster LIMA'!$B$161:$AU$224,'Roster LIMA'!AS$1,FALSE)),\"\",VLOOKUP($A$3,'Roster LIMA'!$B$161:$AU$224,'Roster LIMA'!AS$1,FALSE)))","v":""},{"$f":"IF(COUNTBLANK($A$3)<>0,\"\",IF(ISERROR(VLOOKUP($A$3,'Roster LIMA'!$B$161:$AU$224,'Roster LIMA'!AT$1,FALSE)),\"\",VLOOKUP($A$3,'Roster LIMA'!$B$161:$AU$224,'Roster LIMA'!AT$1,FALSE)))","v":""},{"$f":"IF(COUNTBLANK($A$3)<>0,\"\",IF(ISERROR(VLOOKUP($A$3,'Roster LIMA'!$B$161:$AU$224,'Roster LIMA'!AU$1,FALSE)),\"\",VLOOKUP($A$3,'Roster LIMA'!$B$161:$AU$224,'Roster LIMA'!AU$1,FALSE)))","v":""}]
[{"$f":"+'Roster LIMA'!G225","v":"1964-65"},{"$f":"IF(COUNTBLANK($A$3)<>0,\"\",IF(ISERROR(VLOOKUP($A$3,'Roster LIMA'!$B$225:$AU$303,'Roster LIMA'!H$1,FALSE)),\"\",IF(VLOOKUP($A$3,'Roster LIMA'!$B$225:$AU$303,'Roster LIMA'!H$1,FALSE)=0,\"\",VLOOKUP($A$3,'Roster LIMA'!$B$225:$AU$303,'Roster LIMA'!H$1,FALSE))))","v":""},{"$f":"IF(COUNTBLANK($A$3)<>0,\"\",IF(ISERROR(VLOOKUP($A$3,'Roster LIMA'!$B$225:$AU$303,'Roster LIMA'!I$1,FALSE)),\"\",IF(VLOOKUP($A$3,'Roster LIMA'!$B$225:$AU$303,'Roster LIMA'!I$1,FALSE)=0,\"\",VLOOKUP($A$3,'Roster LIMA'!$B$225:$AU$303,'Roster LIMA'!I$1,FALSE))))","v":""},{"$f":"IF(COUNTBLANK($A$3)<>0,\"\",IF(ISERROR(VLOOKUP($A$3,'Roster LIMA'!$B$225:$AU$303,'Roster LIMA'!J$1,FALSE)),\"\",IF(VLOOKUP($A$3,'Roster LIMA'!$B$225:$AU$303,'Roster LIMA'!J$1,FALSE)=0,\"\",VLOOKUP($A$3,'Roster LIMA'!$B$225:$AU$303,'Roster LIMA'!J$1,FALSE))))","v":""},{"$f":"IF(COUNTBLANK($A$3)<>0,\"\",IF(ISERROR(VLOOKUP($A$3,'Roster LIMA'!$B$225:$AU$303,'Roster LIMA'!K$1,FALSE)),\"\",IF(VLOOKUP($A$3,'Roster LIMA'!$B$225:$AU$303,'Roster LIMA'!K$1,FALSE)=0,\"\",VLOOKUP($A$3,'Roster LIMA'!$B$225:$AU$303,'Roster LIMA'!K$1,FALSE))))","v":""},{"$f":"IF(COUNTBLANK($A$3)<>0,\"\",IF(ISERROR(VLOOKUP($A$3,'Roster LIMA'!$B$225:$AU$303,'Roster LIMA'!F$1,FALSE)),\"\",IF(VLOOKUP($A$3,'Roster LIMA'!$B$225:$AU$303,'Roster LIMA'!F$1,FALSE)=0,\"\",VLOOKUP($A$3,'Roster LIMA'!$B$225:$AU$303,'Roster LIMA'!F$1,FALSE))))","v":""},{"$f":"IF(COUNTBLANK($A$3)<>0,\"\",IF(ISERROR(VLOOKUP($A$3,'Roster LIMA'!$B$225:$AU$303,'Roster LIMA'!E$1,FALSE)),\"\",IF(VLOOKUP($A$3,'Roster LIMA'!$B$225:$AU$303,'Roster LIMA'!E$1,FALSE)=0,\"\",VLOOKUP($A$3,'Roster LIMA'!$B$225:$AU$303,'Roster LIMA'!E$1,FALSE))))","v":""},{"$f":"IF(COUNTBLANK($A$3)<>0,\"\",IF(ISERROR(VLOOKUP($A$3,'Roster LIMA'!$B$225:$AU$303,'Roster LIMA'!B$1,FALSE)),\"N/A\",IF(VLOOKUP($A$3,'Roster LIMA'!$B$225:$AU$303,'Roster LIMA'!B$1,FALSE)=0,\"\",VLOOKUP($A$3,'Roster LIMA'!$B$225:$AU$303,'Roster LIMA'!B$1,FALSE))))","v":""},{"$f":"IF(COUNTBLANK($A$3)<>0,\"\",IF(ISERROR(VLOOKUP($A$3,'Roster LIMA'!$B$225:$AU$303,'Roster LIMA'!C$1,FALSE)),\"\",IF(VLOOKUP($A$3,'Roster LIMA'!$B$225:$AU$303,'Roster LIMA'!C$1,FALSE)=0,\"\",VLOOKUP($A$3,'Roster LIMA'!$B$225:$AU$303,'Roster LIMA'!C$1,FALSE))))","v":""},{"$f":"IF(COUNTBLANK($A$3)<>0,\"\",IF(ISERROR(VLOOKUP($A$3,'Roster LIMA'!$B$225:$AU$303,'Roster LIMA'!D$1,FALSE)),\"\",IF(VLOOKUP($A$3,'Roster LIMA'!$B$225:$AU$303,'Roster LIMA'!D$1,FALSE)=0,\"\",VLOOKUP($A$3,'Roster LIMA'!$B$225:$AU$303,'Roster LIMA'!D$1,FALSE))))","v":""},{"$f":"IF(COUNTBLANK($A$3)<>0,\"\",IF(ISERROR(VLOOKUP($A$3,'Roster LIMA'!$B$225:$AU$303,'Roster LIMA'!L$1,FALSE)),\"\",VLOOKUP($A$3,'Roster LIMA'!$B$225:$AU$303,'Roster LIMA'!L$1,FALSE)))","v":""},{"$f":"IF(COUNTBLANK($A$3)<>0,\"\",IF(ISERROR(VLOOKUP($A$3,'Roster LIMA'!$B$225:$AU$303,'Roster LIMA'!M$1,FALSE)),\"\",VLOOKUP($A$3,'Roster LIMA'!$B$225:$AU$303,'Roster LIMA'!M$1,FALSE)))","v":""},{"$f":"IF(COUNTBLANK($A$3)<>0,\"\",IF(ISERROR(VLOOKUP($A$3,'Roster LIMA'!$B$225:$AU$303,'Roster LIMA'!N$1,FALSE)),\"\",VLOOKUP($A$3,'Roster LIMA'!$B$225:$AU$303,'Roster LIMA'!N$1,FALSE)))","v":""},{"$f":"IF(COUNTBLANK($A$3)<>0,\"\",IF(ISERROR(VLOOKUP($A$3,'Roster LIMA'!$B$225:$AU$303,'Roster LIMA'!O$1,FALSE)),\"\",VLOOKUP($A$3,'Roster LIMA'!$B$225:$AU$303,'Roster LIMA'!O$1,FALSE)))","v":""},{"$f":"IF(COUNTBLANK($A$3)<>0,\"\",IF(ISERROR(VLOOKUP($A$3,'Roster LIMA'!$B$225:$AU$303,'Roster LIMA'!P$1,FALSE)),\"\",VLOOKUP($A$3,'Roster LIMA'!$B$225:$AU$303,'Roster LIMA'!P$1,FALSE)))","v":""},{"$f":"IF(COUNTBLANK($A$3)<>0,\"\",IF(ISERROR(VLOOKUP($A$3,'Roster LIMA'!$B$225:$AU$303,'Roster LIMA'!Q$1,FALSE)),\"\",VLOOKUP($A$3,'Roster LIMA'!$B$225:$AU$303,'Roster LIMA'!Q$1,FALSE)))","v":""},{"$f":"IF(COUNTBLANK($A$3)<>0,\"\",IF(ISERROR(VLOOKUP($A$3,'Roster LIMA'!$B$225:$AU$303,'Roster LIMA'!R$1,FALSE)),\"\",VLOOKUP($A$3,'Roster LIMA'!$B$225:$AU$303,'Roster LIMA'!R$1,FALSE)))","v":""},{"$f":"IF(COUNTBLANK($A$3)<>0,\"\",IF(ISERROR(VLOOKUP($A$3,'Roster LIMA'!$B$225:$AU$303,'Roster LIMA'!S$1,FALSE)),\"\",VLOOKUP($A$3,'Roster LIMA'!$B$225:$AU$303,'Roster LIMA'!S$1,FALSE)))","v":""},{"$f":"IF(COUNTBLANK($A$3)<>0,\"\",IF(ISERROR(VLOOKUP($A$3,'Roster LIMA'!$B$225:$AU$303,'Roster LIMA'!T$1,FALSE)),\"\",VLOOKUP($A$3,'Roster LIMA'!$B$225:$AU$303,'Roster LIMA'!T$1,FALSE)))","v":""},{"$f":"IF(COUNTBLANK($A$3)<>0,\"\",IF(ISERROR(VLOOKUP($A$3,'Roster LIMA'!$B$225:$AU$303,'Roster LIMA'!U$1,FALSE)),\"\",VLOOKUP($A$3,'Roster LIMA'!$B$225:$AU$303,'Roster LIMA'!U$1,FALSE)))","v":""},{"$f":"IF(COUNTBLANK($A$3)<>0,\"\",IF(ISERROR(VLOOKUP($A$3,'Roster LIMA'!$B$225:$AU$303,'Roster LIMA'!V$1,FALSE)),\"\",VLOOKUP($A$3,'Roster LIMA'!$B$225:$AU$303,'Roster LIMA'!V$1,FALSE)))","v":""},{"$f":"IF(COUNTBLANK($A$3)<>0,\"\",IF(ISERROR(VLOOKUP($A$3,'Roster LIMA'!$B$225:$AU$303,'Roster LIMA'!W$1,FALSE)),\"\",VLOOKUP($A$3,'Roster LIMA'!$B$225:$AU$303,'Roster LIMA'!W$1,FALSE)))","v":""},{"$f":"IF(COUNTBLANK($A$3)<>0,\"\",IF(ISERROR(VLOOKUP($A$3,'Roster LIMA'!$B$225:$AU$303,'Roster LIMA'!X$1,FALSE)),\"\",VLOOKUP($A$3,'Roster LIMA'!$B$225:$AU$303,'Roster LIMA'!X$1,FALSE)))","v":""},{"$f":"IF(COUNTBLANK($A$3)<>0,\"\",IF(ISERROR(VLOOKUP($A$3,'Roster LIMA'!$B$225:$AU$303,'Roster LIMA'!Y$1,FALSE)),\"\",VLOOKUP($A$3,'Roster LIMA'!$B$225:$AU$303,'Roster LIMA'!Y$1,FALSE)))","v":""},{"$f":"IF(COUNTBLANK($A$3)<>0,\"\",IF(ISERROR(VLOOKUP($A$3,'Roster LIMA'!$B$225:$AU$303,'Roster LIMA'!Z$1,FALSE)),\"\",VLOOKUP($A$3,'Roster LIMA'!$B$225:$AU$303,'Roster LIMA'!Z$1,FALSE)))","v":""},{"$f":"IF(COUNTBLANK($A$3)<>0,\"\",IF(ISERROR(VLOOKUP($A$3,'Roster LIMA'!$B$225:$AU$303,'Roster LIMA'!AA$1,FALSE)),\"\",VLOOKUP($A$3,'Roster LIMA'!$B$225:$AU$303,'Roster LIMA'!AA$1,FALSE)))","v":""},{"$f":"IF(COUNTBLANK($A$3)<>0,\"\",IF(ISERROR(VLOOKUP($A$3,'Roster LIMA'!$B$225:$AU$303,'Roster LIMA'!AB$1,FALSE)),\"\",VLOOKUP($A$3,'Roster LIMA'!$B$225:$AU$303,'Roster LIMA'!AB$1,FALSE)))","v":""},{"$f":"IF(COUNTBLANK($A$3)<>0,\"\",IF(ISERROR(VLOOKUP($A$3,'Roster LIMA'!$B$225:$AU$303,'Roster LIMA'!AC$1,FALSE)),\"\",VLOOKUP($A$3,'Roster LIMA'!$B$225:$AU$303,'Roster LIMA'!AC$1,FALSE)))","v":""},{"$f":"IF(COUNTBLANK($A$3)<>0,\"\",IF(ISERROR(VLOOKUP($A$3,'Roster LIMA'!$B$225:$AU$303,'Roster LIMA'!AD$1,FALSE)),\"\",VLOOKUP($A$3,'Roster LIMA'!$B$225:$AU$303,'Roster LIMA'!AD$1,FALSE)))","v":""},{"$f":"IF(COUNTBLANK($A$3)<>0,\"\",IF(ISERROR(VLOOKUP($A$3,'Roster LIMA'!$B$225:$AU$303,'Roster LIMA'!AE$1,FALSE)),\"\",VLOOKUP($A$3,'Roster LIMA'!$B$225:$AU$303,'Roster LIMA'!AE$1,FALSE)))","v":""},{"$f":"IF(COUNTBLANK($A$3)<>0,\"\",IF(ISERROR(VLOOKUP($A$3,'Roster LIMA'!$B$225:$AU$303,'Roster LIMA'!AF$1,FALSE)),\"\",VLOOKUP($A$3,'Roster LIMA'!$B$225:$AU$303,'Roster LIMA'!AF$1,FALSE)))","v":""},{"$f":"IF(COUNTBLANK($A$3)<>0,\"\",IF(ISERROR(VLOOKUP($A$3,'Roster LIMA'!$B$225:$AU$303,'Roster LIMA'!AG$1,FALSE)),\"\",VLOOKUP($A$3,'Roster LIMA'!$B$225:$AU$303,'Roster LIMA'!AG$1,FALSE)))","v":""},{"$f":"IF(COUNTBLANK($A$3)<>0,\"\",IF(ISERROR(VLOOKUP($A$3,'Roster LIMA'!$B$225:$AU$303,'Roster LIMA'!AH$1,FALSE)),\"\",VLOOKUP($A$3,'Roster LIMA'!$B$225:$AU$303,'Roster LIMA'!AH$1,FALSE)))","v":""},{"$f":"IF(COUNTBLANK($A$3)<>0,\"\",IF(ISERROR(VLOOKUP($A$3,'Roster LIMA'!$B$225:$AU$303,'Roster LIMA'!AI$1,FALSE)),\"\",VLOOKUP($A$3,'Roster LIMA'!$B$225:$AU$303,'Roster LIMA'!AI$1,FALSE)))","v":""},{"$f":"IF(COUNTBLANK($A$3)<>0,\"\",IF(ISERROR(VLOOKUP($A$3,'Roster LIMA'!$B$225:$AU$303,'Roster LIMA'!AJ$1,FALSE)),\"\",VLOOKUP($A$3,'Roster LIMA'!$B$225:$AU$303,'Roster LIMA'!AJ$1,FALSE)))","v":""},{"$f":"IF(COUNTBLANK($A$3)<>0,\"\",IF(ISERROR(VLOOKUP($A$3,'Roster LIMA'!$B$225:$AU$303,'Roster LIMA'!AK$1,FALSE)),\"\",VLOOKUP($A$3,'Roster LIMA'!$B$225:$AU$303,'Roster LIMA'!AK$1,FALSE)))","v":""},{"$f":"IF(COUNTBLANK($A$3)<>0,\"\",IF(ISERROR(VLOOKUP($A$3,'Roster LIMA'!$B$225:$AU$303,'Roster LIMA'!AL$1,FALSE)),\"\",VLOOKUP($A$3,'Roster LIMA'!$B$225:$AU$303,'Roster LIMA'!AL$1,FALSE)))","v":""},{"$f":"IF(COUNTBLANK($A$3)<>0,\"\",IF(ISERROR(VLOOKUP($A$3,'Roster LIMA'!$B$225:$AU$303,'Roster LIMA'!AM$1,FALSE)),\"\",VLOOKUP($A$3,'Roster LIMA'!$B$225:$AU$303,'Roster LIMA'!AM$1,FALSE)))","v":""},{"$f":"IF(COUNTBLANK($A$3)<>0,\"\",IF(ISERROR(VLOOKUP($A$3,'Roster LIMA'!$B$225:$AU$303,'Roster LIMA'!AN$1,FALSE)),\"\",VLOOKUP($A$3,'Roster LIMA'!$B$225:$AU$303,'Roster LIMA'!AN$1,FALSE)))","v":""},{"$f":"IF(COUNTBLANK($A$3)<>0,\"\",IF(ISERROR(VLOOKUP($A$3,'Roster LIMA'!$B$225:$AU$303,'Roster LIMA'!AO$1,FALSE)),\"\",VLOOKUP($A$3,'Roster LIMA'!$B$225:$AU$303,'Roster LIMA'!AO$1,FALSE)))","v":""},{"$f":"IF(COUNTBLANK($A$3)<>0,\"\",IF(ISERROR(VLOOKUP($A$3,'Roster LIMA'!$B$225:$AU$303,'Roster LIMA'!AP$1,FALSE)),\"\",VLOOKUP($A$3,'Roster LIMA'!$B$225:$AU$303,'Roster LIMA'!AP$1,FALSE)))","v":""},{"$f":"IF(COUNTBLANK($A$3)<>0,\"\",IF(ISERROR(VLOOKUP($A$3,'Roster LIMA'!$B$225:$AU$303,'Roster LIMA'!AQ$1,FALSE)),\"\",VLOOKUP($A$3,'Roster LIMA'!$B$225:$AU$303,'Roster LIMA'!AQ$1,FALSE)))","v":""},{"$f":"IF(COUNTBLANK($A$3)<>0,\"\",IF(ISERROR(VLOOKUP($A$3,'Roster LIMA'!$B$225:$AU$303,'Roster LIMA'!AR$1,FALSE)),\"\",VLOOKUP($A$3,'Roster LIMA'!$B$225:$AU$303,'Roster LIMA'!AR$1,FALSE)))","v":""},{"$f":"IF(COUNTBLANK($A$3)<>0,\"\",IF(ISERROR(VLOOKUP($A$3,'Roster LIMA'!$B$225:$AU$303,'Roster LIMA'!AS$1,FALSE)),\"\",VLOOKUP($A$3,'Roster LIMA'!$B$225:$AU$303,'Roster LIMA'!AS$1,FALSE)))","v":""},{"$f":"IF(COUNTBLANK($A$3)<>0,\"\",IF(ISERROR(VLOOKUP($A$3,'Roster LIMA'!$B$225:$AU$303,'Roster LIMA'!AT$1,FALSE)),\"\",VLOOKUP($A$3,'Roster LIMA'!$B$225:$AU$303,'Roster LIMA'!AT$1,FALSE)))","v":""},{"$f":"IF(COUNTBLANK($A$3)<>0,\"\",IF(ISERROR(VLOOKUP($A$3,'Roster LIMA'!$B$225:$AU$303,'Roster LIMA'!AU$1,FALSE)),\"\",VLOOKUP($A$3,'Roster LIMA'!$B$225:$AU$303,'Roster LIMA'!AU$1,FALSE)))","v":""}]
[{"$f":"+'Roster LIMA'!G304","v":"1965-66"},{"$f":"IF(COUNTBLANK($A$3)<>0,\"\",IF(ISERROR(VLOOKUP($A$3,'Roster LIMA'!$B$304:$AU$371,'Roster LIMA'!H$1,FALSE)),\"\",IF(VLOOKUP($A$3,'Roster LIMA'!$B$304:$AU$371,'Roster LIMA'!H$1,FALSE)=0,\"\",VLOOKUP($A$3,'Roster LIMA'!$B$304:$AU$371,'Roster LIMA'!H$1,FALSE))))","v":""},{"$f":"IF(COUNTBLANK($A$3)<>0,\"\",IF(ISERROR(VLOOKUP($A$3,'Roster LIMA'!$B$304:$AU$371,'Roster LIMA'!I$1,FALSE)),\"\",IF(VLOOKUP($A$3,'Roster LIMA'!$B$304:$AU$371,'Roster LIMA'!I$1,FALSE)=0,\"\",VLOOKUP($A$3,'Roster LIMA'!$B$304:$AU$371,'Roster LIMA'!I$1,FALSE))))","v":""},{"$f":"IF(COUNTBLANK($A$3)<>0,\"\",IF(ISERROR(VLOOKUP($A$3,'Roster LIMA'!$B$304:$AU$371,'Roster LIMA'!J$1,FALSE)),\"\",IF(VLOOKUP($A$3,'Roster LIMA'!$B$304:$AU$371,'Roster LIMA'!J$1,FALSE)=0,\"\",VLOOKUP($A$3,'Roster LIMA'!$B$304:$AU$371,'Roster LIMA'!J$1,FALSE))))","v":""},{"$f":"IF(COUNTBLANK($A$3)<>0,\"\",IF(ISERROR(VLOOKUP($A$3,'Roster LIMA'!$B$304:$AU$371,'Roster LIMA'!K$1,FALSE)),\"\",IF(VLOOKUP($A$3,'Roster LIMA'!$B$304:$AU$371,'Roster LIMA'!K$1,FALSE)=0,\"\",VLOOKUP($A$3,'Roster LIMA'!$B$304:$AU$371,'Roster LIMA'!K$1,FALSE))))","v":""},{"$f":"IF(COUNTBLANK($A$3)<>0,\"\",IF(ISERROR(VLOOKUP($A$3,'Roster LIMA'!$B$304:$AU$371,'Roster LIMA'!F$1,FALSE)),\"\",IF(VLOOKUP($A$3,'Roster LIMA'!$B$304:$AU$371,'Roster LIMA'!F$1,FALSE)=0,\"\",VLOOKUP($A$3,'Roster LIMA'!$B$304:$AU$371,'Roster LIMA'!F$1,FALSE))))","v":""},{"$f":"IF(COUNTBLANK($A$3)<>0,\"\",IF(ISERROR(VLOOKUP($A$3,'Roster LIMA'!$B$304:$AU$371,'Roster LIMA'!E$1,FALSE)),\"\",IF(VLOOKUP($A$3,'Roster LIMA'!$B$304:$AU$371,'Roster LIMA'!E$1,FALSE)=0,\"\",VLOOKUP($A$3,'Roster LIMA'!$B$304:$AU$371,'Roster LIMA'!E$1,FALSE))))","v":""},{"$f":"IF(COUNTBLANK($A$3)<>0,\"\",IF(ISERROR(VLOOKUP($A$3,'Roster LIMA'!$B$304:$AU$371,'Roster LIMA'!B$1,FALSE)),\"N/A\",IF(VLOOKUP($A$3,'Roster LIMA'!$B$304:$AU$371,'Roster LIMA'!B$1,FALSE)=0,\"\",VLOOKUP($A$3,'Roster LIMA'!$B$304:$AU$371,'Roster LIMA'!B$1,FALSE))))","v":""},{"$f":"IF(COUNTBLANK($A$3)<>0,\"\",IF(ISERROR(VLOOKUP($A$3,'Roster LIMA'!$B$304:$AU$371,'Roster LIMA'!C$1,FALSE)),\"\",IF(VLOOKUP($A$3,'Roster LIMA'!$B$304:$AU$371,'Roster LIMA'!C$1,FALSE)=0,\"\",VLOOKUP($A$3,'Roster LIMA'!$B$304:$AU$371,'Roster LIMA'!C$1,FALSE))))","v":""},{"$f":"IF(COUNTBLANK($A$3)<>0,\"\",IF(ISERROR(VLOOKUP($A$3,'Roster LIMA'!$B$304:$AU$371,'Roster LIMA'!D$1,FALSE)),\"\",IF(VLOOKUP($A$3,'Roster LIMA'!$B$304:$AU$371,'Roster LIMA'!D$1,FALSE)=0,\"\",VLOOKUP($A$3,'Roster LIMA'!$B$304:$AU$371,'Roster LIMA'!D$1,FALSE))))","v":""},{"$f":"IF(COUNTBLANK($A$3)<>0,\"\",IF(ISERROR(VLOOKUP($A$3,'Roster LIMA'!$B$304:$AU$371,'Roster LIMA'!L$1,FALSE)),\"\",VLOOKUP($A$3,'Roster LIMA'!$B$304:$AU$371,'Roster LIMA'!L$1,FALSE)))","v":""},{"$f":"IF(COUNTBLANK($A$3)<>0,\"\",IF(ISERROR(VLOOKUP($A$3,'Roster LIMA'!$B$304:$AU$371,'Roster LIMA'!M$1,FALSE)),\"\",VLOOKUP($A$3,'Roster LIMA'!$B$304:$AU$371,'Roster LIMA'!M$1,FALSE)))","v":""},{"$f":"IF(COUNTBLANK($A$3)<>0,\"\",IF(ISERROR(VLOOKUP($A$3,'Roster LIMA'!$B$304:$AU$371,'Roster LIMA'!N$1,FALSE)),\"\",VLOOKUP($A$3,'Roster LIMA'!$B$304:$AU$371,'Roster LIMA'!N$1,FALSE)))","v":""},{"$f":"IF(COUNTBLANK($A$3)<>0,\"\",IF(ISERROR(VLOOKUP($A$3,'Roster LIMA'!$B$304:$AU$371,'Roster LIMA'!O$1,FALSE)),\"\",VLOOKUP($A$3,'Roster LIMA'!$B$304:$AU$371,'Roster LIMA'!O$1,FALSE)))","v":""},{"$f":"IF(COUNTBLANK($A$3)<>0,\"\",IF(ISERROR(VLOOKUP($A$3,'Roster LIMA'!$B$304:$AU$371,'Roster LIMA'!P$1,FALSE)),\"\",VLOOKUP($A$3,'Roster LIMA'!$B$304:$AU$371,'Roster LIMA'!P$1,FALSE)))","v":""},{"$f":"IF(COUNTBLANK($A$3)<>0,\"\",IF(ISERROR(VLOOKUP($A$3,'Roster LIMA'!$B$304:$AU$371,'Roster LIMA'!Q$1,FALSE)),\"\",VLOOKUP($A$3,'Roster LIMA'!$B$304:$AU$371,'Roster LIMA'!Q$1,FALSE)))","v":""},{"$f":"IF(COUNTBLANK($A$3)<>0,\"\",IF(ISERROR(VLOOKUP($A$3,'Roster LIMA'!$B$304:$AU$371,'Roster LIMA'!R$1,FALSE)),\"\",VLOOKUP($A$3,'Roster LIMA'!$B$304:$AU$371,'Roster LIMA'!R$1,FALSE)))","v":""},{"$f":"IF(COUNTBLANK($A$3)<>0,\"\",IF(ISERROR(VLOOKUP($A$3,'Roster LIMA'!$B$304:$AU$371,'Roster LIMA'!S$1,FALSE)),\"\",VLOOKUP($A$3,'Roster LIMA'!$B$304:$AU$371,'Roster LIMA'!S$1,FALSE)))","v":""},{"$f":"IF(COUNTBLANK($A$3)<>0,\"\",IF(ISERROR(VLOOKUP($A$3,'Roster LIMA'!$B$304:$AU$371,'Roster LIMA'!T$1,FALSE)),\"\",VLOOKUP($A$3,'Roster LIMA'!$B$304:$AU$371,'Roster LIMA'!T$1,FALSE)))","v":""},{"$f":"IF(COUNTBLANK($A$3)<>0,\"\",IF(ISERROR(VLOOKUP($A$3,'Roster LIMA'!$B$304:$AU$371,'Roster LIMA'!U$1,FALSE)),\"\",VLOOKUP($A$3,'Roster LIMA'!$B$304:$AU$371,'Roster LIMA'!U$1,FALSE)))","v":""},{"$f":"IF(COUNTBLANK($A$3)<>0,\"\",IF(ISERROR(VLOOKUP($A$3,'Roster LIMA'!$B$304:$AU$371,'Roster LIMA'!V$1,FALSE)),\"\",VLOOKUP($A$3,'Roster LIMA'!$B$304:$AU$371,'Roster LIMA'!V$1,FALSE)))","v":""},{"$f":"IF(COUNTBLANK($A$3)<>0,\"\",IF(ISERROR(VLOOKUP($A$3,'Roster LIMA'!$B$304:$AU$371,'Roster LIMA'!W$1,FALSE)),\"\",VLOOKUP($A$3,'Roster LIMA'!$B$304:$AU$371,'Roster LIMA'!W$1,FALSE)))","v":""},{"$f":"IF(COUNTBLANK($A$3)<>0,\"\",IF(ISERROR(VLOOKUP($A$3,'Roster LIMA'!$B$304:$AU$371,'Roster LIMA'!X$1,FALSE)),\"\",VLOOKUP($A$3,'Roster LIMA'!$B$304:$AU$371,'Roster LIMA'!X$1,FALSE)))","v":""},{"$f":"IF(COUNTBLANK($A$3)<>0,\"\",IF(ISERROR(VLOOKUP($A$3,'Roster LIMA'!$B$304:$AU$371,'Roster LIMA'!Y$1,FALSE)),\"\",VLOOKUP($A$3,'Roster LIMA'!$B$304:$AU$371,'Roster LIMA'!Y$1,FALSE)))","v":""},{"$f":"IF(COUNTBLANK($A$3)<>0,\"\",IF(ISERROR(VLOOKUP($A$3,'Roster LIMA'!$B$304:$AU$371,'Roster LIMA'!Z$1,FALSE)),\"\",VLOOKUP($A$3,'Roster LIMA'!$B$304:$AU$371,'Roster LIMA'!Z$1,FALSE)))","v":""},{"$f":"IF(COUNTBLANK($A$3)<>0,\"\",IF(ISERROR(VLOOKUP($A$3,'Roster LIMA'!$B$304:$AU$371,'Roster LIMA'!AA$1,FALSE)),\"\",VLOOKUP($A$3,'Roster LIMA'!$B$304:$AU$371,'Roster LIMA'!AA$1,FALSE)))","v":""},{"$f":"IF(COUNTBLANK($A$3)<>0,\"\",IF(ISERROR(VLOOKUP($A$3,'Roster LIMA'!$B$304:$AU$371,'Roster LIMA'!AB$1,FALSE)),\"\",VLOOKUP($A$3,'Roster LIMA'!$B$304:$AU$371,'Roster LIMA'!AB$1,FALSE)))","v":""},{"$f":"IF(COUNTBLANK($A$3)<>0,\"\",IF(ISERROR(VLOOKUP($A$3,'Roster LIMA'!$B$304:$AU$371,'Roster LIMA'!AC$1,FALSE)),\"\",VLOOKUP($A$3,'Roster LIMA'!$B$304:$AU$371,'Roster LIMA'!AC$1,FALSE)))","v":""},{"$f":"IF(COUNTBLANK($A$3)<>0,\"\",IF(ISERROR(VLOOKUP($A$3,'Roster LIMA'!$B$304:$AU$371,'Roster LIMA'!AD$1,FALSE)),\"\",VLOOKUP($A$3,'Roster LIMA'!$B$304:$AU$371,'Roster LIMA'!AD$1,FALSE)))","v":""},{"$f":"IF(COUNTBLANK($A$3)<>0,\"\",IF(ISERROR(VLOOKUP($A$3,'Roster LIMA'!$B$304:$AU$371,'Roster LIMA'!AE$1,FALSE)),\"\",VLOOKUP($A$3,'Roster LIMA'!$B$304:$AU$371,'Roster LIMA'!AE$1,FALSE)))","v":""},{"$f":"IF(COUNTBLANK($A$3)<>0,\"\",IF(ISERROR(VLOOKUP($A$3,'Roster LIMA'!$B$304:$AU$371,'Roster LIMA'!AF$1,FALSE)),\"\",VLOOKUP($A$3,'Roster LIMA'!$B$304:$AU$371,'Roster LIMA'!AF$1,FALSE)))","v":""},{"$f":"IF(COUNTBLANK($A$3)<>0,\"\",IF(ISERROR(VLOOKUP($A$3,'Roster LIMA'!$B$304:$AU$371,'Roster LIMA'!AG$1,FALSE)),\"\",VLOOKUP($A$3,'Roster LIMA'!$B$304:$AU$371,'Roster LIMA'!AG$1,FALSE)))","v":""},{"$f":"IF(COUNTBLANK($A$3)<>0,\"\",IF(ISERROR(VLOOKUP($A$3,'Roster LIMA'!$B$304:$AU$371,'Roster LIMA'!AH$1,FALSE)),\"\",VLOOKUP($A$3,'Roster LIMA'!$B$304:$AU$371,'Roster LIMA'!AH$1,FALSE)))","v":""},{"$f":"IF(COUNTBLANK($A$3)<>0,\"\",IF(ISERROR(VLOOKUP($A$3,'Roster LIMA'!$B$304:$AU$371,'Roster LIMA'!AI$1,FALSE)),\"\",VLOOKUP($A$3,'Roster LIMA'!$B$304:$AU$371,'Roster LIMA'!AI$1,FALSE)))","v":""},{"$f":"IF(COUNTBLANK($A$3)<>0,\"\",IF(ISERROR(VLOOKUP($A$3,'Roster LIMA'!$B$304:$AU$371,'Roster LIMA'!AJ$1,FALSE)),\"\",VLOOKUP($A$3,'Roster LIMA'!$B$304:$AU$371,'Roster LIMA'!AJ$1,FALSE)))","v":""},{"$f":"IF(COUNTBLANK($A$3)<>0,\"\",IF(ISERROR(VLOOKUP($A$3,'Roster LIMA'!$B$304:$AU$371,'Roster LIMA'!AK$1,FALSE)),\"\",VLOOKUP($A$3,'Roster LIMA'!$B$304:$AU$371,'Roster LIMA'!AK$1,FALSE)))","v":""},{"$f":"IF(COUNTBLANK($A$3)<>0,\"\",IF(ISERROR(VLOOKUP($A$3,'Roster LIMA'!$B$304:$AU$371,'Roster LIMA'!AL$1,FALSE)),\"\",VLOOKUP($A$3,'Roster LIMA'!$B$304:$AU$371,'Roster LIMA'!AL$1,FALSE)))","v":""},{"$f":"IF(COUNTBLANK($A$3)<>0,\"\",IF(ISERROR(VLOOKUP($A$3,'Roster LIMA'!$B$304:$AU$371,'Roster LIMA'!AM$1,FALSE)),\"\",VLOOKUP($A$3,'Roster LIMA'!$B$304:$AU$371,'Roster LIMA'!AM$1,FALSE)))","v":""},{"$f":"IF(COUNTBLANK($A$3)<>0,\"\",IF(ISERROR(VLOOKUP($A$3,'Roster LIMA'!$B$304:$AU$371,'Roster LIMA'!AN$1,FALSE)),\"\",VLOOKUP($A$3,'Roster LIMA'!$B$304:$AU$371,'Roster LIMA'!AN$1,FALSE)))","v":""},{"$f":"IF(COUNTBLANK($A$3)<>0,\"\",IF(ISERROR(VLOOKUP($A$3,'Roster LIMA'!$B$304:$AU$371,'Roster LIMA'!AO$1,FALSE)),\"\",VLOOKUP($A$3,'Roster LIMA'!$B$304:$AU$371,'Roster LIMA'!AO$1,FALSE)))","v":""},{"$f":"IF(COUNTBLANK($A$3)<>0,\"\",IF(ISERROR(VLOOKUP($A$3,'Roster LIMA'!$B$304:$AU$371,'Roster LIMA'!AP$1,FALSE)),\"\",VLOOKUP($A$3,'Roster LIMA'!$B$304:$AU$371,'Roster LIMA'!AP$1,FALSE)))","v":""},{"$f":"IF(COUNTBLANK($A$3)<>0,\"\",IF(ISERROR(VLOOKUP($A$3,'Roster LIMA'!$B$304:$AU$371,'Roster LIMA'!AQ$1,FALSE)),\"\",VLOOKUP($A$3,'Roster LIMA'!$B$304:$AU$371,'Roster LIMA'!AQ$1,FALSE)))","v":""},{"$f":"IF(COUNTBLANK($A$3)<>0,\"\",IF(ISERROR(VLOOKUP($A$3,'Roster LIMA'!$B$304:$AU$371,'Roster LIMA'!AR$1,FALSE)),\"\",VLOOKUP($A$3,'Roster LIMA'!$B$304:$AU$371,'Roster LIMA'!AR$1,FALSE)))","v":""},{"$f":"IF(COUNTBLANK($A$3)<>0,\"\",IF(ISERROR(VLOOKUP($A$3,'Roster LIMA'!$B$304:$AU$371,'Roster LIMA'!AS$1,FALSE)),\"\",VLOOKUP($A$3,'Roster LIMA'!$B$304:$AU$371,'Roster LIMA'!AS$1,FALSE)))","v":""},{"$f":"IF(COUNTBLANK($A$3)<>0,\"\",IF(ISERROR(VLOOKUP($A$3,'Roster LIMA'!$B$304:$AU$371,'Roster LIMA'!AT$1,FALSE)),\"\",VLOOKUP($A$3,'Roster LIMA'!$B$304:$AU$371,'Roster LIMA'!AT$1,FALSE)))","v":""},{"$f":"IF(COUNTBLANK($A$3)<>0,\"\",IF(ISERROR(VLOOKUP($A$3,'Roster LIMA'!$B$304:$AU$371,'Roster LIMA'!AU$1,FALSE)),\"\",VLOOKUP($A$3,'Roster LIMA'!$B$304:$AU$371,'Roster LIMA'!AU$1,FALSE)))","v":""}]
[{"$f":"+'Roster LIMA'!G373","v":"1966-67"},{"$f":"IF(COUNTBLANK($A$3)<>0,\"\",IF(ISERROR(VLOOKUP($A$3,'Roster LIMA'!$B$372:$AU$444,'Roster LIMA'!H$1,FALSE)),\"\",IF(VLOOKUP($A$3,'Roster LIMA'!$B$372:$AU$444,'Roster LIMA'!H$1,FALSE)=0,\"\",VLOOKUP($A$3,'Roster LIMA'!$B$372:$AU$444,'Roster LIMA'!H$1,FALSE))))","v":""},{"$f":"IF(COUNTBLANK($A$3)<>0,\"\",IF(ISERROR(VLOOKUP($A$3,'Roster LIMA'!$B$372:$AU$444,'Roster LIMA'!I$1,FALSE)),\"\",IF(VLOOKUP($A$3,'Roster LIMA'!$B$372:$AU$444,'Roster LIMA'!I$1,FALSE)=0,\"\",VLOOKUP($A$3,'Roster LIMA'!$B$372:$AU$444,'Roster LIMA'!I$1,FALSE))))","v":""},{"$f":"IF(COUNTBLANK($A$3)<>0,\"\",IF(ISERROR(VLOOKUP($A$3,'Roster LIMA'!$B$372:$AU$444,'Roster LIMA'!J$1,FALSE)),\"\",IF(VLOOKUP($A$3,'Roster LIMA'!$B$372:$AU$444,'Roster LIMA'!J$1,FALSE)=0,\"\",VLOOKUP($A$3,'Roster LIMA'!$B$372:$AU$444,'Roster LIMA'!J$1,FALSE))))","v":""},{"$f":"IF(COUNTBLANK($A$3)<>0,\"\",IF(ISERROR(VLOOKUP($A$3,'Roster LIMA'!$B$372:$AU$444,'Roster LIMA'!K$1,FALSE)),\"\",IF(VLOOKUP($A$3,'Roster LIMA'!$B$372:$AU$444,'Roster LIMA'!K$1,FALSE)=0,\"\",VLOOKUP($A$3,'Roster LIMA'!$B$372:$AU$444,'Roster LIMA'!K$1,FALSE))))","v":""},{"$f":"IF(COUNTBLANK($A$3)<>0,\"\",IF(ISERROR(VLOOKUP($A$3,'Roster LIMA'!$B$372:$AU$444,'Roster LIMA'!F$1,FALSE)),\"\",IF(VLOOKUP($A$3,'Roster LIMA'!$B$372:$AU$444,'Roster LIMA'!F$1,FALSE)=0,\"\",VLOOKUP($A$3,'Roster LIMA'!$B$372:$AU$444,'Roster LIMA'!F$1,FALSE))))","v":""},{"$f":"IF(COUNTBLANK($A$3)<>0,\"\",IF(ISERROR(VLOOKUP($A$3,'Roster LIMA'!$B$372:$AU$444,'Roster LIMA'!E$1,FALSE)),\"\",IF(VLOOKUP($A$3,'Roster LIMA'!$B$372:$AU$444,'Roster LIMA'!E$1,FALSE)=0,\"\",VLOOKUP($A$3,'Roster LIMA'!$B$372:$AU$444,'Roster LIMA'!E$1,FALSE))))","v":""},{"$f":"IF(COUNTBLANK($A$3)<>0,\"\",IF(ISERROR(VLOOKUP($A$3,'Roster LIMA'!$B$372:$AU$444,'Roster LIMA'!B$1,FALSE)),\"N/A\",IF(VLOOKUP($A$3,'Roster LIMA'!$B$372:$AU$444,'Roster LIMA'!B$1,FALSE)=0,\"\",VLOOKUP($A$3,'Roster LIMA'!$B$372:$AU$444,'Roster LIMA'!B$1,FALSE))))","v":""},{"$f":"IF(COUNTBLANK($A$3)<>0,\"\",IF(ISERROR(VLOOKUP($A$3,'Roster LIMA'!$B$372:$AU$444,'Roster LIMA'!C$1,FALSE)),\"\",IF(VLOOKUP($A$3,'Roster LIMA'!$B$372:$AU$444,'Roster LIMA'!C$1,FALSE)=0,\"\",VLOOKUP($A$3,'Roster LIMA'!$B$372:$AU$444,'Roster LIMA'!C$1,FALSE))))","v":""},{"$f":"IF(COUNTBLANK($A$3)<>0,\"\",IF(ISERROR(VLOOKUP($A$3,'Roster LIMA'!$B$372:$AU$444,'Roster LIMA'!D$1,FALSE)),\"\",IF(VLOOKUP($A$3,'Roster LIMA'!$B$372:$AU$444,'Roster LIMA'!D$1,FALSE)=0,\"\",VLOOKUP($A$3,'Roster LIMA'!$B$372:$AU$444,'Roster LIMA'!D$1,FALSE))))","v":""},{"$f":"IF(COUNTBLANK($A$3)<>0,\"\",IF(ISERROR(VLOOKUP($A$3,'Roster LIMA'!$B$372:$AU$444,'Roster LIMA'!L$1,FALSE)),\"\",VLOOKUP($A$3,'Roster LIMA'!$B$372:$AU$444,'Roster LIMA'!L$1,FALSE)))","v":""},{"$f":"IF(COUNTBLANK($A$3)<>0,\"\",IF(ISERROR(VLOOKUP($A$3,'Roster LIMA'!$B$372:$AU$444,'Roster LIMA'!M$1,FALSE)),\"\",VLOOKUP($A$3,'Roster LIMA'!$B$372:$AU$444,'Roster LIMA'!M$1,FALSE)))","v":""},{"$f":"IF(COUNTBLANK($A$3)<>0,\"\",IF(ISERROR(VLOOKUP($A$3,'Roster LIMA'!$B$372:$AU$444,'Roster LIMA'!N$1,FALSE)),\"\",VLOOKUP($A$3,'Roster LIMA'!$B$372:$AU$444,'Roster LIMA'!N$1,FALSE)))","v":""},{"$f":"IF(COUNTBLANK($A$3)<>0,\"\",IF(ISERROR(VLOOKUP($A$3,'Roster LIMA'!$B$372:$AU$444,'Roster LIMA'!O$1,FALSE)),\"\",VLOOKUP($A$3,'Roster LIMA'!$B$372:$AU$444,'Roster LIMA'!O$1,FALSE)))","v":""},{"$f":"IF(COUNTBLANK($A$3)<>0,\"\",IF(ISERROR(VLOOKUP($A$3,'Roster LIMA'!$B$372:$AU$444,'Roster LIMA'!P$1,FALSE)),\"\",VLOOKUP($A$3,'Roster LIMA'!$B$372:$AU$444,'Roster LIMA'!P$1,FALSE)))","v":""},{"$f":"IF(COUNTBLANK($A$3)<>0,\"\",IF(ISERROR(VLOOKUP($A$3,'Roster LIMA'!$B$372:$AU$444,'Roster LIMA'!Q$1,FALSE)),\"\",VLOOKUP($A$3,'Roster LIMA'!$B$372:$AU$444,'Roster LIMA'!Q$1,FALSE)))","v":""},{"$f":"IF(COUNTBLANK($A$3)<>0,\"\",IF(ISERROR(VLOOKUP($A$3,'Roster LIMA'!$B$372:$AU$444,'Roster LIMA'!R$1,FALSE)),\"\",VLOOKUP($A$3,'Roster LIMA'!$B$372:$AU$444,'Roster LIMA'!R$1,FALSE)))","v":""},{"$f":"IF(COUNTBLANK($A$3)<>0,\"\",IF(ISERROR(VLOOKUP($A$3,'Roster LIMA'!$B$372:$AU$444,'Roster LIMA'!S$1,FALSE)),\"\",VLOOKUP($A$3,'Roster LIMA'!$B$372:$AU$444,'Roster LIMA'!S$1,FALSE)))","v":""},{"$f":"IF(COUNTBLANK($A$3)<>0,\"\",IF(ISERROR(VLOOKUP($A$3,'Roster LIMA'!$B$372:$AU$444,'Roster LIMA'!T$1,FALSE)),\"\",VLOOKUP($A$3,'Roster LIMA'!$B$372:$AU$444,'Roster LIMA'!T$1,FALSE)))","v":""},{"$f":"IF(COUNTBLANK($A$3)<>0,\"\",IF(ISERROR(VLOOKUP($A$3,'Roster LIMA'!$B$372:$AU$444,'Roster LIMA'!U$1,FALSE)),\"\",VLOOKUP($A$3,'Roster LIMA'!$B$372:$AU$444,'Roster LIMA'!U$1,FALSE)))","v":""},{"$f":"IF(COUNTBLANK($A$3)<>0,\"\",IF(ISERROR(VLOOKUP($A$3,'Roster LIMA'!$B$372:$AU$444,'Roster LIMA'!V$1,FALSE)),\"\",VLOOKUP($A$3,'Roster LIMA'!$B$372:$AU$444,'Roster LIMA'!V$1,FALSE)))","v":""},{"$f":"IF(COUNTBLANK($A$3)<>0,\"\",IF(ISERROR(VLOOKUP($A$3,'Roster LIMA'!$B$372:$AU$444,'Roster LIMA'!W$1,FALSE)),\"\",VLOOKUP($A$3,'Roster LIMA'!$B$372:$AU$444,'Roster LIMA'!W$1,FALSE)))","v":""},{"$f":"IF(COUNTBLANK($A$3)<>0,\"\",IF(ISERROR(VLOOKUP($A$3,'Roster LIMA'!$B$372:$AU$444,'Roster LIMA'!X$1,FALSE)),\"\",VLOOKUP($A$3,'Roster LIMA'!$B$372:$AU$444,'Roster LIMA'!X$1,FALSE)))","v":""},{"$f":"IF(COUNTBLANK($A$3)<>0,\"\",IF(ISERROR(VLOOKUP($A$3,'Roster LIMA'!$B$372:$AU$444,'Roster LIMA'!Y$1,FALSE)),\"\",VLOOKUP($A$3,'Roster LIMA'!$B$372:$AU$444,'Roster LIMA'!Y$1,FALSE)))","v":""},{"$f":"IF(COUNTBLANK($A$3)<>0,\"\",IF(ISERROR(VLOOKUP($A$3,'Roster LIMA'!$B$372:$AU$444,'Roster LIMA'!Z$1,FALSE)),\"\",VLOOKUP($A$3,'Roster LIMA'!$B$372:$AU$444,'Roster LIMA'!Z$1,FALSE)))","v":""},{"$f":"IF(COUNTBLANK($A$3)<>0,\"\",IF(ISERROR(VLOOKUP($A$3,'Roster LIMA'!$B$372:$AU$444,'Roster LIMA'!AA$1,FALSE)),\"\",VLOOKUP($A$3,'Roster LIMA'!$B$372:$AU$444,'Roster LIMA'!AA$1,FALSE)))","v":""},{"$f":"IF(COUNTBLANK($A$3)<>0,\"\",IF(ISERROR(VLOOKUP($A$3,'Roster LIMA'!$B$372:$AU$444,'Roster LIMA'!AB$1,FALSE)),\"\",VLOOKUP($A$3,'Roster LIMA'!$B$372:$AU$444,'Roster LIMA'!AB$1,FALSE)))","v":""},{"$f":"IF(COUNTBLANK($A$3)<>0,\"\",IF(ISERROR(VLOOKUP($A$3,'Roster LIMA'!$B$372:$AU$444,'Roster LIMA'!AC$1,FALSE)),\"\",VLOOKUP($A$3,'Roster LIMA'!$B$372:$AU$444,'Roster LIMA'!AC$1,FALSE)))","v":""},{"$f":"IF(COUNTBLANK($A$3)<>0,\"\",IF(ISERROR(VLOOKUP($A$3,'Roster LIMA'!$B$372:$AU$444,'Roster LIMA'!AD$1,FALSE)),\"\",VLOOKUP($A$3,'Roster LIMA'!$B$372:$AU$444,'Roster LIMA'!AD$1,FALSE)))","v":""},{"$f":"IF(COUNTBLANK($A$3)<>0,\"\",IF(ISERROR(VLOOKUP($A$3,'Roster LIMA'!$B$372:$AU$444,'Roster LIMA'!AE$1,FALSE)),\"\",VLOOKUP($A$3,'Roster LIMA'!$B$372:$AU$444,'Roster LIMA'!AE$1,FALSE)))","v":""},{"$f":"IF(COUNTBLANK($A$3)<>0,\"\",IF(ISERROR(VLOOKUP($A$3,'Roster LIMA'!$B$372:$AU$444,'Roster LIMA'!AF$1,FALSE)),\"\",VLOOKUP($A$3,'Roster LIMA'!$B$372:$AU$444,'Roster LIMA'!AF$1,FALSE)))","v":""},{"$f":"IF(COUNTBLANK($A$3)<>0,\"\",IF(ISERROR(VLOOKUP($A$3,'Roster LIMA'!$B$372:$AU$444,'Roster LIMA'!AG$1,FALSE)),\"\",VLOOKUP($A$3,'Roster LIMA'!$B$372:$AU$444,'Roster LIMA'!AG$1,FALSE)))","v":""},{"$f":"IF(COUNTBLANK($A$3)<>0,\"\",IF(ISERROR(VLOOKUP($A$3,'Roster LIMA'!$B$372:$AU$444,'Roster LIMA'!AH$1,FALSE)),\"\",VLOOKUP($A$3,'Roster LIMA'!$B$372:$AU$444,'Roster LIMA'!AH$1,FALSE)))","v":""},{"$f":"IF(COUNTBLANK($A$3)<>0,\"\",IF(ISERROR(VLOOKUP($A$3,'Roster LIMA'!$B$372:$AU$444,'Roster LIMA'!AI$1,FALSE)),\"\",VLOOKUP($A$3,'Roster LIMA'!$B$372:$AU$444,'Roster LIMA'!AI$1,FALSE)))","v":""},{"$f":"IF(COUNTBLANK($A$3)<>0,\"\",IF(ISERROR(VLOOKUP($A$3,'Roster LIMA'!$B$372:$AU$444,'Roster LIMA'!AJ$1,FALSE)),\"\",VLOOKUP($A$3,'Roster LIMA'!$B$372:$AU$444,'Roster LIMA'!AJ$1,FALSE)))","v":""},{"$f":"IF(COUNTBLANK($A$3)<>0,\"\",IF(ISERROR(VLOOKUP($A$3,'Roster LIMA'!$B$372:$AU$444,'Roster LIMA'!AK$1,FALSE)),\"\",VLOOKUP($A$3,'Roster LIMA'!$B$372:$AU$444,'Roster LIMA'!AK$1,FALSE)))","v":""},{"$f":"IF(COUNTBLANK($A$3)<>0,\"\",IF(ISERROR(VLOOKUP($A$3,'Roster LIMA'!$B$372:$AU$444,'Roster LIMA'!AL$1,FALSE)),\"\",VLOOKUP($A$3,'Roster LIMA'!$B$372:$AU$444,'Roster LIMA'!AL$1,FALSE)))","v":""},{"$f":"IF(COUNTBLANK($A$3)<>0,\"\",IF(ISERROR(VLOOKUP($A$3,'Roster LIMA'!$B$372:$AU$444,'Roster LIMA'!AM$1,FALSE)),\"\",VLOOKUP($A$3,'Roster LIMA'!$B$372:$AU$444,'Roster LIMA'!AM$1,FALSE)))","v":""},{"$f":"IF(COUNTBLANK($A$3)<>0,\"\",IF(ISERROR(VLOOKUP($A$3,'Roster LIMA'!$B$372:$AU$444,'Roster LIMA'!AN$1,FALSE)),\"\",VLOOKUP($A$3,'Roster LIMA'!$B$372:$AU$444,'Roster LIMA'!AN$1,FALSE)))","v":""},{"$f":"IF(COUNTBLANK($A$3)<>0,\"\",IF(ISERROR(VLOOKUP($A$3,'Roster LIMA'!$B$372:$AU$444,'Roster LIMA'!AO$1,FALSE)),\"\",VLOOKUP($A$3,'Roster LIMA'!$B$372:$AU$444,'Roster LIMA'!AO$1,FALSE)))","v":""},{"$f":"IF(COUNTBLANK($A$3)<>0,\"\",IF(ISERROR(VLOOKUP($A$3,'Roster LIMA'!$B$372:$AU$444,'Roster LIMA'!AP$1,FALSE)),\"\",VLOOKUP($A$3,'Roster LIMA'!$B$372:$AU$444,'Roster LIMA'!AP$1,FALSE)))","v":""},{"$f":"IF(COUNTBLANK($A$3)<>0,\"\",IF(ISERROR(VLOOKUP($A$3,'Roster LIMA'!$B$372:$AU$444,'Roster LIMA'!AQ$1,FALSE)),\"\",VLOOKUP($A$3,'Roster LIMA'!$B$372:$AU$444,'Roster LIMA'!AQ$1,FALSE)))","v":""},{"$f":"IF(COUNTBLANK($A$3)<>0,\"\",IF(ISERROR(VLOOKUP($A$3,'Roster LIMA'!$B$372:$AU$444,'Roster LIMA'!AR$1,FALSE)),\"\",VLOOKUP($A$3,'Roster LIMA'!$B$372:$AU$444,'Roster LIMA'!AR$1,FALSE)))","v":""},{"$f":"IF(COUNTBLANK($A$3)<>0,\"\",IF(ISERROR(VLOOKUP($A$3,'Roster LIMA'!$B$372:$AU$444,'Roster LIMA'!AS$1,FALSE)),\"\",VLOOKUP($A$3,'Roster LIMA'!$B$372:$AU$444,'Roster LIMA'!AS$1,FALSE)))","v":""},{"$f":"IF(COUNTBLANK($A$3)<>0,\"\",IF(ISERROR(VLOOKUP($A$3,'Roster LIMA'!$B$372:$AU$444,'Roster LIMA'!AT$1,FALSE)),\"\",VLOOKUP($A$3,'Roster LIMA'!$B$372:$AU$444,'Roster LIMA'!AT$1,FALSE)))","v":""},{"$f":"IF(COUNTBLANK($A$3)<>0,\"\",IF(ISERROR(VLOOKUP($A$3,'Roster LIMA'!$B$372:$AU$444,'Roster LIMA'!AU$1,FALSE)),\"\",VLOOKUP($A$3,'Roster LIMA'!$B$372:$AU$444,'Roster LIMA'!AU$1,FALSE)))","v":""}]
[{"$f":"+'Roster LIMA'!G445","v":"1967-68"},{"$f":"IF(COUNTBLANK($A$3)<>0,\"\",IF(ISERROR(VLOOKUP($A$3,'Roster LIMA'!$B$445:$AU$522,'Roster LIMA'!H$1,FALSE)),\"\",IF(VLOOKUP($A$3,'Roster LIMA'!$B$445:$AU$522,'Roster LIMA'!H$1,FALSE)=0,\"\",VLOOKUP($A$3,'Roster LIMA'!$B$445:$AU$522,'Roster LIMA'!H$1,FALSE))))","v":""},{"$f":"IF(COUNTBLANK($A$3)<>0,\"\",IF(ISERROR(VLOOKUP($A$3,'Roster LIMA'!$B$445:$AU$522,'Roster LIMA'!I$1,FALSE)),\"\",IF(VLOOKUP($A$3,'Roster LIMA'!$B$445:$AU$522,'Roster LIMA'!I$1,FALSE)=0,\"\",VLOOKUP($A$3,'Roster LIMA'!$B$445:$AU$522,'Roster LIMA'!I$1,FALSE))))","v":""},{"$f":"IF(COUNTBLANK($A$3)<>0,\"\",IF(ISERROR(VLOOKUP($A$3,'Roster LIMA'!$B$445:$AU$522,'Roster LIMA'!J$1,FALSE)),\"\",IF(VLOOKUP($A$3,'Roster LIMA'!$B$445:$AU$522,'Roster LIMA'!J$1,FALSE)=0,\"\",VLOOKUP($A$3,'Roster LIMA'!$B$445:$AU$522,'Roster LIMA'!J$1,FALSE))))","v":""},{"$f":"IF(COUNTBLANK($A$3)<>0,\"\",IF(ISERROR(VLOOKUP($A$3,'Roster LIMA'!$B$445:$AU$522,'Roster LIMA'!K$1,FALSE)),\"\",IF(VLOOKUP($A$3,'Roster LIMA'!$B$445:$AU$522,'Roster LIMA'!K$1,FALSE)=0,\"\",VLOOKUP($A$3,'Roster LIMA'!$B$445:$AU$522,'Roster LIMA'!K$1,FALSE))))","v":""},{"$f":"IF(COUNTBLANK($A$3)<>0,\"\",IF(ISERROR(VLOOKUP($A$3,'Roster LIMA'!$B$445:$AU$522,'Roster LIMA'!F$1,FALSE)),\"\",IF(VLOOKUP($A$3,'Roster LIMA'!$B$445:$AU$522,'Roster LIMA'!F$1,FALSE)=0,\"\",VLOOKUP($A$3,'Roster LIMA'!$B$445:$AU$522,'Roster LIMA'!F$1,FALSE))))","v":""},{"$f":"IF(COUNTBLANK($A$3)<>0,\"\",IF(ISERROR(VLOOKUP($A$3,'Roster LIMA'!$B$445:$AU$522,'Roster LIMA'!E$1,FALSE)),\"\",IF(VLOOKUP($A$3,'Roster LIMA'!$B$445:$AU$522,'Roster LIMA'!E$1,FALSE)=0,\"\",VLOOKUP($A$3,'Roster LIMA'!$B$445:$AU$522,'Roster LIMA'!E$1,FALSE))))","v":""},{"$f":"IF(COUNTBLANK($A$3)<>0,\"\",IF(ISERROR(VLOOKUP($A$3,'Roster LIMA'!$B$445:$AU$522,'Roster LIMA'!B$1,FALSE)),\"N/A\",IF(VLOOKUP($A$3,'Roster LIMA'!$B$445:$AU$522,'Roster LIMA'!B$1,FALSE)=0,\"\",VLOOKUP($A$3,'Roster LIMA'!$B$445:$AU$522,'Roster LIMA'!B$1,FALSE))))","v":""},{"$f":"IF(COUNTBLANK($A$3)<>0,\"\",IF(ISERROR(VLOOKUP($A$3,'Roster LIMA'!$B$445:$AU$522,'Roster LIMA'!C$1,FALSE)),\"\",IF(VLOOKUP($A$3,'Roster LIMA'!$B$445:$AU$522,'Roster LIMA'!C$1,FALSE)=0,\"\",VLOOKUP($A$3,'Roster LIMA'!$B$445:$AU$522,'Roster LIMA'!C$1,FALSE))))","v":""},{"$f":"IF(COUNTBLANK($A$3)<>0,\"\",IF(ISERROR(VLOOKUP($A$3,'Roster LIMA'!$B$445:$AU$522,'Roster LIMA'!D$1,FALSE)),\"\",IF(VLOOKUP($A$3,'Roster LIMA'!$B$445:$AU$522,'Roster LIMA'!D$1,FALSE)=0,\"\",VLOOKUP($A$3,'Roster LIMA'!$B$445:$AU$522,'Roster LIMA'!D$1,FALSE))))","v":""},{"$f":"IF(COUNTBLANK($A$3)<>0,\"\",IF(ISERROR(VLOOKUP($A$3,'Roster LIMA'!$B$445:$AU$522,'Roster LIMA'!L$1,FALSE)),\"\",VLOOKUP($A$3,'Roster LIMA'!$B$445:$AU$522,'Roster LIMA'!L$1,FALSE)))","v":""},{"$f":"IF(COUNTBLANK($A$3)<>0,\"\",IF(ISERROR(VLOOKUP($A$3,'Roster LIMA'!$B$445:$AU$522,'Roster LIMA'!M$1,FALSE)),\"\",VLOOKUP($A$3,'Roster LIMA'!$B$445:$AU$522,'Roster LIMA'!M$1,FALSE)))","v":""},{"$f":"IF(COUNTBLANK($A$3)<>0,\"\",IF(ISERROR(VLOOKUP($A$3,'Roster LIMA'!$B$445:$AU$522,'Roster LIMA'!N$1,FALSE)),\"\",VLOOKUP($A$3,'Roster LIMA'!$B$445:$AU$522,'Roster LIMA'!N$1,FALSE)))","v":""},{"$f":"IF(COUNTBLANK($A$3)<>0,\"\",IF(ISERROR(VLOOKUP($A$3,'Roster LIMA'!$B$445:$AU$522,'Roster LIMA'!O$1,FALSE)),\"\",VLOOKUP($A$3,'Roster LIMA'!$B$445:$AU$522,'Roster LIMA'!O$1,FALSE)))","v":""},{"$f":"IF(COUNTBLANK($A$3)<>0,\"\",IF(ISERROR(VLOOKUP($A$3,'Roster LIMA'!$B$445:$AU$522,'Roster LIMA'!P$1,FALSE)),\"\",VLOOKUP($A$3,'Roster LIMA'!$B$445:$AU$522,'Roster LIMA'!P$1,FALSE)))","v":""},{"$f":"IF(COUNTBLANK($A$3)<>0,\"\",IF(ISERROR(VLOOKUP($A$3,'Roster LIMA'!$B$445:$AU$522,'Roster LIMA'!Q$1,FALSE)),\"\",VLOOKUP($A$3,'Roster LIMA'!$B$445:$AU$522,'Roster LIMA'!Q$1,FALSE)))","v":""},{"$f":"IF(COUNTBLANK($A$3)<>0,\"\",IF(ISERROR(VLOOKUP($A$3,'Roster LIMA'!$B$445:$AU$522,'Roster LIMA'!R$1,FALSE)),\"\",VLOOKUP($A$3,'Roster LIMA'!$B$445:$AU$522,'Roster LIMA'!R$1,FALSE)))","v":""},{"$f":"IF(COUNTBLANK($A$3)<>0,\"\",IF(ISERROR(VLOOKUP($A$3,'Roster LIMA'!$B$445:$AU$522,'Roster LIMA'!S$1,FALSE)),\"\",VLOOKUP($A$3,'Roster LIMA'!$B$445:$AU$522,'Roster LIMA'!S$1,FALSE)))","v":""},{"$f":"IF(COUNTBLANK($A$3)<>0,\"\",IF(ISERROR(VLOOKUP($A$3,'Roster LIMA'!$B$445:$AU$522,'Roster LIMA'!T$1,FALSE)),\"\",VLOOKUP($A$3,'Roster LIMA'!$B$445:$AU$522,'Roster LIMA'!T$1,FALSE)))","v":""},{"$f":"IF(COUNTBLANK($A$3)<>0,\"\",IF(ISERROR(VLOOKUP($A$3,'Roster LIMA'!$B$445:$AU$522,'Roster LIMA'!U$1,FALSE)),\"\",VLOOKUP($A$3,'Roster LIMA'!$B$445:$AU$522,'Roster LIMA'!U$1,FALSE)))","v":""},{"$f":"IF(COUNTBLANK($A$3)<>0,\"\",IF(ISERROR(VLOOKUP($A$3,'Roster LIMA'!$B$445:$AU$522,'Roster LIMA'!V$1,FALSE)),\"\",VLOOKUP($A$3,'Roster LIMA'!$B$445:$AU$522,'Roster LIMA'!V$1,FALSE)))","v":""},{"$f":"IF(COUNTBLANK($A$3)<>0,\"\",IF(ISERROR(VLOOKUP($A$3,'Roster LIMA'!$B$445:$AU$522,'Roster LIMA'!W$1,FALSE)),\"\",VLOOKUP($A$3,'Roster LIMA'!$B$445:$AU$522,'Roster LIMA'!W$1,FALSE)))","v":""},{"$f":"IF(COUNTBLANK($A$3)<>0,\"\",IF(ISERROR(VLOOKUP($A$3,'Roster LIMA'!$B$445:$AU$522,'Roster LIMA'!X$1,FALSE)),\"\",VLOOKUP($A$3,'Roster LIMA'!$B$445:$AU$522,'Roster LIMA'!X$1,FALSE)))","v":""},{"$f":"IF(COUNTBLANK($A$3)<>0,\"\",IF(ISERROR(VLOOKUP($A$3,'Roster LIMA'!$B$445:$AU$522,'Roster LIMA'!Y$1,FALSE)),\"\",VLOOKUP($A$3,'Roster LIMA'!$B$445:$AU$522,'Roster LIMA'!Y$1,FALSE)))","v":""},{"$f":"IF(COUNTBLANK($A$3)<>0,\"\",IF(ISERROR(VLOOKUP($A$3,'Roster LIMA'!$B$445:$AU$522,'Roster LIMA'!Z$1,FALSE)),\"\",VLOOKUP($A$3,'Roster LIMA'!$B$445:$AU$522,'Roster LIMA'!Z$1,FALSE)))","v":""},{"$f":"IF(COUNTBLANK($A$3)<>0,\"\",IF(ISERROR(VLOOKUP($A$3,'Roster LIMA'!$B$445:$AU$522,'Roster LIMA'!AA$1,FALSE)),\"\",VLOOKUP($A$3,'Roster LIMA'!$B$445:$AU$522,'Roster LIMA'!AA$1,FALSE)))","v":""},{"$f":"IF(COUNTBLANK($A$3)<>0,\"\",IF(ISERROR(VLOOKUP($A$3,'Roster LIMA'!$B$445:$AU$522,'Roster LIMA'!AB$1,FALSE)),\"\",VLOOKUP($A$3,'Roster LIMA'!$B$445:$AU$522,'Roster LIMA'!AB$1,FALSE)))","v":""},{"$f":"IF(COUNTBLANK($A$3)<>0,\"\",IF(ISERROR(VLOOKUP($A$3,'Roster LIMA'!$B$445:$AU$522,'Roster LIMA'!AC$1,FALSE)),\"\",VLOOKUP($A$3,'Roster LIMA'!$B$445:$AU$522,'Roster LIMA'!AC$1,FALSE)))","v":""},{"$f":"IF(COUNTBLANK($A$3)<>0,\"\",IF(ISERROR(VLOOKUP($A$3,'Roster LIMA'!$B$445:$AU$522,'Roster LIMA'!AD$1,FALSE)),\"\",VLOOKUP($A$3,'Roster LIMA'!$B$445:$AU$522,'Roster LIMA'!AD$1,FALSE)))","v":""},{"$f":"IF(COUNTBLANK($A$3)<>0,\"\",IF(ISERROR(VLOOKUP($A$3,'Roster LIMA'!$B$445:$AU$522,'Roster LIMA'!AE$1,FALSE)),\"\",VLOOKUP($A$3,'Roster LIMA'!$B$445:$AU$522,'Roster LIMA'!AE$1,FALSE)))","v":""},{"$f":"IF(COUNTBLANK($A$3)<>0,\"\",IF(ISERROR(VLOOKUP($A$3,'Roster LIMA'!$B$445:$AU$522,'Roster LIMA'!AF$1,FALSE)),\"\",VLOOKUP($A$3,'Roster LIMA'!$B$445:$AU$522,'Roster LIMA'!AF$1,FALSE)))","v":""},{"$f":"IF(COUNTBLANK($A$3)<>0,\"\",IF(ISERROR(VLOOKUP($A$3,'Roster LIMA'!$B$445:$AU$522,'Roster LIMA'!AG$1,FALSE)),\"\",VLOOKUP($A$3,'Roster LIMA'!$B$445:$AU$522,'Roster LIMA'!AG$1,FALSE)))","v":""},{"$f":"IF(COUNTBLANK($A$3)<>0,\"\",IF(ISERROR(VLOOKUP($A$3,'Roster LIMA'!$B$445:$AU$522,'Roster LIMA'!AH$1,FALSE)),\"\",VLOOKUP($A$3,'Roster LIMA'!$B$445:$AU$522,'Roster LIMA'!AH$1,FALSE)))","v":""},{"$f":"IF(COUNTBLANK($A$3)<>0,\"\",IF(ISERROR(VLOOKUP($A$3,'Roster LIMA'!$B$445:$AU$522,'Roster LIMA'!AI$1,FALSE)),\"\",VLOOKUP($A$3,'Roster LIMA'!$B$445:$AU$522,'Roster LIMA'!AI$1,FALSE)))","v":""},{"$f":"IF(COUNTBLANK($A$3)<>0,\"\",IF(ISERROR(VLOOKUP($A$3,'Roster LIMA'!$B$445:$AU$522,'Roster LIMA'!AJ$1,FALSE)),\"\",VLOOKUP($A$3,'Roster LIMA'!$B$445:$AU$522,'Roster LIMA'!AJ$1,FALSE)))","v":""},{"$f":"IF(COUNTBLANK($A$3)<>0,\"\",IF(ISERROR(VLOOKUP($A$3,'Roster LIMA'!$B$445:$AU$522,'Roster LIMA'!AK$1,FALSE)),\"\",VLOOKUP($A$3,'Roster LIMA'!$B$445:$AU$522,'Roster LIMA'!AK$1,FALSE)))","v":""},{"$f":"IF(COUNTBLANK($A$3)<>0,\"\",IF(ISERROR(VLOOKUP($A$3,'Roster LIMA'!$B$445:$AU$522,'Roster LIMA'!AL$1,FALSE)),\"\",VLOOKUP($A$3,'Roster LIMA'!$B$445:$AU$522,'Roster LIMA'!AL$1,FALSE)))","v":""},{"$f":"IF(COUNTBLANK($A$3)<>0,\"\",IF(ISERROR(VLOOKUP($A$3,'Roster LIMA'!$B$445:$AU$522,'Roster LIMA'!AM$1,FALSE)),\"\",VLOOKUP($A$3,'Roster LIMA'!$B$445:$AU$522,'Roster LIMA'!AM$1,FALSE)))","v":""},{"$f":"IF(COUNTBLANK($A$3)<>0,\"\",IF(ISERROR(VLOOKUP($A$3,'Roster LIMA'!$B$445:$AU$522,'Roster LIMA'!AN$1,FALSE)),\"\",VLOOKUP($A$3,'Roster LIMA'!$B$445:$AU$522,'Roster LIMA'!AN$1,FALSE)))","v":""},{"$f":"IF(COUNTBLANK($A$3)<>0,\"\",IF(ISERROR(VLOOKUP($A$3,'Roster LIMA'!$B$445:$AU$522,'Roster LIMA'!AO$1,FALSE)),\"\",VLOOKUP($A$3,'Roster LIMA'!$B$445:$AU$522,'Roster LIMA'!AO$1,FALSE)))","v":""},{"$f":"IF(COUNTBLANK($A$3)<>0,\"\",IF(ISERROR(VLOOKUP($A$3,'Roster LIMA'!$B$445:$AU$522,'Roster LIMA'!AP$1,FALSE)),\"\",VLOOKUP($A$3,'Roster LIMA'!$B$445:$AU$522,'Roster LIMA'!AP$1,FALSE)))","v":""},{"$f":"IF(COUNTBLANK($A$3)<>0,\"\",IF(ISERROR(VLOOKUP($A$3,'Roster LIMA'!$B$445:$AU$522,'Roster LIMA'!AQ$1,FALSE)),\"\",VLOOKUP($A$3,'Roster LIMA'!$B$445:$AU$522,'Roster LIMA'!AQ$1,FALSE)))","v":""},{"$f":"IF(COUNTBLANK($A$3)<>0,\"\",IF(ISERROR(VLOOKUP($A$3,'Roster LIMA'!$B$445:$AU$522,'Roster LIMA'!AR$1,FALSE)),\"\",VLOOKUP($A$3,'Roster LIMA'!$B$445:$AU$522,'Roster LIMA'!AR$1,FALSE)))","v":""},{"$f":"IF(COUNTBLANK($A$3)<>0,\"\",IF(ISERROR(VLOOKUP($A$3,'Roster LIMA'!$B$445:$AU$522,'Roster LIMA'!AS$1,FALSE)),\"\",VLOOKUP($A$3,'Roster LIMA'!$B$445:$AU$522,'Roster LIMA'!AS$1,FALSE)))","v":""},{"$f":"IF(COUNTBLANK($A$3)<>0,\"\",IF(ISERROR(VLOOKUP($A$3,'Roster LIMA'!$B$445:$AU$522,'Roster LIMA'!AT$1,FALSE)),\"\",VLOOKUP($A$3,'Roster LIMA'!$B$445:$AU$522,'Roster LIMA'!AT$1,FALSE)))","v":""},{"$f":"IF(COUNTBLANK($A$3)<>0,\"\",IF(ISERROR(VLOOKUP($A$3,'Roster LIMA'!$B$445:$AU$522,'Roster LIMA'!AU$1,FALSE)),\"\",VLOOKUP($A$3,'Roster LIMA'!$B$445:$AU$522,'Roster LIMA'!AU$1,FALSE)))","v":""}]
[{"$f":"+'Roster LIMA'!G523","v":"1968-69"},{"$f":"IF(COUNTBLANK($A$3)<>0,\"\",IF(ISERROR(VLOOKUP($A$3,'Roster LIMA'!$B$523:$AU$613,'Roster LIMA'!H$1,FALSE)),\"\",IF(VLOOKUP($A$3,'Roster LIMA'!$B$523:$AU$613,'Roster LIMA'!H$1,FALSE)=0,\"\",VLOOKUP($A$3,'Roster LIMA'!$B$523:$AU$613,'Roster LIMA'!H$1,FALSE))))","v":""},{"$f":"IF(COUNTBLANK($A$3)<>0,\"\",IF(ISERROR(VLOOKUP($A$3,'Roster LIMA'!$B$523:$AU$613,'Roster LIMA'!I$1,FALSE)),\"\",IF(VLOOKUP($A$3,'Roster LIMA'!$B$523:$AU$613,'Roster LIMA'!I$1,FALSE)=0,\"\",VLOOKUP($A$3,'Roster LIMA'!$B$523:$AU$613,'Roster LIMA'!I$1,FALSE))))","v":""},{"$f":"IF(COUNTBLANK($A$3)<>0,\"\",IF(ISERROR(VLOOKUP($A$3,'Roster LIMA'!$B$523:$AU$613,'Roster LIMA'!J$1,FALSE)),\"\",IF(VLOOKUP($A$3,'Roster LIMA'!$B$523:$AU$613,'Roster LIMA'!J$1,FALSE)=0,\"\",VLOOKUP($A$3,'Roster LIMA'!$B$523:$AU$613,'Roster LIMA'!J$1,FALSE))))","v":""},{"$f":"IF(COUNTBLANK($A$3)<>0,\"\",IF(ISERROR(VLOOKUP($A$3,'Roster LIMA'!$B$523:$AU$613,'Roster LIMA'!K$1,FALSE)),\"\",IF(VLOOKUP($A$3,'Roster LIMA'!$B$523:$AU$613,'Roster LIMA'!K$1,FALSE)=0,\"\",VLOOKUP($A$3,'Roster LIMA'!$B$523:$AU$613,'Roster LIMA'!K$1,FALSE))))","v":""},{"$f":"IF(COUNTBLANK($A$3)<>0,\"\",IF(ISERROR(VLOOKUP($A$3,'Roster LIMA'!$B$523:$AU$613,'Roster LIMA'!F$1,FALSE)),\"\",IF(VLOOKUP($A$3,'Roster LIMA'!$B$523:$AU$613,'Roster LIMA'!F$1,FALSE)=0,\"\",VLOOKUP($A$3,'Roster LIMA'!$B$523:$AU$613,'Roster LIMA'!F$1,FALSE))))","v":""},{"$f":"IF(COUNTBLANK($A$3)<>0,\"\",IF(ISERROR(VLOOKUP($A$3,'Roster LIMA'!$B$523:$AU$613,'Roster LIMA'!E$1,FALSE)),\"\",IF(VLOOKUP($A$3,'Roster LIMA'!$B$523:$AU$613,'Roster LIMA'!E$1,FALSE)=0,\"\",VLOOKUP($A$3,'Roster LIMA'!$B$523:$AU$613,'Roster LIMA'!E$1,FALSE))))","v":""},{"$f":"IF(COUNTBLANK($A$3)<>0,\"\",IF(ISERROR(VLOOKUP($A$3,'Roster LIMA'!$B$523:$AU$613,'Roster LIMA'!B$1,FALSE)),\"N/A\",IF(VLOOKUP($A$3,'Roster LIMA'!$B$523:$AU$613,'Roster LIMA'!B$1,FALSE)=0,\"\",VLOOKUP($A$3,'Roster LIMA'!$B$523:$AU$613,'Roster LIMA'!B$1,FALSE))))","v":""},{"$f":"IF(COUNTBLANK($A$3)<>0,\"\",IF(ISERROR(VLOOKUP($A$3,'Roster LIMA'!$B$523:$AU$613,'Roster LIMA'!C$1,FALSE)),\"\",IF(VLOOKUP($A$3,'Roster LIMA'!$B$523:$AU$613,'Roster LIMA'!C$1,FALSE)=0,\"\",VLOOKUP($A$3,'Roster LIMA'!$B$523:$AU$613,'Roster LIMA'!C$1,FALSE))))","v":""},{"$f":"IF(COUNTBLANK($A$3)<>0,\"\",IF(ISERROR(VLOOKUP($A$3,'Roster LIMA'!$B$523:$AU$613,'Roster LIMA'!D$1,FALSE)),\"\",IF(VLOOKUP($A$3,'Roster LIMA'!$B$523:$AU$613,'Roster LIMA'!D$1,FALSE)=0,\"\",VLOOKUP($A$3,'Roster LIMA'!$B$523:$AU$613,'Roster LIMA'!D$1,FALSE))))","v":""},{"$f":"IF(COUNTBLANK($A$3)<>0,\"\",IF(ISERROR(VLOOKUP($A$3,'Roster LIMA'!$B$523:$AU$613,'Roster LIMA'!L$1,FALSE)),\"\",VLOOKUP($A$3,'Roster LIMA'!$B$523:$AU$613,'Roster LIMA'!L$1,FALSE)))","v":""},{"$f":"IF(COUNTBLANK($A$3)<>0,\"\",IF(ISERROR(VLOOKUP($A$3,'Roster LIMA'!$B$523:$AU$613,'Roster LIMA'!M$1,FALSE)),\"\",VLOOKUP($A$3,'Roster LIMA'!$B$523:$AU$613,'Roster LIMA'!M$1,FALSE)))","v":""},{"$f":"IF(COUNTBLANK($A$3)<>0,\"\",IF(ISERROR(VLOOKUP($A$3,'Roster LIMA'!$B$523:$AU$613,'Roster LIMA'!N$1,FALSE)),\"\",VLOOKUP($A$3,'Roster LIMA'!$B$523:$AU$613,'Roster LIMA'!N$1,FALSE)))","v":""},{"$f":"IF(COUNTBLANK($A$3)<>0,\"\",IF(ISERROR(VLOOKUP($A$3,'Roster LIMA'!$B$523:$AU$613,'Roster LIMA'!O$1,FALSE)),\"\",VLOOKUP($A$3,'Roster LIMA'!$B$523:$AU$613,'Roster LIMA'!O$1,FALSE)))","v":""},{"$f":"IF(COUNTBLANK($A$3)<>0,\"\",IF(ISERROR(VLOOKUP($A$3,'Roster LIMA'!$B$523:$AU$613,'Roster LIMA'!P$1,FALSE)),\"\",VLOOKUP($A$3,'Roster LIMA'!$B$523:$AU$613,'Roster LIMA'!P$1,FALSE)))","v":""},{"$f":"IF(COUNTBLANK($A$3)<>0,\"\",IF(ISERROR(VLOOKUP($A$3,'Roster LIMA'!$B$523:$AU$613,'Roster LIMA'!Q$1,FALSE)),\"\",VLOOKUP($A$3,'Roster LIMA'!$B$523:$AU$613,'Roster LIMA'!Q$1,FALSE)))","v":""},{"$f":"IF(COUNTBLANK($A$3)<>0,\"\",IF(ISERROR(VLOOKUP($A$3,'Roster LIMA'!$B$523:$AU$613,'Roster LIMA'!R$1,FALSE)),\"\",VLOOKUP($A$3,'Roster LIMA'!$B$523:$AU$613,'Roster LIMA'!R$1,FALSE)))","v":""},{"$f":"IF(COUNTBLANK($A$3)<>0,\"\",IF(ISERROR(VLOOKUP($A$3,'Roster LIMA'!$B$523:$AU$613,'Roster LIMA'!S$1,FALSE)),\"\",VLOOKUP($A$3,'Roster LIMA'!$B$523:$AU$613,'Roster LIMA'!S$1,FALSE)))","v":""},{"$f":"IF(COUNTBLANK($A$3)<>0,\"\",IF(ISERROR(VLOOKUP($A$3,'Roster LIMA'!$B$523:$AU$613,'Roster LIMA'!T$1,FALSE)),\"\",VLOOKUP($A$3,'Roster LIMA'!$B$523:$AU$613,'Roster LIMA'!T$1,FALSE)))","v":""},{"$f":"IF(COUNTBLANK($A$3)<>0,\"\",IF(ISERROR(VLOOKUP($A$3,'Roster LIMA'!$B$523:$AU$613,'Roster LIMA'!U$1,FALSE)),\"\",VLOOKUP($A$3,'Roster LIMA'!$B$523:$AU$613,'Roster LIMA'!U$1,FALSE)))","v":""},{"$f":"IF(COUNTBLANK($A$3)<>0,\"\",IF(ISERROR(VLOOKUP($A$3,'Roster LIMA'!$B$523:$AU$613,'Roster LIMA'!V$1,FALSE)),\"\",VLOOKUP($A$3,'Roster LIMA'!$B$523:$AU$613,'Roster LIMA'!V$1,FALSE)))","v":""},{"$f":"IF(COUNTBLANK($A$3)<>0,\"\",IF(ISERROR(VLOOKUP($A$3,'Roster LIMA'!$B$523:$AU$613,'Roster LIMA'!W$1,FALSE)),\"\",VLOOKUP($A$3,'Roster LIMA'!$B$523:$AU$613,'Roster LIMA'!W$1,FALSE)))","v":""},{"$f":"IF(COUNTBLANK($A$3)<>0,\"\",IF(ISERROR(VLOOKUP($A$3,'Roster LIMA'!$B$523:$AU$613,'Roster LIMA'!X$1,FALSE)),\"\",VLOOKUP($A$3,'Roster LIMA'!$B$523:$AU$613,'Roster LIMA'!X$1,FALSE)))","v":""},{"$f":"IF(COUNTBLANK($A$3)<>0,\"\",IF(ISERROR(VLOOKUP($A$3,'Roster LIMA'!$B$523:$AU$613,'Roster LIMA'!Y$1,FALSE)),\"\",VLOOKUP($A$3,'Roster LIMA'!$B$523:$AU$613,'Roster LIMA'!Y$1,FALSE)))","v":""},{"$f":"IF(COUNTBLANK($A$3)<>0,\"\",IF(ISERROR(VLOOKUP($A$3,'Roster LIMA'!$B$523:$AU$613,'Roster LIMA'!Z$1,FALSE)),\"\",VLOOKUP($A$3,'Roster LIMA'!$B$523:$AU$613,'Roster LIMA'!Z$1,FALSE)))","v":""},{"$f":"IF(COUNTBLANK($A$3)<>0,\"\",IF(ISERROR(VLOOKUP($A$3,'Roster LIMA'!$B$523:$AU$613,'Roster LIMA'!AA$1,FALSE)),\"\",VLOOKUP($A$3,'Roster LIMA'!$B$523:$AU$613,'Roster LIMA'!AA$1,FALSE)))","v":""},{"$f":"IF(COUNTBLANK($A$3)<>0,\"\",IF(ISERROR(VLOOKUP($A$3,'Roster LIMA'!$B$523:$AU$613,'Roster LIMA'!AB$1,FALSE)),\"\",VLOOKUP($A$3,'Roster LIMA'!$B$523:$AU$613,'Roster LIMA'!AB$1,FALSE)))","v":""},{"$f":"IF(COUNTBLANK($A$3)<>0,\"\",IF(ISERROR(VLOOKUP($A$3,'Roster LIMA'!$B$523:$AU$613,'Roster LIMA'!AC$1,FALSE)),\"\",VLOOKUP($A$3,'Roster LIMA'!$B$523:$AU$613,'Roster LIMA'!AC$1,FALSE)))","v":""},{"$f":"IF(COUNTBLANK($A$3)<>0,\"\",IF(ISERROR(VLOOKUP($A$3,'Roster LIMA'!$B$523:$AU$613,'Roster LIMA'!AD$1,FALSE)),\"\",VLOOKUP($A$3,'Roster LIMA'!$B$523:$AU$613,'Roster LIMA'!AD$1,FALSE)))","v":""},{"$f":"IF(COUNTBLANK($A$3)<>0,\"\",IF(ISERROR(VLOOKUP($A$3,'Roster LIMA'!$B$523:$AU$613,'Roster LIMA'!AE$1,FALSE)),\"\",VLOOKUP($A$3,'Roster LIMA'!$B$523:$AU$613,'Roster LIMA'!AE$1,FALSE)))","v":""},{"$f":"IF(COUNTBLANK($A$3)<>0,\"\",IF(ISERROR(VLOOKUP($A$3,'Roster LIMA'!$B$523:$AU$613,'Roster LIMA'!AF$1,FALSE)),\"\",VLOOKUP($A$3,'Roster LIMA'!$B$523:$AU$613,'Roster LIMA'!AF$1,FALSE)))","v":""},{"$f":"IF(COUNTBLANK($A$3)<>0,\"\",IF(ISERROR(VLOOKUP($A$3,'Roster LIMA'!$B$523:$AU$613,'Roster LIMA'!AG$1,FALSE)),\"\",VLOOKUP($A$3,'Roster LIMA'!$B$523:$AU$613,'Roster LIMA'!AG$1,FALSE)))","v":""},{"$f":"IF(COUNTBLANK($A$3)<>0,\"\",IF(ISERROR(VLOOKUP($A$3,'Roster LIMA'!$B$523:$AU$613,'Roster LIMA'!AH$1,FALSE)),\"\",VLOOKUP($A$3,'Roster LIMA'!$B$523:$AU$613,'Roster LIMA'!AH$1,FALSE)))","v":""},{"$f":"IF(COUNTBLANK($A$3)<>0,\"\",IF(ISERROR(VLOOKUP($A$3,'Roster LIMA'!$B$523:$AU$613,'Roster LIMA'!AI$1,FALSE)),\"\",VLOOKUP($A$3,'Roster LIMA'!$B$523:$AU$613,'Roster LIMA'!AI$1,FALSE)))","v":""},{"$f":"IF(COUNTBLANK($A$3)<>0,\"\",IF(ISERROR(VLOOKUP($A$3,'Roster LIMA'!$B$523:$AU$613,'Roster LIMA'!AJ$1,FALSE)),\"\",VLOOKUP($A$3,'Roster LIMA'!$B$523:$AU$613,'Roster LIMA'!AJ$1,FALSE)))","v":""},{"$f":"IF(COUNTBLANK($A$3)<>0,\"\",IF(ISERROR(VLOOKUP($A$3,'Roster LIMA'!$B$523:$AU$613,'Roster LIMA'!AK$1,FALSE)),\"\",VLOOKUP($A$3,'Roster LIMA'!$B$523:$AU$613,'Roster LIMA'!AK$1,FALSE)))","v":""},{"$f":"IF(COUNTBLANK($A$3)<>0,\"\",IF(ISERROR(VLOOKUP($A$3,'Roster LIMA'!$B$523:$AU$613,'Roster LIMA'!AL$1,FALSE)),\"\",VLOOKUP($A$3,'Roster LIMA'!$B$523:$AU$613,'Roster LIMA'!AL$1,FALSE)))","v":""},{"$f":"IF(COUNTBLANK($A$3)<>0,\"\",IF(ISERROR(VLOOKUP($A$3,'Roster LIMA'!$B$523:$AU$613,'Roster LIMA'!AM$1,FALSE)),\"\",VLOOKUP($A$3,'Roster LIMA'!$B$523:$AU$613,'Roster LIMA'!AM$1,FALSE)))","v":""},{"$f":"IF(COUNTBLANK($A$3)<>0,\"\",IF(ISERROR(VLOOKUP($A$3,'Roster LIMA'!$B$523:$AU$613,'Roster LIMA'!AN$1,FALSE)),\"\",VLOOKUP($A$3,'Roster LIMA'!$B$523:$AU$613,'Roster LIMA'!AN$1,FALSE)))","v":""},{"$f":"IF(COUNTBLANK($A$3)<>0,\"\",IF(ISERROR(VLOOKUP($A$3,'Roster LIMA'!$B$523:$AU$613,'Roster LIMA'!AO$1,FALSE)),\"\",VLOOKUP($A$3,'Roster LIMA'!$B$523:$AU$613,'Roster LIMA'!AO$1,FALSE)))","v":""},{"$f":"IF(COUNTBLANK($A$3)<>0,\"\",IF(ISERROR(VLOOKUP($A$3,'Roster LIMA'!$B$523:$AU$613,'Roster LIMA'!AP$1,FALSE)),\"\",VLOOKUP($A$3,'Roster LIMA'!$B$523:$AU$613,'Roster LIMA'!AP$1,FALSE)))","v":""},{"$f":"IF(COUNTBLANK($A$3)<>0,\"\",IF(ISERROR(VLOOKUP($A$3,'Roster LIMA'!$B$523:$AU$613,'Roster LIMA'!AQ$1,FALSE)),\"\",VLOOKUP($A$3,'Roster LIMA'!$B$523:$AU$613,'Roster LIMA'!AQ$1,FALSE)))","v":""},{"$f":"IF(COUNTBLANK($A$3)<>0,\"\",IF(ISERROR(VLOOKUP($A$3,'Roster LIMA'!$B$523:$AU$613,'Roster LIMA'!AR$1,FALSE)),\"\",VLOOKUP($A$3,'Roster LIMA'!$B$523:$AU$613,'Roster LIMA'!AR$1,FALSE)))","v":""},{"$f":"IF(COUNTBLANK($A$3)<>0,\"\",IF(ISERROR(VLOOKUP($A$3,'Roster LIMA'!$B$523:$AU$613,'Roster LIMA'!AS$1,FALSE)),\"\",VLOOKUP($A$3,'Roster LIMA'!$B$523:$AU$613,'Roster LIMA'!AS$1,FALSE)))","v":""},{"$f":"IF(COUNTBLANK($A$3)<>0,\"\",IF(ISERROR(VLOOKUP($A$3,'Roster LIMA'!$B$523:$AU$613,'Roster LIMA'!AT$1,FALSE)),\"\",VLOOKUP($A$3,'Roster LIMA'!$B$523:$AU$613,'Roster LIMA'!AT$1,FALSE)))","v":""},{"$f":"IF(COUNTBLANK($A$3)<>0,\"\",IF(ISERROR(VLOOKUP($A$3,'Roster LIMA'!$B$523:$AU$613,'Roster LIMA'!AU$1,FALSE)),\"\",VLOOKUP($A$3,'Roster LIMA'!$B$523:$AU$613,'Roster LIMA'!AU$1,FALSE)))","v":""}]
[{"$f":"+'Roster LIMA'!G614","v":"1969-70"},{"$f":"IF(COUNTBLANK($A$3)<>0,\"\",IF(ISERROR(VLOOKUP($A$3,'Roster LIMA'!$B$614:$AU$712,'Roster LIMA'!H$1,FALSE)),\"\",IF(VLOOKUP($A$3,'Roster LIMA'!$B$614:$AU$712,'Roster LIMA'!H$1,FALSE)=0,\"\",VLOOKUP($A$3,'Roster LIMA'!$B$614:$AU$712,'Roster LIMA'!H$1,FALSE))))","v":""},{"$f":"IF(COUNTBLANK($A$3)<>0,\"\",IF(ISERROR(VLOOKUP($A$3,'Roster LIMA'!$B$614:$AU$712,'Roster LIMA'!I$1,FALSE)),\"\",IF(VLOOKUP($A$3,'Roster LIMA'!$B$614:$AU$712,'Roster LIMA'!I$1,FALSE)=0,\"\",VLOOKUP($A$3,'Roster LIMA'!$B$614:$AU$712,'Roster LIMA'!I$1,FALSE))))","v":""},{"$f":"IF(COUNTBLANK($A$3)<>0,\"\",IF(ISERROR(VLOOKUP($A$3,'Roster LIMA'!$B$614:$AU$712,'Roster LIMA'!J$1,FALSE)),\"\",IF(VLOOKUP($A$3,'Roster LIMA'!$B$614:$AU$712,'Roster LIMA'!J$1,FALSE)=0,\"\",VLOOKUP($A$3,'Roster LIMA'!$B$614:$AU$712,'Roster LIMA'!J$1,FALSE))))","v":""},{"$f":"IF(COUNTBLANK($A$3)<>0,\"\",IF(ISERROR(VLOOKUP($A$3,'Roster LIMA'!$B$614:$AU$712,'Roster LIMA'!K$1,FALSE)),\"\",IF(VLOOKUP($A$3,'Roster LIMA'!$B$614:$AU$712,'Roster LIMA'!K$1,FALSE)=0,\"\",VLOOKUP($A$3,'Roster LIMA'!$B$614:$AU$712,'Roster LIMA'!K$1,FALSE))))","v":""},{"$f":"IF(COUNTBLANK($A$3)<>0,\"\",IF(ISERROR(VLOOKUP($A$3,'Roster LIMA'!$B$614:$AU$712,'Roster LIMA'!F$1,FALSE)),\"\",IF(VLOOKUP($A$3,'Roster LIMA'!$B$614:$AU$712,'Roster LIMA'!F$1,FALSE)=0,\"\",VLOOKUP($A$3,'Roster LIMA'!$B$614:$AU$712,'Roster LIMA'!F$1,FALSE))))","v":""},{"$f":"IF(COUNTBLANK($A$3)<>0,\"\",IF(ISERROR(VLOOKUP($A$3,'Roster LIMA'!$B$614:$AU$712,'Roster LIMA'!E$1,FALSE)),\"\",IF(VLOOKUP($A$3,'Roster LIMA'!$B$614:$AU$712,'Roster LIMA'!E$1,FALSE)=0,\"\",VLOOKUP($A$3,'Roster LIMA'!$B$614:$AU$712,'Roster LIMA'!E$1,FALSE))))","v":""},{"$f":"IF(COUNTBLANK($A$3)<>0,\"\",IF(ISERROR(VLOOKUP($A$3,'Roster LIMA'!$B$614:$AU$712,'Roster LIMA'!B$1,FALSE)),\"N/A\",IF(VLOOKUP($A$3,'Roster LIMA'!$B$614:$AU$712,'Roster LIMA'!B$1,FALSE)=0,\"\",VLOOKUP($A$3,'Roster LIMA'!$B$614:$AU$712,'Roster LIMA'!B$1,FALSE))))","v":""},{"$f":"IF(COUNTBLANK($A$3)<>0,\"\",IF(ISERROR(VLOOKUP($A$3,'Roster LIMA'!$B$614:$AU$712,'Roster LIMA'!C$1,FALSE)),\"\",IF(VLOOKUP($A$3,'Roster LIMA'!$B$614:$AU$712,'Roster LIMA'!C$1,FALSE)=0,\"\",VLOOKUP($A$3,'Roster LIMA'!$B$614:$AU$712,'Roster LIMA'!C$1,FALSE))))","v":""},{"$f":"IF(COUNTBLANK($A$3)<>0,\"\",IF(ISERROR(VLOOKUP($A$3,'Roster LIMA'!$B$614:$AU$712,'Roster LIMA'!D$1,FALSE)),\"\",IF(VLOOKUP($A$3,'Roster LIMA'!$B$614:$AU$712,'Roster LIMA'!D$1,FALSE)=0,\"\",VLOOKUP($A$3,'Roster LIMA'!$B$614:$AU$712,'Roster LIMA'!D$1,FALSE))))","v":""},{"$f":"IF(COUNTBLANK($A$3)<>0,\"\",IF(ISERROR(VLOOKUP($A$3,'Roster LIMA'!$B$614:$AU$712,'Roster LIMA'!L$1,FALSE)),\"\",VLOOKUP($A$3,'Roster LIMA'!$B$614:$AU$712,'Roster LIMA'!L$1,FALSE)))","v":""},{"$f":"IF(COUNTBLANK($A$3)<>0,\"\",IF(ISERROR(VLOOKUP($A$3,'Roster LIMA'!$B$614:$AU$712,'Roster LIMA'!M$1,FALSE)),\"\",VLOOKUP($A$3,'Roster LIMA'!$B$614:$AU$712,'Roster LIMA'!M$1,FALSE)))","v":""},{"$f":"IF(COUNTBLANK($A$3)<>0,\"\",IF(ISERROR(VLOOKUP($A$3,'Roster LIMA'!$B$614:$AU$712,'Roster LIMA'!N$1,FALSE)),\"\",VLOOKUP($A$3,'Roster LIMA'!$B$614:$AU$712,'Roster LIMA'!N$1,FALSE)))","v":""},{"$f":"IF(COUNTBLANK($A$3)<>0,\"\",IF(ISERROR(VLOOKUP($A$3,'Roster LIMA'!$B$614:$AU$712,'Roster LIMA'!O$1,FALSE)),\"\",VLOOKUP($A$3,'Roster LIMA'!$B$614:$AU$712,'Roster LIMA'!O$1,FALSE)))","v":""},{"$f":"IF(COUNTBLANK($A$3)<>0,\"\",IF(ISERROR(VLOOKUP($A$3,'Roster LIMA'!$B$614:$AU$712,'Roster LIMA'!P$1,FALSE)),\"\",VLOOKUP($A$3,'Roster LIMA'!$B$614:$AU$712,'Roster LIMA'!P$1,FALSE)))","v":""},{"$f":"IF(COUNTBLANK($A$3)<>0,\"\",IF(ISERROR(VLOOKUP($A$3,'Roster LIMA'!$B$614:$AU$712,'Roster LIMA'!Q$1,FALSE)),\"\",VLOOKUP($A$3,'Roster LIMA'!$B$614:$AU$712,'Roster LIMA'!Q$1,FALSE)))","v":""},{"$f":"IF(COUNTBLANK($A$3)<>0,\"\",IF(ISERROR(VLOOKUP($A$3,'Roster LIMA'!$B$614:$AU$712,'Roster LIMA'!R$1,FALSE)),\"\",VLOOKUP($A$3,'Roster LIMA'!$B$614:$AU$712,'Roster LIMA'!R$1,FALSE)))","v":""},{"$f":"IF(COUNTBLANK($A$3)<>0,\"\",IF(ISERROR(VLOOKUP($A$3,'Roster LIMA'!$B$614:$AU$712,'Roster LIMA'!S$1,FALSE)),\"\",VLOOKUP($A$3,'Roster LIMA'!$B$614:$AU$712,'Roster LIMA'!S$1,FALSE)))","v":""},{"$f":"IF(COUNTBLANK($A$3)<>0,\"\",IF(ISERROR(VLOOKUP($A$3,'Roster LIMA'!$B$614:$AU$712,'Roster LIMA'!T$1,FALSE)),\"\",VLOOKUP($A$3,'Roster LIMA'!$B$614:$AU$712,'Roster LIMA'!T$1,FALSE)))","v":""},{"$f":"IF(COUNTBLANK($A$3)<>0,\"\",IF(ISERROR(VLOOKUP($A$3,'Roster LIMA'!$B$614:$AU$712,'Roster LIMA'!U$1,FALSE)),\"\",VLOOKUP($A$3,'Roster LIMA'!$B$614:$AU$712,'Roster LIMA'!U$1,FALSE)))","v":""},{"$f":"IF(COUNTBLANK($A$3)<>0,\"\",IF(ISERROR(VLOOKUP($A$3,'Roster LIMA'!$B$614:$AU$712,'Roster LIMA'!V$1,FALSE)),\"\",VLOOKUP($A$3,'Roster LIMA'!$B$614:$AU$712,'Roster LIMA'!V$1,FALSE)))","v":""},{"$f":"IF(COUNTBLANK($A$3)<>0,\"\",IF(ISERROR(VLOOKUP($A$3,'Roster LIMA'!$B$614:$AU$712,'Roster LIMA'!W$1,FALSE)),\"\",VLOOKUP($A$3,'Roster LIMA'!$B$614:$AU$712,'Roster LIMA'!W$1,FALSE)))","v":""},{"$f":"IF(COUNTBLANK($A$3)<>0,\"\",IF(ISERROR(VLOOKUP($A$3,'Roster LIMA'!$B$614:$AU$712,'Roster LIMA'!X$1,FALSE)),\"\",VLOOKUP($A$3,'Roster LIMA'!$B$614:$AU$712,'Roster LIMA'!X$1,FALSE)))","v":""},{"$f":"IF(COUNTBLANK($A$3)<>0,\"\",IF(ISERROR(VLOOKUP($A$3,'Roster LIMA'!$B$614:$AU$712,'Roster LIMA'!Y$1,FALSE)),\"\",VLOOKUP($A$3,'Roster LIMA'!$B$614:$AU$712,'Roster LIMA'!Y$1,FALSE)))","v":""},{"$f":"IF(COUNTBLANK($A$3)<>0,\"\",IF(ISERROR(VLOOKUP($A$3,'Roster LIMA'!$B$614:$AU$712,'Roster LIMA'!Z$1,FALSE)),\"\",VLOOKUP($A$3,'Roster LIMA'!$B$614:$AU$712,'Roster LIMA'!Z$1,FALSE)))","v":""},{"$f":"IF(COUNTBLANK($A$3)<>0,\"\",IF(ISERROR(VLOOKUP($A$3,'Roster LIMA'!$B$614:$AU$712,'Roster LIMA'!AA$1,FALSE)),\"\",VLOOKUP($A$3,'Roster LIMA'!$B$614:$AU$712,'Roster LIMA'!AA$1,FALSE)))","v":""},{"$f":"IF(COUNTBLANK($A$3)<>0,\"\",IF(ISERROR(VLOOKUP($A$3,'Roster LIMA'!$B$614:$AU$712,'Roster LIMA'!AB$1,FALSE)),\"\",VLOOKUP($A$3,'Roster LIMA'!$B$614:$AU$712,'Roster LIMA'!AB$1,FALSE)))","v":""},{"$f":"IF(COUNTBLANK($A$3)<>0,\"\",IF(ISERROR(VLOOKUP($A$3,'Roster LIMA'!$B$614:$AU$712,'Roster LIMA'!AC$1,FALSE)),\"\",VLOOKUP($A$3,'Roster LIMA'!$B$614:$AU$712,'Roster LIMA'!AC$1,FALSE)))","v":""},{"$f":"IF(COUNTBLANK($A$3)<>0,\"\",IF(ISERROR(VLOOKUP($A$3,'Roster LIMA'!$B$614:$AU$712,'Roster LIMA'!AD$1,FALSE)),\"\",VLOOKUP($A$3,'Roster LIMA'!$B$614:$AU$712,'Roster LIMA'!AD$1,FALSE)))","v":""},{"$f":"IF(COUNTBLANK($A$3)<>0,\"\",IF(ISERROR(VLOOKUP($A$3,'Roster LIMA'!$B$614:$AU$712,'Roster LIMA'!AE$1,FALSE)),\"\",VLOOKUP($A$3,'Roster LIMA'!$B$614:$AU$712,'Roster LIMA'!AE$1,FALSE)))","v":""},{"$f":"IF(COUNTBLANK($A$3)<>0,\"\",IF(ISERROR(VLOOKUP($A$3,'Roster LIMA'!$B$614:$AU$712,'Roster LIMA'!AF$1,FALSE)),\"\",VLOOKUP($A$3,'Roster LIMA'!$B$614:$AU$712,'Roster LIMA'!AF$1,FALSE)))","v":""},{"$f":"IF(COUNTBLANK($A$3)<>0,\"\",IF(ISERROR(VLOOKUP($A$3,'Roster LIMA'!$B$614:$AU$712,'Roster LIMA'!AG$1,FALSE)),\"\",VLOOKUP($A$3,'Roster LIMA'!$B$614:$AU$712,'Roster LIMA'!AG$1,FALSE)))","v":""},{"$f":"IF(COUNTBLANK($A$3)<>0,\"\",IF(ISERROR(VLOOKUP($A$3,'Roster LIMA'!$B$614:$AU$712,'Roster LIMA'!AH$1,FALSE)),\"\",VLOOKUP($A$3,'Roster LIMA'!$B$614:$AU$712,'Roster LIMA'!AH$1,FALSE)))","v":""},{"$f":"IF(COUNTBLANK($A$3)<>0,\"\",IF(ISERROR(VLOOKUP($A$3,'Roster LIMA'!$B$614:$AU$712,'Roster LIMA'!AI$1,FALSE)),\"\",VLOOKUP($A$3,'Roster LIMA'!$B$614:$AU$712,'Roster LIMA'!AI$1,FALSE)))","v":""},{"$f":"IF(COUNTBLANK($A$3)<>0,\"\",IF(ISERROR(VLOOKUP($A$3,'Roster LIMA'!$B$614:$AU$712,'Roster LIMA'!AJ$1,FALSE)),\"\",VLOOKUP($A$3,'Roster LIMA'!$B$614:$AU$712,'Roster LIMA'!AJ$1,FALSE)))","v":""},{"$f":"IF(COUNTBLANK($A$3)<>0,\"\",IF(ISERROR(VLOOKUP($A$3,'Roster LIMA'!$B$614:$AU$712,'Roster LIMA'!AK$1,FALSE)),\"\",VLOOKUP($A$3,'Roster LIMA'!$B$614:$AU$712,'Roster LIMA'!AK$1,FALSE)))","v":""},{"$f":"IF(COUNTBLANK($A$3)<>0,\"\",IF(ISERROR(VLOOKUP($A$3,'Roster LIMA'!$B$614:$AU$712,'Roster LIMA'!AL$1,FALSE)),\"\",VLOOKUP($A$3,'Roster LIMA'!$B$614:$AU$712,'Roster LIMA'!AL$1,FALSE)))","v":""},{"$f":"IF(COUNTBLANK($A$3)<>0,\"\",IF(ISERROR(VLOOKUP($A$3,'Roster LIMA'!$B$614:$AU$712,'Roster LIMA'!AM$1,FALSE)),\"\",VLOOKUP($A$3,'Roster LIMA'!$B$614:$AU$712,'Roster LIMA'!AM$1,FALSE)))","v":""},{"$f":"IF(COUNTBLANK($A$3)<>0,\"\",IF(ISERROR(VLOOKUP($A$3,'Roster LIMA'!$B$614:$AU$712,'Roster LIMA'!AN$1,FALSE)),\"\",VLOOKUP($A$3,'Roster LIMA'!$B$614:$AU$712,'Roster LIMA'!AN$1,FALSE)))","v":""},{"$f":"IF(COUNTBLANK($A$3)<>0,\"\",IF(ISERROR(VLOOKUP($A$3,'Roster LIMA'!$B$614:$AU$712,'Roster LIMA'!AO$1,FALSE)),\"\",VLOOKUP($A$3,'Roster LIMA'!$B$614:$AU$712,'Roster LIMA'!AO$1,FALSE)))","v":""},{"$f":"IF(COUNTBLANK($A$3)<>0,\"\",IF(ISERROR(VLOOKUP($A$3,'Roster LIMA'!$B$614:$AU$712,'Roster LIMA'!AP$1,FALSE)),\"\",VLOOKUP($A$3,'Roster LIMA'!$B$614:$AU$712,'Roster LIMA'!AP$1,FALSE)))","v":""},{"$f":"IF(COUNTBLANK($A$3)<>0,\"\",IF(ISERROR(VLOOKUP($A$3,'Roster LIMA'!$B$614:$AU$712,'Roster LIMA'!AQ$1,FALSE)),\"\",VLOOKUP($A$3,'Roster LIMA'!$B$614:$AU$712,'Roster LIMA'!AQ$1,FALSE)))","v":""},{"$f":"IF(COUNTBLANK($A$3)<>0,\"\",IF(ISERROR(VLOOKUP($A$3,'Roster LIMA'!$B$614:$AU$712,'Roster LIMA'!AR$1,FALSE)),\"\",VLOOKUP($A$3,'Roster LIMA'!$B$614:$AU$712,'Roster LIMA'!AR$1,FALSE)))","v":""},{"$f":"IF(COUNTBLANK($A$3)<>0,\"\",IF(ISERROR(VLOOKUP($A$3,'Roster LIMA'!$B$614:$AU$712,'Roster LIMA'!AS$1,FALSE)),\"\",VLOOKUP($A$3,'Roster LIMA'!$B$614:$AU$712,'Roster LIMA'!AS$1,FALSE)))","v":""},{"$f":"IF(COUNTBLANK($A$3)<>0,\"\",IF(ISERROR(VLOOKUP($A$3,'Roster LIMA'!$B$614:$AU$712,'Roster LIMA'!AT$1,FALSE)),\"\",VLOOKUP($A$3,'Roster LIMA'!$B$614:$AU$712,'Roster LIMA'!AT$1,FALSE)))","v":""},{"$f":"IF(COUNTBLANK($A$3)<>0,\"\",IF(ISERROR(VLOOKUP($A$3,'Roster LIMA'!$B$614:$AU$712,'Roster LIMA'!AU$1,FALSE)),\"\",VLOOKUP($A$3,'Roster LIMA'!$B$614:$AU$712,'Roster LIMA'!AU$1,FALSE)))","v":""}]
[{"$f":"+'Roster LIMA'!G713","v":"1970-71"},{"$f":"IF(COUNTBLANK($A$3)<>0,\"\",IF(ISERROR(VLOOKUP($A$3,'Roster LIMA'!$B$713:$AU$853,'Roster LIMA'!H$1,FALSE)),\"\",IF(VLOOKUP($A$3,'Roster LIMA'!$B$713:$AU$853,'Roster LIMA'!H$1,FALSE)=0,\"\",VLOOKUP($A$3,'Roster LIMA'!$B$713:$AU$853,'Roster LIMA'!H$1,FALSE))))","v":""},{"$f":"IF(COUNTBLANK($A$3)<>0,\"\",IF(ISERROR(VLOOKUP($A$3,'Roster LIMA'!$B$713:$AU$853,'Roster LIMA'!I$1,FALSE)),\"\",IF(VLOOKUP($A$3,'Roster LIMA'!$B$713:$AU$853,'Roster LIMA'!I$1,FALSE)=0,\"\",VLOOKUP($A$3,'Roster LIMA'!$B$713:$AU$853,'Roster LIMA'!I$1,FALSE))))","v":""},{"$f":"IF(COUNTBLANK($A$3)<>0,\"\",IF(ISERROR(VLOOKUP($A$3,'Roster LIMA'!$B$713:$AU$853,'Roster LIMA'!J$1,FALSE)),\"\",IF(VLOOKUP($A$3,'Roster LIMA'!$B$713:$AU$853,'Roster LIMA'!J$1,FALSE)=0,\"\",VLOOKUP($A$3,'Roster LIMA'!$B$713:$AU$853,'Roster LIMA'!J$1,FALSE))))","v":""},{"$f":"IF(COUNTBLANK($A$3)<>0,\"\",IF(ISERROR(VLOOKUP($A$3,'Roster LIMA'!$B$713:$AU$853,'Roster LIMA'!K$1,FALSE)),\"\",IF(VLOOKUP($A$3,'Roster LIMA'!$B$713:$AU$853,'Roster LIMA'!K$1,FALSE)=0,\"\",VLOOKUP($A$3,'Roster LIMA'!$B$713:$AU$853,'Roster LIMA'!K$1,FALSE))))","v":""},{"$f":"IF(COUNTBLANK($A$3)<>0,\"\",IF(ISERROR(VLOOKUP($A$3,'Roster LIMA'!$B$713:$AU$853,'Roster LIMA'!F$1,FALSE)),\"\",IF(VLOOKUP($A$3,'Roster LIMA'!$B$713:$AU$853,'Roster LIMA'!F$1,FALSE)=0,\"\",VLOOKUP($A$3,'Roster LIMA'!$B$713:$AU$853,'Roster LIMA'!F$1,FALSE))))","v":""},{"$f":"IF(COUNTBLANK($A$3)<>0,\"\",IF(ISERROR(VLOOKUP($A$3,'Roster LIMA'!$B$713:$AU$853,'Roster LIMA'!E$1,FALSE)),\"\",IF(VLOOKUP($A$3,'Roster LIMA'!$B$713:$AU$853,'Roster LIMA'!E$1,FALSE)=0,\"\",VLOOKUP($A$3,'Roster LIMA'!$B$713:$AU$853,'Roster LIMA'!E$1,FALSE))))","v":""},{"$f":"IF(COUNTBLANK($A$3)<>0,\"\",IF(ISERROR(VLOOKUP($A$3,'Roster LIMA'!$B$713:$AU$853,'Roster LIMA'!B$1,FALSE)),\"N/A\",IF(VLOOKUP($A$3,'Roster LIMA'!$B$713:$AU$853,'Roster LIMA'!B$1,FALSE)=0,\"\",VLOOKUP($A$3,'Roster LIMA'!$B$713:$AU$853,'Roster LIMA'!B$1,FALSE))))","v":""},{"$f":"IF(COUNTBLANK($A$3)<>0,\"\",IF(ISERROR(VLOOKUP($A$3,'Roster LIMA'!$B$713:$AU$853,'Roster LIMA'!C$1,FALSE)),\"\",IF(VLOOKUP($A$3,'Roster LIMA'!$B$713:$AU$853,'Roster LIMA'!C$1,FALSE)=0,\"\",VLOOKUP($A$3,'Roster LIMA'!$B$713:$AU$853,'Roster LIMA'!C$1,FALSE))))","v":""},{"$f":"IF(COUNTBLANK($A$3)<>0,\"\",IF(ISERROR(VLOOKUP($A$3,'Roster LIMA'!$B$713:$AU$853,'Roster LIMA'!D$1,FALSE)),\"\",IF(VLOOKUP($A$3,'Roster LIMA'!$B$713:$AU$853,'Roster LIMA'!D$1,FALSE)=0,\"\",VLOOKUP($A$3,'Roster LIMA'!$B$713:$AU$853,'Roster LIMA'!D$1,FALSE))))","v":""},{"$f":"IF(COUNTBLANK($A$3)<>0,\"\",IF(ISERROR(VLOOKUP($A$3,'Roster LIMA'!$B$713:$AU$853,'Roster LIMA'!L$1,FALSE)),\"\",VLOOKUP($A$3,'Roster LIMA'!$B$713:$AU$853,'Roster LIMA'!L$1,FALSE)))","v":""},{"$f":"IF(COUNTBLANK($A$3)<>0,\"\",IF(ISERROR(VLOOKUP($A$3,'Roster LIMA'!$B$713:$AU$853,'Roster LIMA'!M$1,FALSE)),\"\",VLOOKUP($A$3,'Roster LIMA'!$B$713:$AU$853,'Roster LIMA'!M$1,FALSE)))","v":""},{"$f":"IF(COUNTBLANK($A$3)<>0,\"\",IF(ISERROR(VLOOKUP($A$3,'Roster LIMA'!$B$713:$AU$853,'Roster LIMA'!N$1,FALSE)),\"\",VLOOKUP($A$3,'Roster LIMA'!$B$713:$AU$853,'Roster LIMA'!N$1,FALSE)))","v":""},{"$f":"IF(COUNTBLANK($A$3)<>0,\"\",IF(ISERROR(VLOOKUP($A$3,'Roster LIMA'!$B$713:$AU$853,'Roster LIMA'!O$1,FALSE)),\"\",VLOOKUP($A$3,'Roster LIMA'!$B$713:$AU$853,'Roster LIMA'!O$1,FALSE)))","v":""},{"$f":"IF(COUNTBLANK($A$3)<>0,\"\",IF(ISERROR(VLOOKUP($A$3,'Roster LIMA'!$B$713:$AU$853,'Roster LIMA'!P$1,FALSE)),\"\",VLOOKUP($A$3,'Roster LIMA'!$B$713:$AU$853,'Roster LIMA'!P$1,FALSE)))","v":""},{"$f":"IF(COUNTBLANK($A$3)<>0,\"\",IF(ISERROR(VLOOKUP($A$3,'Roster LIMA'!$B$713:$AU$853,'Roster LIMA'!Q$1,FALSE)),\"\",VLOOKUP($A$3,'Roster LIMA'!$B$713:$AU$853,'Roster LIMA'!Q$1,FALSE)))","v":""},{"$f":"IF(COUNTBLANK($A$3)<>0,\"\",IF(ISERROR(VLOOKUP($A$3,'Roster LIMA'!$B$713:$AU$853,'Roster LIMA'!R$1,FALSE)),\"\",VLOOKUP($A$3,'Roster LIMA'!$B$713:$AU$853,'Roster LIMA'!R$1,FALSE)))","v":""},{"$f":"IF(COUNTBLANK($A$3)<>0,\"\",IF(ISERROR(VLOOKUP($A$3,'Roster LIMA'!$B$713:$AU$853,'Roster LIMA'!S$1,FALSE)),\"\",VLOOKUP($A$3,'Roster LIMA'!$B$713:$AU$853,'Roster LIMA'!S$1,FALSE)))","v":""},{"$f":"IF(COUNTBLANK($A$3)<>0,\"\",IF(ISERROR(VLOOKUP($A$3,'Roster LIMA'!$B$713:$AU$853,'Roster LIMA'!T$1,FALSE)),\"\",VLOOKUP($A$3,'Roster LIMA'!$B$713:$AU$853,'Roster LIMA'!T$1,FALSE)))","v":""},{"$f":"IF(COUNTBLANK($A$3)<>0,\"\",IF(ISERROR(VLOOKUP($A$3,'Roster LIMA'!$B$713:$AU$853,'Roster LIMA'!U$1,FALSE)),\"\",VLOOKUP($A$3,'Roster LIMA'!$B$713:$AU$853,'Roster LIMA'!U$1,FALSE)))","v":""},{"$f":"IF(COUNTBLANK($A$3)<>0,\"\",IF(ISERROR(VLOOKUP($A$3,'Roster LIMA'!$B$713:$AU$853,'Roster LIMA'!V$1,FALSE)),\"\",VLOOKUP($A$3,'Roster LIMA'!$B$713:$AU$853,'Roster LIMA'!V$1,FALSE)))","v":""},{"$f":"IF(COUNTBLANK($A$3)<>0,\"\",IF(ISERROR(VLOOKUP($A$3,'Roster LIMA'!$B$713:$AU$853,'Roster LIMA'!W$1,FALSE)),\"\",VLOOKUP($A$3,'Roster LIMA'!$B$713:$AU$853,'Roster LIMA'!W$1,FALSE)))","v":""},{"$f":"IF(COUNTBLANK($A$3)<>0,\"\",IF(ISERROR(VLOOKUP($A$3,'Roster LIMA'!$B$713:$AU$853,'Roster LIMA'!X$1,FALSE)),\"\",VLOOKUP($A$3,'Roster LIMA'!$B$713:$AU$853,'Roster LIMA'!X$1,FALSE)))","v":""},{"$f":"IF(COUNTBLANK($A$3)<>0,\"\",IF(ISERROR(VLOOKUP($A$3,'Roster LIMA'!$B$713:$AU$853,'Roster LIMA'!Y$1,FALSE)),\"\",VLOOKUP($A$3,'Roster LIMA'!$B$713:$AU$853,'Roster LIMA'!Y$1,FALSE)))","v":""},{"$f":"IF(COUNTBLANK($A$3)<>0,\"\",IF(ISERROR(VLOOKUP($A$3,'Roster LIMA'!$B$713:$AU$853,'Roster LIMA'!Z$1,FALSE)),\"\",VLOOKUP($A$3,'Roster LIMA'!$B$713:$AU$853,'Roster LIMA'!Z$1,FALSE)))","v":""},{"$f":"IF(COUNTBLANK($A$3)<>0,\"\",IF(ISERROR(VLOOKUP($A$3,'Roster LIMA'!$B$713:$AU$853,'Roster LIMA'!AA$1,FALSE)),\"\",VLOOKUP($A$3,'Roster LIMA'!$B$713:$AU$853,'Roster LIMA'!AA$1,FALSE)))","v":""},{"$f":"IF(COUNTBLANK($A$3)<>0,\"\",IF(ISERROR(VLOOKUP($A$3,'Roster LIMA'!$B$713:$AU$853,'Roster LIMA'!AB$1,FALSE)),\"\",VLOOKUP($A$3,'Roster LIMA'!$B$713:$AU$853,'Roster LIMA'!AB$1,FALSE)))","v":""},{"$f":"IF(COUNTBLANK($A$3)<>0,\"\",IF(ISERROR(VLOOKUP($A$3,'Roster LIMA'!$B$713:$AU$853,'Roster LIMA'!AC$1,FALSE)),\"\",VLOOKUP($A$3,'Roster LIMA'!$B$713:$AU$853,'Roster LIMA'!AC$1,FALSE)))","v":""},{"$f":"IF(COUNTBLANK($A$3)<>0,\"\",IF(ISERROR(VLOOKUP($A$3,'Roster LIMA'!$B$713:$AU$853,'Roster LIMA'!AD$1,FALSE)),\"\",VLOOKUP($A$3,'Roster LIMA'!$B$713:$AU$853,'Roster LIMA'!AD$1,FALSE)))","v":""},{"$f":"IF(COUNTBLANK($A$3)<>0,\"\",IF(ISERROR(VLOOKUP($A$3,'Roster LIMA'!$B$713:$AU$853,'Roster LIMA'!AE$1,FALSE)),\"\",VLOOKUP($A$3,'Roster LIMA'!$B$713:$AU$853,'Roster LIMA'!AE$1,FALSE)))","v":""},{"$f":"IF(COUNTBLANK($A$3)<>0,\"\",IF(ISERROR(VLOOKUP($A$3,'Roster LIMA'!$B$713:$AU$853,'Roster LIMA'!AF$1,FALSE)),\"\",VLOOKUP($A$3,'Roster LIMA'!$B$713:$AU$853,'Roster LIMA'!AF$1,FALSE)))","v":""},{"$f":"IF(COUNTBLANK($A$3)<>0,\"\",IF(ISERROR(VLOOKUP($A$3,'Roster LIMA'!$B$713:$AU$853,'Roster LIMA'!AG$1,FALSE)),\"\",VLOOKUP($A$3,'Roster LIMA'!$B$713:$AU$853,'Roster LIMA'!AG$1,FALSE)))","v":""},{"$f":"IF(COUNTBLANK($A$3)<>0,\"\",IF(ISERROR(VLOOKUP($A$3,'Roster LIMA'!$B$713:$AU$853,'Roster LIMA'!AH$1,FALSE)),\"\",VLOOKUP($A$3,'Roster LIMA'!$B$713:$AU$853,'Roster LIMA'!AH$1,FALSE)))","v":""},{"$f":"IF(COUNTBLANK($A$3)<>0,\"\",IF(ISERROR(VLOOKUP($A$3,'Roster LIMA'!$B$713:$AU$853,'Roster LIMA'!AI$1,FALSE)),\"\",VLOOKUP($A$3,'Roster LIMA'!$B$713:$AU$853,'Roster LIMA'!AI$1,FALSE)))","v":""},{"$f":"IF(COUNTBLANK($A$3)<>0,\"\",IF(ISERROR(VLOOKUP($A$3,'Roster LIMA'!$B$713:$AU$853,'Roster LIMA'!AJ$1,FALSE)),\"\",VLOOKUP($A$3,'Roster LIMA'!$B$713:$AU$853,'Roster LIMA'!AJ$1,FALSE)))","v":""},{"$f":"IF(COUNTBLANK($A$3)<>0,\"\",IF(ISERROR(VLOOKUP($A$3,'Roster LIMA'!$B$713:$AU$853,'Roster LIMA'!AK$1,FALSE)),\"\",VLOOKUP($A$3,'Roster LIMA'!$B$713:$AU$853,'Roster LIMA'!AK$1,FALSE)))","v":""},{"$f":"IF(COUNTBLANK($A$3)<>0,\"\",IF(ISERROR(VLOOKUP($A$3,'Roster LIMA'!$B$713:$AU$853,'Roster LIMA'!AL$1,FALSE)),\"\",VLOOKUP($A$3,'Roster LIMA'!$B$713:$AU$853,'Roster LIMA'!AL$1,FALSE)))","v":""},{"$f":"IF(COUNTBLANK($A$3)<>0,\"\",IF(ISERROR(VLOOKUP($A$3,'Roster LIMA'!$B$713:$AU$853,'Roster LIMA'!AM$1,FALSE)),\"\",VLOOKUP($A$3,'Roster LIMA'!$B$713:$AU$853,'Roster LIMA'!AM$1,FALSE)))","v":""},{"$f":"IF(COUNTBLANK($A$3)<>0,\"\",IF(ISERROR(VLOOKUP($A$3,'Roster LIMA'!$B$713:$AU$853,'Roster LIMA'!AN$1,FALSE)),\"\",VLOOKUP($A$3,'Roster LIMA'!$B$713:$AU$853,'Roster LIMA'!AN$1,FALSE)))","v":""},{"$f":"IF(COUNTBLANK($A$3)<>0,\"\",IF(ISERROR(VLOOKUP($A$3,'Roster LIMA'!$B$713:$AU$853,'Roster LIMA'!AO$1,FALSE)),\"\",VLOOKUP($A$3,'Roster LIMA'!$B$713:$AU$853,'Roster LIMA'!AO$1,FALSE)))","v":""},{"$f":"IF(COUNTBLANK($A$3)<>0,\"\",IF(ISERROR(VLOOKUP($A$3,'Roster LIMA'!$B$713:$AU$853,'Roster LIMA'!AP$1,FALSE)),\"\",VLOOKUP($A$3,'Roster LIMA'!$B$713:$AU$853,'Roster LIMA'!AP$1,FALSE)))","v":""},{"$f":"IF(COUNTBLANK($A$3)<>0,\"\",IF(ISERROR(VLOOKUP($A$3,'Roster LIMA'!$B$713:$AU$853,'Roster LIMA'!AQ$1,FALSE)),\"\",VLOOKUP($A$3,'Roster LIMA'!$B$713:$AU$853,'Roster LIMA'!AQ$1,FALSE)))","v":""},{"$f":"IF(COUNTBLANK($A$3)<>0,\"\",IF(ISERROR(VLOOKUP($A$3,'Roster LIMA'!$B$713:$AU$853,'Roster LIMA'!AR$1,FALSE)),\"\",VLOOKUP($A$3,'Roster LIMA'!$B$713:$AU$853,'Roster LIMA'!AR$1,FALSE)))","v":""},{"$f":"IF(COUNTBLANK($A$3)<>0,\"\",IF(ISERROR(VLOOKUP($A$3,'Roster LIMA'!$B$713:$AU$853,'Roster LIMA'!AS$1,FALSE)),\"\",VLOOKUP($A$3,'Roster LIMA'!$B$713:$AU$853,'Roster LIMA'!AS$1,FALSE)))","v":""},{"$f":"IF(COUNTBLANK($A$3)<>0,\"\",IF(ISERROR(VLOOKUP($A$3,'Roster LIMA'!$B$713:$AU$853,'Roster LIMA'!AT$1,FALSE)),\"\",VLOOKUP($A$3,'Roster LIMA'!$B$713:$AU$853,'Roster LIMA'!AT$1,FALSE)))","v":""},{"$f":"IF(COUNTBLANK($A$3)<>0,\"\",IF(ISERROR(VLOOKUP($A$3,'Roster LIMA'!$B$713:$AU$853,'Roster LIMA'!AU$1,FALSE)),\"\",VLOOKUP($A$3,'Roster LIMA'!$B$713:$AU$853,'Roster LIMA'!AU$1,FALSE)))","v":""}]
[{"$f":"+'Roster LIMA'!G854","v":"1971-72"},{"$f":"IF(COUNTBLANK($A$3)<>0,\"\",IF(ISERROR(VLOOKUP($A$3,'Roster LIMA'!$B$854:$AU$994,'Roster LIMA'!H$1,FALSE)),\"\",IF(VLOOKUP($A$3,'Roster LIMA'!$B$854:$AU$994,'Roster LIMA'!H$1,FALSE)=0,\"\",VLOOKUP($A$3,'Roster LIMA'!$B$854:$AU$994,'Roster LIMA'!H$1,FALSE))))","v":""},{"$f":"IF(COUNTBLANK($A$3)<>0,\"\",IF(ISERROR(VLOOKUP($A$3,'Roster LIMA'!$B$854:$AU$994,'Roster LIMA'!I$1,FALSE)),\"\",IF(VLOOKUP($A$3,'Roster LIMA'!$B$854:$AU$994,'Roster LIMA'!I$1,FALSE)=0,\"\",VLOOKUP($A$3,'Roster LIMA'!$B$854:$AU$994,'Roster LIMA'!I$1,FALSE))))","v":""},{"$f":"IF(COUNTBLANK($A$3)<>0,\"\",IF(ISERROR(VLOOKUP($A$3,'Roster LIMA'!$B$854:$AU$994,'Roster LIMA'!J$1,FALSE)),\"\",IF(VLOOKUP($A$3,'Roster LIMA'!$B$854:$AU$994,'Roster LIMA'!J$1,FALSE)=0,\"\",VLOOKUP($A$3,'Roster LIMA'!$B$854:$AU$994,'Roster LIMA'!J$1,FALSE))))","v":""},{"$f":"IF(COUNTBLANK($A$3)<>0,\"\",IF(ISERROR(VLOOKUP($A$3,'Roster LIMA'!$B$854:$AU$994,'Roster LIMA'!K$1,FALSE)),\"\",IF(VLOOKUP($A$3,'Roster LIMA'!$B$854:$AU$994,'Roster LIMA'!K$1,FALSE)=0,\"\",VLOOKUP($A$3,'Roster LIMA'!$B$854:$AU$994,'Roster LIMA'!K$1,FALSE))))","v":""},{"$f":"IF(COUNTBLANK($A$3)<>0,\"\",IF(ISERROR(VLOOKUP($A$3,'Roster LIMA'!$B$854:$AU$994,'Roster LIMA'!F$1,FALSE)),\"\",IF(VLOOKUP($A$3,'Roster LIMA'!$B$854:$AU$994,'Roster LIMA'!F$1,FALSE)=0,\"\",VLOOKUP($A$3,'Roster LIMA'!$B$854:$AU$994,'Roster LIMA'!F$1,FALSE))))","v":""},{"$f":"IF(COUNTBLANK($A$3)<>0,\"\",IF(ISERROR(VLOOKUP($A$3,'Roster LIMA'!$B$854:$AU$994,'Roster LIMA'!E$1,FALSE)),\"\",IF(VLOOKUP($A$3,'Roster LIMA'!$B$854:$AU$994,'Roster LIMA'!E$1,FALSE)=0,\"\",VLOOKUP($A$3,'Roster LIMA'!$B$854:$AU$994,'Roster LIMA'!E$1,FALSE))))","v":""},{"$f":"IF(COUNTBLANK($A$3)<>0,\"\",IF(ISERROR(VLOOKUP($A$3,'Roster LIMA'!$B$854:$AU$994,'Roster LIMA'!B$1,FALSE)),\"N/A\",IF(VLOOKUP($A$3,'Roster LIMA'!$B$854:$AU$994,'Roster LIMA'!B$1,FALSE)=0,\"\",VLOOKUP($A$3,'Roster LIMA'!$B$854:$AU$994,'Roster LIMA'!B$1,FALSE))))","v":""},{"$f":"IF(COUNTBLANK($A$3)<>0,\"\",IF(ISERROR(VLOOKUP($A$3,'Roster LIMA'!$B$854:$AU$994,'Roster LIMA'!C$1,FALSE)),\"\",IF(VLOOKUP($A$3,'Roster LIMA'!$B$854:$AU$994,'Roster LIMA'!C$1,FALSE)=0,\"\",VLOOKUP($A$3,'Roster LIMA'!$B$854:$AU$994,'Roster LIMA'!C$1,FALSE))))","v":""},{"$f":"IF(COUNTBLANK($A$3)<>0,\"\",IF(ISERROR(VLOOKUP($A$3,'Roster LIMA'!$B$854:$AU$994,'Roster LIMA'!D$1,FALSE)),\"\",IF(VLOOKUP($A$3,'Roster LIMA'!$B$854:$AU$994,'Roster LIMA'!D$1,FALSE)=0,\"\",VLOOKUP($A$3,'Roster LIMA'!$B$854:$AU$994,'Roster LIMA'!D$1,FALSE))))","v":""},{"$f":"IF(COUNTBLANK($A$3)<>0,\"\",IF(ISERROR(VLOOKUP($A$3,'Roster LIMA'!$B$854:$AU$994,'Roster LIMA'!L$1,FALSE)),\"\",VLOOKUP($A$3,'Roster LIMA'!$B$854:$AU$994,'Roster LIMA'!L$1,FALSE)))","v":""},{"$f":"IF(COUNTBLANK($A$3)<>0,\"\",IF(ISERROR(VLOOKUP($A$3,'Roster LIMA'!$B$854:$AU$994,'Roster LIMA'!M$1,FALSE)),\"\",VLOOKUP($A$3,'Roster LIMA'!$B$854:$AU$994,'Roster LIMA'!M$1,FALSE)))","v":""},{"$f":"IF(COUNTBLANK($A$3)<>0,\"\",IF(ISERROR(VLOOKUP($A$3,'Roster LIMA'!$B$854:$AU$994,'Roster LIMA'!N$1,FALSE)),\"\",VLOOKUP($A$3,'Roster LIMA'!$B$854:$AU$994,'Roster LIMA'!N$1,FALSE)))","v":""},{"$f":"IF(COUNTBLANK($A$3)<>0,\"\",IF(ISERROR(VLOOKUP($A$3,'Roster LIMA'!$B$854:$AU$994,'Roster LIMA'!O$1,FALSE)),\"\",VLOOKUP($A$3,'Roster LIMA'!$B$854:$AU$994,'Roster LIMA'!O$1,FALSE)))","v":""},{"$f":"IF(COUNTBLANK($A$3)<>0,\"\",IF(ISERROR(VLOOKUP($A$3,'Roster LIMA'!$B$854:$AU$994,'Roster LIMA'!P$1,FALSE)),\"\",VLOOKUP($A$3,'Roster LIMA'!$B$854:$AU$994,'Roster LIMA'!P$1,FALSE)))","v":""},{"$f":"IF(COUNTBLANK($A$3)<>0,\"\",IF(ISERROR(VLOOKUP($A$3,'Roster LIMA'!$B$854:$AU$994,'Roster LIMA'!Q$1,FALSE)),\"\",VLOOKUP($A$3,'Roster LIMA'!$B$854:$AU$994,'Roster LIMA'!Q$1,FALSE)))","v":""},{"$f":"IF(COUNTBLANK($A$3)<>0,\"\",IF(ISERROR(VLOOKUP($A$3,'Roster LIMA'!$B$854:$AU$994,'Roster LIMA'!R$1,FALSE)),\"\",VLOOKUP($A$3,'Roster LIMA'!$B$854:$AU$994,'Roster LIMA'!R$1,FALSE)))","v":""},{"$f":"IF(COUNTBLANK($A$3)<>0,\"\",IF(ISERROR(VLOOKUP($A$3,'Roster LIMA'!$B$854:$AU$994,'Roster LIMA'!S$1,FALSE)),\"\",VLOOKUP($A$3,'Roster LIMA'!$B$854:$AU$994,'Roster LIMA'!S$1,FALSE)))","v":""},{"$f":"IF(COUNTBLANK($A$3)<>0,\"\",IF(ISERROR(VLOOKUP($A$3,'Roster LIMA'!$B$854:$AU$994,'Roster LIMA'!T$1,FALSE)),\"\",VLOOKUP($A$3,'Roster LIMA'!$B$854:$AU$994,'Roster LIMA'!T$1,FALSE)))","v":""},{"$f":"IF(COUNTBLANK($A$3)<>0,\"\",IF(ISERROR(VLOOKUP($A$3,'Roster LIMA'!$B$854:$AU$994,'Roster LIMA'!U$1,FALSE)),\"\",VLOOKUP($A$3,'Roster LIMA'!$B$854:$AU$994,'Roster LIMA'!U$1,FALSE)))","v":""},{"$f":"IF(COUNTBLANK($A$3)<>0,\"\",IF(ISERROR(VLOOKUP($A$3,'Roster LIMA'!$B$854:$AU$994,'Roster LIMA'!V$1,FALSE)),\"\",VLOOKUP($A$3,'Roster LIMA'!$B$854:$AU$994,'Roster LIMA'!V$1,FALSE)))","v":""},{"$f":"IF(COUNTBLANK($A$3)<>0,\"\",IF(ISERROR(VLOOKUP($A$3,'Roster LIMA'!$B$854:$AU$994,'Roster LIMA'!W$1,FALSE)),\"\",VLOOKUP($A$3,'Roster LIMA'!$B$854:$AU$994,'Roster LIMA'!W$1,FALSE)))","v":""},{"$f":"IF(COUNTBLANK($A$3)<>0,\"\",IF(ISERROR(VLOOKUP($A$3,'Roster LIMA'!$B$854:$AU$994,'Roster LIMA'!X$1,FALSE)),\"\",VLOOKUP($A$3,'Roster LIMA'!$B$854:$AU$994,'Roster LIMA'!X$1,FALSE)))","v":""},{"$f":"IF(COUNTBLANK($A$3)<>0,\"\",IF(ISERROR(VLOOKUP($A$3,'Roster LIMA'!$B$854:$AU$994,'Roster LIMA'!Y$1,FALSE)),\"\",VLOOKUP($A$3,'Roster LIMA'!$B$854:$AU$994,'Roster LIMA'!Y$1,FALSE)))","v":""},{"$f":"IF(COUNTBLANK($A$3)<>0,\"\",IF(ISERROR(VLOOKUP($A$3,'Roster LIMA'!$B$854:$AU$994,'Roster LIMA'!Z$1,FALSE)),\"\",VLOOKUP($A$3,'Roster LIMA'!$B$854:$AU$994,'Roster LIMA'!Z$1,FALSE)))","v":""},{"$f":"IF(COUNTBLANK($A$3)<>0,\"\",IF(ISERROR(VLOOKUP($A$3,'Roster LIMA'!$B$854:$AU$994,'Roster LIMA'!AA$1,FALSE)),\"\",VLOOKUP($A$3,'Roster LIMA'!$B$854:$AU$994,'Roster LIMA'!AA$1,FALSE)))","v":""},{"$f":"IF(COUNTBLANK($A$3)<>0,\"\",IF(ISERROR(VLOOKUP($A$3,'Roster LIMA'!$B$854:$AU$994,'Roster LIMA'!AB$1,FALSE)),\"\",VLOOKUP($A$3,'Roster LIMA'!$B$854:$AU$994,'Roster LIMA'!AB$1,FALSE)))","v":""},{"$f":"IF(COUNTBLANK($A$3)<>0,\"\",IF(ISERROR(VLOOKUP($A$3,'Roster LIMA'!$B$854:$AU$994,'Roster LIMA'!AC$1,FALSE)),\"\",VLOOKUP($A$3,'Roster LIMA'!$B$854:$AU$994,'Roster LIMA'!AC$1,FALSE)))","v":""},{"$f":"IF(COUNTBLANK($A$3)<>0,\"\",IF(ISERROR(VLOOKUP($A$3,'Roster LIMA'!$B$854:$AU$994,'Roster LIMA'!AD$1,FALSE)),\"\",VLOOKUP($A$3,'Roster LIMA'!$B$854:$AU$994,'Roster LIMA'!AD$1,FALSE)))","v":""},{"$f":"IF(COUNTBLANK($A$3)<>0,\"\",IF(ISERROR(VLOOKUP($A$3,'Roster LIMA'!$B$854:$AU$994,'Roster LIMA'!AE$1,FALSE)),\"\",VLOOKUP($A$3,'Roster LIMA'!$B$854:$AU$994,'Roster LIMA'!AE$1,FALSE)))","v":""},{"$f":"IF(COUNTBLANK($A$3)<>0,\"\",IF(ISERROR(VLOOKUP($A$3,'Roster LIMA'!$B$854:$AU$994,'Roster LIMA'!AF$1,FALSE)),\"\",VLOOKUP($A$3,'Roster LIMA'!$B$854:$AU$994,'Roster LIMA'!AF$1,FALSE)))","v":""},{"$f":"IF(COUNTBLANK($A$3)<>0,\"\",IF(ISERROR(VLOOKUP($A$3,'Roster LIMA'!$B$854:$AU$994,'Roster LIMA'!AG$1,FALSE)),\"\",VLOOKUP($A$3,'Roster LIMA'!$B$854:$AU$994,'Roster LIMA'!AG$1,FALSE)))","v":""},{"$f":"IF(COUNTBLANK($A$3)<>0,\"\",IF(ISERROR(VLOOKUP($A$3,'Roster LIMA'!$B$854:$AU$994,'Roster LIMA'!AH$1,FALSE)),\"\",VLOOKUP($A$3,'Roster LIMA'!$B$854:$AU$994,'Roster LIMA'!AH$1,FALSE)))","v":""},{"$f":"IF(COUNTBLANK($A$3)<>0,\"\",IF(ISERROR(VLOOKUP($A$3,'Roster LIMA'!$B$854:$AU$994,'Roster LIMA'!AI$1,FALSE)),\"\",VLOOKUP($A$3,'Roster LIMA'!$B$854:$AU$994,'Roster LIMA'!AI$1,FALSE)))","v":""},{"$f":"IF(COUNTBLANK($A$3)<>0,\"\",IF(ISERROR(VLOOKUP($A$3,'Roster LIMA'!$B$854:$AU$994,'Roster LIMA'!AJ$1,FALSE)),\"\",VLOOKUP($A$3,'Roster LIMA'!$B$854:$AU$994,'Roster LIMA'!AJ$1,FALSE)))","v":""},{"$f":"IF(COUNTBLANK($A$3)<>0,\"\",IF(ISERROR(VLOOKUP($A$3,'Roster LIMA'!$B$854:$AU$994,'Roster LIMA'!AK$1,FALSE)),\"\",VLOOKUP($A$3,'Roster LIMA'!$B$854:$AU$994,'Roster LIMA'!AK$1,FALSE)))","v":""},{"$f":"IF(COUNTBLANK($A$3)<>0,\"\",IF(ISERROR(VLOOKUP($A$3,'Roster LIMA'!$B$854:$AU$994,'Roster LIMA'!AL$1,FALSE)),\"\",VLOOKUP($A$3,'Roster LIMA'!$B$854:$AU$994,'Roster LIMA'!AL$1,FALSE)))","v":""},{"$f":"IF(COUNTBLANK($A$3)<>0,\"\",IF(ISERROR(VLOOKUP($A$3,'Roster LIMA'!$B$854:$AU$994,'Roster LIMA'!AM$1,FALSE)),\"\",VLOOKUP($A$3,'Roster LIMA'!$B$854:$AU$994,'Roster LIMA'!AM$1,FALSE)))","v":""},{"$f":"IF(COUNTBLANK($A$3)<>0,\"\",IF(ISERROR(VLOOKUP($A$3,'Roster LIMA'!$B$854:$AU$994,'Roster LIMA'!AN$1,FALSE)),\"\",VLOOKUP($A$3,'Roster LIMA'!$B$854:$AU$994,'Roster LIMA'!AN$1,FALSE)))","v":""},{"$f":"IF(COUNTBLANK($A$3)<>0,\"\",IF(ISERROR(VLOOKUP($A$3,'Roster LIMA'!$B$854:$AU$994,'Roster LIMA'!AO$1,FALSE)),\"\",VLOOKUP($A$3,'Roster LIMA'!$B$854:$AU$994,'Roster LIMA'!AO$1,FALSE)))","v":""},{"$f":"IF(COUNTBLANK($A$3)<>0,\"\",IF(ISERROR(VLOOKUP($A$3,'Roster LIMA'!$B$854:$AU$994,'Roster LIMA'!AP$1,FALSE)),\"\",VLOOKUP($A$3,'Roster LIMA'!$B$854:$AU$994,'Roster LIMA'!AP$1,FALSE)))","v":""},{"$f":"IF(COUNTBLANK($A$3)<>0,\"\",IF(ISERROR(VLOOKUP($A$3,'Roster LIMA'!$B$854:$AU$994,'Roster LIMA'!AQ$1,FALSE)),\"\",VLOOKUP($A$3,'Roster LIMA'!$B$854:$AU$994,'Roster LIMA'!AQ$1,FALSE)))","v":""},{"$f":"IF(COUNTBLANK($A$3)<>0,\"\",IF(ISERROR(VLOOKUP($A$3,'Roster LIMA'!$B$854:$AU$994,'Roster LIMA'!AR$1,FALSE)),\"\",VLOOKUP($A$3,'Roster LIMA'!$B$854:$AU$994,'Roster LIMA'!AR$1,FALSE)))","v":""},{"$f":"IF(COUNTBLANK($A$3)<>0,\"\",IF(ISERROR(VLOOKUP($A$3,'Roster LIMA'!$B$854:$AU$994,'Roster LIMA'!AS$1,FALSE)),\"\",VLOOKUP($A$3,'Roster LIMA'!$B$854:$AU$994,'Roster LIMA'!AS$1,FALSE)))","v":""},{"$f":"IF(COUNTBLANK($A$3)<>0,\"\",IF(ISERROR(VLOOKUP($A$3,'Roster LIMA'!$B$854:$AU$994,'Roster LIMA'!AT$1,FALSE)),\"\",VLOOKUP($A$3,'Roster LIMA'!$B$854:$AU$994,'Roster LIMA'!AT$1,FALSE)))","v":""},{"$f":"IF(COUNTBLANK($A$3)<>0,\"\",IF(ISERROR(VLOOKUP($A$3,'Roster LIMA'!$B$854:$AU$994,'Roster LIMA'!AU$1,FALSE)),\"\",VLOOKUP($A$3,'Roster LIMA'!$B$854:$AU$994,'Roster LIMA'!AU$1,FALSE)))","v":""}]
[{"$f":"+'Roster LIMA'!G995","v":"1972-73"},{"$f":"IF(COUNTBLANK($A$3)<>0,\"\",IF(ISERROR(VLOOKUP($A$3,'Roster LIMA'!$B$995:$AU$1138,'Roster LIMA'!H$1,FALSE)),\"\",IF(VLOOKUP($A$3,'Roster LIMA'!$B$995:$AU$1138,'Roster LIMA'!H$1,FALSE)=0,\"\",VLOOKUP($A$3,'Roster LIMA'!$B$995:$AU$1138,'Roster LIMA'!H$1,FALSE))))","v":""},{"$f":"IF(COUNTBLANK($A$3)<>0,\"\",IF(ISERROR(VLOOKUP($A$3,'Roster LIMA'!$B$995:$AU$1138,'Roster LIMA'!I$1,FALSE)),\"\",IF(VLOOKUP($A$3,'Roster LIMA'!$B$995:$AU$1138,'Roster LIMA'!I$1,FALSE)=0,\"\",VLOOKUP($A$3,'Roster LIMA'!$B$995:$AU$1138,'Roster LIMA'!I$1,FALSE))))","v":""},{"$f":"IF(COUNTBLANK($A$3)<>0,\"\",IF(ISERROR(VLOOKUP($A$3,'Roster LIMA'!$B$995:$AU$1138,'Roster LIMA'!J$1,FALSE)),\"\",IF(VLOOKUP($A$3,'Roster LIMA'!$B$995:$AU$1138,'Roster LIMA'!J$1,FALSE)=0,\"\",VLOOKUP($A$3,'Roster LIMA'!$B$995:$AU$1138,'Roster LIMA'!J$1,FALSE))))","v":""},{"$f":"IF(COUNTBLANK($A$3)<>0,\"\",IF(ISERROR(VLOOKUP($A$3,'Roster LIMA'!$B$995:$AU$1138,'Roster LIMA'!K$1,FALSE)),\"\",IF(VLOOKUP($A$3,'Roster LIMA'!$B$995:$AU$1138,'Roster LIMA'!K$1,FALSE)=0,\"\",VLOOKUP($A$3,'Roster LIMA'!$B$995:$AU$1138,'Roster LIMA'!K$1,FALSE))))","v":""},{"$f":"IF(COUNTBLANK($A$3)<>0,\"\",IF(ISERROR(VLOOKUP($A$3,'Roster LIMA'!$B$995:$AU$1138,'Roster LIMA'!F$1,FALSE)),\"\",IF(VLOOKUP($A$3,'Roster LIMA'!$B$995:$AU$1138,'Roster LIMA'!F$1,FALSE)=0,\"\",VLOOKUP($A$3,'Roster LIMA'!$B$995:$AU$1138,'Roster LIMA'!F$1,FALSE))))","v":""},{"$f":"IF(COUNTBLANK($A$3)<>0,\"\",IF(ISERROR(VLOOKUP($A$3,'Roster LIMA'!$B$995:$AU$1138,'Roster LIMA'!E$1,FALSE)),\"\",IF(VLOOKUP($A$3,'Roster LIMA'!$B$995:$AU$1138,'Roster LIMA'!E$1,FALSE)=0,\"\",VLOOKUP($A$3,'Roster LIMA'!$B$995:$AU$1138,'Roster LIMA'!E$1,FALSE))))","v":""},{"$f":"IF(COUNTBLANK($A$3)<>0,\"\",IF(ISERROR(VLOOKUP($A$3,'Roster LIMA'!$B$995:$AU$1138,'Roster LIMA'!B$1,FALSE)),\"N/A\",IF(VLOOKUP($A$3,'Roster LIMA'!$B$995:$AU$1138,'Roster LIMA'!B$1,FALSE)=0,\"\",VLOOKUP($A$3,'Roster LIMA'!$B$995:$AU$1138,'Roster LIMA'!B$1,FALSE))))","v":""},{"$f":"IF(COUNTBLANK($A$3)<>0,\"\",IF(ISERROR(VLOOKUP($A$3,'Roster LIMA'!$B$995:$AU$1138,'Roster LIMA'!C$1,FALSE)),\"\",IF(VLOOKUP($A$3,'Roster LIMA'!$B$995:$AU$1138,'Roster LIMA'!C$1,FALSE)=0,\"\",VLOOKUP($A$3,'Roster LIMA'!$B$995:$AU$1138,'Roster LIMA'!C$1,FALSE))))","v":""},{"$f":"IF(COUNTBLANK($A$3)<>0,\"\",IF(ISERROR(VLOOKUP($A$3,'Roster LIMA'!$B$995:$AU$1138,'Roster LIMA'!D$1,FALSE)),\"\",IF(VLOOKUP($A$3,'Roster LIMA'!$B$995:$AU$1138,'Roster LIMA'!D$1,FALSE)=0,\"\",VLOOKUP($A$3,'Roster LIMA'!$B$995:$AU$1138,'Roster LIMA'!D$1,FALSE))))","v":""},{"$f":"IF(COUNTBLANK($A$3)<>0,\"\",IF(ISERROR(VLOOKUP($A$3,'Roster LIMA'!$B$995:$AU$1138,'Roster LIMA'!L$1,FALSE)),\"\",VLOOKUP($A$3,'Roster LIMA'!$B$995:$AU$1138,'Roster LIMA'!L$1,FALSE)))","v":""},{"$f":"IF(COUNTBLANK($A$3)<>0,\"\",IF(ISERROR(VLOOKUP($A$3,'Roster LIMA'!$B$995:$AU$1138,'Roster LIMA'!M$1,FALSE)),\"\",VLOOKUP($A$3,'Roster LIMA'!$B$995:$AU$1138,'Roster LIMA'!M$1,FALSE)))","v":""},{"$f":"IF(COUNTBLANK($A$3)<>0,\"\",IF(ISERROR(VLOOKUP($A$3,'Roster LIMA'!$B$995:$AU$1138,'Roster LIMA'!N$1,FALSE)),\"\",VLOOKUP($A$3,'Roster LIMA'!$B$995:$AU$1138,'Roster LIMA'!N$1,FALSE)))","v":""},{"$f":"IF(COUNTBLANK($A$3)<>0,\"\",IF(ISERROR(VLOOKUP($A$3,'Roster LIMA'!$B$995:$AU$1138,'Roster LIMA'!O$1,FALSE)),\"\",VLOOKUP($A$3,'Roster LIMA'!$B$995:$AU$1138,'Roster LIMA'!O$1,FALSE)))","v":""},{"$f":"IF(COUNTBLANK($A$3)<>0,\"\",IF(ISERROR(VLOOKUP($A$3,'Roster LIMA'!$B$995:$AU$1138,'Roster LIMA'!P$1,FALSE)),\"\",VLOOKUP($A$3,'Roster LIMA'!$B$995:$AU$1138,'Roster LIMA'!P$1,FALSE)))","v":""},{"$f":"IF(COUNTBLANK($A$3)<>0,\"\",IF(ISERROR(VLOOKUP($A$3,'Roster LIMA'!$B$995:$AU$1138,'Roster LIMA'!Q$1,FALSE)),\"\",VLOOKUP($A$3,'Roster LIMA'!$B$995:$AU$1138,'Roster LIMA'!Q$1,FALSE)))","v":""},{"$f":"IF(COUNTBLANK($A$3)<>0,\"\",IF(ISERROR(VLOOKUP($A$3,'Roster LIMA'!$B$995:$AU$1138,'Roster LIMA'!R$1,FALSE)),\"\",VLOOKUP($A$3,'Roster LIMA'!$B$995:$AU$1138,'Roster LIMA'!R$1,FALSE)))","v":""},{"$f":"IF(COUNTBLANK($A$3)<>0,\"\",IF(ISERROR(VLOOKUP($A$3,'Roster LIMA'!$B$995:$AU$1138,'Roster LIMA'!S$1,FALSE)),\"\",VLOOKUP($A$3,'Roster LIMA'!$B$995:$AU$1138,'Roster LIMA'!S$1,FALSE)))","v":""},{"$f":"IF(COUNTBLANK($A$3)<>0,\"\",IF(ISERROR(VLOOKUP($A$3,'Roster LIMA'!$B$995:$AU$1138,'Roster LIMA'!T$1,FALSE)),\"\",VLOOKUP($A$3,'Roster LIMA'!$B$995:$AU$1138,'Roster LIMA'!T$1,FALSE)))","v":""},{"$f":"IF(COUNTBLANK($A$3)<>0,\"\",IF(ISERROR(VLOOKUP($A$3,'Roster LIMA'!$B$995:$AU$1138,'Roster LIMA'!U$1,FALSE)),\"\",VLOOKUP($A$3,'Roster LIMA'!$B$995:$AU$1138,'Roster LIMA'!U$1,FALSE)))","v":""},{"$f":"IF(COUNTBLANK($A$3)<>0,\"\",IF(ISERROR(VLOOKUP($A$3,'Roster LIMA'!$B$995:$AU$1138,'Roster LIMA'!V$1,FALSE)),\"\",VLOOKUP($A$3,'Roster LIMA'!$B$995:$AU$1138,'Roster LIMA'!V$1,FALSE)))","v":""},{"$f":"IF(COUNTBLANK($A$3)<>0,\"\",IF(ISERROR(VLOOKUP($A$3,'Roster LIMA'!$B$995:$AU$1138,'Roster LIMA'!W$1,FALSE)),\"\",VLOOKUP($A$3,'Roster LIMA'!$B$995:$AU$1138,'Roster LIMA'!W$1,FALSE)))","v":""},{"$f":"IF(COUNTBLANK($A$3)<>0,\"\",IF(ISERROR(VLOOKUP($A$3,'Roster LIMA'!$B$995:$AU$1138,'Roster LIMA'!X$1,FALSE)),\"\",VLOOKUP($A$3,'Roster LIMA'!$B$995:$AU$1138,'Roster LIMA'!X$1,FALSE)))","v":""},{"$f":"IF(COUNTBLANK($A$3)<>0,\"\",IF(ISERROR(VLOOKUP($A$3,'Roster LIMA'!$B$995:$AU$1138,'Roster LIMA'!Y$1,FALSE)),\"\",VLOOKUP($A$3,'Roster LIMA'!$B$995:$AU$1138,'Roster LIMA'!Y$1,FALSE)))","v":""},{"$f":"IF(COUNTBLANK($A$3)<>0,\"\",IF(ISERROR(VLOOKUP($A$3,'Roster LIMA'!$B$995:$AU$1138,'Roster LIMA'!Z$1,FALSE)),\"\",VLOOKUP($A$3,'Roster LIMA'!$B$995:$AU$1138,'Roster LIMA'!Z$1,FALSE)))","v":""},{"$f":"IF(COUNTBLANK($A$3)<>0,\"\",IF(ISERROR(VLOOKUP($A$3,'Roster LIMA'!$B$995:$AU$1138,'Roster LIMA'!AA$1,FALSE)),\"\",VLOOKUP($A$3,'Roster LIMA'!$B$995:$AU$1138,'Roster LIMA'!AA$1,FALSE)))","v":""},{"$f":"IF(COUNTBLANK($A$3)<>0,\"\",IF(ISERROR(VLOOKUP($A$3,'Roster LIMA'!$B$995:$AU$1138,'Roster LIMA'!AB$1,FALSE)),\"\",VLOOKUP($A$3,'Roster LIMA'!$B$995:$AU$1138,'Roster LIMA'!AB$1,FALSE)))","v":""},{"$f":"IF(COUNTBLANK($A$3)<>0,\"\",IF(ISERROR(VLOOKUP($A$3,'Roster LIMA'!$B$995:$AU$1138,'Roster LIMA'!AC$1,FALSE)),\"\",VLOOKUP($A$3,'Roster LIMA'!$B$995:$AU$1138,'Roster LIMA'!AC$1,FALSE)))","v":""},{"$f":"IF(COUNTBLANK($A$3)<>0,\"\",IF(ISERROR(VLOOKUP($A$3,'Roster LIMA'!$B$995:$AU$1138,'Roster LIMA'!AD$1,FALSE)),\"\",VLOOKUP($A$3,'Roster LIMA'!$B$995:$AU$1138,'Roster LIMA'!AD$1,FALSE)))","v":""},{"$f":"IF(COUNTBLANK($A$3)<>0,\"\",IF(ISERROR(VLOOKUP($A$3,'Roster LIMA'!$B$995:$AU$1138,'Roster LIMA'!AE$1,FALSE)),\"\",VLOOKUP($A$3,'Roster LIMA'!$B$995:$AU$1138,'Roster LIMA'!AE$1,FALSE)))","v":""},{"$f":"IF(COUNTBLANK($A$3)<>0,\"\",IF(ISERROR(VLOOKUP($A$3,'Roster LIMA'!$B$995:$AU$1138,'Roster LIMA'!AF$1,FALSE)),\"\",VLOOKUP($A$3,'Roster LIMA'!$B$995:$AU$1138,'Roster LIMA'!AF$1,FALSE)))","v":""},{"$f":"IF(COUNTBLANK($A$3)<>0,\"\",IF(ISERROR(VLOOKUP($A$3,'Roster LIMA'!$B$995:$AU$1138,'Roster LIMA'!AG$1,FALSE)),\"\",VLOOKUP($A$3,'Roster LIMA'!$B$995:$AU$1138,'Roster LIMA'!AG$1,FALSE)))","v":""},{"$f":"IF(COUNTBLANK($A$3)<>0,\"\",IF(ISERROR(VLOOKUP($A$3,'Roster LIMA'!$B$995:$AU$1138,'Roster LIMA'!AH$1,FALSE)),\"\",VLOOKUP($A$3,'Roster LIMA'!$B$995:$AU$1138,'Roster LIMA'!AH$1,FALSE)))","v":""},{"$f":"IF(COUNTBLANK($A$3)<>0,\"\",IF(ISERROR(VLOOKUP($A$3,'Roster LIMA'!$B$995:$AU$1138,'Roster LIMA'!AI$1,FALSE)),\"\",VLOOKUP($A$3,'Roster LIMA'!$B$995:$AU$1138,'Roster LIMA'!AI$1,FALSE)))","v":""},{"$f":"IF(COUNTBLANK($A$3)<>0,\"\",IF(ISERROR(VLOOKUP($A$3,'Roster LIMA'!$B$995:$AU$1138,'Roster LIMA'!AJ$1,FALSE)),\"\",VLOOKUP($A$3,'Roster LIMA'!$B$995:$AU$1138,'Roster LIMA'!AJ$1,FALSE)))","v":""},{"$f":"IF(COUNTBLANK($A$3)<>0,\"\",IF(ISERROR(VLOOKUP($A$3,'Roster LIMA'!$B$995:$AU$1138,'Roster LIMA'!AK$1,FALSE)),\"\",VLOOKUP($A$3,'Roster LIMA'!$B$995:$AU$1138,'Roster LIMA'!AK$1,FALSE)))","v":""},{"$f":"IF(COUNTBLANK($A$3)<>0,\"\",IF(ISERROR(VLOOKUP($A$3,'Roster LIMA'!$B$995:$AU$1138,'Roster LIMA'!AL$1,FALSE)),\"\",VLOOKUP($A$3,'Roster LIMA'!$B$995:$AU$1138,'Roster LIMA'!AL$1,FALSE)))","v":""},{"$f":"IF(COUNTBLANK($A$3)<>0,\"\",IF(ISERROR(VLOOKUP($A$3,'Roster LIMA'!$B$995:$AU$1138,'Roster LIMA'!AM$1,FALSE)),\"\",VLOOKUP($A$3,'Roster LIMA'!$B$995:$AU$1138,'Roster LIMA'!AM$1,FALSE)))","v":""},{"$f":"IF(COUNTBLANK($A$3)<>0,\"\",IF(ISERROR(VLOOKUP($A$3,'Roster LIMA'!$B$995:$AU$1138,'Roster LIMA'!AN$1,FALSE)),\"\",VLOOKUP($A$3,'Roster LIMA'!$B$995:$AU$1138,'Roster LIMA'!AN$1,FALSE)))","v":""},{"$f":"IF(COUNTBLANK($A$3)<>0,\"\",IF(ISERROR(VLOOKUP($A$3,'Roster LIMA'!$B$995:$AU$1138,'Roster LIMA'!AO$1,FALSE)),\"\",VLOOKUP($A$3,'Roster LIMA'!$B$995:$AU$1138,'Roster LIMA'!AO$1,FALSE)))","v":""},{"$f":"IF(COUNTBLANK($A$3)<>0,\"\",IF(ISERROR(VLOOKUP($A$3,'Roster LIMA'!$B$995:$AU$1138,'Roster LIMA'!AP$1,FALSE)),\"\",VLOOKUP($A$3,'Roster LIMA'!$B$995:$AU$1138,'Roster LIMA'!AP$1,FALSE)))","v":""},{"$f":"IF(COUNTBLANK($A$3)<>0,\"\",IF(ISERROR(VLOOKUP($A$3,'Roster LIMA'!$B$995:$AU$1138,'Roster LIMA'!AQ$1,FALSE)),\"\",VLOOKUP($A$3,'Roster LIMA'!$B$995:$AU$1138,'Roster LIMA'!AQ$1,FALSE)))","v":""},{"$f":"IF(COUNTBLANK($A$3)<>0,\"\",IF(ISERROR(VLOOKUP($A$3,'Roster LIMA'!$B$995:$AU$1138,'Roster LIMA'!AR$1,FALSE)),\"\",VLOOKUP($A$3,'Roster LIMA'!$B$995:$AU$1138,'Roster LIMA'!AR$1,FALSE)))","v":""},{"$f":"IF(COUNTBLANK($A$3)<>0,\"\",IF(ISERROR(VLOOKUP($A$3,'Roster LIMA'!$B$995:$AU$1138,'Roster LIMA'!AS$1,FALSE)),\"\",VLOOKUP($A$3,'Roster LIMA'!$B$995:$AU$1138,'Roster LIMA'!AS$1,FALSE)))","v":""},{"$f":"IF(COUNTBLANK($A$3)<>0,\"\",IF(ISERROR(VLOOKUP($A$3,'Roster LIMA'!$B$995:$AU$1138,'Roster LIMA'!AT$1,FALSE)),\"\",VLOOKUP($A$3,'Roster LIMA'!$B$995:$AU$1138,'Roster LIMA'!AT$1,FALSE)))","v":""},{"$f":"IF(COUNTBLANK($A$3)<>0,\"\",IF(ISERROR(VLOOKUP($A$3,'Roster LIMA'!$B$995:$AU$1138,'Roster LIMA'!AU$1,FALSE)),\"\",VLOOKUP($A$3,'Roster LIMA'!$B$995:$AU$1138,'Roster LIMA'!AU$1,FALSE)))","v":""}]
[{"$f":"+'Roster LIMA'!G1139","v":"1973-74"},{"$f":"IF(COUNTBLANK($A$3)<>0,\"\",IF(ISERROR(VLOOKUP($A$3,'Roster LIMA'!$B$1139:$AU$1342,'Roster LIMA'!H$1,FALSE)),\"\",IF(VLOOKUP($A$3,'Roster LIMA'!$B$1139:$AU$1342,'Roster LIMA'!H$1,FALSE)=0,\"\",VLOOKUP($A$3,'Roster LIMA'!$B$1139:$AU$1342,'Roster LIMA'!H$1,FALSE))))","v":""},{"$f":"IF(COUNTBLANK($A$3)<>0,\"\",IF(ISERROR(VLOOKUP($A$3,'Roster LIMA'!$B$1139:$AU$1342,'Roster LIMA'!I$1,FALSE)),\"\",IF(VLOOKUP($A$3,'Roster LIMA'!$B$1139:$AU$1342,'Roster LIMA'!I$1,FALSE)=0,\"\",VLOOKUP($A$3,'Roster LIMA'!$B$1139:$AU$1342,'Roster LIMA'!I$1,FALSE))))","v":""},{"$f":"IF(COUNTBLANK($A$3)<>0,\"\",IF(ISERROR(VLOOKUP($A$3,'Roster LIMA'!$B$1139:$AU$1342,'Roster LIMA'!J$1,FALSE)),\"\",IF(VLOOKUP($A$3,'Roster LIMA'!$B$1139:$AU$1342,'Roster LIMA'!J$1,FALSE)=0,\"\",VLOOKUP($A$3,'Roster LIMA'!$B$1139:$AU$1342,'Roster LIMA'!J$1,FALSE))))","v":""},{"$f":"IF(COUNTBLANK($A$3)<>0,\"\",IF(ISERROR(VLOOKUP($A$3,'Roster LIMA'!$B$1139:$AU$1342,'Roster LIMA'!K$1,FALSE)),\"\",IF(VLOOKUP($A$3,'Roster LIMA'!$B$1139:$AU$1342,'Roster LIMA'!K$1,FALSE)=0,\"\",VLOOKUP($A$3,'Roster LIMA'!$B$1139:$AU$1342,'Roster LIMA'!K$1,FALSE))))","v":""},{"$f":"IF(COUNTBLANK($A$3)<>0,\"\",IF(ISERROR(VLOOKUP($A$3,'Roster LIMA'!$B$1139:$AU$1342,'Roster LIMA'!F$1,FALSE)),\"\",IF(VLOOKUP($A$3,'Roster LIMA'!$B$1139:$AU$1342,'Roster LIMA'!F$1,FALSE)=0,\"\",VLOOKUP($A$3,'Roster LIMA'!$B$1139:$AU$1342,'Roster LIMA'!F$1,FALSE))))","v":""},{"$f":"IF(COUNTBLANK($A$3)<>0,\"\",IF(ISERROR(VLOOKUP($A$3,'Roster LIMA'!$B$1139:$AU$1342,'Roster LIMA'!E$1,FALSE)),\"\",IF(VLOOKUP($A$3,'Roster LIMA'!$B$1139:$AU$1342,'Roster LIMA'!E$1,FALSE)=0,\"\",VLOOKUP($A$3,'Roster LIMA'!$B$1139:$AU$1342,'Roster LIMA'!E$1,FALSE))))","v":""},{"$f":"IF(COUNTBLANK($A$3)<>0,\"\",IF(ISERROR(VLOOKUP($A$3,'Roster LIMA'!$B$1139:$AU$1342,'Roster LIMA'!B$1,FALSE)),\"N/A\",IF(VLOOKUP($A$3,'Roster LIMA'!$B$1139:$AU$1342,'Roster LIMA'!B$1,FALSE)=0,\"\",VLOOKUP($A$3,'Roster LIMA'!$B$1139:$AU$1342,'Roster LIMA'!B$1,FALSE))))","v":""},{"$f":"IF(COUNTBLANK($A$3)<>0,\"\",IF(ISERROR(VLOOKUP($A$3,'Roster LIMA'!$B$1139:$AU$1342,'Roster LIMA'!C$1,FALSE)),\"\",IF(VLOOKUP($A$3,'Roster LIMA'!$B$1139:$AU$1342,'Roster LIMA'!C$1,FALSE)=0,\"\",VLOOKUP($A$3,'Roster LIMA'!$B$1139:$AU$1342,'Roster LIMA'!C$1,FALSE))))","v":""},{"$f":"IF(COUNTBLANK($A$3)<>0,\"\",IF(ISERROR(VLOOKUP($A$3,'Roster LIMA'!$B$1139:$AU$1342,'Roster LIMA'!D$1,FALSE)),\"\",IF(VLOOKUP($A$3,'Roster LIMA'!$B$1139:$AU$1342,'Roster LIMA'!D$1,FALSE)=0,\"\",VLOOKUP($A$3,'Roster LIMA'!$B$1139:$AU$1342,'Roster LIMA'!D$1,FALSE))))","v":""},{"$f":"IF(COUNTBLANK($A$3)<>0,\"\",IF(ISERROR(VLOOKUP($A$3,'Roster LIMA'!$B$1139:$AU$1342,'Roster LIMA'!L$1,FALSE)),\"\",VLOOKUP($A$3,'Roster LIMA'!$B$1139:$AU$1342,'Roster LIMA'!L$1,FALSE)))","v":""},{"$f":"IF(COUNTBLANK($A$3)<>0,\"\",IF(ISERROR(VLOOKUP($A$3,'Roster LIMA'!$B$1139:$AU$1342,'Roster LIMA'!M$1,FALSE)),\"\",VLOOKUP($A$3,'Roster LIMA'!$B$1139:$AU$1342,'Roster LIMA'!M$1,FALSE)))","v":""},{"$f":"IF(COUNTBLANK($A$3)<>0,\"\",IF(ISERROR(VLOOKUP($A$3,'Roster LIMA'!$B$1139:$AU$1342,'Roster LIMA'!N$1,FALSE)),\"\",VLOOKUP($A$3,'Roster LIMA'!$B$1139:$AU$1342,'Roster LIMA'!N$1,FALSE)))","v":""},{"$f":"IF(COUNTBLANK($A$3)<>0,\"\",IF(ISERROR(VLOOKUP($A$3,'Roster LIMA'!$B$1139:$AU$1342,'Roster LIMA'!O$1,FALSE)),\"\",VLOOKUP($A$3,'Roster LIMA'!$B$1139:$AU$1342,'Roster LIMA'!O$1,FALSE)))","v":""},{"$f":"IF(COUNTBLANK($A$3)<>0,\"\",IF(ISERROR(VLOOKUP($A$3,'Roster LIMA'!$B$1139:$AU$1342,'Roster LIMA'!P$1,FALSE)),\"\",VLOOKUP($A$3,'Roster LIMA'!$B$1139:$AU$1342,'Roster LIMA'!P$1,FALSE)))","v":""},{"$f":"IF(COUNTBLANK($A$3)<>0,\"\",IF(ISERROR(VLOOKUP($A$3,'Roster LIMA'!$B$1139:$AU$1342,'Roster LIMA'!Q$1,FALSE)),\"\",VLOOKUP($A$3,'Roster LIMA'!$B$1139:$AU$1342,'Roster LIMA'!Q$1,FALSE)))","v":""},{"$f":"IF(COUNTBLANK($A$3)<>0,\"\",IF(ISERROR(VLOOKUP($A$3,'Roster LIMA'!$B$1139:$AU$1342,'Roster LIMA'!R$1,FALSE)),\"\",VLOOKUP($A$3,'Roster LIMA'!$B$1139:$AU$1342,'Roster LIMA'!R$1,FALSE)))","v":""},{"$f":"IF(COUNTBLANK($A$3)<>0,\"\",IF(ISERROR(VLOOKUP($A$3,'Roster LIMA'!$B$1139:$AU$1342,'Roster LIMA'!S$1,FALSE)),\"\",VLOOKUP($A$3,'Roster LIMA'!$B$1139:$AU$1342,'Roster LIMA'!S$1,FALSE)))","v":""},{"$f":"IF(COUNTBLANK($A$3)<>0,\"\",IF(ISERROR(VLOOKUP($A$3,'Roster LIMA'!$B$1139:$AU$1342,'Roster LIMA'!T$1,FALSE)),\"\",VLOOKUP($A$3,'Roster LIMA'!$B$1139:$AU$1342,'Roster LIMA'!T$1,FALSE)))","v":""},{"$f":"IF(COUNTBLANK($A$3)<>0,\"\",IF(ISERROR(VLOOKUP($A$3,'Roster LIMA'!$B$1139:$AU$1342,'Roster LIMA'!U$1,FALSE)),\"\",VLOOKUP($A$3,'Roster LIMA'!$B$1139:$AU$1342,'Roster LIMA'!U$1,FALSE)))","v":""},{"$f":"IF(COUNTBLANK($A$3)<>0,\"\",IF(ISERROR(VLOOKUP($A$3,'Roster LIMA'!$B$1139:$AU$1342,'Roster LIMA'!V$1,FALSE)),\"\",VLOOKUP($A$3,'Roster LIMA'!$B$1139:$AU$1342,'Roster LIMA'!V$1,FALSE)))","v":""},{"$f":"IF(COUNTBLANK($A$3)<>0,\"\",IF(ISERROR(VLOOKUP($A$3,'Roster LIMA'!$B$1139:$AU$1342,'Roster LIMA'!W$1,FALSE)),\"\",VLOOKUP($A$3,'Roster LIMA'!$B$1139:$AU$1342,'Roster LIMA'!W$1,FALSE)))","v":""},{"$f":"IF(COUNTBLANK($A$3)<>0,\"\",IF(ISERROR(VLOOKUP($A$3,'Roster LIMA'!$B$1139:$AU$1342,'Roster LIMA'!X$1,FALSE)),\"\",VLOOKUP($A$3,'Roster LIMA'!$B$1139:$AU$1342,'Roster LIMA'!X$1,FALSE)))","v":""},{"$f":"IF(COUNTBLANK($A$3)<>0,\"\",IF(ISERROR(VLOOKUP($A$3,'Roster LIMA'!$B$1139:$AU$1342,'Roster LIMA'!Y$1,FALSE)),\"\",VLOOKUP($A$3,'Roster LIMA'!$B$1139:$AU$1342,'Roster LIMA'!Y$1,FALSE)))","v":""},{"$f":"IF(COUNTBLANK($A$3)<>0,\"\",IF(ISERROR(VLOOKUP($A$3,'Roster LIMA'!$B$1139:$AU$1342,'Roster LIMA'!Z$1,FALSE)),\"\",VLOOKUP($A$3,'Roster LIMA'!$B$1139:$AU$1342,'Roster LIMA'!Z$1,FALSE)))","v":""},{"$f":"IF(COUNTBLANK($A$3)<>0,\"\",IF(ISERROR(VLOOKUP($A$3,'Roster LIMA'!$B$1139:$AU$1342,'Roster LIMA'!AA$1,FALSE)),\"\",VLOOKUP($A$3,'Roster LIMA'!$B$1139:$AU$1342,'Roster LIMA'!AA$1,FALSE)))","v":""},{"$f":"IF(COUNTBLANK($A$3)<>0,\"\",IF(ISERROR(VLOOKUP($A$3,'Roster LIMA'!$B$1139:$AU$1342,'Roster LIMA'!AB$1,FALSE)),\"\",VLOOKUP($A$3,'Roster LIMA'!$B$1139:$AU$1342,'Roster LIMA'!AB$1,FALSE)))","v":""},{"$f":"IF(COUNTBLANK($A$3)<>0,\"\",IF(ISERROR(VLOOKUP($A$3,'Roster LIMA'!$B$1139:$AU$1342,'Roster LIMA'!AC$1,FALSE)),\"\",VLOOKUP($A$3,'Roster LIMA'!$B$1139:$AU$1342,'Roster LIMA'!AC$1,FALSE)))","v":""},{"$f":"IF(COUNTBLANK($A$3)<>0,\"\",IF(ISERROR(VLOOKUP($A$3,'Roster LIMA'!$B$1139:$AU$1342,'Roster LIMA'!AD$1,FALSE)),\"\",VLOOKUP($A$3,'Roster LIMA'!$B$1139:$AU$1342,'Roster LIMA'!AD$1,FALSE)))","v":""},{"$f":"IF(COUNTBLANK($A$3)<>0,\"\",IF(ISERROR(VLOOKUP($A$3,'Roster LIMA'!$B$1139:$AU$1342,'Roster LIMA'!AE$1,FALSE)),\"\",VLOOKUP($A$3,'Roster LIMA'!$B$1139:$AU$1342,'Roster LIMA'!AE$1,FALSE)))","v":""},{"$f":"IF(COUNTBLANK($A$3)<>0,\"\",IF(ISERROR(VLOOKUP($A$3,'Roster LIMA'!$B$1139:$AU$1342,'Roster LIMA'!AF$1,FALSE)),\"\",VLOOKUP($A$3,'Roster LIMA'!$B$1139:$AU$1342,'Roster LIMA'!AF$1,FALSE)))","v":""},{"$f":"IF(COUNTBLANK($A$3)<>0,\"\",IF(ISERROR(VLOOKUP($A$3,'Roster LIMA'!$B$1139:$AU$1342,'Roster LIMA'!AG$1,FALSE)),\"\",VLOOKUP($A$3,'Roster LIMA'!$B$1139:$AU$1342,'Roster LIMA'!AG$1,FALSE)))","v":""},{"$f":"IF(COUNTBLANK($A$3)<>0,\"\",IF(ISERROR(VLOOKUP($A$3,'Roster LIMA'!$B$1139:$AU$1342,'Roster LIMA'!AH$1,FALSE)),\"\",VLOOKUP($A$3,'Roster LIMA'!$B$1139:$AU$1342,'Roster LIMA'!AH$1,FALSE)))","v":""},{"$f":"IF(COUNTBLANK($A$3)<>0,\"\",IF(ISERROR(VLOOKUP($A$3,'Roster LIMA'!$B$1139:$AU$1342,'Roster LIMA'!AI$1,FALSE)),\"\",VLOOKUP($A$3,'Roster LIMA'!$B$1139:$AU$1342,'Roster LIMA'!AI$1,FALSE)))","v":""},{"$f":"IF(COUNTBLANK($A$3)<>0,\"\",IF(ISERROR(VLOOKUP($A$3,'Roster LIMA'!$B$1139:$AU$1342,'Roster LIMA'!AJ$1,FALSE)),\"\",VLOOKUP($A$3,'Roster LIMA'!$B$1139:$AU$1342,'Roster LIMA'!AJ$1,FALSE)))","v":""},{"$f":"IF(COUNTBLANK($A$3)<>0,\"\",IF(ISERROR(VLOOKUP($A$3,'Roster LIMA'!$B$1139:$AU$1342,'Roster LIMA'!AK$1,FALSE)),\"\",VLOOKUP($A$3,'Roster LIMA'!$B$1139:$AU$1342,'Roster LIMA'!AK$1,FALSE)))","v":""},{"$f":"IF(COUNTBLANK($A$3)<>0,\"\",IF(ISERROR(VLOOKUP($A$3,'Roster LIMA'!$B$1139:$AU$1342,'Roster LIMA'!AL$1,FALSE)),\"\",VLOOKUP($A$3,'Roster LIMA'!$B$1139:$AU$1342,'Roster LIMA'!AL$1,FALSE)))","v":""},{"$f":"IF(COUNTBLANK($A$3)<>0,\"\",IF(ISERROR(VLOOKUP($A$3,'Roster LIMA'!$B$1139:$AU$1342,'Roster LIMA'!AM$1,FALSE)),\"\",VLOOKUP($A$3,'Roster LIMA'!$B$1139:$AU$1342,'Roster LIMA'!AM$1,FALSE)))","v":""},{"$f":"IF(COUNTBLANK($A$3)<>0,\"\",IF(ISERROR(VLOOKUP($A$3,'Roster LIMA'!$B$1139:$AU$1342,'Roster LIMA'!AN$1,FALSE)),\"\",VLOOKUP($A$3,'Roster LIMA'!$B$1139:$AU$1342,'Roster LIMA'!AN$1,FALSE)))","v":""},{"$f":"IF(COUNTBLANK($A$3)<>0,\"\",IF(ISERROR(VLOOKUP($A$3,'Roster LIMA'!$B$1139:$AU$1342,'Roster LIMA'!AO$1,FALSE)),\"\",VLOOKUP($A$3,'Roster LIMA'!$B$1139:$AU$1342,'Roster LIMA'!AO$1,FALSE)))","v":""},{"$f":"IF(COUNTBLANK($A$3)<>0,\"\",IF(ISERROR(VLOOKUP($A$3,'Roster LIMA'!$B$1139:$AU$1342,'Roster LIMA'!AP$1,FALSE)),\"\",VLOOKUP($A$3,'Roster LIMA'!$B$1139:$AU$1342,'Roster LIMA'!AP$1,FALSE)))","v":""},{"$f":"IF(COUNTBLANK($A$3)<>0,\"\",IF(ISERROR(VLOOKUP($A$3,'Roster LIMA'!$B$1139:$AU$1342,'Roster LIMA'!AQ$1,FALSE)),\"\",VLOOKUP($A$3,'Roster LIMA'!$B$1139:$AU$1342,'Roster LIMA'!AQ$1,FALSE)))","v":""},{"$f":"IF(COUNTBLANK($A$3)<>0,\"\",IF(ISERROR(VLOOKUP($A$3,'Roster LIMA'!$B$1139:$AU$1342,'Roster LIMA'!AR$1,FALSE)),\"\",VLOOKUP($A$3,'Roster LIMA'!$B$1139:$AU$1342,'Roster LIMA'!AR$1,FALSE)))","v":""},{"$f":"IF(COUNTBLANK($A$3)<>0,\"\",IF(ISERROR(VLOOKUP($A$3,'Roster LIMA'!$B$1139:$AU$1342,'Roster LIMA'!AS$1,FALSE)),\"\",VLOOKUP($A$3,'Roster LIMA'!$B$1139:$AU$1342,'Roster LIMA'!AS$1,FALSE)))","v":""},{"$f":"IF(COUNTBLANK($A$3)<>0,\"\",IF(ISERROR(VLOOKUP($A$3,'Roster LIMA'!$B$1139:$AU$1342,'Roster LIMA'!AT$1,FALSE)),\"\",VLOOKUP($A$3,'Roster LIMA'!$B$1139:$AU$1342,'Roster LIMA'!AT$1,FALSE)))","v":""},{"$f":"IF(COUNTBLANK($A$3)<>0,\"\",IF(ISERROR(VLOOKUP($A$3,'Roster LIMA'!$B$1139:$AU$1342,'Roster LIMA'!AU$1,FALSE)),\"\",VLOOKUP($A$3,'Roster LIMA'!$B$1139:$AU$1342,'Roster LIMA'!AU$1,FALSE)))","v":""}]
[{"$f":"+'Roster LIMA'!G1343","v":"1974-75"},{"$f":"IF(COUNTBLANK($A$3)<>0,\"\",IF(ISERROR(VLOOKUP($A$3,'Roster LIMA'!$B$1343:$AU$1535,'Roster LIMA'!H$1,FALSE)),\"\",IF(VLOOKUP($A$3,'Roster LIMA'!$B$1343:$AU$1535,'Roster LIMA'!H$1,FALSE)=0,\"\",VLOOKUP($A$3,'Roster LIMA'!$B$1343:$AU$1535,'Roster LIMA'!H$1,FALSE))))","v":""},{"$f":"IF(COUNTBLANK($A$3)<>0,\"\",IF(ISERROR(VLOOKUP($A$3,'Roster LIMA'!$B$1343:$AU$1535,'Roster LIMA'!I$1,FALSE)),\"\",IF(VLOOKUP($A$3,'Roster LIMA'!$B$1343:$AU$1535,'Roster LIMA'!I$1,FALSE)=0,\"\",VLOOKUP($A$3,'Roster LIMA'!$B$1343:$AU$1535,'Roster LIMA'!I$1,FALSE))))","v":""},{"$f":"IF(COUNTBLANK($A$3)<>0,\"\",IF(ISERROR(VLOOKUP($A$3,'Roster LIMA'!$B$1343:$AU$1535,'Roster LIMA'!J$1,FALSE)),\"\",IF(VLOOKUP($A$3,'Roster LIMA'!$B$1343:$AU$1535,'Roster LIMA'!J$1,FALSE)=0,\"\",VLOOKUP($A$3,'Roster LIMA'!$B$1343:$AU$1535,'Roster LIMA'!J$1,FALSE))))","v":""},{"$f":"IF(COUNTBLANK($A$3)<>0,\"\",IF(ISERROR(VLOOKUP($A$3,'Roster LIMA'!$B$1343:$AU$1535,'Roster LIMA'!K$1,FALSE)),\"\",IF(VLOOKUP($A$3,'Roster LIMA'!$B$1343:$AU$1535,'Roster LIMA'!K$1,FALSE)=0,\"\",VLOOKUP($A$3,'Roster LIMA'!$B$1343:$AU$1535,'Roster LIMA'!K$1,FALSE))))","v":""},{"$f":"IF(COUNTBLANK($A$3)<>0,\"\",IF(ISERROR(VLOOKUP($A$3,'Roster LIMA'!$B$1343:$AU$1535,'Roster LIMA'!F$1,FALSE)),\"\",IF(VLOOKUP($A$3,'Roster LIMA'!$B$1343:$AU$1535,'Roster LIMA'!F$1,FALSE)=0,\"\",VLOOKUP($A$3,'Roster LIMA'!$B$1343:$AU$1535,'Roster LIMA'!F$1,FALSE))))","v":""},{"$f":"IF(COUNTBLANK($A$3)<>0,\"\",IF(ISERROR(VLOOKUP($A$3,'Roster LIMA'!$B$1343:$AU$1535,'Roster LIMA'!E$1,FALSE)),\"\",IF(VLOOKUP($A$3,'Roster LIMA'!$B$1343:$AU$1535,'Roster LIMA'!E$1,FALSE)=0,\"\",VLOOKUP($A$3,'Roster LIMA'!$B$1343:$AU$1535,'Roster LIMA'!E$1,FALSE))))","v":""},{"$f":"IF(COUNTBLANK($A$3)<>0,\"\",IF(ISERROR(VLOOKUP($A$3,'Roster LIMA'!$B$1343:$AU$1535,'Roster LIMA'!B$1,FALSE)),\"N/A\",IF(VLOOKUP($A$3,'Roster LIMA'!$B$1343:$AU$1535,'Roster LIMA'!B$1,FALSE)=0,\"\",VLOOKUP($A$3,'Roster LIMA'!$B$1343:$AU$1535,'Roster LIMA'!B$1,FALSE))))","v":""},{"$f":"IF(COUNTBLANK($A$3)<>0,\"\",IF(ISERROR(VLOOKUP($A$3,'Roster LIMA'!$B$1343:$AU$1535,'Roster LIMA'!C$1,FALSE)),\"\",IF(VLOOKUP($A$3,'Roster LIMA'!$B$1343:$AU$1535,'Roster LIMA'!C$1,FALSE)=0,\"\",VLOOKUP($A$3,'Roster LIMA'!$B$1343:$AU$1535,'Roster LIMA'!C$1,FALSE))))","v":""},{"$f":"IF(COUNTBLANK($A$3)<>0,\"\",IF(ISERROR(VLOOKUP($A$3,'Roster LIMA'!$B$1343:$AU$1535,'Roster LIMA'!D$1,FALSE)),\"\",IF(VLOOKUP($A$3,'Roster LIMA'!$B$1343:$AU$1535,'Roster LIMA'!D$1,FALSE)=0,\"\",VLOOKUP($A$3,'Roster LIMA'!$B$1343:$AU$1535,'Roster LIMA'!D$1,FALSE))))","v":""},{"$f":"IF(COUNTBLANK($A$3)<>0,\"\",IF(ISERROR(VLOOKUP($A$3,'Roster LIMA'!$B$1343:$AU$1535,'Roster LIMA'!L$1,FALSE)),\"\",VLOOKUP($A$3,'Roster LIMA'!$B$1343:$AU$1535,'Roster LIMA'!L$1,FALSE)))","v":""},{"$f":"IF(COUNTBLANK($A$3)<>0,\"\",IF(ISERROR(VLOOKUP($A$3,'Roster LIMA'!$B$1343:$AU$1535,'Roster LIMA'!M$1,FALSE)),\"\",VLOOKUP($A$3,'Roster LIMA'!$B$1343:$AU$1535,'Roster LIMA'!M$1,FALSE)))","v":""},{"$f":"IF(COUNTBLANK($A$3)<>0,\"\",IF(ISERROR(VLOOKUP($A$3,'Roster LIMA'!$B$1343:$AU$1535,'Roster LIMA'!N$1,FALSE)),\"\",VLOOKUP($A$3,'Roster LIMA'!$B$1343:$AU$1535,'Roster LIMA'!N$1,FALSE)))","v":""},{"$f":"IF(COUNTBLANK($A$3)<>0,\"\",IF(ISERROR(VLOOKUP($A$3,'Roster LIMA'!$B$1343:$AU$1535,'Roster LIMA'!O$1,FALSE)),\"\",VLOOKUP($A$3,'Roster LIMA'!$B$1343:$AU$1535,'Roster LIMA'!O$1,FALSE)))","v":""},{"$f":"IF(COUNTBLANK($A$3)<>0,\"\",IF(ISERROR(VLOOKUP($A$3,'Roster LIMA'!$B$1343:$AU$1535,'Roster LIMA'!P$1,FALSE)),\"\",VLOOKUP($A$3,'Roster LIMA'!$B$1343:$AU$1535,'Roster LIMA'!P$1,FALSE)))","v":""},{"$f":"IF(COUNTBLANK($A$3)<>0,\"\",IF(ISERROR(VLOOKUP($A$3,'Roster LIMA'!$B$1343:$AU$1535,'Roster LIMA'!Q$1,FALSE)),\"\",VLOOKUP($A$3,'Roster LIMA'!$B$1343:$AU$1535,'Roster LIMA'!Q$1,FALSE)))","v":""},{"$f":"IF(COUNTBLANK($A$3)<>0,\"\",IF(ISERROR(VLOOKUP($A$3,'Roster LIMA'!$B$1343:$AU$1535,'Roster LIMA'!R$1,FALSE)),\"\",VLOOKUP($A$3,'Roster LIMA'!$B$1343:$AU$1535,'Roster LIMA'!R$1,FALSE)))","v":""},{"$f":"IF(COUNTBLANK($A$3)<>0,\"\",IF(ISERROR(VLOOKUP($A$3,'Roster LIMA'!$B$1343:$AU$1535,'Roster LIMA'!S$1,FALSE)),\"\",VLOOKUP($A$3,'Roster LIMA'!$B$1343:$AU$1535,'Roster LIMA'!S$1,FALSE)))","v":""},{"$f":"IF(COUNTBLANK($A$3)<>0,\"\",IF(ISERROR(VLOOKUP($A$3,'Roster LIMA'!$B$1343:$AU$1535,'Roster LIMA'!T$1,FALSE)),\"\",VLOOKUP($A$3,'Roster LIMA'!$B$1343:$AU$1535,'Roster LIMA'!T$1,FALSE)))","v":""},{"$f":"IF(COUNTBLANK($A$3)<>0,\"\",IF(ISERROR(VLOOKUP($A$3,'Roster LIMA'!$B$1343:$AU$1535,'Roster LIMA'!U$1,FALSE)),\"\",VLOOKUP($A$3,'Roster LIMA'!$B$1343:$AU$1535,'Roster LIMA'!U$1,FALSE)))","v":""},{"$f":"IF(COUNTBLANK($A$3)<>0,\"\",IF(ISERROR(VLOOKUP($A$3,'Roster LIMA'!$B$1343:$AU$1535,'Roster LIMA'!V$1,FALSE)),\"\",VLOOKUP($A$3,'Roster LIMA'!$B$1343:$AU$1535,'Roster LIMA'!V$1,FALSE)))","v":""},{"$f":"IF(COUNTBLANK($A$3)<>0,\"\",IF(ISERROR(VLOOKUP($A$3,'Roster LIMA'!$B$1343:$AU$1535,'Roster LIMA'!W$1,FALSE)),\"\",VLOOKUP($A$3,'Roster LIMA'!$B$1343:$AU$1535,'Roster LIMA'!W$1,FALSE)))","v":""},{"$f":"IF(COUNTBLANK($A$3)<>0,\"\",IF(ISERROR(VLOOKUP($A$3,'Roster LIMA'!$B$1343:$AU$1535,'Roster LIMA'!X$1,FALSE)),\"\",VLOOKUP($A$3,'Roster LIMA'!$B$1343:$AU$1535,'Roster LIMA'!X$1,FALSE)))","v":""},{"$f":"IF(COUNTBLANK($A$3)<>0,\"\",IF(ISERROR(VLOOKUP($A$3,'Roster LIMA'!$B$1343:$AU$1535,'Roster LIMA'!Y$1,FALSE)),\"\",VLOOKUP($A$3,'Roster LIMA'!$B$1343:$AU$1535,'Roster LIMA'!Y$1,FALSE)))","v":""},{"$f":"IF(COUNTBLANK($A$3)<>0,\"\",IF(ISERROR(VLOOKUP($A$3,'Roster LIMA'!$B$1343:$AU$1535,'Roster LIMA'!Z$1,FALSE)),\"\",VLOOKUP($A$3,'Roster LIMA'!$B$1343:$AU$1535,'Roster LIMA'!Z$1,FALSE)))","v":""},{"$f":"IF(COUNTBLANK($A$3)<>0,\"\",IF(ISERROR(VLOOKUP($A$3,'Roster LIMA'!$B$1343:$AU$1535,'Roster LIMA'!AA$1,FALSE)),\"\",VLOOKUP($A$3,'Roster LIMA'!$B$1343:$AU$1535,'Roster LIMA'!AA$1,FALSE)))","v":""},{"$f":"IF(COUNTBLANK($A$3)<>0,\"\",IF(ISERROR(VLOOKUP($A$3,'Roster LIMA'!$B$1343:$AU$1535,'Roster LIMA'!AB$1,FALSE)),\"\",VLOOKUP($A$3,'Roster LIMA'!$B$1343:$AU$1535,'Roster LIMA'!AB$1,FALSE)))","v":""},{"$f":"IF(COUNTBLANK($A$3)<>0,\"\",IF(ISERROR(VLOOKUP($A$3,'Roster LIMA'!$B$1343:$AU$1535,'Roster LIMA'!AC$1,FALSE)),\"\",VLOOKUP($A$3,'Roster LIMA'!$B$1343:$AU$1535,'Roster LIMA'!AC$1,FALSE)))","v":""},{"$f":"IF(COUNTBLANK($A$3)<>0,\"\",IF(ISERROR(VLOOKUP($A$3,'Roster LIMA'!$B$1343:$AU$1535,'Roster LIMA'!AD$1,FALSE)),\"\",VLOOKUP($A$3,'Roster LIMA'!$B$1343:$AU$1535,'Roster LIMA'!AD$1,FALSE)))","v":""},{"$f":"IF(COUNTBLANK($A$3)<>0,\"\",IF(ISERROR(VLOOKUP($A$3,'Roster LIMA'!$B$1343:$AU$1535,'Roster LIMA'!AE$1,FALSE)),\"\",VLOOKUP($A$3,'Roster LIMA'!$B$1343:$AU$1535,'Roster LIMA'!AE$1,FALSE)))","v":""},{"$f":"IF(COUNTBLANK($A$3)<>0,\"\",IF(ISERROR(VLOOKUP($A$3,'Roster LIMA'!$B$1343:$AU$1535,'Roster LIMA'!AF$1,FALSE)),\"\",VLOOKUP($A$3,'Roster LIMA'!$B$1343:$AU$1535,'Roster LIMA'!AF$1,FALSE)))","v":""},{"$f":"IF(COUNTBLANK($A$3)<>0,\"\",IF(ISERROR(VLOOKUP($A$3,'Roster LIMA'!$B$1343:$AU$1535,'Roster LIMA'!AG$1,FALSE)),\"\",VLOOKUP($A$3,'Roster LIMA'!$B$1343:$AU$1535,'Roster LIMA'!AG$1,FALSE)))","v":""},{"$f":"IF(COUNTBLANK($A$3)<>0,\"\",IF(ISERROR(VLOOKUP($A$3,'Roster LIMA'!$B$1343:$AU$1535,'Roster LIMA'!AH$1,FALSE)),\"\",VLOOKUP($A$3,'Roster LIMA'!$B$1343:$AU$1535,'Roster LIMA'!AH$1,FALSE)))","v":""},{"$f":"IF(COUNTBLANK($A$3)<>0,\"\",IF(ISERROR(VLOOKUP($A$3,'Roster LIMA'!$B$1343:$AU$1535,'Roster LIMA'!AI$1,FALSE)),\"\",VLOOKUP($A$3,'Roster LIMA'!$B$1343:$AU$1535,'Roster LIMA'!AI$1,FALSE)))","v":""},{"$f":"IF(COUNTBLANK($A$3)<>0,\"\",IF(ISERROR(VLOOKUP($A$3,'Roster LIMA'!$B$1343:$AU$1535,'Roster LIMA'!AJ$1,FALSE)),\"\",VLOOKUP($A$3,'Roster LIMA'!$B$1343:$AU$1535,'Roster LIMA'!AJ$1,FALSE)))","v":""},{"$f":"IF(COUNTBLANK($A$3)<>0,\"\",IF(ISERROR(VLOOKUP($A$3,'Roster LIMA'!$B$1343:$AU$1535,'Roster LIMA'!AK$1,FALSE)),\"\",VLOOKUP($A$3,'Roster LIMA'!$B$1343:$AU$1535,'Roster LIMA'!AK$1,FALSE)))","v":""},{"$f":"IF(COUNTBLANK($A$3)<>0,\"\",IF(ISERROR(VLOOKUP($A$3,'Roster LIMA'!$B$1343:$AU$1535,'Roster LIMA'!AL$1,FALSE)),\"\",VLOOKUP($A$3,'Roster LIMA'!$B$1343:$AU$1535,'Roster LIMA'!AL$1,FALSE)))","v":""},{"$f":"IF(COUNTBLANK($A$3)<>0,\"\",IF(ISERROR(VLOOKUP($A$3,'Roster LIMA'!$B$1343:$AU$1535,'Roster LIMA'!AM$1,FALSE)),\"\",VLOOKUP($A$3,'Roster LIMA'!$B$1343:$AU$1535,'Roster LIMA'!AM$1,FALSE)))","v":""},{"$f":"IF(COUNTBLANK($A$3)<>0,\"\",IF(ISERROR(VLOOKUP($A$3,'Roster LIMA'!$B$1343:$AU$1535,'Roster LIMA'!AN$1,FALSE)),\"\",VLOOKUP($A$3,'Roster LIMA'!$B$1343:$AU$1535,'Roster LIMA'!AN$1,FALSE)))","v":""},{"$f":"IF(COUNTBLANK($A$3)<>0,\"\",IF(ISERROR(VLOOKUP($A$3,'Roster LIMA'!$B$1343:$AU$1535,'Roster LIMA'!AO$1,FALSE)),\"\",VLOOKUP($A$3,'Roster LIMA'!$B$1343:$AU$1535,'Roster LIMA'!AO$1,FALSE)))","v":""},{"$f":"IF(COUNTBLANK($A$3)<>0,\"\",IF(ISERROR(VLOOKUP($A$3,'Roster LIMA'!$B$1343:$AU$1535,'Roster LIMA'!AP$1,FALSE)),\"\",VLOOKUP($A$3,'Roster LIMA'!$B$1343:$AU$1535,'Roster LIMA'!AP$1,FALSE)))","v":""},{"$f":"IF(COUNTBLANK($A$3)<>0,\"\",IF(ISERROR(VLOOKUP($A$3,'Roster LIMA'!$B$1343:$AU$1535,'Roster LIMA'!AQ$1,FALSE)),\"\",VLOOKUP($A$3,'Roster LIMA'!$B$1343:$AU$1535,'Roster LIMA'!AQ$1,FALSE)))","v":""},{"$f":"IF(COUNTBLANK($A$3)<>0,\"\",IF(ISERROR(VLOOKUP($A$3,'Roster LIMA'!$B$1343:$AU$1535,'Roster LIMA'!AR$1,FALSE)),\"\",VLOOKUP($A$3,'Roster LIMA'!$B$1343:$AU$1535,'Roster LIMA'!AR$1,FALSE)))","v":""},{"$f":"IF(COUNTBLANK($A$3)<>0,\"\",IF(ISERROR(VLOOKUP($A$3,'Roster LIMA'!$B$1343:$AU$1535,'Roster LIMA'!AS$1,FALSE)),\"\",VLOOKUP($A$3,'Roster LIMA'!$B$1343:$AU$1535,'Roster LIMA'!AS$1,FALSE)))","v":""},{"$f":"IF(COUNTBLANK($A$3)<>0,\"\",IF(ISERROR(VLOOKUP($A$3,'Roster LIMA'!$B$1343:$AU$1535,'Roster LIMA'!AT$1,FALSE)),\"\",VLOOKUP($A$3,'Roster LIMA'!$B$1343:$AU$1535,'Roster LIMA'!AT$1,FALSE)))","v":""},{"$f":"IF(COUNTBLANK($A$3)<>0,\"\",IF(ISERROR(VLOOKUP($A$3,'Roster LIMA'!$B$1343:$AU$1535,'Roster LIMA'!AU$1,FALSE)),\"\",VLOOKUP($A$3,'Roster LIMA'!$B$1343:$AU$1535,'Roster LIMA'!AU$1,FALSE)))","v":""}]
[{"$f":"+'Roster LIMA'!G1536","v":1975},{"$f":"IF(COUNTBLANK($A$3)<>0,\"\",IF(ISERROR(VLOOKUP($A$3,'Roster LIMA'!$B$1536:$AU$1918,'Roster LIMA'!H$1,FALSE)),\"\",IF(VLOOKUP($A$3,'Roster LIMA'!$B$1536:$AU$1918,'Roster LIMA'!H$1,FALSE)=0,\"\",VLOOKUP($A$3,'Roster LIMA'!$B$1536:$AU$1918,'Roster LIMA'!H$1,FALSE))))","v":""},{"$f":"IF(COUNTBLANK($A$3)<>0,\"\",IF(ISERROR(VLOOKUP($A$3,'Roster LIMA'!$B$1536:$AU$1918,'Roster LIMA'!I$1,FALSE)),\"\",IF(VLOOKUP($A$3,'Roster LIMA'!$B$1536:$AU$1918,'Roster LIMA'!I$1,FALSE)=0,\"\",VLOOKUP($A$3,'Roster LIMA'!$B$1536:$AU$1918,'Roster LIMA'!I$1,FALSE))))","v":""},{"$f":"IF(COUNTBLANK($A$3)<>0,\"\",IF(ISERROR(VLOOKUP($A$3,'Roster LIMA'!$B$1536:$AU$1918,'Roster LIMA'!J$1,FALSE)),\"\",IF(VLOOKUP($A$3,'Roster LIMA'!$B$1536:$AU$1918,'Roster LIMA'!J$1,FALSE)=0,\"\",VLOOKUP($A$3,'Roster LIMA'!$B$1536:$AU$1918,'Roster LIMA'!J$1,FALSE))))","v":""},{"$f":"IF(COUNTBLANK($A$3)<>0,\"\",IF(ISERROR(VLOOKUP($A$3,'Roster LIMA'!$B$1536:$AU$1918,'Roster LIMA'!K$1,FALSE)),\"\",IF(VLOOKUP($A$3,'Roster LIMA'!$B$1536:$AU$1918,'Roster LIMA'!K$1,FALSE)=0,\"\",VLOOKUP($A$3,'Roster LIMA'!$B$1536:$AU$1918,'Roster LIMA'!K$1,FALSE))))","v":""},{"$f":"IF(COUNTBLANK($A$3)<>0,\"\",IF(ISERROR(VLOOKUP($A$3,'Roster LIMA'!$B$1536:$AU$1918,'Roster LIMA'!F$1,FALSE)),\"\",IF(VLOOKUP($A$3,'Roster LIMA'!$B$1536:$AU$1918,'Roster LIMA'!F$1,FALSE)=0,\"\",VLOOKUP($A$3,'Roster LIMA'!$B$1536:$AU$1918,'Roster LIMA'!F$1,FALSE))))","v":""},{"$f":"IF(COUNTBLANK($A$3)<>0,\"\",IF(ISERROR(VLOOKUP($A$3,'Roster LIMA'!$B$1536:$AU$1918,'Roster LIMA'!E$1,FALSE)),\"\",IF(VLOOKUP($A$3,'Roster LIMA'!$B$1536:$AU$1918,'Roster LIMA'!E$1,FALSE)=0,\"\",VLOOKUP($A$3,'Roster LIMA'!$B$1536:$AU$1918,'Roster LIMA'!E$1,FALSE))))","v":""},{"$f":"IF(COUNTBLANK($A$3)<>0,\"\",IF(ISERROR(VLOOKUP($A$3,'Roster LIMA'!$B$1536:$AU$1918,'Roster LIMA'!B$1,FALSE)),\"N/A\",IF(VLOOKUP($A$3,'Roster LIMA'!$B$1536:$AU$1918,'Roster LIMA'!B$1,FALSE)=0,\"\",VLOOKUP($A$3,'Roster LIMA'!$B$1536:$AU$1918,'Roster LIMA'!B$1,FALSE))))","v":""},{"$f":"IF(COUNTBLANK($A$3)<>0,\"\",IF(ISERROR(VLOOKUP($A$3,'Roster LIMA'!$B$1536:$AU$1918,'Roster LIMA'!C$1,FALSE)),\"\",IF(VLOOKUP($A$3,'Roster LIMA'!$B$1536:$AU$1918,'Roster LIMA'!C$1,FALSE)=0,\"\",VLOOKUP($A$3,'Roster LIMA'!$B$1536:$AU$1918,'Roster LIMA'!C$1,FALSE))))","v":""},{"$f":"IF(COUNTBLANK($A$3)<>0,\"\",IF(ISERROR(VLOOKUP($A$3,'Roster LIMA'!$B$1536:$AU$1918,'Roster LIMA'!D$1,FALSE)),\"\",IF(VLOOKUP($A$3,'Roster LIMA'!$B$1536:$AU$1918,'Roster LIMA'!D$1,FALSE)=0,\"\",VLOOKUP($A$3,'Roster LIMA'!$B$1536:$AU$1918,'Roster LIMA'!D$1,FALSE))))","v":""},{"$f":"IF(COUNTBLANK($A$3)<>0,\"\",IF(ISERROR(VLOOKUP($A$3,'Roster LIMA'!$B$1536:$AU$1918,'Roster LIMA'!L$1,FALSE)),\"\",VLOOKUP($A$3,'Roster LIMA'!$B$1536:$AU$1918,'Roster LIMA'!L$1,FALSE)))","v":""},{"$f":"IF(COUNTBLANK($A$3)<>0,\"\",IF(ISERROR(VLOOKUP($A$3,'Roster LIMA'!$B$1536:$AU$1918,'Roster LIMA'!M$1,FALSE)),\"\",VLOOKUP($A$3,'Roster LIMA'!$B$1536:$AU$1918,'Roster LIMA'!M$1,FALSE)))","v":""},{"$f":"IF(COUNTBLANK($A$3)<>0,\"\",IF(ISERROR(VLOOKUP($A$3,'Roster LIMA'!$B$1536:$AU$1918,'Roster LIMA'!N$1,FALSE)),\"\",VLOOKUP($A$3,'Roster LIMA'!$B$1536:$AU$1918,'Roster LIMA'!N$1,FALSE)))","v":""},{"$f":"IF(COUNTBLANK($A$3)<>0,\"\",IF(ISERROR(VLOOKUP($A$3,'Roster LIMA'!$B$1536:$AU$1918,'Roster LIMA'!O$1,FALSE)),\"\",VLOOKUP($A$3,'Roster LIMA'!$B$1536:$AU$1918,'Roster LIMA'!O$1,FALSE)))","v":""},{"$f":"IF(COUNTBLANK($A$3)<>0,\"\",IF(ISERROR(VLOOKUP($A$3,'Roster LIMA'!$B$1536:$AU$1918,'Roster LIMA'!P$1,FALSE)),\"\",VLOOKUP($A$3,'Roster LIMA'!$B$1536:$AU$1918,'Roster LIMA'!P$1,FALSE)))","v":""},{"$f":"IF(COUNTBLANK($A$3)<>0,\"\",IF(ISERROR(VLOOKUP($A$3,'Roster LIMA'!$B$1536:$AU$1918,'Roster LIMA'!Q$1,FALSE)),\"\",VLOOKUP($A$3,'Roster LIMA'!$B$1536:$AU$1918,'Roster LIMA'!Q$1,FALSE)))","v":""},{"$f":"IF(COUNTBLANK($A$3)<>0,\"\",IF(ISERROR(VLOOKUP($A$3,'Roster LIMA'!$B$1536:$AU$1918,'Roster LIMA'!R$1,FALSE)),\"\",VLOOKUP($A$3,'Roster LIMA'!$B$1536:$AU$1918,'Roster LIMA'!R$1,FALSE)))","v":""},{"$f":"IF(COUNTBLANK($A$3)<>0,\"\",IF(ISERROR(VLOOKUP($A$3,'Roster LIMA'!$B$1536:$AU$1918,'Roster LIMA'!S$1,FALSE)),\"\",VLOOKUP($A$3,'Roster LIMA'!$B$1536:$AU$1918,'Roster LIMA'!S$1,FALSE)))","v":""},{"$f":"IF(COUNTBLANK($A$3)<>0,\"\",IF(ISERROR(VLOOKUP($A$3,'Roster LIMA'!$B$1536:$AU$1918,'Roster LIMA'!T$1,FALSE)),\"\",VLOOKUP($A$3,'Roster LIMA'!$B$1536:$AU$1918,'Roster LIMA'!T$1,FALSE)))","v":""},{"$f":"IF(COUNTBLANK($A$3)<>0,\"\",IF(ISERROR(VLOOKUP($A$3,'Roster LIMA'!$B$1536:$AU$1918,'Roster LIMA'!U$1,FALSE)),\"\",VLOOKUP($A$3,'Roster LIMA'!$B$1536:$AU$1918,'Roster LIMA'!U$1,FALSE)))","v":""},{"$f":"IF(COUNTBLANK($A$3)<>0,\"\",IF(ISERROR(VLOOKUP($A$3,'Roster LIMA'!$B$1536:$AU$1918,'Roster LIMA'!V$1,FALSE)),\"\",VLOOKUP($A$3,'Roster LIMA'!$B$1536:$AU$1918,'Roster LIMA'!V$1,FALSE)))","v":""},{"$f":"IF(COUNTBLANK($A$3)<>0,\"\",IF(ISERROR(VLOOKUP($A$3,'Roster LIMA'!$B$1536:$AU$1918,'Roster LIMA'!W$1,FALSE)),\"\",VLOOKUP($A$3,'Roster LIMA'!$B$1536:$AU$1918,'Roster LIMA'!W$1,FALSE)))","v":""},{"$f":"IF(COUNTBLANK($A$3)<>0,\"\",IF(ISERROR(VLOOKUP($A$3,'Roster LIMA'!$B$1536:$AU$1918,'Roster LIMA'!X$1,FALSE)),\"\",VLOOKUP($A$3,'Roster LIMA'!$B$1536:$AU$1918,'Roster LIMA'!X$1,FALSE)))","v":""},{"$f":"IF(COUNTBLANK($A$3)<>0,\"\",IF(ISERROR(VLOOKUP($A$3,'Roster LIMA'!$B$1536:$AU$1918,'Roster LIMA'!Y$1,FALSE)),\"\",VLOOKUP($A$3,'Roster LIMA'!$B$1536:$AU$1918,'Roster LIMA'!Y$1,FALSE)))","v":""},{"$f":"IF(COUNTBLANK($A$3)<>0,\"\",IF(ISERROR(VLOOKUP($A$3,'Roster LIMA'!$B$1536:$AU$1918,'Roster LIMA'!Z$1,FALSE)),\"\",VLOOKUP($A$3,'Roster LIMA'!$B$1536:$AU$1918,'Roster LIMA'!Z$1,FALSE)))","v":""},{"$f":"IF(COUNTBLANK($A$3)<>0,\"\",IF(ISERROR(VLOOKUP($A$3,'Roster LIMA'!$B$1536:$AU$1918,'Roster LIMA'!AA$1,FALSE)),\"\",VLOOKUP($A$3,'Roster LIMA'!$B$1536:$AU$1918,'Roster LIMA'!AA$1,FALSE)))","v":""},{"$f":"IF(COUNTBLANK($A$3)<>0,\"\",IF(ISERROR(VLOOKUP($A$3,'Roster LIMA'!$B$1536:$AU$1918,'Roster LIMA'!AB$1,FALSE)),\"\",VLOOKUP($A$3,'Roster LIMA'!$B$1536:$AU$1918,'Roster LIMA'!AB$1,FALSE)))","v":""},{"$f":"IF(COUNTBLANK($A$3)<>0,\"\",IF(ISERROR(VLOOKUP($A$3,'Roster LIMA'!$B$1536:$AU$1918,'Roster LIMA'!AC$1,FALSE)),\"\",VLOOKUP($A$3,'Roster LIMA'!$B$1536:$AU$1918,'Roster LIMA'!AC$1,FALSE)))","v":""},{"$f":"IF(COUNTBLANK($A$3)<>0,\"\",IF(ISERROR(VLOOKUP($A$3,'Roster LIMA'!$B$1536:$AU$1918,'Roster LIMA'!AD$1,FALSE)),\"\",VLOOKUP($A$3,'Roster LIMA'!$B$1536:$AU$1918,'Roster LIMA'!AD$1,FALSE)))","v":""},{"$f":"IF(COUNTBLANK($A$3)<>0,\"\",IF(ISERROR(VLOOKUP($A$3,'Roster LIMA'!$B$1536:$AU$1918,'Roster LIMA'!AE$1,FALSE)),\"\",VLOOKUP($A$3,'Roster LIMA'!$B$1536:$AU$1918,'Roster LIMA'!AE$1,FALSE)))","v":""},{"$f":"IF(COUNTBLANK($A$3)<>0,\"\",IF(ISERROR(VLOOKUP($A$3,'Roster LIMA'!$B$1536:$AU$1918,'Roster LIMA'!AF$1,FALSE)),\"\",VLOOKUP($A$3,'Roster LIMA'!$B$1536:$AU$1918,'Roster LIMA'!AF$1,FALSE)))","v":""},{"$f":"IF(COUNTBLANK($A$3)<>0,\"\",IF(ISERROR(VLOOKUP($A$3,'Roster LIMA'!$B$1536:$AU$1918,'Roster LIMA'!AG$1,FALSE)),\"\",VLOOKUP($A$3,'Roster LIMA'!$B$1536:$AU$1918,'Roster LIMA'!AG$1,FALSE)))","v":""},{"$f":"IF(COUNTBLANK($A$3)<>0,\"\",IF(ISERROR(VLOOKUP($A$3,'Roster LIMA'!$B$1536:$AU$1918,'Roster LIMA'!AH$1,FALSE)),\"\",VLOOKUP($A$3,'Roster LIMA'!$B$1536:$AU$1918,'Roster LIMA'!AH$1,FALSE)))","v":""},{"$f":"IF(COUNTBLANK($A$3)<>0,\"\",IF(ISERROR(VLOOKUP($A$3,'Roster LIMA'!$B$1536:$AU$1918,'Roster LIMA'!AI$1,FALSE)),\"\",VLOOKUP($A$3,'Roster LIMA'!$B$1536:$AU$1918,'Roster LIMA'!AI$1,FALSE)))","v":""},{"$f":"IF(COUNTBLANK($A$3)<>0,\"\",IF(ISERROR(VLOOKUP($A$3,'Roster LIMA'!$B$1536:$AU$1918,'Roster LIMA'!AJ$1,FALSE)),\"\",VLOOKUP($A$3,'Roster LIMA'!$B$1536:$AU$1918,'Roster LIMA'!AJ$1,FALSE)))","v":""},{"$f":"IF(COUNTBLANK($A$3)<>0,\"\",IF(ISERROR(VLOOKUP($A$3,'Roster LIMA'!$B$1536:$AU$1918,'Roster LIMA'!AK$1,FALSE)),\"\",VLOOKUP($A$3,'Roster LIMA'!$B$1536:$AU$1918,'Roster LIMA'!AK$1,FALSE)))","v":""},{"$f":"IF(COUNTBLANK($A$3)<>0,\"\",IF(ISERROR(VLOOKUP($A$3,'Roster LIMA'!$B$1536:$AU$1918,'Roster LIMA'!AL$1,FALSE)),\"\",VLOOKUP($A$3,'Roster LIMA'!$B$1536:$AU$1918,'Roster LIMA'!AL$1,FALSE)))","v":""},{"$f":"IF(COUNTBLANK($A$3)<>0,\"\",IF(ISERROR(VLOOKUP($A$3,'Roster LIMA'!$B$1536:$AU$1918,'Roster LIMA'!AM$1,FALSE)),\"\",VLOOKUP($A$3,'Roster LIMA'!$B$1536:$AU$1918,'Roster LIMA'!AM$1,FALSE)))","v":""},{"$f":"IF(COUNTBLANK($A$3)<>0,\"\",IF(ISERROR(VLOOKUP($A$3,'Roster LIMA'!$B$1536:$AU$1918,'Roster LIMA'!AN$1,FALSE)),\"\",VLOOKUP($A$3,'Roster LIMA'!$B$1536:$AU$1918,'Roster LIMA'!AN$1,FALSE)))","v":""},{"$f":"IF(COUNTBLANK($A$3)<>0,\"\",IF(ISERROR(VLOOKUP($A$3,'Roster LIMA'!$B$1536:$AU$1918,'Roster LIMA'!AO$1,FALSE)),\"\",VLOOKUP($A$3,'Roster LIMA'!$B$1536:$AU$1918,'Roster LIMA'!AO$1,FALSE)))","v":""},{"$f":"IF(COUNTBLANK($A$3)<>0,\"\",IF(ISERROR(VLOOKUP($A$3,'Roster LIMA'!$B$1536:$AU$1918,'Roster LIMA'!AP$1,FALSE)),\"\",VLOOKUP($A$3,'Roster LIMA'!$B$1536:$AU$1918,'Roster LIMA'!AP$1,FALSE)))","v":""},{"$f":"IF(COUNTBLANK($A$3)<>0,\"\",IF(ISERROR(VLOOKUP($A$3,'Roster LIMA'!$B$1536:$AU$1918,'Roster LIMA'!AQ$1,FALSE)),\"\",VLOOKUP($A$3,'Roster LIMA'!$B$1536:$AU$1918,'Roster LIMA'!AQ$1,FALSE)))","v":""},{"$f":"IF(COUNTBLANK($A$3)<>0,\"\",IF(ISERROR(VLOOKUP($A$3,'Roster LIMA'!$B$1536:$AU$1918,'Roster LIMA'!AR$1,FALSE)),\"\",VLOOKUP($A$3,'Roster LIMA'!$B$1536:$AU$1918,'Roster LIMA'!AR$1,FALSE)))","v":""},{"$f":"IF(COUNTBLANK($A$3)<>0,\"\",IF(ISERROR(VLOOKUP($A$3,'Roster LIMA'!$B$1536:$AU$1918,'Roster LIMA'!AS$1,FALSE)),\"\",VLOOKUP($A$3,'Roster LIMA'!$B$1536:$AU$1918,'Roster LIMA'!AS$1,FALSE)))","v":""},{"$f":"IF(COUNTBLANK($A$3)<>0,\"\",IF(ISERROR(VLOOKUP($A$3,'Roster LIMA'!$B$1536:$AU$1918,'Roster LIMA'!AT$1,FALSE)),\"\",VLOOKUP($A$3,'Roster LIMA'!$B$1536:$AU$1918,'Roster LIMA'!AT$1,FALSE)))","v":""},{"$f":"IF(COUNTBLANK($A$3)<>0,\"\",IF(ISERROR(VLOOKUP($A$3,'Roster LIMA'!$B$1536:$AU$1918,'Roster LIMA'!AU$1,FALSE)),\"\",VLOOKUP($A$3,'Roster LIMA'!$B$1536:$AU$1918,'Roster LIMA'!AU$1,FALSE)))","v":""}]
[{"$f":"+'Roster LIMA'!G1919","v":1976},{"$f":"IF(COUNTBLANK($A$3)<>0,\"\",IF(ISERROR(VLOOKUP($A$3,'Roster LIMA'!$B$1919:$AU$2359,'Roster LIMA'!H$1,FALSE)),\"\",IF(VLOOKUP($A$3,'Roster LIMA'!$B$1919:$AU$2359,'Roster LIMA'!H$1,FALSE)=0,\"\",VLOOKUP($A$3,'Roster LIMA'!$B$1919:$AU$2359,'Roster LIMA'!H$1,FALSE))))","v":""},{"$f":"IF(COUNTBLANK($A$3)<>0,\"\",IF(ISERROR(VLOOKUP($A$3,'Roster LIMA'!$B$1919:$AU$2359,'Roster LIMA'!I$1,FALSE)),\"\",IF(VLOOKUP($A$3,'Roster LIMA'!$B$1919:$AU$2359,'Roster LIMA'!I$1,FALSE)=0,\"\",VLOOKUP($A$3,'Roster LIMA'!$B$1919:$AU$2359,'Roster LIMA'!I$1,FALSE))))","v":""},{"$f":"IF(COUNTBLANK($A$3)<>0,\"\",IF(ISERROR(VLOOKUP($A$3,'Roster LIMA'!$B$1919:$AU$2359,'Roster LIMA'!J$1,FALSE)),\"\",IF(VLOOKUP($A$3,'Roster LIMA'!$B$1919:$AU$2359,'Roster LIMA'!J$1,FALSE)=0,\"\",VLOOKUP($A$3,'Roster LIMA'!$B$1919:$AU$2359,'Roster LIMA'!J$1,FALSE))))","v":""},{"$f":"IF(COUNTBLANK($A$3)<>0,\"\",IF(ISERROR(VLOOKUP($A$3,'Roster LIMA'!$B$1919:$AU$2359,'Roster LIMA'!K$1,FALSE)),\"\",IF(VLOOKUP($A$3,'Roster LIMA'!$B$1919:$AU$2359,'Roster LIMA'!K$1,FALSE)=0,\"\",VLOOKUP($A$3,'Roster LIMA'!$B$1919:$AU$2359,'Roster LIMA'!K$1,FALSE))))","v":""},{"$f":"IF(COUNTBLANK($A$3)<>0,\"\",IF(ISERROR(VLOOKUP($A$3,'Roster LIMA'!$B$1919:$AU$2359,'Roster LIMA'!F$1,FALSE)),\"\",IF(VLOOKUP($A$3,'Roster LIMA'!$B$1919:$AU$2359,'Roster LIMA'!F$1,FALSE)=0,\"\",VLOOKUP($A$3,'Roster LIMA'!$B$1919:$AU$2359,'Roster LIMA'!F$1,FALSE))))","v":""},{"$f":"IF(COUNTBLANK($A$3)<>0,\"\",IF(ISERROR(VLOOKUP($A$3,'Roster LIMA'!$B$1919:$AU$2359,'Roster LIMA'!E$1,FALSE)),\"\",IF(VLOOKUP($A$3,'Roster LIMA'!$B$1919:$AU$2359,'Roster LIMA'!E$1,FALSE)=0,\"\",VLOOKUP($A$3,'Roster LIMA'!$B$1919:$AU$2359,'Roster LIMA'!E$1,FALSE))))","v":""},{"$f":"IF(COUNTBLANK($A$3)<>0,\"\",IF(ISERROR(VLOOKUP($A$3,'Roster LIMA'!$B$1919:$AU$2359,'Roster LIMA'!B$1,FALSE)),\"N/A\",IF(VLOOKUP($A$3,'Roster LIMA'!$B$1919:$AU$2359,'Roster LIMA'!B$1,FALSE)=0,\"\",VLOOKUP($A$3,'Roster LIMA'!$B$1919:$AU$2359,'Roster LIMA'!B$1,FALSE))))","v":""},{"$f":"IF(COUNTBLANK($A$3)<>0,\"\",IF(ISERROR(VLOOKUP($A$3,'Roster LIMA'!$B$1919:$AU$2359,'Roster LIMA'!C$1,FALSE)),\"\",IF(VLOOKUP($A$3,'Roster LIMA'!$B$1919:$AU$2359,'Roster LIMA'!C$1,FALSE)=0,\"\",VLOOKUP($A$3,'Roster LIMA'!$B$1919:$AU$2359,'Roster LIMA'!C$1,FALSE))))","v":""},{"$f":"IF(COUNTBLANK($A$3)<>0,\"\",IF(ISERROR(VLOOKUP($A$3,'Roster LIMA'!$B$1919:$AU$2359,'Roster LIMA'!D$1,FALSE)),\"\",IF(VLOOKUP($A$3,'Roster LIMA'!$B$1919:$AU$2359,'Roster LIMA'!D$1,FALSE)=0,\"\",VLOOKUP($A$3,'Roster LIMA'!$B$1919:$AU$2359,'Roster LIMA'!D$1,FALSE))))","v":""},{"$f":"IF(COUNTBLANK($A$3)<>0,\"\",IF(ISERROR(VLOOKUP($A$3,'Roster LIMA'!$B$1919:$AU$2359,'Roster LIMA'!L$1,FALSE)),\"\",VLOOKUP($A$3,'Roster LIMA'!$B$1919:$AU$2359,'Roster LIMA'!L$1,FALSE)))","v":""},{"$f":"IF(COUNTBLANK($A$3)<>0,\"\",IF(ISERROR(VLOOKUP($A$3,'Roster LIMA'!$B$1919:$AU$2359,'Roster LIMA'!M$1,FALSE)),\"\",VLOOKUP($A$3,'Roster LIMA'!$B$1919:$AU$2359,'Roster LIMA'!M$1,FALSE)))","v":""},{"$f":"IF(COUNTBLANK($A$3)<>0,\"\",IF(ISERROR(VLOOKUP($A$3,'Roster LIMA'!$B$1919:$AU$2359,'Roster LIMA'!N$1,FALSE)),\"\",VLOOKUP($A$3,'Roster LIMA'!$B$1919:$AU$2359,'Roster LIMA'!N$1,FALSE)))","v":""},{"$f":"IF(COUNTBLANK($A$3)<>0,\"\",IF(ISERROR(VLOOKUP($A$3,'Roster LIMA'!$B$1919:$AU$2359,'Roster LIMA'!O$1,FALSE)),\"\",VLOOKUP($A$3,'Roster LIMA'!$B$1919:$AU$2359,'Roster LIMA'!O$1,FALSE)))","v":""},{"$f":"IF(COUNTBLANK($A$3)<>0,\"\",IF(ISERROR(VLOOKUP($A$3,'Roster LIMA'!$B$1919:$AU$2359,'Roster LIMA'!P$1,FALSE)),\"\",VLOOKUP($A$3,'Roster LIMA'!$B$1919:$AU$2359,'Roster LIMA'!P$1,FALSE)))","v":""},{"$f":"IF(COUNTBLANK($A$3)<>0,\"\",IF(ISERROR(VLOOKUP($A$3,'Roster LIMA'!$B$1919:$AU$2359,'Roster LIMA'!Q$1,FALSE)),\"\",VLOOKUP($A$3,'Roster LIMA'!$B$1919:$AU$2359,'Roster LIMA'!Q$1,FALSE)))","v":""},{"$f":"IF(COUNTBLANK($A$3)<>0,\"\",IF(ISERROR(VLOOKUP($A$3,'Roster LIMA'!$B$1919:$AU$2359,'Roster LIMA'!R$1,FALSE)),\"\",VLOOKUP($A$3,'Roster LIMA'!$B$1919:$AU$2359,'Roster LIMA'!R$1,FALSE)))","v":""},{"$f":"IF(COUNTBLANK($A$3)<>0,\"\",IF(ISERROR(VLOOKUP($A$3,'Roster LIMA'!$B$1919:$AU$2359,'Roster LIMA'!S$1,FALSE)),\"\",VLOOKUP($A$3,'Roster LIMA'!$B$1919:$AU$2359,'Roster LIMA'!S$1,FALSE)))","v":""},{"$f":"IF(COUNTBLANK($A$3)<>0,\"\",IF(ISERROR(VLOOKUP($A$3,'Roster LIMA'!$B$1919:$AU$2359,'Roster LIMA'!T$1,FALSE)),\"\",VLOOKUP($A$3,'Roster LIMA'!$B$1919:$AU$2359,'Roster LIMA'!T$1,FALSE)))","v":""},{"$f":"IF(COUNTBLANK($A$3)<>0,\"\",IF(ISERROR(VLOOKUP($A$3,'Roster LIMA'!$B$1919:$AU$2359,'Roster LIMA'!U$1,FALSE)),\"\",VLOOKUP($A$3,'Roster LIMA'!$B$1919:$AU$2359,'Roster LIMA'!U$1,FALSE)))","v":""},{"$f":"IF(COUNTBLANK($A$3)<>0,\"\",IF(ISERROR(VLOOKUP($A$3,'Roster LIMA'!$B$1919:$AU$2359,'Roster LIMA'!V$1,FALSE)),\"\",VLOOKUP($A$3,'Roster LIMA'!$B$1919:$AU$2359,'Roster LIMA'!V$1,FALSE)))","v":""},{"$f":"IF(COUNTBLANK($A$3)<>0,\"\",IF(ISERROR(VLOOKUP($A$3,'Roster LIMA'!$B$1919:$AU$2359,'Roster LIMA'!W$1,FALSE)),\"\",VLOOKUP($A$3,'Roster LIMA'!$B$1919:$AU$2359,'Roster LIMA'!W$1,FALSE)))","v":""},{"$f":"IF(COUNTBLANK($A$3)<>0,\"\",IF(ISERROR(VLOOKUP($A$3,'Roster LIMA'!$B$1919:$AU$2359,'Roster LIMA'!X$1,FALSE)),\"\",VLOOKUP($A$3,'Roster LIMA'!$B$1919:$AU$2359,'Roster LIMA'!X$1,FALSE)))","v":""},{"$f":"IF(COUNTBLANK($A$3)<>0,\"\",IF(ISERROR(VLOOKUP($A$3,'Roster LIMA'!$B$1919:$AU$2359,'Roster LIMA'!Y$1,FALSE)),\"\",VLOOKUP($A$3,'Roster LIMA'!$B$1919:$AU$2359,'Roster LIMA'!Y$1,FALSE)))","v":""},{"$f":"IF(COUNTBLANK($A$3)<>0,\"\",IF(ISERROR(VLOOKUP($A$3,'Roster LIMA'!$B$1919:$AU$2359,'Roster LIMA'!Z$1,FALSE)),\"\",VLOOKUP($A$3,'Roster LIMA'!$B$1919:$AU$2359,'Roster LIMA'!Z$1,FALSE)))","v":""},{"$f":"IF(COUNTBLANK($A$3)<>0,\"\",IF(ISERROR(VLOOKUP($A$3,'Roster LIMA'!$B$1919:$AU$2359,'Roster LIMA'!AA$1,FALSE)),\"\",VLOOKUP($A$3,'Roster LIMA'!$B$1919:$AU$2359,'Roster LIMA'!AA$1,FALSE)))","v":""},{"$f":"IF(COUNTBLANK($A$3)<>0,\"\",IF(ISERROR(VLOOKUP($A$3,'Roster LIMA'!$B$1919:$AU$2359,'Roster LIMA'!AB$1,FALSE)),\"\",VLOOKUP($A$3,'Roster LIMA'!$B$1919:$AU$2359,'Roster LIMA'!AB$1,FALSE)))","v":""},{"$f":"IF(COUNTBLANK($A$3)<>0,\"\",IF(ISERROR(VLOOKUP($A$3,'Roster LIMA'!$B$1919:$AU$2359,'Roster LIMA'!AC$1,FALSE)),\"\",VLOOKUP($A$3,'Roster LIMA'!$B$1919:$AU$2359,'Roster LIMA'!AC$1,FALSE)))","v":""},{"$f":"IF(COUNTBLANK($A$3)<>0,\"\",IF(ISERROR(VLOOKUP($A$3,'Roster LIMA'!$B$1919:$AU$2359,'Roster LIMA'!AD$1,FALSE)),\"\",VLOOKUP($A$3,'Roster LIMA'!$B$1919:$AU$2359,'Roster LIMA'!AD$1,FALSE)))","v":""},{"$f":"IF(COUNTBLANK($A$3)<>0,\"\",IF(ISERROR(VLOOKUP($A$3,'Roster LIMA'!$B$1919:$AU$2359,'Roster LIMA'!AE$1,FALSE)),\"\",VLOOKUP($A$3,'Roster LIMA'!$B$1919:$AU$2359,'Roster LIMA'!AE$1,FALSE)))","v":""},{"$f":"IF(COUNTBLANK($A$3)<>0,\"\",IF(ISERROR(VLOOKUP($A$3,'Roster LIMA'!$B$1919:$AU$2359,'Roster LIMA'!AF$1,FALSE)),\"\",VLOOKUP($A$3,'Roster LIMA'!$B$1919:$AU$2359,'Roster LIMA'!AF$1,FALSE)))","v":""},{"$f":"IF(COUNTBLANK($A$3)<>0,\"\",IF(ISERROR(VLOOKUP($A$3,'Roster LIMA'!$B$1919:$AU$2359,'Roster LIMA'!AG$1,FALSE)),\"\",VLOOKUP($A$3,'Roster LIMA'!$B$1919:$AU$2359,'Roster LIMA'!AG$1,FALSE)))","v":""},{"$f":"IF(COUNTBLANK($A$3)<>0,\"\",IF(ISERROR(VLOOKUP($A$3,'Roster LIMA'!$B$1919:$AU$2359,'Roster LIMA'!AH$1,FALSE)),\"\",VLOOKUP($A$3,'Roster LIMA'!$B$1919:$AU$2359,'Roster LIMA'!AH$1,FALSE)))","v":""},{"$f":"IF(COUNTBLANK($A$3)<>0,\"\",IF(ISERROR(VLOOKUP($A$3,'Roster LIMA'!$B$1919:$AU$2359,'Roster LIMA'!AI$1,FALSE)),\"\",VLOOKUP($A$3,'Roster LIMA'!$B$1919:$AU$2359,'Roster LIMA'!AI$1,FALSE)))","v":""},{"$f":"IF(COUNTBLANK($A$3)<>0,\"\",IF(ISERROR(VLOOKUP($A$3,'Roster LIMA'!$B$1919:$AU$2359,'Roster LIMA'!AJ$1,FALSE)),\"\",VLOOKUP($A$3,'Roster LIMA'!$B$1919:$AU$2359,'Roster LIMA'!AJ$1,FALSE)))","v":""},{"$f":"IF(COUNTBLANK($A$3)<>0,\"\",IF(ISERROR(VLOOKUP($A$3,'Roster LIMA'!$B$1919:$AU$2359,'Roster LIMA'!AK$1,FALSE)),\"\",VLOOKUP($A$3,'Roster LIMA'!$B$1919:$AU$2359,'Roster LIMA'!AK$1,FALSE)))","v":""},{"$f":"IF(COUNTBLANK($A$3)<>0,\"\",IF(ISERROR(VLOOKUP($A$3,'Roster LIMA'!$B$1919:$AU$2359,'Roster LIMA'!AL$1,FALSE)),\"\",VLOOKUP($A$3,'Roster LIMA'!$B$1919:$AU$2359,'Roster LIMA'!AL$1,FALSE)))","v":""},{"$f":"IF(COUNTBLANK($A$3)<>0,\"\",IF(ISERROR(VLOOKUP($A$3,'Roster LIMA'!$B$1919:$AU$2359,'Roster LIMA'!AM$1,FALSE)),\"\",VLOOKUP($A$3,'Roster LIMA'!$B$1919:$AU$2359,'Roster LIMA'!AM$1,FALSE)))","v":""},{"$f":"IF(COUNTBLANK($A$3)<>0,\"\",IF(ISERROR(VLOOKUP($A$3,'Roster LIMA'!$B$1919:$AU$2359,'Roster LIMA'!AN$1,FALSE)),\"\",VLOOKUP($A$3,'Roster LIMA'!$B$1919:$AU$2359,'Roster LIMA'!AN$1,FALSE)))","v":""},{"$f":"IF(COUNTBLANK($A$3)<>0,\"\",IF(ISERROR(VLOOKUP($A$3,'Roster LIMA'!$B$1919:$AU$2359,'Roster LIMA'!AO$1,FALSE)),\"\",VLOOKUP($A$3,'Roster LIMA'!$B$1919:$AU$2359,'Roster LIMA'!AO$1,FALSE)))","v":""},{"$f":"IF(COUNTBLANK($A$3)<>0,\"\",IF(ISERROR(VLOOKUP($A$3,'Roster LIMA'!$B$1919:$AU$2359,'Roster LIMA'!AP$1,FALSE)),\"\",VLOOKUP($A$3,'Roster LIMA'!$B$1919:$AU$2359,'Roster LIMA'!AP$1,FALSE)))","v":""},{"$f":"IF(COUNTBLANK($A$3)<>0,\"\",IF(ISERROR(VLOOKUP($A$3,'Roster LIMA'!$B$1919:$AU$2359,'Roster LIMA'!AQ$1,FALSE)),\"\",VLOOKUP($A$3,'Roster LIMA'!$B$1919:$AU$2359,'Roster LIMA'!AQ$1,FALSE)))","v":""},{"$f":"IF(COUNTBLANK($A$3)<>0,\"\",IF(ISERROR(VLOOKUP($A$3,'Roster LIMA'!$B$1919:$AU$2359,'Roster LIMA'!AR$1,FALSE)),\"\",VLOOKUP($A$3,'Roster LIMA'!$B$1919:$AU$2359,'Roster LIMA'!AR$1,FALSE)))","v":""},{"$f":"IF(COUNTBLANK($A$3)<>0,\"\",IF(ISERROR(VLOOKUP($A$3,'Roster LIMA'!$B$1919:$AU$2359,'Roster LIMA'!AS$1,FALSE)),\"\",VLOOKUP($A$3,'Roster LIMA'!$B$1919:$AU$2359,'Roster LIMA'!AS$1,FALSE)))","v":""},{"$f":"IF(COUNTBLANK($A$3)<>0,\"\",IF(ISERROR(VLOOKUP($A$3,'Roster LIMA'!$B$1919:$AU$2359,'Roster LIMA'!AT$1,FALSE)),\"\",VLOOKUP($A$3,'Roster LIMA'!$B$1919:$AU$2359,'Roster LIMA'!AT$1,FALSE)))","v":""},{"$f":"IF(COUNTBLANK($A$3)<>0,\"\",IF(ISERROR(VLOOKUP($A$3,'Roster LIMA'!$B$1919:$AU$2359,'Roster LIMA'!AU$1,FALSE)),\"\",VLOOKUP($A$3,'Roster LIMA'!$B$1919:$AU$2359,'Roster LIMA'!AU$1,FALSE)))","v":""}]
[{"$f":"+'Roster LIMA'!G2361","v":"1977-78"},{"$f":"IF(COUNTBLANK($A$3)<>0,\"\",IF(ISERROR(VLOOKUP($A$3,'Roster LIMA'!$B$2361:$AU$2795,'Roster LIMA'!H$1,FALSE)),\"\",IF(VLOOKUP($A$3,'Roster LIMA'!$B$2361:$AU$2795,'Roster LIMA'!H$1,FALSE)=0,\"\",VLOOKUP($A$3,'Roster LIMA'!$B$2361:$AU$2795,'Roster LIMA'!H$1,FALSE))))","v":""},{"$f":"IF(COUNTBLANK($A$3)<>0,\"\",IF(ISERROR(VLOOKUP($A$3,'Roster LIMA'!$B$2361:$AU$2795,'Roster LIMA'!I$1,FALSE)),\"\",IF(VLOOKUP($A$3,'Roster LIMA'!$B$2361:$AU$2795,'Roster LIMA'!I$1,FALSE)=0,\"\",VLOOKUP($A$3,'Roster LIMA'!$B$2361:$AU$2795,'Roster LIMA'!I$1,FALSE))))","v":""},{"$f":"IF(COUNTBLANK($A$3)<>0,\"\",IF(ISERROR(VLOOKUP($A$3,'Roster LIMA'!$B$2361:$AU$2795,'Roster LIMA'!J$1,FALSE)),\"\",IF(VLOOKUP($A$3,'Roster LIMA'!$B$2361:$AU$2795,'Roster LIMA'!J$1,FALSE)=0,\"\",VLOOKUP($A$3,'Roster LIMA'!$B$2361:$AU$2795,'Roster LIMA'!J$1,FALSE))))","v":""},{"$f":"IF(COUNTBLANK($A$3)<>0,\"\",IF(ISERROR(VLOOKUP($A$3,'Roster LIMA'!$B$2361:$AU$2795,'Roster LIMA'!K$1,FALSE)),\"\",IF(VLOOKUP($A$3,'Roster LIMA'!$B$2361:$AU$2795,'Roster LIMA'!K$1,FALSE)=0,\"\",VLOOKUP($A$3,'Roster LIMA'!$B$2361:$AU$2795,'Roster LIMA'!K$1,FALSE))))","v":""},{"$f":"IF(COUNTBLANK($A$3)<>0,\"\",IF(ISERROR(VLOOKUP($A$3,'Roster LIMA'!$B$2361:$AU$2795,'Roster LIMA'!F$1,FALSE)),\"\",IF(VLOOKUP($A$3,'Roster LIMA'!$B$2361:$AU$2795,'Roster LIMA'!F$1,FALSE)=0,\"\",VLOOKUP($A$3,'Roster LIMA'!$B$2361:$AU$2795,'Roster LIMA'!F$1,FALSE))))","v":""},{"$f":"IF(COUNTBLANK($A$3)<>0,\"\",IF(ISERROR(VLOOKUP($A$3,'Roster LIMA'!$B$2361:$AU$2795,'Roster LIMA'!E$1,FALSE)),\"\",IF(VLOOKUP($A$3,'Roster LIMA'!$B$2361:$AU$2795,'Roster LIMA'!E$1,FALSE)=0,\"\",VLOOKUP($A$3,'Roster LIMA'!$B$2361:$AU$2795,'Roster LIMA'!E$1,FALSE))))","v":""},{"$f":"IF(COUNTBLANK($A$3)<>0,\"\",IF(ISERROR(VLOOKUP($A$3,'Roster LIMA'!$B$2361:$AU$2795,'Roster LIMA'!B$1,FALSE)),\"N/A\",IF(VLOOKUP($A$3,'Roster LIMA'!$B$2361:$AU$2795,'Roster LIMA'!B$1,FALSE)=0,\"\",VLOOKUP($A$3,'Roster LIMA'!$B$2361:$AU$2795,'Roster LIMA'!B$1,FALSE))))","v":""},{"$f":"IF(COUNTBLANK($A$3)<>0,\"\",IF(ISERROR(VLOOKUP($A$3,'Roster LIMA'!$B$2361:$AU$2795,'Roster LIMA'!C$1,FALSE)),\"\",IF(VLOOKUP($A$3,'Roster LIMA'!$B$2361:$AU$2795,'Roster LIMA'!C$1,FALSE)=0,\"\",VLOOKUP($A$3,'Roster LIMA'!$B$2361:$AU$2795,'Roster LIMA'!C$1,FALSE))))","v":""},{"$f":"IF(COUNTBLANK($A$3)<>0,\"\",IF(ISERROR(VLOOKUP($A$3,'Roster LIMA'!$B$2361:$AU$2795,'Roster LIMA'!D$1,FALSE)),\"\",IF(VLOOKUP($A$3,'Roster LIMA'!$B$2361:$AU$2795,'Roster LIMA'!D$1,FALSE)=0,\"\",VLOOKUP($A$3,'Roster LIMA'!$B$2361:$AU$2795,'Roster LIMA'!D$1,FALSE))))","v":""},{"$f":"IF(COUNTBLANK($A$3)<>0,\"\",IF(ISERROR(VLOOKUP($A$3,'Roster LIMA'!$B$2361:$AU$2795,'Roster LIMA'!L$1,FALSE)),\"\",VLOOKUP($A$3,'Roster LIMA'!$B$2361:$AU$2795,'Roster LIMA'!L$1,FALSE)))","v":""},{"$f":"IF(COUNTBLANK($A$3)<>0,\"\",IF(ISERROR(VLOOKUP($A$3,'Roster LIMA'!$B$2361:$AU$2795,'Roster LIMA'!M$1,FALSE)),\"\",VLOOKUP($A$3,'Roster LIMA'!$B$2361:$AU$2795,'Roster LIMA'!M$1,FALSE)))","v":""},{"$f":"IF(COUNTBLANK($A$3)<>0,\"\",IF(ISERROR(VLOOKUP($A$3,'Roster LIMA'!$B$2361:$AU$2795,'Roster LIMA'!N$1,FALSE)),\"\",VLOOKUP($A$3,'Roster LIMA'!$B$2361:$AU$2795,'Roster LIMA'!N$1,FALSE)))","v":""},{"$f":"IF(COUNTBLANK($A$3)<>0,\"\",IF(ISERROR(VLOOKUP($A$3,'Roster LIMA'!$B$2361:$AU$2795,'Roster LIMA'!O$1,FALSE)),\"\",VLOOKUP($A$3,'Roster LIMA'!$B$2361:$AU$2795,'Roster LIMA'!O$1,FALSE)))","v":""},{"$f":"IF(COUNTBLANK($A$3)<>0,\"\",IF(ISERROR(VLOOKUP($A$3,'Roster LIMA'!$B$2361:$AU$2795,'Roster LIMA'!P$1,FALSE)),\"\",VLOOKUP($A$3,'Roster LIMA'!$B$2361:$AU$2795,'Roster LIMA'!P$1,FALSE)))","v":""},{"$f":"IF(COUNTBLANK($A$3)<>0,\"\",IF(ISERROR(VLOOKUP($A$3,'Roster LIMA'!$B$2361:$AU$2795,'Roster LIMA'!Q$1,FALSE)),\"\",VLOOKUP($A$3,'Roster LIMA'!$B$2361:$AU$2795,'Roster LIMA'!Q$1,FALSE)))","v":""},{"$f":"IF(COUNTBLANK($A$3)<>0,\"\",IF(ISERROR(VLOOKUP($A$3,'Roster LIMA'!$B$2361:$AU$2795,'Roster LIMA'!R$1,FALSE)),\"\",VLOOKUP($A$3,'Roster LIMA'!$B$2361:$AU$2795,'Roster LIMA'!R$1,FALSE)))","v":""},{"$f":"IF(COUNTBLANK($A$3)<>0,\"\",IF(ISERROR(VLOOKUP($A$3,'Roster LIMA'!$B$2361:$AU$2795,'Roster LIMA'!S$1,FALSE)),\"\",VLOOKUP($A$3,'Roster LIMA'!$B$2361:$AU$2795,'Roster LIMA'!S$1,FALSE)))","v":""},{"$f":"IF(COUNTBLANK($A$3)<>0,\"\",IF(ISERROR(VLOOKUP($A$3,'Roster LIMA'!$B$2361:$AU$2795,'Roster LIMA'!T$1,FALSE)),\"\",VLOOKUP($A$3,'Roster LIMA'!$B$2361:$AU$2795,'Roster LIMA'!T$1,FALSE)))","v":""},{"$f":"IF(COUNTBLANK($A$3)<>0,\"\",IF(ISERROR(VLOOKUP($A$3,'Roster LIMA'!$B$2361:$AU$2795,'Roster LIMA'!U$1,FALSE)),\"\",VLOOKUP($A$3,'Roster LIMA'!$B$2361:$AU$2795,'Roster LIMA'!U$1,FALSE)))","v":""},{"$f":"IF(COUNTBLANK($A$3)<>0,\"\",IF(ISERROR(VLOOKUP($A$3,'Roster LIMA'!$B$2361:$AU$2795,'Roster LIMA'!V$1,FALSE)),\"\",VLOOKUP($A$3,'Roster LIMA'!$B$2361:$AU$2795,'Roster LIMA'!V$1,FALSE)))","v":""},{"$f":"IF(COUNTBLANK($A$3)<>0,\"\",IF(ISERROR(VLOOKUP($A$3,'Roster LIMA'!$B$2361:$AU$2795,'Roster LIMA'!W$1,FALSE)),\"\",VLOOKUP($A$3,'Roster LIMA'!$B$2361:$AU$2795,'Roster LIMA'!W$1,FALSE)))","v":""},{"$f":"IF(COUNTBLANK($A$3)<>0,\"\",IF(ISERROR(VLOOKUP($A$3,'Roster LIMA'!$B$2361:$AU$2795,'Roster LIMA'!X$1,FALSE)),\"\",VLOOKUP($A$3,'Roster LIMA'!$B$2361:$AU$2795,'Roster LIMA'!X$1,FALSE)))","v":""},{"$f":"IF(COUNTBLANK($A$3)<>0,\"\",IF(ISERROR(VLOOKUP($A$3,'Roster LIMA'!$B$2361:$AU$2795,'Roster LIMA'!Y$1,FALSE)),\"\",VLOOKUP($A$3,'Roster LIMA'!$B$2361:$AU$2795,'Roster LIMA'!Y$1,FALSE)))","v":""},{"$f":"IF(COUNTBLANK($A$3)<>0,\"\",IF(ISERROR(VLOOKUP($A$3,'Roster LIMA'!$B$2361:$AU$2795,'Roster LIMA'!Z$1,FALSE)),\"\",VLOOKUP($A$3,'Roster LIMA'!$B$2361:$AU$2795,'Roster LIMA'!Z$1,FALSE)))","v":""},{"$f":"IF(COUNTBLANK($A$3)<>0,\"\",IF(ISERROR(VLOOKUP($A$3,'Roster LIMA'!$B$2361:$AU$2795,'Roster LIMA'!AA$1,FALSE)),\"\",VLOOKUP($A$3,'Roster LIMA'!$B$2361:$AU$2795,'Roster LIMA'!AA$1,FALSE)))","v":""},{"$f":"IF(COUNTBLANK($A$3)<>0,\"\",IF(ISERROR(VLOOKUP($A$3,'Roster LIMA'!$B$2361:$AU$2795,'Roster LIMA'!AB$1,FALSE)),\"\",VLOOKUP($A$3,'Roster LIMA'!$B$2361:$AU$2795,'Roster LIMA'!AB$1,FALSE)))","v":""},{"$f":"IF(COUNTBLANK($A$3)<>0,\"\",IF(ISERROR(VLOOKUP($A$3,'Roster LIMA'!$B$2361:$AU$2795,'Roster LIMA'!AC$1,FALSE)),\"\",VLOOKUP($A$3,'Roster LIMA'!$B$2361:$AU$2795,'Roster LIMA'!AC$1,FALSE)))","v":""},{"$f":"IF(COUNTBLANK($A$3)<>0,\"\",IF(ISERROR(VLOOKUP($A$3,'Roster LIMA'!$B$2361:$AU$2795,'Roster LIMA'!AD$1,FALSE)),\"\",VLOOKUP($A$3,'Roster LIMA'!$B$2361:$AU$2795,'Roster LIMA'!AD$1,FALSE)))","v":""},{"$f":"IF(COUNTBLANK($A$3)<>0,\"\",IF(ISERROR(VLOOKUP($A$3,'Roster LIMA'!$B$2361:$AU$2795,'Roster LIMA'!AE$1,FALSE)),\"\",VLOOKUP($A$3,'Roster LIMA'!$B$2361:$AU$2795,'Roster LIMA'!AE$1,FALSE)))","v":""},{"$f":"IF(COUNTBLANK($A$3)<>0,\"\",IF(ISERROR(VLOOKUP($A$3,'Roster LIMA'!$B$2361:$AU$2795,'Roster LIMA'!AF$1,FALSE)),\"\",VLOOKUP($A$3,'Roster LIMA'!$B$2361:$AU$2795,'Roster LIMA'!AF$1,FALSE)))","v":""},{"$f":"IF(COUNTBLANK($A$3)<>0,\"\",IF(ISERROR(VLOOKUP($A$3,'Roster LIMA'!$B$2361:$AU$2795,'Roster LIMA'!AG$1,FALSE)),\"\",VLOOKUP($A$3,'Roster LIMA'!$B$2361:$AU$2795,'Roster LIMA'!AG$1,FALSE)))","v":""},{"$f":"IF(COUNTBLANK($A$3)<>0,\"\",IF(ISERROR(VLOOKUP($A$3,'Roster LIMA'!$B$2361:$AU$2795,'Roster LIMA'!AH$1,FALSE)),\"\",VLOOKUP($A$3,'Roster LIMA'!$B$2361:$AU$2795,'Roster LIMA'!AH$1,FALSE)))","v":""},{"$f":"IF(COUNTBLANK($A$3)<>0,\"\",IF(ISERROR(VLOOKUP($A$3,'Roster LIMA'!$B$2361:$AU$2795,'Roster LIMA'!AI$1,FALSE)),\"\",VLOOKUP($A$3,'Roster LIMA'!$B$2361:$AU$2795,'Roster LIMA'!AI$1,FALSE)))","v":""},{"$f":"IF(COUNTBLANK($A$3)<>0,\"\",IF(ISERROR(VLOOKUP($A$3,'Roster LIMA'!$B$2361:$AU$2795,'Roster LIMA'!AJ$1,FALSE)),\"\",VLOOKUP($A$3,'Roster LIMA'!$B$2361:$AU$2795,'Roster LIMA'!AJ$1,FALSE)))","v":""},{"$f":"IF(COUNTBLANK($A$3)<>0,\"\",IF(ISERROR(VLOOKUP($A$3,'Roster LIMA'!$B$2361:$AU$2795,'Roster LIMA'!AK$1,FALSE)),\"\",VLOOKUP($A$3,'Roster LIMA'!$B$2361:$AU$2795,'Roster LIMA'!AK$1,FALSE)))","v":""},{"$f":"IF(COUNTBLANK($A$3)<>0,\"\",IF(ISERROR(VLOOKUP($A$3,'Roster LIMA'!$B$2361:$AU$2795,'Roster LIMA'!AL$1,FALSE)),\"\",VLOOKUP($A$3,'Roster LIMA'!$B$2361:$AU$2795,'Roster LIMA'!AL$1,FALSE)))","v":""},{"$f":"IF(COUNTBLANK($A$3)<>0,\"\",IF(ISERROR(VLOOKUP($A$3,'Roster LIMA'!$B$2361:$AU$2795,'Roster LIMA'!AM$1,FALSE)),\"\",VLOOKUP($A$3,'Roster LIMA'!$B$2361:$AU$2795,'Roster LIMA'!AM$1,FALSE)))","v":""},{"$f":"IF(COUNTBLANK($A$3)<>0,\"\",IF(ISERROR(VLOOKUP($A$3,'Roster LIMA'!$B$2361:$AU$2795,'Roster LIMA'!AN$1,FALSE)),\"\",VLOOKUP($A$3,'Roster LIMA'!$B$2361:$AU$2795,'Roster LIMA'!AN$1,FALSE)))","v":""},{"$f":"IF(COUNTBLANK($A$3)<>0,\"\",IF(ISERROR(VLOOKUP($A$3,'Roster LIMA'!$B$2361:$AU$2795,'Roster LIMA'!AO$1,FALSE)),\"\",VLOOKUP($A$3,'Roster LIMA'!$B$2361:$AU$2795,'Roster LIMA'!AO$1,FALSE)))","v":""},{"$f":"IF(COUNTBLANK($A$3)<>0,\"\",IF(ISERROR(VLOOKUP($A$3,'Roster LIMA'!$B$2361:$AU$2795,'Roster LIMA'!AP$1,FALSE)),\"\",VLOOKUP($A$3,'Roster LIMA'!$B$2361:$AU$2795,'Roster LIMA'!AP$1,FALSE)))","v":""},{"$f":"IF(COUNTBLANK($A$3)<>0,\"\",IF(ISERROR(VLOOKUP($A$3,'Roster LIMA'!$B$2361:$AU$2795,'Roster LIMA'!AQ$1,FALSE)),\"\",VLOOKUP($A$3,'Roster LIMA'!$B$2361:$AU$2795,'Roster LIMA'!AQ$1,FALSE)))","v":""},{"$f":"IF(COUNTBLANK($A$3)<>0,\"\",IF(ISERROR(VLOOKUP($A$3,'Roster LIMA'!$B$2361:$AU$2795,'Roster LIMA'!AR$1,FALSE)),\"\",VLOOKUP($A$3,'Roster LIMA'!$B$2361:$AU$2795,'Roster LIMA'!AR$1,FALSE)))","v":""},{"$f":"IF(COUNTBLANK($A$3)<>0,\"\",IF(ISERROR(VLOOKUP($A$3,'Roster LIMA'!$B$2361:$AU$2795,'Roster LIMA'!AS$1,FALSE)),\"\",VLOOKUP($A$3,'Roster LIMA'!$B$2361:$AU$2795,'Roster LIMA'!AS$1,FALSE)))","v":""},{"$f":"IF(COUNTBLANK($A$3)<>0,\"\",IF(ISERROR(VLOOKUP($A$3,'Roster LIMA'!$B$2361:$AU$2795,'Roster LIMA'!AT$1,FALSE)),\"\",VLOOKUP($A$3,'Roster LIMA'!$B$2361:$AU$2795,'Roster LIMA'!AT$1,FALSE)))","v":""},{"$f":"IF(COUNTBLANK($A$3)<>0,\"\",IF(ISERROR(VLOOKUP($A$3,'Roster LIMA'!$B$2361:$AU$2795,'Roster LIMA'!AU$1,FALSE)),\"\",VLOOKUP($A$3,'Roster LIMA'!$B$2361:$AU$2795,'Roster LIMA'!AU$1,FALSE)))","v":""}]
[{"$f":"+'Roster LIMA'!G2796","v":"1978-79"},{"$f":"IF(COUNTBLANK($A$3)<>0,\"\",IF(ISERROR(VLOOKUP($A$3,'Roster LIMA'!$B$2796:$AU$3230,'Roster LIMA'!H$1,FALSE)),\"\",IF(VLOOKUP($A$3,'Roster LIMA'!$B$2796:$AU$3230,'Roster LIMA'!H$1,FALSE)=0,\"\",VLOOKUP($A$3,'Roster LIMA'!$B$2796:$AU$3230,'Roster LIMA'!H$1,FALSE))))","v":""},{"$f":"IF(COUNTBLANK($A$3)<>0,\"\",IF(ISERROR(VLOOKUP($A$3,'Roster LIMA'!$B$2796:$AU$3230,'Roster LIMA'!I$1,FALSE)),\"\",IF(VLOOKUP($A$3,'Roster LIMA'!$B$2796:$AU$3230,'Roster LIMA'!I$1,FALSE)=0,\"\",VLOOKUP($A$3,'Roster LIMA'!$B$2796:$AU$3230,'Roster LIMA'!I$1,FALSE))))","v":""},{"$f":"IF(COUNTBLANK($A$3)<>0,\"\",IF(ISERROR(VLOOKUP($A$3,'Roster LIMA'!$B$2796:$AU$3230,'Roster LIMA'!J$1,FALSE)),\"\",IF(VLOOKUP($A$3,'Roster LIMA'!$B$2796:$AU$3230,'Roster LIMA'!J$1,FALSE)=0,\"\",VLOOKUP($A$3,'Roster LIMA'!$B$2796:$AU$3230,'Roster LIMA'!J$1,FALSE))))","v":""},{"$f":"IF(COUNTBLANK($A$3)<>0,\"\",IF(ISERROR(VLOOKUP($A$3,'Roster LIMA'!$B$2796:$AU$3230,'Roster LIMA'!K$1,FALSE)),\"\",IF(VLOOKUP($A$3,'Roster LIMA'!$B$2796:$AU$3230,'Roster LIMA'!K$1,FALSE)=0,\"\",VLOOKUP($A$3,'Roster LIMA'!$B$2796:$AU$3230,'Roster LIMA'!K$1,FALSE))))","v":""},{"$f":"IF(COUNTBLANK($A$3)<>0,\"\",IF(ISERROR(VLOOKUP($A$3,'Roster LIMA'!$B$2796:$AU$3230,'Roster LIMA'!F$1,FALSE)),\"\",IF(VLOOKUP($A$3,'Roster LIMA'!$B$2796:$AU$3230,'Roster LIMA'!F$1,FALSE)=0,\"\",VLOOKUP($A$3,'Roster LIMA'!$B$2796:$AU$3230,'Roster LIMA'!F$1,FALSE))))","v":""},{"$f":"IF(COUNTBLANK($A$3)<>0,\"\",IF(ISERROR(VLOOKUP($A$3,'Roster LIMA'!$B$2796:$AU$3230,'Roster LIMA'!E$1,FALSE)),\"\",IF(VLOOKUP($A$3,'Roster LIMA'!$B$2796:$AU$3230,'Roster LIMA'!E$1,FALSE)=0,\"\",VLOOKUP($A$3,'Roster LIMA'!$B$2796:$AU$3230,'Roster LIMA'!E$1,FALSE))))","v":""},{"$f":"IF(COUNTBLANK($A$3)<>0,\"\",IF(ISERROR(VLOOKUP($A$3,'Roster LIMA'!$B$2796:$AU$3230,'Roster LIMA'!B$1,FALSE)),\"N/A\",IF(VLOOKUP($A$3,'Roster LIMA'!$B$2796:$AU$3230,'Roster LIMA'!B$1,FALSE)=0,\"\",VLOOKUP($A$3,'Roster LIMA'!$B$2796:$AU$3230,'Roster LIMA'!B$1,FALSE))))","v":""},{"$f":"IF(COUNTBLANK($A$3)<>0,\"\",IF(ISERROR(VLOOKUP($A$3,'Roster LIMA'!$B$2796:$AU$3230,'Roster LIMA'!C$1,FALSE)),\"\",IF(VLOOKUP($A$3,'Roster LIMA'!$B$2796:$AU$3230,'Roster LIMA'!C$1,FALSE)=0,\"\",VLOOKUP($A$3,'Roster LIMA'!$B$2796:$AU$3230,'Roster LIMA'!C$1,FALSE))))","v":""},{"$f":"IF(COUNTBLANK($A$3)<>0,\"\",IF(ISERROR(VLOOKUP($A$3,'Roster LIMA'!$B$2796:$AU$3230,'Roster LIMA'!D$1,FALSE)),\"\",IF(VLOOKUP($A$3,'Roster LIMA'!$B$2796:$AU$3230,'Roster LIMA'!D$1,FALSE)=0,\"\",VLOOKUP($A$3,'Roster LIMA'!$B$2796:$AU$3230,'Roster LIMA'!D$1,FALSE))))","v":""},{"$f":"IF(COUNTBLANK($A$3)<>0,\"\",IF(ISERROR(VLOOKUP($A$3,'Roster LIMA'!$B$2796:$AU$3230,'Roster LIMA'!L$1,FALSE)),\"\",VLOOKUP($A$3,'Roster LIMA'!$B$2796:$AU$3230,'Roster LIMA'!L$1,FALSE)))","v":""},{"$f":"IF(COUNTBLANK($A$3)<>0,\"\",IF(ISERROR(VLOOKUP($A$3,'Roster LIMA'!$B$2796:$AU$3230,'Roster LIMA'!M$1,FALSE)),\"\",VLOOKUP($A$3,'Roster LIMA'!$B$2796:$AU$3230,'Roster LIMA'!M$1,FALSE)))","v":""},{"$f":"IF(COUNTBLANK($A$3)<>0,\"\",IF(ISERROR(VLOOKUP($A$3,'Roster LIMA'!$B$2796:$AU$3230,'Roster LIMA'!N$1,FALSE)),\"\",VLOOKUP($A$3,'Roster LIMA'!$B$2796:$AU$3230,'Roster LIMA'!N$1,FALSE)))","v":""},{"$f":"IF(COUNTBLANK($A$3)<>0,\"\",IF(ISERROR(VLOOKUP($A$3,'Roster LIMA'!$B$2796:$AU$3230,'Roster LIMA'!O$1,FALSE)),\"\",VLOOKUP($A$3,'Roster LIMA'!$B$2796:$AU$3230,'Roster LIMA'!O$1,FALSE)))","v":""},{"$f":"IF(COUNTBLANK($A$3)<>0,\"\",IF(ISERROR(VLOOKUP($A$3,'Roster LIMA'!$B$2796:$AU$3230,'Roster LIMA'!P$1,FALSE)),\"\",VLOOKUP($A$3,'Roster LIMA'!$B$2796:$AU$3230,'Roster LIMA'!P$1,FALSE)))","v":""},{"$f":"IF(COUNTBLANK($A$3)<>0,\"\",IF(ISERROR(VLOOKUP($A$3,'Roster LIMA'!$B$2796:$AU$3230,'Roster LIMA'!Q$1,FALSE)),\"\",VLOOKUP($A$3,'Roster LIMA'!$B$2796:$AU$3230,'Roster LIMA'!Q$1,FALSE)))","v":""},{"$f":"IF(COUNTBLANK($A$3)<>0,\"\",IF(ISERROR(VLOOKUP($A$3,'Roster LIMA'!$B$2796:$AU$3230,'Roster LIMA'!R$1,FALSE)),\"\",VLOOKUP($A$3,'Roster LIMA'!$B$2796:$AU$3230,'Roster LIMA'!R$1,FALSE)))","v":""},{"$f":"IF(COUNTBLANK($A$3)<>0,\"\",IF(ISERROR(VLOOKUP($A$3,'Roster LIMA'!$B$2796:$AU$3230,'Roster LIMA'!S$1,FALSE)),\"\",VLOOKUP($A$3,'Roster LIMA'!$B$2796:$AU$3230,'Roster LIMA'!S$1,FALSE)))","v":""},{"$f":"IF(COUNTBLANK($A$3)<>0,\"\",IF(ISERROR(VLOOKUP($A$3,'Roster LIMA'!$B$2796:$AU$3230,'Roster LIMA'!T$1,FALSE)),\"\",VLOOKUP($A$3,'Roster LIMA'!$B$2796:$AU$3230,'Roster LIMA'!T$1,FALSE)))","v":""},{"$f":"IF(COUNTBLANK($A$3)<>0,\"\",IF(ISERROR(VLOOKUP($A$3,'Roster LIMA'!$B$2796:$AU$3230,'Roster LIMA'!U$1,FALSE)),\"\",VLOOKUP($A$3,'Roster LIMA'!$B$2796:$AU$3230,'Roster LIMA'!U$1,FALSE)))","v":""},{"$f":"IF(COUNTBLANK($A$3)<>0,\"\",IF(ISERROR(VLOOKUP($A$3,'Roster LIMA'!$B$2796:$AU$3230,'Roster LIMA'!V$1,FALSE)),\"\",VLOOKUP($A$3,'Roster LIMA'!$B$2796:$AU$3230,'Roster LIMA'!V$1,FALSE)))","v":""},{"$f":"IF(COUNTBLANK($A$3)<>0,\"\",IF(ISERROR(VLOOKUP($A$3,'Roster LIMA'!$B$2796:$AU$3230,'Roster LIMA'!W$1,FALSE)),\"\",VLOOKUP($A$3,'Roster LIMA'!$B$2796:$AU$3230,'Roster LIMA'!W$1,FALSE)))","v":""},{"$f":"IF(COUNTBLANK($A$3)<>0,\"\",IF(ISERROR(VLOOKUP($A$3,'Roster LIMA'!$B$2796:$AU$3230,'Roster LIMA'!X$1,FALSE)),\"\",VLOOKUP($A$3,'Roster LIMA'!$B$2796:$AU$3230,'Roster LIMA'!X$1,FALSE)))","v":""},{"$f":"IF(COUNTBLANK($A$3)<>0,\"\",IF(ISERROR(VLOOKUP($A$3,'Roster LIMA'!$B$2796:$AU$3230,'Roster LIMA'!Y$1,FALSE)),\"\",VLOOKUP($A$3,'Roster LIMA'!$B$2796:$AU$3230,'Roster LIMA'!Y$1,FALSE)))","v":""},{"$f":"IF(COUNTBLANK($A$3)<>0,\"\",IF(ISERROR(VLOOKUP($A$3,'Roster LIMA'!$B$2796:$AU$3230,'Roster LIMA'!Z$1,FALSE)),\"\",VLOOKUP($A$3,'Roster LIMA'!$B$2796:$AU$3230,'Roster LIMA'!Z$1,FALSE)))","v":""},{"$f":"IF(COUNTBLANK($A$3)<>0,\"\",IF(ISERROR(VLOOKUP($A$3,'Roster LIMA'!$B$2796:$AU$3230,'Roster LIMA'!AA$1,FALSE)),\"\",VLOOKUP($A$3,'Roster LIMA'!$B$2796:$AU$3230,'Roster LIMA'!AA$1,FALSE)))","v":""},{"$f":"IF(COUNTBLANK($A$3)<>0,\"\",IF(ISERROR(VLOOKUP($A$3,'Roster LIMA'!$B$2796:$AU$3230,'Roster LIMA'!AB$1,FALSE)),\"\",VLOOKUP($A$3,'Roster LIMA'!$B$2796:$AU$3230,'Roster LIMA'!AB$1,FALSE)))","v":""},{"$f":"IF(COUNTBLANK($A$3)<>0,\"\",IF(ISERROR(VLOOKUP($A$3,'Roster LIMA'!$B$2796:$AU$3230,'Roster LIMA'!AC$1,FALSE)),\"\",VLOOKUP($A$3,'Roster LIMA'!$B$2796:$AU$3230,'Roster LIMA'!AC$1,FALSE)))","v":""},{"$f":"IF(COUNTBLANK($A$3)<>0,\"\",IF(ISERROR(VLOOKUP($A$3,'Roster LIMA'!$B$2796:$AU$3230,'Roster LIMA'!AD$1,FALSE)),\"\",VLOOKUP($A$3,'Roster LIMA'!$B$2796:$AU$3230,'Roster LIMA'!AD$1,FALSE)))","v":""},{"$f":"IF(COUNTBLANK($A$3)<>0,\"\",IF(ISERROR(VLOOKUP($A$3,'Roster LIMA'!$B$2796:$AU$3230,'Roster LIMA'!AE$1,FALSE)),\"\",VLOOKUP($A$3,'Roster LIMA'!$B$2796:$AU$3230,'Roster LIMA'!AE$1,FALSE)))","v":""},{"$f":"IF(COUNTBLANK($A$3)<>0,\"\",IF(ISERROR(VLOOKUP($A$3,'Roster LIMA'!$B$2796:$AU$3230,'Roster LIMA'!AF$1,FALSE)),\"\",VLOOKUP($A$3,'Roster LIMA'!$B$2796:$AU$3230,'Roster LIMA'!AF$1,FALSE)))","v":""},{"$f":"IF(COUNTBLANK($A$3)<>0,\"\",IF(ISERROR(VLOOKUP($A$3,'Roster LIMA'!$B$2796:$AU$3230,'Roster LIMA'!AG$1,FALSE)),\"\",VLOOKUP($A$3,'Roster LIMA'!$B$2796:$AU$3230,'Roster LIMA'!AG$1,FALSE)))","v":""},{"$f":"IF(COUNTBLANK($A$3)<>0,\"\",IF(ISERROR(VLOOKUP($A$3,'Roster LIMA'!$B$2796:$AU$3230,'Roster LIMA'!AH$1,FALSE)),\"\",VLOOKUP($A$3,'Roster LIMA'!$B$2796:$AU$3230,'Roster LIMA'!AH$1,FALSE)))","v":""},{"$f":"IF(COUNTBLANK($A$3)<>0,\"\",IF(ISERROR(VLOOKUP($A$3,'Roster LIMA'!$B$2796:$AU$3230,'Roster LIMA'!AI$1,FALSE)),\"\",VLOOKUP($A$3,'Roster LIMA'!$B$2796:$AU$3230,'Roster LIMA'!AI$1,FALSE)))","v":""},{"$f":"IF(COUNTBLANK($A$3)<>0,\"\",IF(ISERROR(VLOOKUP($A$3,'Roster LIMA'!$B$2796:$AU$3230,'Roster LIMA'!AJ$1,FALSE)),\"\",VLOOKUP($A$3,'Roster LIMA'!$B$2796:$AU$3230,'Roster LIMA'!AJ$1,FALSE)))","v":""},{"$f":"IF(COUNTBLANK($A$3)<>0,\"\",IF(ISERROR(VLOOKUP($A$3,'Roster LIMA'!$B$2796:$AU$3230,'Roster LIMA'!AK$1,FALSE)),\"\",VLOOKUP($A$3,'Roster LIMA'!$B$2796:$AU$3230,'Roster LIMA'!AK$1,FALSE)))","v":""},{"$f":"IF(COUNTBLANK($A$3)<>0,\"\",IF(ISERROR(VLOOKUP($A$3,'Roster LIMA'!$B$2796:$AU$3230,'Roster LIMA'!AL$1,FALSE)),\"\",VLOOKUP($A$3,'Roster LIMA'!$B$2796:$AU$3230,'Roster LIMA'!AL$1,FALSE)))","v":""},{"$f":"IF(COUNTBLANK($A$3)<>0,\"\",IF(ISERROR(VLOOKUP($A$3,'Roster LIMA'!$B$2796:$AU$3230,'Roster LIMA'!AM$1,FALSE)),\"\",VLOOKUP($A$3,'Roster LIMA'!$B$2796:$AU$3230,'Roster LIMA'!AM$1,FALSE)))","v":""},{"$f":"IF(COUNTBLANK($A$3)<>0,\"\",IF(ISERROR(VLOOKUP($A$3,'Roster LIMA'!$B$2796:$AU$3230,'Roster LIMA'!AN$1,FALSE)),\"\",VLOOKUP($A$3,'Roster LIMA'!$B$2796:$AU$3230,'Roster LIMA'!AN$1,FALSE)))","v":""},{"$f":"IF(COUNTBLANK($A$3)<>0,\"\",IF(ISERROR(VLOOKUP($A$3,'Roster LIMA'!$B$2796:$AU$3230,'Roster LIMA'!AO$1,FALSE)),\"\",VLOOKUP($A$3,'Roster LIMA'!$B$2796:$AU$3230,'Roster LIMA'!AO$1,FALSE)))","v":""},{"$f":"IF(COUNTBLANK($A$3)<>0,\"\",IF(ISERROR(VLOOKUP($A$3,'Roster LIMA'!$B$2796:$AU$3230,'Roster LIMA'!AP$1,FALSE)),\"\",VLOOKUP($A$3,'Roster LIMA'!$B$2796:$AU$3230,'Roster LIMA'!AP$1,FALSE)))","v":""},{"$f":"IF(COUNTBLANK($A$3)<>0,\"\",IF(ISERROR(VLOOKUP($A$3,'Roster LIMA'!$B$2796:$AU$3230,'Roster LIMA'!AQ$1,FALSE)),\"\",VLOOKUP($A$3,'Roster LIMA'!$B$2796:$AU$3230,'Roster LIMA'!AQ$1,FALSE)))","v":""},{"$f":"IF(COUNTBLANK($A$3)<>0,\"\",IF(ISERROR(VLOOKUP($A$3,'Roster LIMA'!$B$2796:$AU$3230,'Roster LIMA'!AR$1,FALSE)),\"\",VLOOKUP($A$3,'Roster LIMA'!$B$2796:$AU$3230,'Roster LIMA'!AR$1,FALSE)))","v":""},{"$f":"IF(COUNTBLANK($A$3)<>0,\"\",IF(ISERROR(VLOOKUP($A$3,'Roster LIMA'!$B$2796:$AU$3230,'Roster LIMA'!AS$1,FALSE)),\"\",VLOOKUP($A$3,'Roster LIMA'!$B$2796:$AU$3230,'Roster LIMA'!AS$1,FALSE)))","v":""},{"$f":"IF(COUNTBLANK($A$3)<>0,\"\",IF(ISERROR(VLOOKUP($A$3,'Roster LIMA'!$B$2796:$AU$3230,'Roster LIMA'!AT$1,FALSE)),\"\",VLOOKUP($A$3,'Roster LIMA'!$B$2796:$AU$3230,'Roster LIMA'!AT$1,FALSE)))","v":""},{"$f":"IF(COUNTBLANK($A$3)<>0,\"\",IF(ISERROR(VLOOKUP($A$3,'Roster LIMA'!$B$2796:$AU$3230,'Roster LIMA'!AU$1,FALSE)),\"\",VLOOKUP($A$3,'Roster LIMA'!$B$2796:$AU$3230,'Roster LIMA'!AU$1,FALSE)))","v":""}]
[{"$f":"+'Roster LIMA'!G3231","v":"1979-80"},{"$f":"IF(COUNTBLANK($A$3)<>0,\"\",IF(ISERROR(VLOOKUP($A$3,'Roster LIMA'!$B$3231:$AU$3655,'Roster LIMA'!H$1,FALSE)),\"\",IF(VLOOKUP($A$3,'Roster LIMA'!$B$3231:$AU$3655,'Roster LIMA'!H$1,FALSE)=0,\"\",VLOOKUP($A$3,'Roster LIMA'!$B$3231:$AU$3655,'Roster LIMA'!H$1,FALSE))))","v":""},{"$f":"IF(COUNTBLANK($A$3)<>0,\"\",IF(ISERROR(VLOOKUP($A$3,'Roster LIMA'!$B$3231:$AU$3655,'Roster LIMA'!I$1,FALSE)),\"\",IF(VLOOKUP($A$3,'Roster LIMA'!$B$3231:$AU$3655,'Roster LIMA'!I$1,FALSE)=0,\"\",VLOOKUP($A$3,'Roster LIMA'!$B$3231:$AU$3655,'Roster LIMA'!I$1,FALSE))))","v":""},{"$f":"IF(COUNTBLANK($A$3)<>0,\"\",IF(ISERROR(VLOOKUP($A$3,'Roster LIMA'!$B$3231:$AU$3655,'Roster LIMA'!J$1,FALSE)),\"\",IF(VLOOKUP($A$3,'Roster LIMA'!$B$3231:$AU$3655,'Roster LIMA'!J$1,FALSE)=0,\"\",VLOOKUP($A$3,'Roster LIMA'!$B$3231:$AU$3655,'Roster LIMA'!J$1,FALSE))))","v":""},{"$f":"IF(COUNTBLANK($A$3)<>0,\"\",IF(ISERROR(VLOOKUP($A$3,'Roster LIMA'!$B$3231:$AU$3655,'Roster LIMA'!K$1,FALSE)),\"\",IF(VLOOKUP($A$3,'Roster LIMA'!$B$3231:$AU$3655,'Roster LIMA'!K$1,FALSE)=0,\"\",VLOOKUP($A$3,'Roster LIMA'!$B$3231:$AU$3655,'Roster LIMA'!K$1,FALSE))))","v":""},{"$f":"IF(COUNTBLANK($A$3)<>0,\"\",IF(ISERROR(VLOOKUP($A$3,'Roster LIMA'!$B$3231:$AU$3655,'Roster LIMA'!F$1,FALSE)),\"\",IF(VLOOKUP($A$3,'Roster LIMA'!$B$3231:$AU$3655,'Roster LIMA'!F$1,FALSE)=0,\"\",VLOOKUP($A$3,'Roster LIMA'!$B$3231:$AU$3655,'Roster LIMA'!F$1,FALSE))))","v":""},{"$f":"IF(COUNTBLANK($A$3)<>0,\"\",IF(ISERROR(VLOOKUP($A$3,'Roster LIMA'!$B$3231:$AU$3655,'Roster LIMA'!E$1,FALSE)),\"\",IF(VLOOKUP($A$3,'Roster LIMA'!$B$3231:$AU$3655,'Roster LIMA'!E$1,FALSE)=0,\"\",VLOOKUP($A$3,'Roster LIMA'!$B$3231:$AU$3655,'Roster LIMA'!E$1,FALSE))))","v":""},{"$f":"IF(COUNTBLANK($A$3)<>0,\"\",IF(ISERROR(VLOOKUP($A$3,'Roster LIMA'!$B$3231:$AU$3655,'Roster LIMA'!B$1,FALSE)),\"N/A\",IF(VLOOKUP($A$3,'Roster LIMA'!$B$3231:$AU$3655,'Roster LIMA'!B$1,FALSE)=0,\"\",VLOOKUP($A$3,'Roster LIMA'!$B$3231:$AU$3655,'Roster LIMA'!B$1,FALSE))))","v":""},{"$f":"IF(COUNTBLANK($A$3)<>0,\"\",IF(ISERROR(VLOOKUP($A$3,'Roster LIMA'!$B$3231:$AU$3655,'Roster LIMA'!C$1,FALSE)),\"\",IF(VLOOKUP($A$3,'Roster LIMA'!$B$3231:$AU$3655,'Roster LIMA'!C$1,FALSE)=0,\"\",VLOOKUP($A$3,'Roster LIMA'!$B$3231:$AU$3655,'Roster LIMA'!C$1,FALSE))))","v":""},{"$f":"IF(COUNTBLANK($A$3)<>0,\"\",IF(ISERROR(VLOOKUP($A$3,'Roster LIMA'!$B$3231:$AU$3655,'Roster LIMA'!D$1,FALSE)),\"\",IF(VLOOKUP($A$3,'Roster LIMA'!$B$3231:$AU$3655,'Roster LIMA'!D$1,FALSE)=0,\"\",VLOOKUP($A$3,'Roster LIMA'!$B$3231:$AU$3655,'Roster LIMA'!D$1,FALSE))))","v":""},{"$f":"IF(COUNTBLANK($A$3)<>0,\"\",IF(ISERROR(VLOOKUP($A$3,'Roster LIMA'!$B$3231:$AU$3655,'Roster LIMA'!L$1,FALSE)),\"\",VLOOKUP($A$3,'Roster LIMA'!$B$3231:$AU$3655,'Roster LIMA'!L$1,FALSE)))","v":""},{"$f":"IF(COUNTBLANK($A$3)<>0,\"\",IF(ISERROR(VLOOKUP($A$3,'Roster LIMA'!$B$3231:$AU$3655,'Roster LIMA'!M$1,FALSE)),\"\",VLOOKUP($A$3,'Roster LIMA'!$B$3231:$AU$3655,'Roster LIMA'!M$1,FALSE)))","v":""},{"$f":"IF(COUNTBLANK($A$3)<>0,\"\",IF(ISERROR(VLOOKUP($A$3,'Roster LIMA'!$B$3231:$AU$3655,'Roster LIMA'!N$1,FALSE)),\"\",VLOOKUP($A$3,'Roster LIMA'!$B$3231:$AU$3655,'Roster LIMA'!N$1,FALSE)))","v":""},{"$f":"IF(COUNTBLANK($A$3)<>0,\"\",IF(ISERROR(VLOOKUP($A$3,'Roster LIMA'!$B$3231:$AU$3655,'Roster LIMA'!O$1,FALSE)),\"\",VLOOKUP($A$3,'Roster LIMA'!$B$3231:$AU$3655,'Roster LIMA'!O$1,FALSE)))","v":""},{"$f":"IF(COUNTBLANK($A$3)<>0,\"\",IF(ISERROR(VLOOKUP($A$3,'Roster LIMA'!$B$3231:$AU$3655,'Roster LIMA'!P$1,FALSE)),\"\",VLOOKUP($A$3,'Roster LIMA'!$B$3231:$AU$3655,'Roster LIMA'!P$1,FALSE)))","v":""},{"$f":"IF(COUNTBLANK($A$3)<>0,\"\",IF(ISERROR(VLOOKUP($A$3,'Roster LIMA'!$B$3231:$AU$3655,'Roster LIMA'!Q$1,FALSE)),\"\",VLOOKUP($A$3,'Roster LIMA'!$B$3231:$AU$3655,'Roster LIMA'!Q$1,FALSE)))","v":""},{"$f":"IF(COUNTBLANK($A$3)<>0,\"\",IF(ISERROR(VLOOKUP($A$3,'Roster LIMA'!$B$3231:$AU$3655,'Roster LIMA'!R$1,FALSE)),\"\",VLOOKUP($A$3,'Roster LIMA'!$B$3231:$AU$3655,'Roster LIMA'!R$1,FALSE)))","v":""},{"$f":"IF(COUNTBLANK($A$3)<>0,\"\",IF(ISERROR(VLOOKUP($A$3,'Roster LIMA'!$B$3231:$AU$3655,'Roster LIMA'!S$1,FALSE)),\"\",VLOOKUP($A$3,'Roster LIMA'!$B$3231:$AU$3655,'Roster LIMA'!S$1,FALSE)))","v":""},{"$f":"IF(COUNTBLANK($A$3)<>0,\"\",IF(ISERROR(VLOOKUP($A$3,'Roster LIMA'!$B$3231:$AU$3655,'Roster LIMA'!T$1,FALSE)),\"\",VLOOKUP($A$3,'Roster LIMA'!$B$3231:$AU$3655,'Roster LIMA'!T$1,FALSE)))","v":""},{"$f":"IF(COUNTBLANK($A$3)<>0,\"\",IF(ISERROR(VLOOKUP($A$3,'Roster LIMA'!$B$3231:$AU$3655,'Roster LIMA'!U$1,FALSE)),\"\",VLOOKUP($A$3,'Roster LIMA'!$B$3231:$AU$3655,'Roster LIMA'!U$1,FALSE)))","v":""},{"$f":"IF(COUNTBLANK($A$3)<>0,\"\",IF(ISERROR(VLOOKUP($A$3,'Roster LIMA'!$B$3231:$AU$3655,'Roster LIMA'!V$1,FALSE)),\"\",VLOOKUP($A$3,'Roster LIMA'!$B$3231:$AU$3655,'Roster LIMA'!V$1,FALSE)))","v":""},{"$f":"IF(COUNTBLANK($A$3)<>0,\"\",IF(ISERROR(VLOOKUP($A$3,'Roster LIMA'!$B$3231:$AU$3655,'Roster LIMA'!W$1,FALSE)),\"\",VLOOKUP($A$3,'Roster LIMA'!$B$3231:$AU$3655,'Roster LIMA'!W$1,FALSE)))","v":""},{"$f":"IF(COUNTBLANK($A$3)<>0,\"\",IF(ISERROR(VLOOKUP($A$3,'Roster LIMA'!$B$3231:$AU$3655,'Roster LIMA'!X$1,FALSE)),\"\",VLOOKUP($A$3,'Roster LIMA'!$B$3231:$AU$3655,'Roster LIMA'!X$1,FALSE)))","v":""},{"$f":"IF(COUNTBLANK($A$3)<>0,\"\",IF(ISERROR(VLOOKUP($A$3,'Roster LIMA'!$B$3231:$AU$3655,'Roster LIMA'!Y$1,FALSE)),\"\",VLOOKUP($A$3,'Roster LIMA'!$B$3231:$AU$3655,'Roster LIMA'!Y$1,FALSE)))","v":""},{"$f":"IF(COUNTBLANK($A$3)<>0,\"\",IF(ISERROR(VLOOKUP($A$3,'Roster LIMA'!$B$3231:$AU$3655,'Roster LIMA'!Z$1,FALSE)),\"\",VLOOKUP($A$3,'Roster LIMA'!$B$3231:$AU$3655,'Roster LIMA'!Z$1,FALSE)))","v":""},{"$f":"IF(COUNTBLANK($A$3)<>0,\"\",IF(ISERROR(VLOOKUP($A$3,'Roster LIMA'!$B$3231:$AU$3655,'Roster LIMA'!AA$1,FALSE)),\"\",VLOOKUP($A$3,'Roster LIMA'!$B$3231:$AU$3655,'Roster LIMA'!AA$1,FALSE)))","v":""},{"$f":"IF(COUNTBLANK($A$3)<>0,\"\",IF(ISERROR(VLOOKUP($A$3,'Roster LIMA'!$B$3231:$AU$3655,'Roster LIMA'!AB$1,FALSE)),\"\",VLOOKUP($A$3,'Roster LIMA'!$B$3231:$AU$3655,'Roster LIMA'!AB$1,FALSE)))","v":""},{"$f":"IF(COUNTBLANK($A$3)<>0,\"\",IF(ISERROR(VLOOKUP($A$3,'Roster LIMA'!$B$3231:$AU$3655,'Roster LIMA'!AC$1,FALSE)),\"\",VLOOKUP($A$3,'Roster LIMA'!$B$3231:$AU$3655,'Roster LIMA'!AC$1,FALSE)))","v":""},{"$f":"IF(COUNTBLANK($A$3)<>0,\"\",IF(ISERROR(VLOOKUP($A$3,'Roster LIMA'!$B$3231:$AU$3655,'Roster LIMA'!AD$1,FALSE)),\"\",VLOOKUP($A$3,'Roster LIMA'!$B$3231:$AU$3655,'Roster LIMA'!AD$1,FALSE)))","v":""},{"$f":"IF(COUNTBLANK($A$3)<>0,\"\",IF(ISERROR(VLOOKUP($A$3,'Roster LIMA'!$B$3231:$AU$3655,'Roster LIMA'!AE$1,FALSE)),\"\",VLOOKUP($A$3,'Roster LIMA'!$B$3231:$AU$3655,'Roster LIMA'!AE$1,FALSE)))","v":""},{"$f":"IF(COUNTBLANK($A$3)<>0,\"\",IF(ISERROR(VLOOKUP($A$3,'Roster LIMA'!$B$3231:$AU$3655,'Roster LIMA'!AF$1,FALSE)),\"\",VLOOKUP($A$3,'Roster LIMA'!$B$3231:$AU$3655,'Roster LIMA'!AF$1,FALSE)))","v":""},{"$f":"IF(COUNTBLANK($A$3)<>0,\"\",IF(ISERROR(VLOOKUP($A$3,'Roster LIMA'!$B$3231:$AU$3655,'Roster LIMA'!AG$1,FALSE)),\"\",VLOOKUP($A$3,'Roster LIMA'!$B$3231:$AU$3655,'Roster LIMA'!AG$1,FALSE)))","v":""},{"$f":"IF(COUNTBLANK($A$3)<>0,\"\",IF(ISERROR(VLOOKUP($A$3,'Roster LIMA'!$B$3231:$AU$3655,'Roster LIMA'!AH$1,FALSE)),\"\",VLOOKUP($A$3,'Roster LIMA'!$B$3231:$AU$3655,'Roster LIMA'!AH$1,FALSE)))","v":""},{"$f":"IF(COUNTBLANK($A$3)<>0,\"\",IF(ISERROR(VLOOKUP($A$3,'Roster LIMA'!$B$3231:$AU$3655,'Roster LIMA'!AI$1,FALSE)),\"\",VLOOKUP($A$3,'Roster LIMA'!$B$3231:$AU$3655,'Roster LIMA'!AI$1,FALSE)))","v":""},{"$f":"IF(COUNTBLANK($A$3)<>0,\"\",IF(ISERROR(VLOOKUP($A$3,'Roster LIMA'!$B$3231:$AU$3655,'Roster LIMA'!AJ$1,FALSE)),\"\",VLOOKUP($A$3,'Roster LIMA'!$B$3231:$AU$3655,'Roster LIMA'!AJ$1,FALSE)))","v":""},{"$f":"IF(COUNTBLANK($A$3)<>0,\"\",IF(ISERROR(VLOOKUP($A$3,'Roster LIMA'!$B$3231:$AU$3655,'Roster LIMA'!AK$1,FALSE)),\"\",VLOOKUP($A$3,'Roster LIMA'!$B$3231:$AU$3655,'Roster LIMA'!AK$1,FALSE)))","v":""},{"$f":"IF(COUNTBLANK($A$3)<>0,\"\",IF(ISERROR(VLOOKUP($A$3,'Roster LIMA'!$B$3231:$AU$3655,'Roster LIMA'!AL$1,FALSE)),\"\",VLOOKUP($A$3,'Roster LIMA'!$B$3231:$AU$3655,'Roster LIMA'!AL$1,FALSE)))","v":""},{"$f":"IF(COUNTBLANK($A$3)<>0,\"\",IF(ISERROR(VLOOKUP($A$3,'Roster LIMA'!$B$3231:$AU$3655,'Roster LIMA'!AM$1,FALSE)),\"\",VLOOKUP($A$3,'Roster LIMA'!$B$3231:$AU$3655,'Roster LIMA'!AM$1,FALSE)))","v":""},{"$f":"IF(COUNTBLANK($A$3)<>0,\"\",IF(ISERROR(VLOOKUP($A$3,'Roster LIMA'!$B$3231:$AU$3655,'Roster LIMA'!AN$1,FALSE)),\"\",VLOOKUP($A$3,'Roster LIMA'!$B$3231:$AU$3655,'Roster LIMA'!AN$1,FALSE)))","v":""},{"$f":"IF(COUNTBLANK($A$3)<>0,\"\",IF(ISERROR(VLOOKUP($A$3,'Roster LIMA'!$B$3231:$AU$3655,'Roster LIMA'!AO$1,FALSE)),\"\",VLOOKUP($A$3,'Roster LIMA'!$B$3231:$AU$3655,'Roster LIMA'!AO$1,FALSE)))","v":""},{"$f":"IF(COUNTBLANK($A$3)<>0,\"\",IF(ISERROR(VLOOKUP($A$3,'Roster LIMA'!$B$3231:$AU$3655,'Roster LIMA'!AP$1,FALSE)),\"\",VLOOKUP($A$3,'Roster LIMA'!$B$3231:$AU$3655,'Roster LIMA'!AP$1,FALSE)))","v":""},{"$f":"IF(COUNTBLANK($A$3)<>0,\"\",IF(ISERROR(VLOOKUP($A$3,'Roster LIMA'!$B$3231:$AU$3655,'Roster LIMA'!AQ$1,FALSE)),\"\",VLOOKUP($A$3,'Roster LIMA'!$B$3231:$AU$3655,'Roster LIMA'!AQ$1,FALSE)))","v":""},{"$f":"IF(COUNTBLANK($A$3)<>0,\"\",IF(ISERROR(VLOOKUP($A$3,'Roster LIMA'!$B$3231:$AU$3655,'Roster LIMA'!AR$1,FALSE)),\"\",VLOOKUP($A$3,'Roster LIMA'!$B$3231:$AU$3655,'Roster LIMA'!AR$1,FALSE)))","v":""},{"$f":"IF(COUNTBLANK($A$3)<>0,\"\",IF(ISERROR(VLOOKUP($A$3,'Roster LIMA'!$B$3231:$AU$3655,'Roster LIMA'!AS$1,FALSE)),\"\",VLOOKUP($A$3,'Roster LIMA'!$B$3231:$AU$3655,'Roster LIMA'!AS$1,FALSE)))","v":""},{"$f":"IF(COUNTBLANK($A$3)<>0,\"\",IF(ISERROR(VLOOKUP($A$3,'Roster LIMA'!$B$3231:$AU$3655,'Roster LIMA'!AT$1,FALSE)),\"\",VLOOKUP($A$3,'Roster LIMA'!$B$3231:$AU$3655,'Roster LIMA'!AT$1,FALSE)))","v":""},{"$f":"IF(COUNTBLANK($A$3)<>0,\"\",IF(ISERROR(VLOOKUP($A$3,'Roster LIMA'!$B$3231:$AU$3655,'Roster LIMA'!AU$1,FALSE)),\"\",VLOOKUP($A$3,'Roster LIMA'!$B$3231:$AU$3655,'Roster LIMA'!AU$1,FALSE)))","v":""}]
[{"$f":"+'Roster LIMA'!G3656","v":"1980-81"},{"$f":"IF(COUNTBLANK($A$3)<>0,\"\",IF(ISERROR(VLOOKUP($A$3,'Roster LIMA'!$B$3656:$AU$4129,'Roster LIMA'!H$1,FALSE)),\"\",IF(VLOOKUP($A$3,'Roster LIMA'!$B$3656:$AU$4129,'Roster LIMA'!H$1,FALSE)=0,\"\",VLOOKUP($A$3,'Roster LIMA'!$B$3656:$AU$4129,'Roster LIMA'!H$1,FALSE))))","v":""},{"$f":"IF(COUNTBLANK($A$3)<>0,\"\",IF(ISERROR(VLOOKUP($A$3,'Roster LIMA'!$B$3656:$AU$4129,'Roster LIMA'!I$1,FALSE)),\"\",IF(VLOOKUP($A$3,'Roster LIMA'!$B$3656:$AU$4129,'Roster LIMA'!I$1,FALSE)=0,\"\",VLOOKUP($A$3,'Roster LIMA'!$B$3656:$AU$4129,'Roster LIMA'!I$1,FALSE))))","v":""},{"$f":"IF(COUNTBLANK($A$3)<>0,\"\",IF(ISERROR(VLOOKUP($A$3,'Roster LIMA'!$B$3656:$AU$4129,'Roster LIMA'!J$1,FALSE)),\"\",IF(VLOOKUP($A$3,'Roster LIMA'!$B$3656:$AU$4129,'Roster LIMA'!J$1,FALSE)=0,\"\",VLOOKUP($A$3,'Roster LIMA'!$B$3656:$AU$4129,'Roster LIMA'!J$1,FALSE))))","v":""},{"$f":"IF(COUNTBLANK($A$3)<>0,\"\",IF(ISERROR(VLOOKUP($A$3,'Roster LIMA'!$B$3656:$AU$4129,'Roster LIMA'!K$1,FALSE)),\"\",IF(VLOOKUP($A$3,'Roster LIMA'!$B$3656:$AU$4129,'Roster LIMA'!K$1,FALSE)=0,\"\",VLOOKUP($A$3,'Roster LIMA'!$B$3656:$AU$4129,'Roster LIMA'!K$1,FALSE))))","v":""},{"$f":"IF(COUNTBLANK($A$3)<>0,\"\",IF(ISERROR(VLOOKUP($A$3,'Roster LIMA'!$B$3656:$AU$4129,'Roster LIMA'!F$1,FALSE)),\"\",IF(VLOOKUP($A$3,'Roster LIMA'!$B$3656:$AU$4129,'Roster LIMA'!F$1,FALSE)=0,\"\",VLOOKUP($A$3,'Roster LIMA'!$B$3656:$AU$4129,'Roster LIMA'!F$1,FALSE))))","v":""},{"$f":"IF(COUNTBLANK($A$3)<>0,\"\",IF(ISERROR(VLOOKUP($A$3,'Roster LIMA'!$B$3656:$AU$4129,'Roster LIMA'!E$1,FALSE)),\"\",IF(VLOOKUP($A$3,'Roster LIMA'!$B$3656:$AU$4129,'Roster LIMA'!E$1,FALSE)=0,\"\",VLOOKUP($A$3,'Roster LIMA'!$B$3656:$AU$4129,'Roster LIMA'!E$1,FALSE))))","v":""},{"$f":"IF(COUNTBLANK($A$3)<>0,\"\",IF(ISERROR(VLOOKUP($A$3,'Roster LIMA'!$B$3656:$AU$4129,'Roster LIMA'!B$1,FALSE)),\"N/A\",IF(VLOOKUP($A$3,'Roster LIMA'!$B$3656:$AU$4129,'Roster LIMA'!B$1,FALSE)=0,\"\",VLOOKUP($A$3,'Roster LIMA'!$B$3656:$AU$4129,'Roster LIMA'!B$1,FALSE))))","v":""},{"$f":"IF(COUNTBLANK($A$3)<>0,\"\",IF(ISERROR(VLOOKUP($A$3,'Roster LIMA'!$B$3656:$AU$4129,'Roster LIMA'!C$1,FALSE)),\"\",IF(VLOOKUP($A$3,'Roster LIMA'!$B$3656:$AU$4129,'Roster LIMA'!C$1,FALSE)=0,\"\",VLOOKUP($A$3,'Roster LIMA'!$B$3656:$AU$4129,'Roster LIMA'!C$1,FALSE))))","v":""},{"$f":"IF(COUNTBLANK($A$3)<>0,\"\",IF(ISERROR(VLOOKUP($A$3,'Roster LIMA'!$B$3656:$AU$4129,'Roster LIMA'!D$1,FALSE)),\"\",IF(VLOOKUP($A$3,'Roster LIMA'!$B$3656:$AU$4129,'Roster LIMA'!D$1,FALSE)=0,\"\",VLOOKUP($A$3,'Roster LIMA'!$B$3656:$AU$4129,'Roster LIMA'!D$1,FALSE))))","v":""},{"$f":"IF(COUNTBLANK($A$3)<>0,\"\",IF(ISERROR(VLOOKUP($A$3,'Roster LIMA'!$B$3656:$AU$4129,'Roster LIMA'!L$1,FALSE)),\"\",VLOOKUP($A$3,'Roster LIMA'!$B$3656:$AU$4129,'Roster LIMA'!L$1,FALSE)))","v":""},{"$f":"IF(COUNTBLANK($A$3)<>0,\"\",IF(ISERROR(VLOOKUP($A$3,'Roster LIMA'!$B$3656:$AU$4129,'Roster LIMA'!M$1,FALSE)),\"\",VLOOKUP($A$3,'Roster LIMA'!$B$3656:$AU$4129,'Roster LIMA'!M$1,FALSE)))","v":""},{"$f":"IF(COUNTBLANK($A$3)<>0,\"\",IF(ISERROR(VLOOKUP($A$3,'Roster LIMA'!$B$3656:$AU$4129,'Roster LIMA'!N$1,FALSE)),\"\",VLOOKUP($A$3,'Roster LIMA'!$B$3656:$AU$4129,'Roster LIMA'!N$1,FALSE)))","v":""},{"$f":"IF(COUNTBLANK($A$3)<>0,\"\",IF(ISERROR(VLOOKUP($A$3,'Roster LIMA'!$B$3656:$AU$4129,'Roster LIMA'!O$1,FALSE)),\"\",VLOOKUP($A$3,'Roster LIMA'!$B$3656:$AU$4129,'Roster LIMA'!O$1,FALSE)))","v":""},{"$f":"IF(COUNTBLANK($A$3)<>0,\"\",IF(ISERROR(VLOOKUP($A$3,'Roster LIMA'!$B$3656:$AU$4129,'Roster LIMA'!P$1,FALSE)),\"\",VLOOKUP($A$3,'Roster LIMA'!$B$3656:$AU$4129,'Roster LIMA'!P$1,FALSE)))","v":""},{"$f":"IF(COUNTBLANK($A$3)<>0,\"\",IF(ISERROR(VLOOKUP($A$3,'Roster LIMA'!$B$3656:$AU$4129,'Roster LIMA'!Q$1,FALSE)),\"\",VLOOKUP($A$3,'Roster LIMA'!$B$3656:$AU$4129,'Roster LIMA'!Q$1,FALSE)))","v":""},{"$f":"IF(COUNTBLANK($A$3)<>0,\"\",IF(ISERROR(VLOOKUP($A$3,'Roster LIMA'!$B$3656:$AU$4129,'Roster LIMA'!R$1,FALSE)),\"\",VLOOKUP($A$3,'Roster LIMA'!$B$3656:$AU$4129,'Roster LIMA'!R$1,FALSE)))","v":""},{"$f":"IF(COUNTBLANK($A$3)<>0,\"\",IF(ISERROR(VLOOKUP($A$3,'Roster LIMA'!$B$3656:$AU$4129,'Roster LIMA'!S$1,FALSE)),\"\",VLOOKUP($A$3,'Roster LIMA'!$B$3656:$AU$4129,'Roster LIMA'!S$1,FALSE)))","v":""},{"$f":"IF(COUNTBLANK($A$3)<>0,\"\",IF(ISERROR(VLOOKUP($A$3,'Roster LIMA'!$B$3656:$AU$4129,'Roster LIMA'!T$1,FALSE)),\"\",VLOOKUP($A$3,'Roster LIMA'!$B$3656:$AU$4129,'Roster LIMA'!T$1,FALSE)))","v":""},{"$f":"IF(COUNTBLANK($A$3)<>0,\"\",IF(ISERROR(VLOOKUP($A$3,'Roster LIMA'!$B$3656:$AU$4129,'Roster LIMA'!U$1,FALSE)),\"\",VLOOKUP($A$3,'Roster LIMA'!$B$3656:$AU$4129,'Roster LIMA'!U$1,FALSE)))","v":""},{"$f":"IF(COUNTBLANK($A$3)<>0,\"\",IF(ISERROR(VLOOKUP($A$3,'Roster LIMA'!$B$3656:$AU$4129,'Roster LIMA'!V$1,FALSE)),\"\",VLOOKUP($A$3,'Roster LIMA'!$B$3656:$AU$4129,'Roster LIMA'!V$1,FALSE)))","v":""},{"$f":"IF(COUNTBLANK($A$3)<>0,\"\",IF(ISERROR(VLOOKUP($A$3,'Roster LIMA'!$B$3656:$AU$4129,'Roster LIMA'!W$1,FALSE)),\"\",VLOOKUP($A$3,'Roster LIMA'!$B$3656:$AU$4129,'Roster LIMA'!W$1,FALSE)))","v":""},{"$f":"IF(COUNTBLANK($A$3)<>0,\"\",IF(ISERROR(VLOOKUP($A$3,'Roster LIMA'!$B$3656:$AU$4129,'Roster LIMA'!X$1,FALSE)),\"\",VLOOKUP($A$3,'Roster LIMA'!$B$3656:$AU$4129,'Roster LIMA'!X$1,FALSE)))","v":""},{"$f":"IF(COUNTBLANK($A$3)<>0,\"\",IF(ISERROR(VLOOKUP($A$3,'Roster LIMA'!$B$3656:$AU$4129,'Roster LIMA'!Y$1,FALSE)),\"\",VLOOKUP($A$3,'Roster LIMA'!$B$3656:$AU$4129,'Roster LIMA'!Y$1,FALSE)))","v":""},{"$f":"IF(COUNTBLANK($A$3)<>0,\"\",IF(ISERROR(VLOOKUP($A$3,'Roster LIMA'!$B$3656:$AU$4129,'Roster LIMA'!Z$1,FALSE)),\"\",VLOOKUP($A$3,'Roster LIMA'!$B$3656:$AU$4129,'Roster LIMA'!Z$1,FALSE)))","v":""},{"$f":"IF(COUNTBLANK($A$3)<>0,\"\",IF(ISERROR(VLOOKUP($A$3,'Roster LIMA'!$B$3656:$AU$4129,'Roster LIMA'!AA$1,FALSE)),\"\",VLOOKUP($A$3,'Roster LIMA'!$B$3656:$AU$4129,'Roster LIMA'!AA$1,FALSE)))","v":""},{"$f":"IF(COUNTBLANK($A$3)<>0,\"\",IF(ISERROR(VLOOKUP($A$3,'Roster LIMA'!$B$3656:$AU$4129,'Roster LIMA'!AB$1,FALSE)),\"\",VLOOKUP($A$3,'Roster LIMA'!$B$3656:$AU$4129,'Roster LIMA'!AB$1,FALSE)))","v":""},{"$f":"IF(COUNTBLANK($A$3)<>0,\"\",IF(ISERROR(VLOOKUP($A$3,'Roster LIMA'!$B$3656:$AU$4129,'Roster LIMA'!AC$1,FALSE)),\"\",VLOOKUP($A$3,'Roster LIMA'!$B$3656:$AU$4129,'Roster LIMA'!AC$1,FALSE)))","v":""},{"$f":"IF(COUNTBLANK($A$3)<>0,\"\",IF(ISERROR(VLOOKUP($A$3,'Roster LIMA'!$B$3656:$AU$4129,'Roster LIMA'!AD$1,FALSE)),\"\",VLOOKUP($A$3,'Roster LIMA'!$B$3656:$AU$4129,'Roster LIMA'!AD$1,FALSE)))","v":""},{"$f":"IF(COUNTBLANK($A$3)<>0,\"\",IF(ISERROR(VLOOKUP($A$3,'Roster LIMA'!$B$3656:$AU$4129,'Roster LIMA'!AE$1,FALSE)),\"\",VLOOKUP($A$3,'Roster LIMA'!$B$3656:$AU$4129,'Roster LIMA'!AE$1,FALSE)))","v":""},{"$f":"IF(COUNTBLANK($A$3)<>0,\"\",IF(ISERROR(VLOOKUP($A$3,'Roster LIMA'!$B$3656:$AU$4129,'Roster LIMA'!AF$1,FALSE)),\"\",VLOOKUP($A$3,'Roster LIMA'!$B$3656:$AU$4129,'Roster LIMA'!AF$1,FALSE)))","v":""},{"$f":"IF(COUNTBLANK($A$3)<>0,\"\",IF(ISERROR(VLOOKUP($A$3,'Roster LIMA'!$B$3656:$AU$4129,'Roster LIMA'!AG$1,FALSE)),\"\",VLOOKUP($A$3,'Roster LIMA'!$B$3656:$AU$4129,'Roster LIMA'!AG$1,FALSE)))","v":""},{"$f":"IF(COUNTBLANK($A$3)<>0,\"\",IF(ISERROR(VLOOKUP($A$3,'Roster LIMA'!$B$3656:$AU$4129,'Roster LIMA'!AH$1,FALSE)),\"\",VLOOKUP($A$3,'Roster LIMA'!$B$3656:$AU$4129,'Roster LIMA'!AH$1,FALSE)))","v":""},{"$f":"IF(COUNTBLANK($A$3)<>0,\"\",IF(ISERROR(VLOOKUP($A$3,'Roster LIMA'!$B$3656:$AU$4129,'Roster LIMA'!AI$1,FALSE)),\"\",VLOOKUP($A$3,'Roster LIMA'!$B$3656:$AU$4129,'Roster LIMA'!AI$1,FALSE)))","v":""},{"$f":"IF(COUNTBLANK($A$3)<>0,\"\",IF(ISERROR(VLOOKUP($A$3,'Roster LIMA'!$B$3656:$AU$4129,'Roster LIMA'!AJ$1,FALSE)),\"\",VLOOKUP($A$3,'Roster LIMA'!$B$3656:$AU$4129,'Roster LIMA'!AJ$1,FALSE)))","v":""},{"$f":"IF(COUNTBLANK($A$3)<>0,\"\",IF(ISERROR(VLOOKUP($A$3,'Roster LIMA'!$B$3656:$AU$4129,'Roster LIMA'!AK$1,FALSE)),\"\",VLOOKUP($A$3,'Roster LIMA'!$B$3656:$AU$4129,'Roster LIMA'!AK$1,FALSE)))","v":""},{"$f":"IF(COUNTBLANK($A$3)<>0,\"\",IF(ISERROR(VLOOKUP($A$3,'Roster LIMA'!$B$3656:$AU$4129,'Roster LIMA'!AL$1,FALSE)),\"\",VLOOKUP($A$3,'Roster LIMA'!$B$3656:$AU$4129,'Roster LIMA'!AL$1,FALSE)))","v":""},{"$f":"IF(COUNTBLANK($A$3)<>0,\"\",IF(ISERROR(VLOOKUP($A$3,'Roster LIMA'!$B$3656:$AU$4129,'Roster LIMA'!AM$1,FALSE)),\"\",VLOOKUP($A$3,'Roster LIMA'!$B$3656:$AU$4129,'Roster LIMA'!AM$1,FALSE)))","v":""},{"$f":"IF(COUNTBLANK($A$3)<>0,\"\",IF(ISERROR(VLOOKUP($A$3,'Roster LIMA'!$B$3656:$AU$4129,'Roster LIMA'!AN$1,FALSE)),\"\",VLOOKUP($A$3,'Roster LIMA'!$B$3656:$AU$4129,'Roster LIMA'!AN$1,FALSE)))","v":""},{"$f":"IF(COUNTBLANK($A$3)<>0,\"\",IF(ISERROR(VLOOKUP($A$3,'Roster LIMA'!$B$3656:$AU$4129,'Roster LIMA'!AO$1,FALSE)),\"\",VLOOKUP($A$3,'Roster LIMA'!$B$3656:$AU$4129,'Roster LIMA'!AO$1,FALSE)))","v":""},{"$f":"IF(COUNTBLANK($A$3)<>0,\"\",IF(ISERROR(VLOOKUP($A$3,'Roster LIMA'!$B$3656:$AU$4129,'Roster LIMA'!AP$1,FALSE)),\"\",VLOOKUP($A$3,'Roster LIMA'!$B$3656:$AU$4129,'Roster LIMA'!AP$1,FALSE)))","v":""},{"$f":"IF(COUNTBLANK($A$3)<>0,\"\",IF(ISERROR(VLOOKUP($A$3,'Roster LIMA'!$B$3656:$AU$4129,'Roster LIMA'!AQ$1,FALSE)),\"\",VLOOKUP($A$3,'Roster LIMA'!$B$3656:$AU$4129,'Roster LIMA'!AQ$1,FALSE)))","v":""},{"$f":"IF(COUNTBLANK($A$3)<>0,\"\",IF(ISERROR(VLOOKUP($A$3,'Roster LIMA'!$B$3656:$AU$4129,'Roster LIMA'!AR$1,FALSE)),\"\",VLOOKUP($A$3,'Roster LIMA'!$B$3656:$AU$4129,'Roster LIMA'!AR$1,FALSE)))","v":""},{"$f":"IF(COUNTBLANK($A$3)<>0,\"\",IF(ISERROR(VLOOKUP($A$3,'Roster LIMA'!$B$3656:$AU$4129,'Roster LIMA'!AS$1,FALSE)),\"\",VLOOKUP($A$3,'Roster LIMA'!$B$3656:$AU$4129,'Roster LIMA'!AS$1,FALSE)))","v":""},{"$f":"IF(COUNTBLANK($A$3)<>0,\"\",IF(ISERROR(VLOOKUP($A$3,'Roster LIMA'!$B$3656:$AU$4129,'Roster LIMA'!AT$1,FALSE)),\"\",VLOOKUP($A$3,'Roster LIMA'!$B$3656:$AU$4129,'Roster LIMA'!AT$1,FALSE)))","v":""},{"$f":"IF(COUNTBLANK($A$3)<>0,\"\",IF(ISERROR(VLOOKUP($A$3,'Roster LIMA'!$B$3656:$AU$4129,'Roster LIMA'!AU$1,FALSE)),\"\",VLOOKUP($A$3,'Roster LIMA'!$B$3656:$AU$4129,'Roster LIMA'!AU$1,FALSE)))","v":""}]
[{"$f":"+'Roster LIMA'!G4130","v":"1981-82"},{"$f":"IF(COUNTBLANK($A$3)<>0,\"\",IF(ISERROR(VLOOKUP($A$3,'Roster LIMA'!$B$4130:$AU$4483,'Roster LIMA'!H$1,FALSE)),\"\",IF(VLOOKUP($A$3,'Roster LIMA'!$B$4130:$AU$4483,'Roster LIMA'!H$1,FALSE)=0,\"\",VLOOKUP($A$3,'Roster LIMA'!$B$4130:$AU$4483,'Roster LIMA'!H$1,FALSE))))","v":""},{"$f":"IF(COUNTBLANK($A$3)<>0,\"\",IF(ISERROR(VLOOKUP($A$3,'Roster LIMA'!$B$4130:$AU$4483,'Roster LIMA'!I$1,FALSE)),\"\",IF(VLOOKUP($A$3,'Roster LIMA'!$B$4130:$AU$4483,'Roster LIMA'!I$1,FALSE)=0,\"\",VLOOKUP($A$3,'Roster LIMA'!$B$4130:$AU$4483,'Roster LIMA'!I$1,FALSE))))","v":""},{"$f":"IF(COUNTBLANK($A$3)<>0,\"\",IF(ISERROR(VLOOKUP($A$3,'Roster LIMA'!$B$4130:$AU$4483,'Roster LIMA'!J$1,FALSE)),\"\",IF(VLOOKUP($A$3,'Roster LIMA'!$B$4130:$AU$4483,'Roster LIMA'!J$1,FALSE)=0,\"\",VLOOKUP($A$3,'Roster LIMA'!$B$4130:$AU$4483,'Roster LIMA'!J$1,FALSE))))","v":""},{"$f":"IF(COUNTBLANK($A$3)<>0,\"\",IF(ISERROR(VLOOKUP($A$3,'Roster LIMA'!$B$4130:$AU$4483,'Roster LIMA'!K$1,FALSE)),\"\",IF(VLOOKUP($A$3,'Roster LIMA'!$B$4130:$AU$4483,'Roster LIMA'!K$1,FALSE)=0,\"\",VLOOKUP($A$3,'Roster LIMA'!$B$4130:$AU$4483,'Roster LIMA'!K$1,FALSE))))","v":""},{"$f":"IF(COUNTBLANK($A$3)<>0,\"\",IF(ISERROR(VLOOKUP($A$3,'Roster LIMA'!$B$4130:$AU$4483,'Roster LIMA'!F$1,FALSE)),\"\",IF(VLOOKUP($A$3,'Roster LIMA'!$B$4130:$AU$4483,'Roster LIMA'!F$1,FALSE)=0,\"\",VLOOKUP($A$3,'Roster LIMA'!$B$4130:$AU$4483,'Roster LIMA'!F$1,FALSE))))","v":""},{"$f":"IF(COUNTBLANK($A$3)<>0,\"\",IF(ISERROR(VLOOKUP($A$3,'Roster LIMA'!$B$4130:$AU$4483,'Roster LIMA'!E$1,FALSE)),\"\",IF(VLOOKUP($A$3,'Roster LIMA'!$B$4130:$AU$4483,'Roster LIMA'!E$1,FALSE)=0,\"\",VLOOKUP($A$3,'Roster LIMA'!$B$4130:$AU$4483,'Roster LIMA'!E$1,FALSE))))","v":""},{"$f":"IF(COUNTBLANK($A$3)<>0,\"\",IF(ISERROR(VLOOKUP($A$3,'Roster LIMA'!$B$4130:$AU$4483,'Roster LIMA'!B$1,FALSE)),\"N/A\",IF(VLOOKUP($A$3,'Roster LIMA'!$B$4130:$AU$4483,'Roster LIMA'!B$1,FALSE)=0,\"\",VLOOKUP($A$3,'Roster LIMA'!$B$4130:$AU$4483,'Roster LIMA'!B$1,FALSE))))","v":""},{"$f":"IF(COUNTBLANK($A$3)<>0,\"\",IF(ISERROR(VLOOKUP($A$3,'Roster LIMA'!$B$4130:$AU$4483,'Roster LIMA'!C$1,FALSE)),\"\",IF(VLOOKUP($A$3,'Roster LIMA'!$B$4130:$AU$4483,'Roster LIMA'!C$1,FALSE)=0,\"\",VLOOKUP($A$3,'Roster LIMA'!$B$4130:$AU$4483,'Roster LIMA'!C$1,FALSE))))","v":""},{"$f":"IF(COUNTBLANK($A$3)<>0,\"\",IF(ISERROR(VLOOKUP($A$3,'Roster LIMA'!$B$4130:$AU$4483,'Roster LIMA'!D$1,FALSE)),\"\",IF(VLOOKUP($A$3,'Roster LIMA'!$B$4130:$AU$4483,'Roster LIMA'!D$1,FALSE)=0,\"\",VLOOKUP($A$3,'Roster LIMA'!$B$4130:$AU$4483,'Roster LIMA'!D$1,FALSE))))","v":""},{"$f":"IF(COUNTBLANK($A$3)<>0,\"\",IF(ISERROR(VLOOKUP($A$3,'Roster LIMA'!$B$4130:$AU$4483,'Roster LIMA'!L$1,FALSE)),\"\",VLOOKUP($A$3,'Roster LIMA'!$B$4130:$AU$4483,'Roster LIMA'!L$1,FALSE)))","v":""},{"$f":"IF(COUNTBLANK($A$3)<>0,\"\",IF(ISERROR(VLOOKUP($A$3,'Roster LIMA'!$B$4130:$AU$4483,'Roster LIMA'!M$1,FALSE)),\"\",VLOOKUP($A$3,'Roster LIMA'!$B$4130:$AU$4483,'Roster LIMA'!M$1,FALSE)))","v":""},{"$f":"IF(COUNTBLANK($A$3)<>0,\"\",IF(ISERROR(VLOOKUP($A$3,'Roster LIMA'!$B$4130:$AU$4483,'Roster LIMA'!N$1,FALSE)),\"\",VLOOKUP($A$3,'Roster LIMA'!$B$4130:$AU$4483,'Roster LIMA'!N$1,FALSE)))","v":""},{"$f":"IF(COUNTBLANK($A$3)<>0,\"\",IF(ISERROR(VLOOKUP($A$3,'Roster LIMA'!$B$4130:$AU$4483,'Roster LIMA'!O$1,FALSE)),\"\",VLOOKUP($A$3,'Roster LIMA'!$B$4130:$AU$4483,'Roster LIMA'!O$1,FALSE)))","v":""},{"$f":"IF(COUNTBLANK($A$3)<>0,\"\",IF(ISERROR(VLOOKUP($A$3,'Roster LIMA'!$B$4130:$AU$4483,'Roster LIMA'!P$1,FALSE)),\"\",VLOOKUP($A$3,'Roster LIMA'!$B$4130:$AU$4483,'Roster LIMA'!P$1,FALSE)))","v":""},{"$f":"IF(COUNTBLANK($A$3)<>0,\"\",IF(ISERROR(VLOOKUP($A$3,'Roster LIMA'!$B$4130:$AU$4483,'Roster LIMA'!Q$1,FALSE)),\"\",VLOOKUP($A$3,'Roster LIMA'!$B$4130:$AU$4483,'Roster LIMA'!Q$1,FALSE)))","v":""},{"$f":"IF(COUNTBLANK($A$3)<>0,\"\",IF(ISERROR(VLOOKUP($A$3,'Roster LIMA'!$B$4130:$AU$4483,'Roster LIMA'!R$1,FALSE)),\"\",VLOOKUP($A$3,'Roster LIMA'!$B$4130:$AU$4483,'Roster LIMA'!R$1,FALSE)))","v":""},{"$f":"IF(COUNTBLANK($A$3)<>0,\"\",IF(ISERROR(VLOOKUP($A$3,'Roster LIMA'!$B$4130:$AU$4483,'Roster LIMA'!S$1,FALSE)),\"\",VLOOKUP($A$3,'Roster LIMA'!$B$4130:$AU$4483,'Roster LIMA'!S$1,FALSE)))","v":""},{"$f":"IF(COUNTBLANK($A$3)<>0,\"\",IF(ISERROR(VLOOKUP($A$3,'Roster LIMA'!$B$4130:$AU$4483,'Roster LIMA'!T$1,FALSE)),\"\",VLOOKUP($A$3,'Roster LIMA'!$B$4130:$AU$4483,'Roster LIMA'!T$1,FALSE)))","v":""},{"$f":"IF(COUNTBLANK($A$3)<>0,\"\",IF(ISERROR(VLOOKUP($A$3,'Roster LIMA'!$B$4130:$AU$4483,'Roster LIMA'!U$1,FALSE)),\"\",VLOOKUP($A$3,'Roster LIMA'!$B$4130:$AU$4483,'Roster LIMA'!U$1,FALSE)))","v":""},{"$f":"IF(COUNTBLANK($A$3)<>0,\"\",IF(ISERROR(VLOOKUP($A$3,'Roster LIMA'!$B$4130:$AU$4483,'Roster LIMA'!V$1,FALSE)),\"\",VLOOKUP($A$3,'Roster LIMA'!$B$4130:$AU$4483,'Roster LIMA'!V$1,FALSE)))","v":""},{"$f":"IF(COUNTBLANK($A$3)<>0,\"\",IF(ISERROR(VLOOKUP($A$3,'Roster LIMA'!$B$4130:$AU$4483,'Roster LIMA'!W$1,FALSE)),\"\",VLOOKUP($A$3,'Roster LIMA'!$B$4130:$AU$4483,'Roster LIMA'!W$1,FALSE)))","v":""},{"$f":"IF(COUNTBLANK($A$3)<>0,\"\",IF(ISERROR(VLOOKUP($A$3,'Roster LIMA'!$B$4130:$AU$4483,'Roster LIMA'!X$1,FALSE)),\"\",VLOOKUP($A$3,'Roster LIMA'!$B$4130:$AU$4483,'Roster LIMA'!X$1,FALSE)))","v":""},{"$f":"IF(COUNTBLANK($A$3)<>0,\"\",IF(ISERROR(VLOOKUP($A$3,'Roster LIMA'!$B$4130:$AU$4483,'Roster LIMA'!Y$1,FALSE)),\"\",VLOOKUP($A$3,'Roster LIMA'!$B$4130:$AU$4483,'Roster LIMA'!Y$1,FALSE)))","v":""},{"$f":"IF(COUNTBLANK($A$3)<>0,\"\",IF(ISERROR(VLOOKUP($A$3,'Roster LIMA'!$B$4130:$AU$4483,'Roster LIMA'!Z$1,FALSE)),\"\",VLOOKUP($A$3,'Roster LIMA'!$B$4130:$AU$4483,'Roster LIMA'!Z$1,FALSE)))","v":""},{"$f":"IF(COUNTBLANK($A$3)<>0,\"\",IF(ISERROR(VLOOKUP($A$3,'Roster LIMA'!$B$4130:$AU$4483,'Roster LIMA'!AA$1,FALSE)),\"\",VLOOKUP($A$3,'Roster LIMA'!$B$4130:$AU$4483,'Roster LIMA'!AA$1,FALSE)))","v":""},{"$f":"IF(COUNTBLANK($A$3)<>0,\"\",IF(ISERROR(VLOOKUP($A$3,'Roster LIMA'!$B$4130:$AU$4483,'Roster LIMA'!AB$1,FALSE)),\"\",VLOOKUP($A$3,'Roster LIMA'!$B$4130:$AU$4483,'Roster LIMA'!AB$1,FALSE)))","v":""},{"$f":"IF(COUNTBLANK($A$3)<>0,\"\",IF(ISERROR(VLOOKUP($A$3,'Roster LIMA'!$B$4130:$AU$4483,'Roster LIMA'!AC$1,FALSE)),\"\",VLOOKUP($A$3,'Roster LIMA'!$B$4130:$AU$4483,'Roster LIMA'!AC$1,FALSE)))","v":""},{"$f":"IF(COUNTBLANK($A$3)<>0,\"\",IF(ISERROR(VLOOKUP($A$3,'Roster LIMA'!$B$4130:$AU$4483,'Roster LIMA'!AD$1,FALSE)),\"\",VLOOKUP($A$3,'Roster LIMA'!$B$4130:$AU$4483,'Roster LIMA'!AD$1,FALSE)))","v":""},{"$f":"IF(COUNTBLANK($A$3)<>0,\"\",IF(ISERROR(VLOOKUP($A$3,'Roster LIMA'!$B$4130:$AU$4483,'Roster LIMA'!AE$1,FALSE)),\"\",VLOOKUP($A$3,'Roster LIMA'!$B$4130:$AU$4483,'Roster LIMA'!AE$1,FALSE)))","v":""},{"$f":"IF(COUNTBLANK($A$3)<>0,\"\",IF(ISERROR(VLOOKUP($A$3,'Roster LIMA'!$B$4130:$AU$4483,'Roster LIMA'!AF$1,FALSE)),\"\",VLOOKUP($A$3,'Roster LIMA'!$B$4130:$AU$4483,'Roster LIMA'!AF$1,FALSE)))","v":""},{"$f":"IF(COUNTBLANK($A$3)<>0,\"\",IF(ISERROR(VLOOKUP($A$3,'Roster LIMA'!$B$4130:$AU$4483,'Roster LIMA'!AG$1,FALSE)),\"\",VLOOKUP($A$3,'Roster LIMA'!$B$4130:$AU$4483,'Roster LIMA'!AG$1,FALSE)))","v":""},{"$f":"IF(COUNTBLANK($A$3)<>0,\"\",IF(ISERROR(VLOOKUP($A$3,'Roster LIMA'!$B$4130:$AU$4483,'Roster LIMA'!AH$1,FALSE)),\"\",VLOOKUP($A$3,'Roster LIMA'!$B$4130:$AU$4483,'Roster LIMA'!AH$1,FALSE)))","v":""},{"$f":"IF(COUNTBLANK($A$3)<>0,\"\",IF(ISERROR(VLOOKUP($A$3,'Roster LIMA'!$B$4130:$AU$4483,'Roster LIMA'!AI$1,FALSE)),\"\",VLOOKUP($A$3,'Roster LIMA'!$B$4130:$AU$4483,'Roster LIMA'!AI$1,FALSE)))","v":""},{"$f":"IF(COUNTBLANK($A$3)<>0,\"\",IF(ISERROR(VLOOKUP($A$3,'Roster LIMA'!$B$4130:$AU$4483,'Roster LIMA'!AJ$1,FALSE)),\"\",VLOOKUP($A$3,'Roster LIMA'!$B$4130:$AU$4483,'Roster LIMA'!AJ$1,FALSE)))","v":""},{"$f":"IF(COUNTBLANK($A$3)<>0,\"\",IF(ISERROR(VLOOKUP($A$3,'Roster LIMA'!$B$4130:$AU$4483,'Roster LIMA'!AK$1,FALSE)),\"\",VLOOKUP($A$3,'Roster LIMA'!$B$4130:$AU$4483,'Roster LIMA'!AK$1,FALSE)))","v":""},{"$f":"IF(COUNTBLANK($A$3)<>0,\"\",IF(ISERROR(VLOOKUP($A$3,'Roster LIMA'!$B$4130:$AU$4483,'Roster LIMA'!AL$1,FALSE)),\"\",VLOOKUP($A$3,'Roster LIMA'!$B$4130:$AU$4483,'Roster LIMA'!AL$1,FALSE)))","v":""},{"$f":"IF(COUNTBLANK($A$3)<>0,\"\",IF(ISERROR(VLOOKUP($A$3,'Roster LIMA'!$B$4130:$AU$4483,'Roster LIMA'!AM$1,FALSE)),\"\",VLOOKUP($A$3,'Roster LIMA'!$B$4130:$AU$4483,'Roster LIMA'!AM$1,FALSE)))","v":""},{"$f":"IF(COUNTBLANK($A$3)<>0,\"\",IF(ISERROR(VLOOKUP($A$3,'Roster LIMA'!$B$4130:$AU$4483,'Roster LIMA'!AN$1,FALSE)),\"\",VLOOKUP($A$3,'Roster LIMA'!$B$4130:$AU$4483,'Roster LIMA'!AN$1,FALSE)))","v":""},{"$f":"IF(COUNTBLANK($A$3)<>0,\"\",IF(ISERROR(VLOOKUP($A$3,'Roster LIMA'!$B$4130:$AU$4483,'Roster LIMA'!AO$1,FALSE)),\"\",VLOOKUP($A$3,'Roster LIMA'!$B$4130:$AU$4483,'Roster LIMA'!AO$1,FALSE)))","v":""},{"$f":"IF(COUNTBLANK($A$3)<>0,\"\",IF(ISERROR(VLOOKUP($A$3,'Roster LIMA'!$B$4130:$AU$4483,'Roster LIMA'!AP$1,FALSE)),\"\",VLOOKUP($A$3,'Roster LIMA'!$B$4130:$AU$4483,'Roster LIMA'!AP$1,FALSE)))","v":""},{"$f":"IF(COUNTBLANK($A$3)<>0,\"\",IF(ISERROR(VLOOKUP($A$3,'Roster LIMA'!$B$4130:$AU$4483,'Roster LIMA'!AQ$1,FALSE)),\"\",VLOOKUP($A$3,'Roster LIMA'!$B$4130:$AU$4483,'Roster LIMA'!AQ$1,FALSE)))","v":""},{"$f":"IF(COUNTBLANK($A$3)<>0,\"\",IF(ISERROR(VLOOKUP($A$3,'Roster LIMA'!$B$4130:$AU$4483,'Roster LIMA'!AR$1,FALSE)),\"\",VLOOKUP($A$3,'Roster LIMA'!$B$4130:$AU$4483,'Roster LIMA'!AR$1,FALSE)))","v":""},{"$f":"IF(COUNTBLANK($A$3)<>0,\"\",IF(ISERROR(VLOOKUP($A$3,'Roster LIMA'!$B$4130:$AU$4483,'Roster LIMA'!AS$1,FALSE)),\"\",VLOOKUP($A$3,'Roster LIMA'!$B$4130:$AU$4483,'Roster LIMA'!AS$1,FALSE)))","v":""},{"$f":"IF(COUNTBLANK($A$3)<>0,\"\",IF(ISERROR(VLOOKUP($A$3,'Roster LIMA'!$B$4130:$AU$4483,'Roster LIMA'!AT$1,FALSE)),\"\",VLOOKUP($A$3,'Roster LIMA'!$B$4130:$AU$4483,'Roster LIMA'!AT$1,FALSE)))","v":""},{"$f":"IF(COUNTBLANK($A$3)<>0,\"\",IF(ISERROR(VLOOKUP($A$3,'Roster LIMA'!$B$4130:$AU$4483,'Roster LIMA'!AU$1,FALSE)),\"\",VLOOKUP($A$3,'Roster LIMA'!$B$4130:$AU$4483,'Roster LIMA'!AU$1,FALSE)))","v":""}]
[{"$f":"+'Roster LIMA'!G4484","v":"1982-83"},{"$f":"IF(COUNTBLANK($A$3)<>0,\"\",IF(ISERROR(VLOOKUP($A$3,'Roster LIMA'!$B$4484:$AU$5032,'Roster LIMA'!H$1,FALSE)),\"\",IF(VLOOKUP($A$3,'Roster LIMA'!$B$4484:$AU$5032,'Roster LIMA'!H$1,FALSE)=0,\"\",VLOOKUP($A$3,'Roster LIMA'!$B$4484:$AU$5032,'Roster LIMA'!H$1,FALSE))))","v":""},{"$f":"IF(COUNTBLANK($A$3)<>0,\"\",IF(ISERROR(VLOOKUP($A$3,'Roster LIMA'!$B$4484:$AU$5032,'Roster LIMA'!I$1,FALSE)),\"\",IF(VLOOKUP($A$3,'Roster LIMA'!$B$4484:$AU$5032,'Roster LIMA'!I$1,FALSE)=0,\"\",VLOOKUP($A$3,'Roster LIMA'!$B$4484:$AU$5032,'Roster LIMA'!I$1,FALSE))))","v":""},{"$f":"IF(COUNTBLANK($A$3)<>0,\"\",IF(ISERROR(VLOOKUP($A$3,'Roster LIMA'!$B$4484:$AU$5032,'Roster LIMA'!J$1,FALSE)),\"\",IF(VLOOKUP($A$3,'Roster LIMA'!$B$4484:$AU$5032,'Roster LIMA'!J$1,FALSE)=0,\"\",VLOOKUP($A$3,'Roster LIMA'!$B$4484:$AU$5032,'Roster LIMA'!J$1,FALSE))))","v":""},{"$f":"IF(COUNTBLANK($A$3)<>0,\"\",IF(ISERROR(VLOOKUP($A$3,'Roster LIMA'!$B$4484:$AU$5032,'Roster LIMA'!K$1,FALSE)),\"\",IF(VLOOKUP($A$3,'Roster LIMA'!$B$4484:$AU$5032,'Roster LIMA'!K$1,FALSE)=0,\"\",VLOOKUP($A$3,'Roster LIMA'!$B$4484:$AU$5032,'Roster LIMA'!K$1,FALSE))))","v":""},{"$f":"IF(COUNTBLANK($A$3)<>0,\"\",IF(ISERROR(VLOOKUP($A$3,'Roster LIMA'!$B$4484:$AU$5032,'Roster LIMA'!F$1,FALSE)),\"\",IF(VLOOKUP($A$3,'Roster LIMA'!$B$4484:$AU$5032,'Roster LIMA'!F$1,FALSE)=0,\"\",VLOOKUP($A$3,'Roster LIMA'!$B$4484:$AU$5032,'Roster LIMA'!F$1,FALSE))))","v":""},{"$f":"IF(COUNTBLANK($A$3)<>0,\"\",IF(ISERROR(VLOOKUP($A$3,'Roster LIMA'!$B$4484:$AU$5032,'Roster LIMA'!E$1,FALSE)),\"\",IF(VLOOKUP($A$3,'Roster LIMA'!$B$4484:$AU$5032,'Roster LIMA'!E$1,FALSE)=0,\"\",VLOOKUP($A$3,'Roster LIMA'!$B$4484:$AU$5032,'Roster LIMA'!E$1,FALSE))))","v":""},{"$f":"IF(COUNTBLANK($A$3)<>0,\"\",IF(ISERROR(VLOOKUP($A$3,'Roster LIMA'!$B$4484:$AU$5032,'Roster LIMA'!B$1,FALSE)),\"N/A\",IF(VLOOKUP($A$3,'Roster LIMA'!$B$4484:$AU$5032,'Roster LIMA'!B$1,FALSE)=0,\"\",VLOOKUP($A$3,'Roster LIMA'!$B$4484:$AU$5032,'Roster LIMA'!B$1,FALSE))))","v":""},{"$f":"IF(COUNTBLANK($A$3)<>0,\"\",IF(ISERROR(VLOOKUP($A$3,'Roster LIMA'!$B$4484:$AU$5032,'Roster LIMA'!C$1,FALSE)),\"\",IF(VLOOKUP($A$3,'Roster LIMA'!$B$4484:$AU$5032,'Roster LIMA'!C$1,FALSE)=0,\"\",VLOOKUP($A$3,'Roster LIMA'!$B$4484:$AU$5032,'Roster LIMA'!C$1,FALSE))))","v":""},{"$f":"IF(COUNTBLANK($A$3)<>0,\"\",IF(ISERROR(VLOOKUP($A$3,'Roster LIMA'!$B$4484:$AU$5032,'Roster LIMA'!D$1,FALSE)),\"\",IF(VLOOKUP($A$3,'Roster LIMA'!$B$4484:$AU$5032,'Roster LIMA'!D$1,FALSE)=0,\"\",VLOOKUP($A$3,'Roster LIMA'!$B$4484:$AU$5032,'Roster LIMA'!D$1,FALSE))))","v":""},{"$f":"IF(COUNTBLANK($A$3)<>0,\"\",IF(ISERROR(VLOOKUP($A$3,'Roster LIMA'!$B$4484:$AU$5032,'Roster LIMA'!L$1,FALSE)),\"\",VLOOKUP($A$3,'Roster LIMA'!$B$4484:$AU$5032,'Roster LIMA'!L$1,FALSE)))","v":""},{"$f":"IF(COUNTBLANK($A$3)<>0,\"\",IF(ISERROR(VLOOKUP($A$3,'Roster LIMA'!$B$4484:$AU$5032,'Roster LIMA'!M$1,FALSE)),\"\",VLOOKUP($A$3,'Roster LIMA'!$B$4484:$AU$5032,'Roster LIMA'!M$1,FALSE)))","v":""},{"$f":"IF(COUNTBLANK($A$3)<>0,\"\",IF(ISERROR(VLOOKUP($A$3,'Roster LIMA'!$B$4484:$AU$5032,'Roster LIMA'!N$1,FALSE)),\"\",VLOOKUP($A$3,'Roster LIMA'!$B$4484:$AU$5032,'Roster LIMA'!N$1,FALSE)))","v":""},{"$f":"IF(COUNTBLANK($A$3)<>0,\"\",IF(ISERROR(VLOOKUP($A$3,'Roster LIMA'!$B$4484:$AU$5032,'Roster LIMA'!O$1,FALSE)),\"\",VLOOKUP($A$3,'Roster LIMA'!$B$4484:$AU$5032,'Roster LIMA'!O$1,FALSE)))","v":""},{"$f":"IF(COUNTBLANK($A$3)<>0,\"\",IF(ISERROR(VLOOKUP($A$3,'Roster LIMA'!$B$4484:$AU$5032,'Roster LIMA'!P$1,FALSE)),\"\",VLOOKUP($A$3,'Roster LIMA'!$B$4484:$AU$5032,'Roster LIMA'!P$1,FALSE)))","v":""},{"$f":"IF(COUNTBLANK($A$3)<>0,\"\",IF(ISERROR(VLOOKUP($A$3,'Roster LIMA'!$B$4484:$AU$5032,'Roster LIMA'!Q$1,FALSE)),\"\",VLOOKUP($A$3,'Roster LIMA'!$B$4484:$AU$5032,'Roster LIMA'!Q$1,FALSE)))","v":""},{"$f":"IF(COUNTBLANK($A$3)<>0,\"\",IF(ISERROR(VLOOKUP($A$3,'Roster LIMA'!$B$4484:$AU$5032,'Roster LIMA'!R$1,FALSE)),\"\",VLOOKUP($A$3,'Roster LIMA'!$B$4484:$AU$5032,'Roster LIMA'!R$1,FALSE)))","v":""},{"$f":"IF(COUNTBLANK($A$3)<>0,\"\",IF(ISERROR(VLOOKUP($A$3,'Roster LIMA'!$B$4484:$AU$5032,'Roster LIMA'!S$1,FALSE)),\"\",VLOOKUP($A$3,'Roster LIMA'!$B$4484:$AU$5032,'Roster LIMA'!S$1,FALSE)))","v":""},{"$f":"IF(COUNTBLANK($A$3)<>0,\"\",IF(ISERROR(VLOOKUP($A$3,'Roster LIMA'!$B$4484:$AU$5032,'Roster LIMA'!T$1,FALSE)),\"\",VLOOKUP($A$3,'Roster LIMA'!$B$4484:$AU$5032,'Roster LIMA'!T$1,FALSE)))","v":""},{"$f":"IF(COUNTBLANK($A$3)<>0,\"\",IF(ISERROR(VLOOKUP($A$3,'Roster LIMA'!$B$4484:$AU$5032,'Roster LIMA'!U$1,FALSE)),\"\",VLOOKUP($A$3,'Roster LIMA'!$B$4484:$AU$5032,'Roster LIMA'!U$1,FALSE)))","v":""},{"$f":"IF(COUNTBLANK($A$3)<>0,\"\",IF(ISERROR(VLOOKUP($A$3,'Roster LIMA'!$B$4484:$AU$5032,'Roster LIMA'!V$1,FALSE)),\"\",VLOOKUP($A$3,'Roster LIMA'!$B$4484:$AU$5032,'Roster LIMA'!V$1,FALSE)))","v":""},{"$f":"IF(COUNTBLANK($A$3)<>0,\"\",IF(ISERROR(VLOOKUP($A$3,'Roster LIMA'!$B$4484:$AU$5032,'Roster LIMA'!W$1,FALSE)),\"\",VLOOKUP($A$3,'Roster LIMA'!$B$4484:$AU$5032,'Roster LIMA'!W$1,FALSE)))","v":""},{"$f":"IF(COUNTBLANK($A$3)<>0,\"\",IF(ISERROR(VLOOKUP($A$3,'Roster LIMA'!$B$4484:$AU$5032,'Roster LIMA'!X$1,FALSE)),\"\",VLOOKUP($A$3,'Roster LIMA'!$B$4484:$AU$5032,'Roster LIMA'!X$1,FALSE)))","v":""},{"$f":"IF(COUNTBLANK($A$3)<>0,\"\",IF(ISERROR(VLOOKUP($A$3,'Roster LIMA'!$B$4484:$AU$5032,'Roster LIMA'!Y$1,FALSE)),\"\",VLOOKUP($A$3,'Roster LIMA'!$B$4484:$AU$5032,'Roster LIMA'!Y$1,FALSE)))","v":""},{"$f":"IF(COUNTBLANK($A$3)<>0,\"\",IF(ISERROR(VLOOKUP($A$3,'Roster LIMA'!$B$4484:$AU$5032,'Roster LIMA'!Z$1,FALSE)),\"\",VLOOKUP($A$3,'Roster LIMA'!$B$4484:$AU$5032,'Roster LIMA'!Z$1,FALSE)))","v":""},{"$f":"IF(COUNTBLANK($A$3)<>0,\"\",IF(ISERROR(VLOOKUP($A$3,'Roster LIMA'!$B$4484:$AU$5032,'Roster LIMA'!AA$1,FALSE)),\"\",VLOOKUP($A$3,'Roster LIMA'!$B$4484:$AU$5032,'Roster LIMA'!AA$1,FALSE)))","v":""},{"$f":"IF(COUNTBLANK($A$3)<>0,\"\",IF(ISERROR(VLOOKUP($A$3,'Roster LIMA'!$B$4484:$AU$5032,'Roster LIMA'!AB$1,FALSE)),\"\",VLOOKUP($A$3,'Roster LIMA'!$B$4484:$AU$5032,'Roster LIMA'!AB$1,FALSE)))","v":""},{"$f":"IF(COUNTBLANK($A$3)<>0,\"\",IF(ISERROR(VLOOKUP($A$3,'Roster LIMA'!$B$4484:$AU$5032,'Roster LIMA'!AC$1,FALSE)),\"\",VLOOKUP($A$3,'Roster LIMA'!$B$4484:$AU$5032,'Roster LIMA'!AC$1,FALSE)))","v":""},{"$f":"IF(COUNTBLANK($A$3)<>0,\"\",IF(ISERROR(VLOOKUP($A$3,'Roster LIMA'!$B$4484:$AU$5032,'Roster LIMA'!AD$1,FALSE)),\"\",VLOOKUP($A$3,'Roster LIMA'!$B$4484:$AU$5032,'Roster LIMA'!AD$1,FALSE)))","v":""},{"$f":"IF(COUNTBLANK($A$3)<>0,\"\",IF(ISERROR(VLOOKUP($A$3,'Roster LIMA'!$B$4484:$AU$5032,'Roster LIMA'!AE$1,FALSE)),\"\",VLOOKUP($A$3,'Roster LIMA'!$B$4484:$AU$5032,'Roster LIMA'!AE$1,FALSE)))","v":""},{"$f":"IF(COUNTBLANK($A$3)<>0,\"\",IF(ISERROR(VLOOKUP($A$3,'Roster LIMA'!$B$4484:$AU$5032,'Roster LIMA'!AF$1,FALSE)),\"\",VLOOKUP($A$3,'Roster LIMA'!$B$4484:$AU$5032,'Roster LIMA'!AF$1,FALSE)))","v":""},{"$f":"IF(COUNTBLANK($A$3)<>0,\"\",IF(ISERROR(VLOOKUP($A$3,'Roster LIMA'!$B$4484:$AU$5032,'Roster LIMA'!AG$1,FALSE)),\"\",VLOOKUP($A$3,'Roster LIMA'!$B$4484:$AU$5032,'Roster LIMA'!AG$1,FALSE)))","v":""},{"$f":"IF(COUNTBLANK($A$3)<>0,\"\",IF(ISERROR(VLOOKUP($A$3,'Roster LIMA'!$B$4484:$AU$5032,'Roster LIMA'!AH$1,FALSE)),\"\",VLOOKUP($A$3,'Roster LIMA'!$B$4484:$AU$5032,'Roster LIMA'!AH$1,FALSE)))","v":""},{"$f":"IF(COUNTBLANK($A$3)<>0,\"\",IF(ISERROR(VLOOKUP($A$3,'Roster LIMA'!$B$4484:$AU$5032,'Roster LIMA'!AI$1,FALSE)),\"\",VLOOKUP($A$3,'Roster LIMA'!$B$4484:$AU$5032,'Roster LIMA'!AI$1,FALSE)))","v":""},{"$f":"IF(COUNTBLANK($A$3)<>0,\"\",IF(ISERROR(VLOOKUP($A$3,'Roster LIMA'!$B$4484:$AU$5032,'Roster LIMA'!AJ$1,FALSE)),\"\",VLOOKUP($A$3,'Roster LIMA'!$B$4484:$AU$5032,'Roster LIMA'!AJ$1,FALSE)))","v":""},{"$f":"IF(COUNTBLANK($A$3)<>0,\"\",IF(ISERROR(VLOOKUP($A$3,'Roster LIMA'!$B$4484:$AU$5032,'Roster LIMA'!AK$1,FALSE)),\"\",VLOOKUP($A$3,'Roster LIMA'!$B$4484:$AU$5032,'Roster LIMA'!AK$1,FALSE)))","v":""},{"$f":"IF(COUNTBLANK($A$3)<>0,\"\",IF(ISERROR(VLOOKUP($A$3,'Roster LIMA'!$B$4484:$AU$5032,'Roster LIMA'!AL$1,FALSE)),\"\",VLOOKUP($A$3,'Roster LIMA'!$B$4484:$AU$5032,'Roster LIMA'!AL$1,FALSE)))","v":""},{"$f":"IF(COUNTBLANK($A$3)<>0,\"\",IF(ISERROR(VLOOKUP($A$3,'Roster LIMA'!$B$4484:$AU$5032,'Roster LIMA'!AM$1,FALSE)),\"\",VLOOKUP($A$3,'Roster LIMA'!$B$4484:$AU$5032,'Roster LIMA'!AM$1,FALSE)))","v":""},{"$f":"IF(COUNTBLANK($A$3)<>0,\"\",IF(ISERROR(VLOOKUP($A$3,'Roster LIMA'!$B$4484:$AU$5032,'Roster LIMA'!AN$1,FALSE)),\"\",VLOOKUP($A$3,'Roster LIMA'!$B$4484:$AU$5032,'Roster LIMA'!AN$1,FALSE)))","v":""},{"$f":"IF(COUNTBLANK($A$3)<>0,\"\",IF(ISERROR(VLOOKUP($A$3,'Roster LIMA'!$B$4484:$AU$5032,'Roster LIMA'!AO$1,FALSE)),\"\",VLOOKUP($A$3,'Roster LIMA'!$B$4484:$AU$5032,'Roster LIMA'!AO$1,FALSE)))","v":""},{"$f":"IF(COUNTBLANK($A$3)<>0,\"\",IF(ISERROR(VLOOKUP($A$3,'Roster LIMA'!$B$4484:$AU$5032,'Roster LIMA'!AP$1,FALSE)),\"\",VLOOKUP($A$3,'Roster LIMA'!$B$4484:$AU$5032,'Roster LIMA'!AP$1,FALSE)))","v":""},{"$f":"IF(COUNTBLANK($A$3)<>0,\"\",IF(ISERROR(VLOOKUP($A$3,'Roster LIMA'!$B$4484:$AU$5032,'Roster LIMA'!AQ$1,FALSE)),\"\",VLOOKUP($A$3,'Roster LIMA'!$B$4484:$AU$5032,'Roster LIMA'!AQ$1,FALSE)))","v":""},{"$f":"IF(COUNTBLANK($A$3)<>0,\"\",IF(ISERROR(VLOOKUP($A$3,'Roster LIMA'!$B$4484:$AU$5032,'Roster LIMA'!AR$1,FALSE)),\"\",VLOOKUP($A$3,'Roster LIMA'!$B$4484:$AU$5032,'Roster LIMA'!AR$1,FALSE)))","v":""},{"$f":"IF(COUNTBLANK($A$3)<>0,\"\",IF(ISERROR(VLOOKUP($A$3,'Roster LIMA'!$B$4484:$AU$5032,'Roster LIMA'!AS$1,FALSE)),\"\",VLOOKUP($A$3,'Roster LIMA'!$B$4484:$AU$5032,'Roster LIMA'!AS$1,FALSE)))","v":""},{"$f":"IF(COUNTBLANK($A$3)<>0,\"\",IF(ISERROR(VLOOKUP($A$3,'Roster LIMA'!$B$4484:$AU$5032,'Roster LIMA'!AT$1,FALSE)),\"\",VLOOKUP($A$3,'Roster LIMA'!$B$4484:$AU$5032,'Roster LIMA'!AT$1,FALSE)))","v":""},{"$f":"IF(COUNTBLANK($A$3)<>0,\"\",IF(ISERROR(VLOOKUP($A$3,'Roster LIMA'!$B$4484:$AU$5032,'Roster LIMA'!AU$1,FALSE)),\"\",VLOOKUP($A$3,'Roster LIMA'!$B$4484:$AU$5032,'Roster LIMA'!AU$1,FALSE)))","v":""}]
[{"$f":"+'Roster LIMA'!G5033","v":"1983-84"},{"$f":"IF(COUNTBLANK($A$3)<>0,\"\",IF(ISERROR(VLOOKUP($A$3,'Roster LIMA'!$B$5033:$AU$5637,'Roster LIMA'!H$1,FALSE)),\"\",IF(VLOOKUP($A$3,'Roster LIMA'!$B$5033:$AU$5637,'Roster LIMA'!H$1,FALSE)=0,\"\",VLOOKUP($A$3,'Roster LIMA'!$B$5033:$AU$5637,'Roster LIMA'!H$1,FALSE))))","v":""},{"$f":"IF(COUNTBLANK($A$3)<>0,\"\",IF(ISERROR(VLOOKUP($A$3,'Roster LIMA'!$B$5033:$AU$5637,'Roster LIMA'!I$1,FALSE)),\"\",IF(VLOOKUP($A$3,'Roster LIMA'!$B$5033:$AU$5637,'Roster LIMA'!I$1,FALSE)=0,\"\",VLOOKUP($A$3,'Roster LIMA'!$B$5033:$AU$5637,'Roster LIMA'!I$1,FALSE))))","v":""},{"$f":"IF(COUNTBLANK($A$3)<>0,\"\",IF(ISERROR(VLOOKUP($A$3,'Roster LIMA'!$B$5033:$AU$5637,'Roster LIMA'!J$1,FALSE)),\"\",IF(VLOOKUP($A$3,'Roster LIMA'!$B$5033:$AU$5637,'Roster LIMA'!J$1,FALSE)=0,\"\",VLOOKUP($A$3,'Roster LIMA'!$B$5033:$AU$5637,'Roster LIMA'!J$1,FALSE))))","v":""},{"$f":"IF(COUNTBLANK($A$3)<>0,\"\",IF(ISERROR(VLOOKUP($A$3,'Roster LIMA'!$B$5033:$AU$5637,'Roster LIMA'!K$1,FALSE)),\"\",IF(VLOOKUP($A$3,'Roster LIMA'!$B$5033:$AU$5637,'Roster LIMA'!K$1,FALSE)=0,\"\",VLOOKUP($A$3,'Roster LIMA'!$B$5033:$AU$5637,'Roster LIMA'!K$1,FALSE))))","v":""},{"$f":"IF(COUNTBLANK($A$3)<>0,\"\",IF(ISERROR(VLOOKUP($A$3,'Roster LIMA'!$B$5033:$AU$5637,'Roster LIMA'!F$1,FALSE)),\"\",IF(VLOOKUP($A$3,'Roster LIMA'!$B$5033:$AU$5637,'Roster LIMA'!F$1,FALSE)=0,\"\",VLOOKUP($A$3,'Roster LIMA'!$B$5033:$AU$5637,'Roster LIMA'!F$1,FALSE))))","v":""},{"$f":"IF(COUNTBLANK($A$3)<>0,\"\",IF(ISERROR(VLOOKUP($A$3,'Roster LIMA'!$B$5033:$AU$5637,'Roster LIMA'!E$1,FALSE)),\"\",IF(VLOOKUP($A$3,'Roster LIMA'!$B$5033:$AU$5637,'Roster LIMA'!E$1,FALSE)=0,\"\",VLOOKUP($A$3,'Roster LIMA'!$B$5033:$AU$5637,'Roster LIMA'!E$1,FALSE))))","v":""},{"$f":"IF(COUNTBLANK($A$3)<>0,\"\",IF(ISERROR(VLOOKUP($A$3,'Roster LIMA'!$B$5033:$AU$5637,'Roster LIMA'!B$1,FALSE)),\"N/A\",IF(VLOOKUP($A$3,'Roster LIMA'!$B$5033:$AU$5637,'Roster LIMA'!B$1,FALSE)=0,\"\",VLOOKUP($A$3,'Roster LIMA'!$B$5033:$AU$5637,'Roster LIMA'!B$1,FALSE))))","v":""},{"$f":"IF(COUNTBLANK($A$3)<>0,\"\",IF(ISERROR(VLOOKUP($A$3,'Roster LIMA'!$B$5033:$AU$5637,'Roster LIMA'!C$1,FALSE)),\"\",IF(VLOOKUP($A$3,'Roster LIMA'!$B$5033:$AU$5637,'Roster LIMA'!C$1,FALSE)=0,\"\",VLOOKUP($A$3,'Roster LIMA'!$B$5033:$AU$5637,'Roster LIMA'!C$1,FALSE))))","v":""},{"$f":"IF(COUNTBLANK($A$3)<>0,\"\",IF(ISERROR(VLOOKUP($A$3,'Roster LIMA'!$B$5033:$AU$5637,'Roster LIMA'!D$1,FALSE)),\"\",IF(VLOOKUP($A$3,'Roster LIMA'!$B$5033:$AU$5637,'Roster LIMA'!D$1,FALSE)=0,\"\",VLOOKUP($A$3,'Roster LIMA'!$B$5033:$AU$5637,'Roster LIMA'!D$1,FALSE))))","v":""},{"$f":"IF(COUNTBLANK($A$3)<>0,\"\",IF(ISERROR(VLOOKUP($A$3,'Roster LIMA'!$B$5033:$AU$5637,'Roster LIMA'!L$1,FALSE)),\"\",VLOOKUP($A$3,'Roster LIMA'!$B$5033:$AU$5637,'Roster LIMA'!L$1,FALSE)))","v":""},{"$f":"IF(COUNTBLANK($A$3)<>0,\"\",IF(ISERROR(VLOOKUP($A$3,'Roster LIMA'!$B$5033:$AU$5637,'Roster LIMA'!M$1,FALSE)),\"\",VLOOKUP($A$3,'Roster LIMA'!$B$5033:$AU$5637,'Roster LIMA'!M$1,FALSE)))","v":""},{"$f":"IF(COUNTBLANK($A$3)<>0,\"\",IF(ISERROR(VLOOKUP($A$3,'Roster LIMA'!$B$5033:$AU$5637,'Roster LIMA'!N$1,FALSE)),\"\",VLOOKUP($A$3,'Roster LIMA'!$B$5033:$AU$5637,'Roster LIMA'!N$1,FALSE)))","v":""},{"$f":"IF(COUNTBLANK($A$3)<>0,\"\",IF(ISERROR(VLOOKUP($A$3,'Roster LIMA'!$B$5033:$AU$5637,'Roster LIMA'!O$1,FALSE)),\"\",VLOOKUP($A$3,'Roster LIMA'!$B$5033:$AU$5637,'Roster LIMA'!O$1,FALSE)))","v":""},{"$f":"IF(COUNTBLANK($A$3)<>0,\"\",IF(ISERROR(VLOOKUP($A$3,'Roster LIMA'!$B$5033:$AU$5637,'Roster LIMA'!P$1,FALSE)),\"\",VLOOKUP($A$3,'Roster LIMA'!$B$5033:$AU$5637,'Roster LIMA'!P$1,FALSE)))","v":""},{"$f":"IF(COUNTBLANK($A$3)<>0,\"\",IF(ISERROR(VLOOKUP($A$3,'Roster LIMA'!$B$5033:$AU$5637,'Roster LIMA'!Q$1,FALSE)),\"\",VLOOKUP($A$3,'Roster LIMA'!$B$5033:$AU$5637,'Roster LIMA'!Q$1,FALSE)))","v":""},{"$f":"IF(COUNTBLANK($A$3)<>0,\"\",IF(ISERROR(VLOOKUP($A$3,'Roster LIMA'!$B$5033:$AU$5637,'Roster LIMA'!R$1,FALSE)),\"\",VLOOKUP($A$3,'Roster LIMA'!$B$5033:$AU$5637,'Roster LIMA'!R$1,FALSE)))","v":""},{"$f":"IF(COUNTBLANK($A$3)<>0,\"\",IF(ISERROR(VLOOKUP($A$3,'Roster LIMA'!$B$5033:$AU$5637,'Roster LIMA'!S$1,FALSE)),\"\",VLOOKUP($A$3,'Roster LIMA'!$B$5033:$AU$5637,'Roster LIMA'!S$1,FALSE)))","v":""},{"$f":"IF(COUNTBLANK($A$3)<>0,\"\",IF(ISERROR(VLOOKUP($A$3,'Roster LIMA'!$B$5033:$AU$5637,'Roster LIMA'!T$1,FALSE)),\"\",VLOOKUP($A$3,'Roster LIMA'!$B$5033:$AU$5637,'Roster LIMA'!T$1,FALSE)))","v":""},{"$f":"IF(COUNTBLANK($A$3)<>0,\"\",IF(ISERROR(VLOOKUP($A$3,'Roster LIMA'!$B$5033:$AU$5637,'Roster LIMA'!U$1,FALSE)),\"\",VLOOKUP($A$3,'Roster LIMA'!$B$5033:$AU$5637,'Roster LIMA'!U$1,FALSE)))","v":""},{"$f":"IF(COUNTBLANK($A$3)<>0,\"\",IF(ISERROR(VLOOKUP($A$3,'Roster LIMA'!$B$5033:$AU$5637,'Roster LIMA'!V$1,FALSE)),\"\",VLOOKUP($A$3,'Roster LIMA'!$B$5033:$AU$5637,'Roster LIMA'!V$1,FALSE)))","v":""},{"$f":"IF(COUNTBLANK($A$3)<>0,\"\",IF(ISERROR(VLOOKUP($A$3,'Roster LIMA'!$B$5033:$AU$5637,'Roster LIMA'!W$1,FALSE)),\"\",VLOOKUP($A$3,'Roster LIMA'!$B$5033:$AU$5637,'Roster LIMA'!W$1,FALSE)))","v":""},{"$f":"IF(COUNTBLANK($A$3)<>0,\"\",IF(ISERROR(VLOOKUP($A$3,'Roster LIMA'!$B$5033:$AU$5637,'Roster LIMA'!X$1,FALSE)),\"\",VLOOKUP($A$3,'Roster LIMA'!$B$5033:$AU$5637,'Roster LIMA'!X$1,FALSE)))","v":""},{"$f":"IF(COUNTBLANK($A$3)<>0,\"\",IF(ISERROR(VLOOKUP($A$3,'Roster LIMA'!$B$5033:$AU$5637,'Roster LIMA'!Y$1,FALSE)),\"\",VLOOKUP($A$3,'Roster LIMA'!$B$5033:$AU$5637,'Roster LIMA'!Y$1,FALSE)))","v":""},{"$f":"IF(COUNTBLANK($A$3)<>0,\"\",IF(ISERROR(VLOOKUP($A$3,'Roster LIMA'!$B$5033:$AU$5637,'Roster LIMA'!Z$1,FALSE)),\"\",VLOOKUP($A$3,'Roster LIMA'!$B$5033:$AU$5637,'Roster LIMA'!Z$1,FALSE)))","v":""},{"$f":"IF(COUNTBLANK($A$3)<>0,\"\",IF(ISERROR(VLOOKUP($A$3,'Roster LIMA'!$B$5033:$AU$5637,'Roster LIMA'!AA$1,FALSE)),\"\",VLOOKUP($A$3,'Roster LIMA'!$B$5033:$AU$5637,'Roster LIMA'!AA$1,FALSE)))","v":""},{"$f":"IF(COUNTBLANK($A$3)<>0,\"\",IF(ISERROR(VLOOKUP($A$3,'Roster LIMA'!$B$5033:$AU$5637,'Roster LIMA'!AB$1,FALSE)),\"\",VLOOKUP($A$3,'Roster LIMA'!$B$5033:$AU$5637,'Roster LIMA'!AB$1,FALSE)))","v":""},{"$f":"IF(COUNTBLANK($A$3)<>0,\"\",IF(ISERROR(VLOOKUP($A$3,'Roster LIMA'!$B$5033:$AU$5637,'Roster LIMA'!AC$1,FALSE)),\"\",VLOOKUP($A$3,'Roster LIMA'!$B$5033:$AU$5637,'Roster LIMA'!AC$1,FALSE)))","v":""},{"$f":"IF(COUNTBLANK($A$3)<>0,\"\",IF(ISERROR(VLOOKUP($A$3,'Roster LIMA'!$B$5033:$AU$5637,'Roster LIMA'!AD$1,FALSE)),\"\",VLOOKUP($A$3,'Roster LIMA'!$B$5033:$AU$5637,'Roster LIMA'!AD$1,FALSE)))","v":""},{"$f":"IF(COUNTBLANK($A$3)<>0,\"\",IF(ISERROR(VLOOKUP($A$3,'Roster LIMA'!$B$5033:$AU$5637,'Roster LIMA'!AE$1,FALSE)),\"\",VLOOKUP($A$3,'Roster LIMA'!$B$5033:$AU$5637,'Roster LIMA'!AE$1,FALSE)))","v":""},{"$f":"IF(COUNTBLANK($A$3)<>0,\"\",IF(ISERROR(VLOOKUP($A$3,'Roster LIMA'!$B$5033:$AU$5637,'Roster LIMA'!AF$1,FALSE)),\"\",VLOOKUP($A$3,'Roster LIMA'!$B$5033:$AU$5637,'Roster LIMA'!AF$1,FALSE)))","v":""},{"$f":"IF(COUNTBLANK($A$3)<>0,\"\",IF(ISERROR(VLOOKUP($A$3,'Roster LIMA'!$B$5033:$AU$5637,'Roster LIMA'!AG$1,FALSE)),\"\",VLOOKUP($A$3,'Roster LIMA'!$B$5033:$AU$5637,'Roster LIMA'!AG$1,FALSE)))","v":""},{"$f":"IF(COUNTBLANK($A$3)<>0,\"\",IF(ISERROR(VLOOKUP($A$3,'Roster LIMA'!$B$5033:$AU$5637,'Roster LIMA'!AH$1,FALSE)),\"\",VLOOKUP($A$3,'Roster LIMA'!$B$5033:$AU$5637,'Roster LIMA'!AH$1,FALSE)))","v":""},{"$f":"IF(COUNTBLANK($A$3)<>0,\"\",IF(ISERROR(VLOOKUP($A$3,'Roster LIMA'!$B$5033:$AU$5637,'Roster LIMA'!AI$1,FALSE)),\"\",VLOOKUP($A$3,'Roster LIMA'!$B$5033:$AU$5637,'Roster LIMA'!AI$1,FALSE)))","v":""},{"$f":"IF(COUNTBLANK($A$3)<>0,\"\",IF(ISERROR(VLOOKUP($A$3,'Roster LIMA'!$B$5033:$AU$5637,'Roster LIMA'!AJ$1,FALSE)),\"\",VLOOKUP($A$3,'Roster LIMA'!$B$5033:$AU$5637,'Roster LIMA'!AJ$1,FALSE)))","v":""},{"$f":"IF(COUNTBLANK($A$3)<>0,\"\",IF(ISERROR(VLOOKUP($A$3,'Roster LIMA'!$B$5033:$AU$5637,'Roster LIMA'!AK$1,FALSE)),\"\",VLOOKUP($A$3,'Roster LIMA'!$B$5033:$AU$5637,'Roster LIMA'!AK$1,FALSE)))","v":""},{"$f":"IF(COUNTBLANK($A$3)<>0,\"\",IF(ISERROR(VLOOKUP($A$3,'Roster LIMA'!$B$5033:$AU$5637,'Roster LIMA'!AL$1,FALSE)),\"\",VLOOKUP($A$3,'Roster LIMA'!$B$5033:$AU$5637,'Roster LIMA'!AL$1,FALSE)))","v":""},{"$f":"IF(COUNTBLANK($A$3)<>0,\"\",IF(ISERROR(VLOOKUP($A$3,'Roster LIMA'!$B$5033:$AU$5637,'Roster LIMA'!AM$1,FALSE)),\"\",VLOOKUP($A$3,'Roster LIMA'!$B$5033:$AU$5637,'Roster LIMA'!AM$1,FALSE)))","v":""},{"$f":"IF(COUNTBLANK($A$3)<>0,\"\",IF(ISERROR(VLOOKUP($A$3,'Roster LIMA'!$B$5033:$AU$5637,'Roster LIMA'!AN$1,FALSE)),\"\",VLOOKUP($A$3,'Roster LIMA'!$B$5033:$AU$5637,'Roster LIMA'!AN$1,FALSE)))","v":""},{"$f":"IF(COUNTBLANK($A$3)<>0,\"\",IF(ISERROR(VLOOKUP($A$3,'Roster LIMA'!$B$5033:$AU$5637,'Roster LIMA'!AO$1,FALSE)),\"\",VLOOKUP($A$3,'Roster LIMA'!$B$5033:$AU$5637,'Roster LIMA'!AO$1,FALSE)))","v":""},{"$f":"IF(COUNTBLANK($A$3)<>0,\"\",IF(ISERROR(VLOOKUP($A$3,'Roster LIMA'!$B$5033:$AU$5637,'Roster LIMA'!AP$1,FALSE)),\"\",VLOOKUP($A$3,'Roster LIMA'!$B$5033:$AU$5637,'Roster LIMA'!AP$1,FALSE)))","v":""},{"$f":"IF(COUNTBLANK($A$3)<>0,\"\",IF(ISERROR(VLOOKUP($A$3,'Roster LIMA'!$B$5033:$AU$5637,'Roster LIMA'!AQ$1,FALSE)),\"\",VLOOKUP($A$3,'Roster LIMA'!$B$5033:$AU$5637,'Roster LIMA'!AQ$1,FALSE)))","v":""},{"$f":"IF(COUNTBLANK($A$3)<>0,\"\",IF(ISERROR(VLOOKUP($A$3,'Roster LIMA'!$B$5033:$AU$5637,'Roster LIMA'!AR$1,FALSE)),\"\",VLOOKUP($A$3,'Roster LIMA'!$B$5033:$AU$5637,'Roster LIMA'!AR$1,FALSE)))","v":""},{"$f":"IF(COUNTBLANK($A$3)<>0,\"\",IF(ISERROR(VLOOKUP($A$3,'Roster LIMA'!$B$5033:$AU$5637,'Roster LIMA'!AS$1,FALSE)),\"\",VLOOKUP($A$3,'Roster LIMA'!$B$5033:$AU$5637,'Roster LIMA'!AS$1,FALSE)))","v":""},{"$f":"IF(COUNTBLANK($A$3)<>0,\"\",IF(ISERROR(VLOOKUP($A$3,'Roster LIMA'!$B$5033:$AU$5637,'Roster LIMA'!AT$1,FALSE)),\"\",VLOOKUP($A$3,'Roster LIMA'!$B$5033:$AU$5637,'Roster LIMA'!AT$1,FALSE)))","v":""},{"$f":"IF(COUNTBLANK($A$3)<>0,\"\",IF(ISERROR(VLOOKUP($A$3,'Roster LIMA'!$B$5033:$AU$5637,'Roster LIMA'!AU$1,FALSE)),\"\",VLOOKUP($A$3,'Roster LIMA'!$B$5033:$AU$5637,'Roster LIMA'!AU$1,FALSE)))","v":""}]
[{"$f":"+'Roster LIMA'!G5638","v":"1984-85"},{"$f":"IF(COUNTBLANK($A$3)<>0,\"\",IF(ISERROR(VLOOKUP($A$3,'Roster LIMA'!$B$5638:$AU$6279,'Roster LIMA'!H$1,FALSE)),\"\",IF(VLOOKUP($A$3,'Roster LIMA'!$B$5638:$AU$6279,'Roster LIMA'!H$1,FALSE)=0,\"\",VLOOKUP($A$3,'Roster LIMA'!$B$5638:$AU$6279,'Roster LIMA'!H$1,FALSE))))","v":""},{"$f":"IF(COUNTBLANK($A$3)<>0,\"\",IF(ISERROR(VLOOKUP($A$3,'Roster LIMA'!$B$5638:$AU$6279,'Roster LIMA'!I$1,FALSE)),\"\",IF(VLOOKUP($A$3,'Roster LIMA'!$B$5638:$AU$6279,'Roster LIMA'!I$1,FALSE)=0,\"\",VLOOKUP($A$3,'Roster LIMA'!$B$5638:$AU$6279,'Roster LIMA'!I$1,FALSE))))","v":""},{"$f":"IF(COUNTBLANK($A$3)<>0,\"\",IF(ISERROR(VLOOKUP($A$3,'Roster LIMA'!$B$5638:$AU$6279,'Roster LIMA'!J$1,FALSE)),\"\",IF(VLOOKUP($A$3,'Roster LIMA'!$B$5638:$AU$6279,'Roster LIMA'!J$1,FALSE)=0,\"\",VLOOKUP($A$3,'Roster LIMA'!$B$5638:$AU$6279,'Roster LIMA'!J$1,FALSE))))","v":""},{"$f":"IF(COUNTBLANK($A$3)<>0,\"\",IF(ISERROR(VLOOKUP($A$3,'Roster LIMA'!$B$5638:$AU$6279,'Roster LIMA'!K$1,FALSE)),\"\",IF(VLOOKUP($A$3,'Roster LIMA'!$B$5638:$AU$6279,'Roster LIMA'!K$1,FALSE)=0,\"\",VLOOKUP($A$3,'Roster LIMA'!$B$5638:$AU$6279,'Roster LIMA'!K$1,FALSE))))","v":""},{"$f":"IF(COUNTBLANK($A$3)<>0,\"\",IF(ISERROR(VLOOKUP($A$3,'Roster LIMA'!$B$5638:$AU$6279,'Roster LIMA'!F$1,FALSE)),\"\",IF(VLOOKUP($A$3,'Roster LIMA'!$B$5638:$AU$6279,'Roster LIMA'!F$1,FALSE)=0,\"\",VLOOKUP($A$3,'Roster LIMA'!$B$5638:$AU$6279,'Roster LIMA'!F$1,FALSE))))","v":""},{"$f":"IF(COUNTBLANK($A$3)<>0,\"\",IF(ISERROR(VLOOKUP($A$3,'Roster LIMA'!$B$5638:$AU$6279,'Roster LIMA'!E$1,FALSE)),\"\",IF(VLOOKUP($A$3,'Roster LIMA'!$B$5638:$AU$6279,'Roster LIMA'!E$1,FALSE)=0,\"\",VLOOKUP($A$3,'Roster LIMA'!$B$5638:$AU$6279,'Roster LIMA'!E$1,FALSE))))","v":""},{"$f":"IF(COUNTBLANK($A$3)<>0,\"\",IF(ISERROR(VLOOKUP($A$3,'Roster LIMA'!$B$5638:$AU$6279,'Roster LIMA'!B$1,FALSE)),\"N/A\",IF(VLOOKUP($A$3,'Roster LIMA'!$B$5638:$AU$6279,'Roster LIMA'!B$1,FALSE)=0,\"\",VLOOKUP($A$3,'Roster LIMA'!$B$5638:$AU$6279,'Roster LIMA'!B$1,FALSE))))","v":""},{"$f":"IF(COUNTBLANK($A$3)<>0,\"\",IF(ISERROR(VLOOKUP($A$3,'Roster LIMA'!$B$5638:$AU$6279,'Roster LIMA'!C$1,FALSE)),\"\",IF(VLOOKUP($A$3,'Roster LIMA'!$B$5638:$AU$6279,'Roster LIMA'!C$1,FALSE)=0,\"\",VLOOKUP($A$3,'Roster LIMA'!$B$5638:$AU$6279,'Roster LIMA'!C$1,FALSE))))","v":""},{"$f":"IF(COUNTBLANK($A$3)<>0,\"\",IF(ISERROR(VLOOKUP($A$3,'Roster LIMA'!$B$5638:$AU$6279,'Roster LIMA'!D$1,FALSE)),\"\",IF(VLOOKUP($A$3,'Roster LIMA'!$B$5638:$AU$6279,'Roster LIMA'!D$1,FALSE)=0,\"\",VLOOKUP($A$3,'Roster LIMA'!$B$5638:$AU$6279,'Roster LIMA'!D$1,FALSE))))","v":""},{"$f":"IF(COUNTBLANK($A$3)<>0,\"\",IF(ISERROR(VLOOKUP($A$3,'Roster LIMA'!$B$5638:$AU$6279,'Roster LIMA'!L$1,FALSE)),\"\",VLOOKUP($A$3,'Roster LIMA'!$B$5638:$AU$6279,'Roster LIMA'!L$1,FALSE)))","v":""},{"$f":"IF(COUNTBLANK($A$3)<>0,\"\",IF(ISERROR(VLOOKUP($A$3,'Roster LIMA'!$B$5638:$AU$6279,'Roster LIMA'!M$1,FALSE)),\"\",VLOOKUP($A$3,'Roster LIMA'!$B$5638:$AU$6279,'Roster LIMA'!M$1,FALSE)))","v":""},{"$f":"IF(COUNTBLANK($A$3)<>0,\"\",IF(ISERROR(VLOOKUP($A$3,'Roster LIMA'!$B$5638:$AU$6279,'Roster LIMA'!N$1,FALSE)),\"\",VLOOKUP($A$3,'Roster LIMA'!$B$5638:$AU$6279,'Roster LIMA'!N$1,FALSE)))","v":""},{"$f":"IF(COUNTBLANK($A$3)<>0,\"\",IF(ISERROR(VLOOKUP($A$3,'Roster LIMA'!$B$5638:$AU$6279,'Roster LIMA'!O$1,FALSE)),\"\",VLOOKUP($A$3,'Roster LIMA'!$B$5638:$AU$6279,'Roster LIMA'!O$1,FALSE)))","v":""},{"$f":"IF(COUNTBLANK($A$3)<>0,\"\",IF(ISERROR(VLOOKUP($A$3,'Roster LIMA'!$B$5638:$AU$6279,'Roster LIMA'!P$1,FALSE)),\"\",VLOOKUP($A$3,'Roster LIMA'!$B$5638:$AU$6279,'Roster LIMA'!P$1,FALSE)))","v":""},{"$f":"IF(COUNTBLANK($A$3)<>0,\"\",IF(ISERROR(VLOOKUP($A$3,'Roster LIMA'!$B$5638:$AU$6279,'Roster LIMA'!Q$1,FALSE)),\"\",VLOOKUP($A$3,'Roster LIMA'!$B$5638:$AU$6279,'Roster LIMA'!Q$1,FALSE)))","v":""},{"$f":"IF(COUNTBLANK($A$3)<>0,\"\",IF(ISERROR(VLOOKUP($A$3,'Roster LIMA'!$B$5638:$AU$6279,'Roster LIMA'!R$1,FALSE)),\"\",VLOOKUP($A$3,'Roster LIMA'!$B$5638:$AU$6279,'Roster LIMA'!R$1,FALSE)))","v":""},{"$f":"IF(COUNTBLANK($A$3)<>0,\"\",IF(ISERROR(VLOOKUP($A$3,'Roster LIMA'!$B$5638:$AU$6279,'Roster LIMA'!S$1,FALSE)),\"\",VLOOKUP($A$3,'Roster LIMA'!$B$5638:$AU$6279,'Roster LIMA'!S$1,FALSE)))","v":""},{"$f":"IF(COUNTBLANK($A$3)<>0,\"\",IF(ISERROR(VLOOKUP($A$3,'Roster LIMA'!$B$5638:$AU$6279,'Roster LIMA'!T$1,FALSE)),\"\",VLOOKUP($A$3,'Roster LIMA'!$B$5638:$AU$6279,'Roster LIMA'!T$1,FALSE)))","v":""},{"$f":"IF(COUNTBLANK($A$3)<>0,\"\",IF(ISERROR(VLOOKUP($A$3,'Roster LIMA'!$B$5638:$AU$6279,'Roster LIMA'!U$1,FALSE)),\"\",VLOOKUP($A$3,'Roster LIMA'!$B$5638:$AU$6279,'Roster LIMA'!U$1,FALSE)))","v":""},{"$f":"IF(COUNTBLANK($A$3)<>0,\"\",IF(ISERROR(VLOOKUP($A$3,'Roster LIMA'!$B$5638:$AU$6279,'Roster LIMA'!V$1,FALSE)),\"\",VLOOKUP($A$3,'Roster LIMA'!$B$5638:$AU$6279,'Roster LIMA'!V$1,FALSE)))","v":""},{"$f":"IF(COUNTBLANK($A$3)<>0,\"\",IF(ISERROR(VLOOKUP($A$3,'Roster LIMA'!$B$5638:$AU$6279,'Roster LIMA'!W$1,FALSE)),\"\",VLOOKUP($A$3,'Roster LIMA'!$B$5638:$AU$6279,'Roster LIMA'!W$1,FALSE)))","v":""},{"$f":"IF(COUNTBLANK($A$3)<>0,\"\",IF(ISERROR(VLOOKUP($A$3,'Roster LIMA'!$B$5638:$AU$6279,'Roster LIMA'!X$1,FALSE)),\"\",VLOOKUP($A$3,'Roster LIMA'!$B$5638:$AU$6279,'Roster LIMA'!X$1,FALSE)))","v":""},{"$f":"IF(COUNTBLANK($A$3)<>0,\"\",IF(ISERROR(VLOOKUP($A$3,'Roster LIMA'!$B$5638:$AU$6279,'Roster LIMA'!Y$1,FALSE)),\"\",VLOOKUP($A$3,'Roster LIMA'!$B$5638:$AU$6279,'Roster LIMA'!Y$1,FALSE)))","v":""},{"$f":"IF(COUNTBLANK($A$3)<>0,\"\",IF(ISERROR(VLOOKUP($A$3,'Roster LIMA'!$B$5638:$AU$6279,'Roster LIMA'!Z$1,FALSE)),\"\",VLOOKUP($A$3,'Roster LIMA'!$B$5638:$AU$6279,'Roster LIMA'!Z$1,FALSE)))","v":""},{"$f":"IF(COUNTBLANK($A$3)<>0,\"\",IF(ISERROR(VLOOKUP($A$3,'Roster LIMA'!$B$5638:$AU$6279,'Roster LIMA'!AA$1,FALSE)),\"\",VLOOKUP($A$3,'Roster LIMA'!$B$5638:$AU$6279,'Roster LIMA'!AA$1,FALSE)))","v":""},{"$f":"IF(COUNTBLANK($A$3)<>0,\"\",IF(ISERROR(VLOOKUP($A$3,'Roster LIMA'!$B$5638:$AU$6279,'Roster LIMA'!AB$1,FALSE)),\"\",VLOOKUP($A$3,'Roster LIMA'!$B$5638:$AU$6279,'Roster LIMA'!AB$1,FALSE)))","v":""},{"$f":"IF(COUNTBLANK($A$3)<>0,\"\",IF(ISERROR(VLOOKUP($A$3,'Roster LIMA'!$B$5638:$AU$6279,'Roster LIMA'!AC$1,FALSE)),\"\",VLOOKUP($A$3,'Roster LIMA'!$B$5638:$AU$6279,'Roster LIMA'!AC$1,FALSE)))","v":""},{"$f":"IF(COUNTBLANK($A$3)<>0,\"\",IF(ISERROR(VLOOKUP($A$3,'Roster LIMA'!$B$5638:$AU$6279,'Roster LIMA'!AD$1,FALSE)),\"\",VLOOKUP($A$3,'Roster LIMA'!$B$5638:$AU$6279,'Roster LIMA'!AD$1,FALSE)))","v":""},{"$f":"IF(COUNTBLANK($A$3)<>0,\"\",IF(ISERROR(VLOOKUP($A$3,'Roster LIMA'!$B$5638:$AU$6279,'Roster LIMA'!AE$1,FALSE)),\"\",VLOOKUP($A$3,'Roster LIMA'!$B$5638:$AU$6279,'Roster LIMA'!AE$1,FALSE)))","v":""},{"$f":"IF(COUNTBLANK($A$3)<>0,\"\",IF(ISERROR(VLOOKUP($A$3,'Roster LIMA'!$B$5638:$AU$6279,'Roster LIMA'!AF$1,FALSE)),\"\",VLOOKUP($A$3,'Roster LIMA'!$B$5638:$AU$6279,'Roster LIMA'!AF$1,FALSE)))","v":""},{"$f":"IF(COUNTBLANK($A$3)<>0,\"\",IF(ISERROR(VLOOKUP($A$3,'Roster LIMA'!$B$5638:$AU$6279,'Roster LIMA'!AG$1,FALSE)),\"\",VLOOKUP($A$3,'Roster LIMA'!$B$5638:$AU$6279,'Roster LIMA'!AG$1,FALSE)))","v":""},{"$f":"IF(COUNTBLANK($A$3)<>0,\"\",IF(ISERROR(VLOOKUP($A$3,'Roster LIMA'!$B$5638:$AU$6279,'Roster LIMA'!AH$1,FALSE)),\"\",VLOOKUP($A$3,'Roster LIMA'!$B$5638:$AU$6279,'Roster LIMA'!AH$1,FALSE)))","v":""},{"$f":"IF(COUNTBLANK($A$3)<>0,\"\",IF(ISERROR(VLOOKUP($A$3,'Roster LIMA'!$B$5638:$AU$6279,'Roster LIMA'!AI$1,FALSE)),\"\",VLOOKUP($A$3,'Roster LIMA'!$B$5638:$AU$6279,'Roster LIMA'!AI$1,FALSE)))","v":""},{"$f":"IF(COUNTBLANK($A$3)<>0,\"\",IF(ISERROR(VLOOKUP($A$3,'Roster LIMA'!$B$5638:$AU$6279,'Roster LIMA'!AJ$1,FALSE)),\"\",VLOOKUP($A$3,'Roster LIMA'!$B$5638:$AU$6279,'Roster LIMA'!AJ$1,FALSE)))","v":""},{"$f":"IF(COUNTBLANK($A$3)<>0,\"\",IF(ISERROR(VLOOKUP($A$3,'Roster LIMA'!$B$5638:$AU$6279,'Roster LIMA'!AK$1,FALSE)),\"\",VLOOKUP($A$3,'Roster LIMA'!$B$5638:$AU$6279,'Roster LIMA'!AK$1,FALSE)))","v":""},{"$f":"IF(COUNTBLANK($A$3)<>0,\"\",IF(ISERROR(VLOOKUP($A$3,'Roster LIMA'!$B$5638:$AU$6279,'Roster LIMA'!AL$1,FALSE)),\"\",VLOOKUP($A$3,'Roster LIMA'!$B$5638:$AU$6279,'Roster LIMA'!AL$1,FALSE)))","v":""},{"$f":"IF(COUNTBLANK($A$3)<>0,\"\",IF(ISERROR(VLOOKUP($A$3,'Roster LIMA'!$B$5638:$AU$6279,'Roster LIMA'!AM$1,FALSE)),\"\",VLOOKUP($A$3,'Roster LIMA'!$B$5638:$AU$6279,'Roster LIMA'!AM$1,FALSE)))","v":""},{"$f":"IF(COUNTBLANK($A$3)<>0,\"\",IF(ISERROR(VLOOKUP($A$3,'Roster LIMA'!$B$5638:$AU$6279,'Roster LIMA'!AN$1,FALSE)),\"\",VLOOKUP($A$3,'Roster LIMA'!$B$5638:$AU$6279,'Roster LIMA'!AN$1,FALSE)))","v":""},{"$f":"IF(COUNTBLANK($A$3)<>0,\"\",IF(ISERROR(VLOOKUP($A$3,'Roster LIMA'!$B$5638:$AU$6279,'Roster LIMA'!AO$1,FALSE)),\"\",VLOOKUP($A$3,'Roster LIMA'!$B$5638:$AU$6279,'Roster LIMA'!AO$1,FALSE)))","v":""},{"$f":"IF(COUNTBLANK($A$3)<>0,\"\",IF(ISERROR(VLOOKUP($A$3,'Roster LIMA'!$B$5638:$AU$6279,'Roster LIMA'!AP$1,FALSE)),\"\",VLOOKUP($A$3,'Roster LIMA'!$B$5638:$AU$6279,'Roster LIMA'!AP$1,FALSE)))","v":""},{"$f":"IF(COUNTBLANK($A$3)<>0,\"\",IF(ISERROR(VLOOKUP($A$3,'Roster LIMA'!$B$5638:$AU$6279,'Roster LIMA'!AQ$1,FALSE)),\"\",VLOOKUP($A$3,'Roster LIMA'!$B$5638:$AU$6279,'Roster LIMA'!AQ$1,FALSE)))","v":""},{"$f":"IF(COUNTBLANK($A$3)<>0,\"\",IF(ISERROR(VLOOKUP($A$3,'Roster LIMA'!$B$5638:$AU$6279,'Roster LIMA'!AR$1,FALSE)),\"\",VLOOKUP($A$3,'Roster LIMA'!$B$5638:$AU$6279,'Roster LIMA'!AR$1,FALSE)))","v":""},{"$f":"IF(COUNTBLANK($A$3)<>0,\"\",IF(ISERROR(VLOOKUP($A$3,'Roster LIMA'!$B$5638:$AU$6279,'Roster LIMA'!AS$1,FALSE)),\"\",VLOOKUP($A$3,'Roster LIMA'!$B$5638:$AU$6279,'Roster LIMA'!AS$1,FALSE)))","v":""},{"$f":"IF(COUNTBLANK($A$3)<>0,\"\",IF(ISERROR(VLOOKUP($A$3,'Roster LIMA'!$B$5638:$AU$6279,'Roster LIMA'!AT$1,FALSE)),\"\",VLOOKUP($A$3,'Roster LIMA'!$B$5638:$AU$6279,'Roster LIMA'!AT$1,FALSE)))","v":""},{"$f":"IF(COUNTBLANK($A$3)<>0,\"\",IF(ISERROR(VLOOKUP($A$3,'Roster LIMA'!$B$5638:$AU$6279,'Roster LIMA'!AU$1,FALSE)),\"\",VLOOKUP($A$3,'Roster LIMA'!$B$5638:$AU$6279,'Roster LIMA'!AU$1,FALSE)))","v":""}]
[{"$f":"+'Roster LIMA'!G6280","v":"1985-86"},{"$f":"IF(COUNTBLANK($A$3)<>0,\"\",IF(ISERROR(VLOOKUP($A$3,'Roster LIMA'!$B$6280:$AU$6808,'Roster LIMA'!H$1,FALSE)),\"\",IF(VLOOKUP($A$3,'Roster LIMA'!$B$6280:$AU$6808,'Roster LIMA'!H$1,FALSE)=0,\"\",VLOOKUP($A$3,'Roster LIMA'!$B$6280:$AU$6808,'Roster LIMA'!H$1,FALSE))))","v":""},{"$f":"IF(COUNTBLANK($A$3)<>0,\"\",IF(ISERROR(VLOOKUP($A$3,'Roster LIMA'!$B$6280:$AU$6808,'Roster LIMA'!I$1,FALSE)),\"\",IF(VLOOKUP($A$3,'Roster LIMA'!$B$6280:$AU$6808,'Roster LIMA'!I$1,FALSE)=0,\"\",VLOOKUP($A$3,'Roster LIMA'!$B$6280:$AU$6808,'Roster LIMA'!I$1,FALSE))))","v":""},{"$f":"IF(COUNTBLANK($A$3)<>0,\"\",IF(ISERROR(VLOOKUP($A$3,'Roster LIMA'!$B$6280:$AU$6808,'Roster LIMA'!J$1,FALSE)),\"\",IF(VLOOKUP($A$3,'Roster LIMA'!$B$6280:$AU$6808,'Roster LIMA'!J$1,FALSE)=0,\"\",VLOOKUP($A$3,'Roster LIMA'!$B$6280:$AU$6808,'Roster LIMA'!J$1,FALSE))))","v":""},{"$f":"IF(COUNTBLANK($A$3)<>0,\"\",IF(ISERROR(VLOOKUP($A$3,'Roster LIMA'!$B$6280:$AU$6808,'Roster LIMA'!K$1,FALSE)),\"\",IF(VLOOKUP($A$3,'Roster LIMA'!$B$6280:$AU$6808,'Roster LIMA'!K$1,FALSE)=0,\"\",VLOOKUP($A$3,'Roster LIMA'!$B$6280:$AU$6808,'Roster LIMA'!K$1,FALSE))))","v":""},{"$f":"IF(COUNTBLANK($A$3)<>0,\"\",IF(ISERROR(VLOOKUP($A$3,'Roster LIMA'!$B$6280:$AU$6808,'Roster LIMA'!F$1,FALSE)),\"\",IF(VLOOKUP($A$3,'Roster LIMA'!$B$6280:$AU$6808,'Roster LIMA'!F$1,FALSE)=0,\"\",VLOOKUP($A$3,'Roster LIMA'!$B$6280:$AU$6808,'Roster LIMA'!F$1,FALSE))))","v":""},{"$f":"IF(COUNTBLANK($A$3)<>0,\"\",IF(ISERROR(VLOOKUP($A$3,'Roster LIMA'!$B$6280:$AU$6808,'Roster LIMA'!E$1,FALSE)),\"\",IF(VLOOKUP($A$3,'Roster LIMA'!$B$6280:$AU$6808,'Roster LIMA'!E$1,FALSE)=0,\"\",VLOOKUP($A$3,'Roster LIMA'!$B$6280:$AU$6808,'Roster LIMA'!E$1,FALSE))))","v":""},{"$f":"IF(COUNTBLANK($A$3)<>0,\"\",IF(ISERROR(VLOOKUP($A$3,'Roster LIMA'!$B$6280:$AU$6808,'Roster LIMA'!B$1,FALSE)),\"N/A\",IF(VLOOKUP($A$3,'Roster LIMA'!$B$6280:$AU$6808,'Roster LIMA'!B$1,FALSE)=0,\"\",VLOOKUP($A$3,'Roster LIMA'!$B$6280:$AU$6808,'Roster LIMA'!B$1,FALSE))))","v":""},{"$f":"IF(COUNTBLANK($A$3)<>0,\"\",IF(ISERROR(VLOOKUP($A$3,'Roster LIMA'!$B$6280:$AU$6808,'Roster LIMA'!C$1,FALSE)),\"\",IF(VLOOKUP($A$3,'Roster LIMA'!$B$6280:$AU$6808,'Roster LIMA'!C$1,FALSE)=0,\"\",VLOOKUP($A$3,'Roster LIMA'!$B$6280:$AU$6808,'Roster LIMA'!C$1,FALSE))))","v":""},{"$f":"IF(COUNTBLANK($A$3)<>0,\"\",IF(ISERROR(VLOOKUP($A$3,'Roster LIMA'!$B$6280:$AU$6808,'Roster LIMA'!D$1,FALSE)),\"\",IF(VLOOKUP($A$3,'Roster LIMA'!$B$6280:$AU$6808,'Roster LIMA'!D$1,FALSE)=0,\"\",VLOOKUP($A$3,'Roster LIMA'!$B$6280:$AU$6808,'Roster LIMA'!D$1,FALSE))))","v":""},{"$f":"IF(COUNTBLANK($A$3)<>0,\"\",IF(ISERROR(VLOOKUP($A$3,'Roster LIMA'!$B$6280:$AU$6808,'Roster LIMA'!L$1,FALSE)),\"\",VLOOKUP($A$3,'Roster LIMA'!$B$6280:$AU$6808,'Roster LIMA'!L$1,FALSE)))","v":""},{"$f":"IF(COUNTBLANK($A$3)<>0,\"\",IF(ISERROR(VLOOKUP($A$3,'Roster LIMA'!$B$6280:$AU$6808,'Roster LIMA'!M$1,FALSE)),\"\",VLOOKUP($A$3,'Roster LIMA'!$B$6280:$AU$6808,'Roster LIMA'!M$1,FALSE)))","v":""},{"$f":"IF(COUNTBLANK($A$3)<>0,\"\",IF(ISERROR(VLOOKUP($A$3,'Roster LIMA'!$B$6280:$AU$6808,'Roster LIMA'!N$1,FALSE)),\"\",VLOOKUP($A$3,'Roster LIMA'!$B$6280:$AU$6808,'Roster LIMA'!N$1,FALSE)))","v":""},{"$f":"IF(COUNTBLANK($A$3)<>0,\"\",IF(ISERROR(VLOOKUP($A$3,'Roster LIMA'!$B$6280:$AU$6808,'Roster LIMA'!O$1,FALSE)),\"\",VLOOKUP($A$3,'Roster LIMA'!$B$6280:$AU$6808,'Roster LIMA'!O$1,FALSE)))","v":""},{"$f":"IF(COUNTBLANK($A$3)<>0,\"\",IF(ISERROR(VLOOKUP($A$3,'Roster LIMA'!$B$6280:$AU$6808,'Roster LIMA'!P$1,FALSE)),\"\",VLOOKUP($A$3,'Roster LIMA'!$B$6280:$AU$6808,'Roster LIMA'!P$1,FALSE)))","v":""},{"$f":"IF(COUNTBLANK($A$3)<>0,\"\",IF(ISERROR(VLOOKUP($A$3,'Roster LIMA'!$B$6280:$AU$6808,'Roster LIMA'!Q$1,FALSE)),\"\",VLOOKUP($A$3,'Roster LIMA'!$B$6280:$AU$6808,'Roster LIMA'!Q$1,FALSE)))","v":""},{"$f":"IF(COUNTBLANK($A$3)<>0,\"\",IF(ISERROR(VLOOKUP($A$3,'Roster LIMA'!$B$6280:$AU$6808,'Roster LIMA'!R$1,FALSE)),\"\",VLOOKUP($A$3,'Roster LIMA'!$B$6280:$AU$6808,'Roster LIMA'!R$1,FALSE)))","v":""},{"$f":"IF(COUNTBLANK($A$3)<>0,\"\",IF(ISERROR(VLOOKUP($A$3,'Roster LIMA'!$B$6280:$AU$6808,'Roster LIMA'!S$1,FALSE)),\"\",VLOOKUP($A$3,'Roster LIMA'!$B$6280:$AU$6808,'Roster LIMA'!S$1,FALSE)))","v":""},{"$f":"IF(COUNTBLANK($A$3)<>0,\"\",IF(ISERROR(VLOOKUP($A$3,'Roster LIMA'!$B$6280:$AU$6808,'Roster LIMA'!T$1,FALSE)),\"\",VLOOKUP($A$3,'Roster LIMA'!$B$6280:$AU$6808,'Roster LIMA'!T$1,FALSE)))","v":""},{"$f":"IF(COUNTBLANK($A$3)<>0,\"\",IF(ISERROR(VLOOKUP($A$3,'Roster LIMA'!$B$6280:$AU$6808,'Roster LIMA'!U$1,FALSE)),\"\",VLOOKUP($A$3,'Roster LIMA'!$B$6280:$AU$6808,'Roster LIMA'!U$1,FALSE)))","v":""},{"$f":"IF(COUNTBLANK($A$3)<>0,\"\",IF(ISERROR(VLOOKUP($A$3,'Roster LIMA'!$B$6280:$AU$6808,'Roster LIMA'!V$1,FALSE)),\"\",VLOOKUP($A$3,'Roster LIMA'!$B$6280:$AU$6808,'Roster LIMA'!V$1,FALSE)))","v":""},{"$f":"IF(COUNTBLANK($A$3)<>0,\"\",IF(ISERROR(VLOOKUP($A$3,'Roster LIMA'!$B$6280:$AU$6808,'Roster LIMA'!W$1,FALSE)),\"\",VLOOKUP($A$3,'Roster LIMA'!$B$6280:$AU$6808,'Roster LIMA'!W$1,FALSE)))","v":""},{"$f":"IF(COUNTBLANK($A$3)<>0,\"\",IF(ISERROR(VLOOKUP($A$3,'Roster LIMA'!$B$6280:$AU$6808,'Roster LIMA'!X$1,FALSE)),\"\",VLOOKUP($A$3,'Roster LIMA'!$B$6280:$AU$6808,'Roster LIMA'!X$1,FALSE)))","v":""},{"$f":"IF(COUNTBLANK($A$3)<>0,\"\",IF(ISERROR(VLOOKUP($A$3,'Roster LIMA'!$B$6280:$AU$6808,'Roster LIMA'!Y$1,FALSE)),\"\",VLOOKUP($A$3,'Roster LIMA'!$B$6280:$AU$6808,'Roster LIMA'!Y$1,FALSE)))","v":""},{"$f":"IF(COUNTBLANK($A$3)<>0,\"\",IF(ISERROR(VLOOKUP($A$3,'Roster LIMA'!$B$6280:$AU$6808,'Roster LIMA'!Z$1,FALSE)),\"\",VLOOKUP($A$3,'Roster LIMA'!$B$6280:$AU$6808,'Roster LIMA'!Z$1,FALSE)))","v":""},{"$f":"IF(COUNTBLANK($A$3)<>0,\"\",IF(ISERROR(VLOOKUP($A$3,'Roster LIMA'!$B$6280:$AU$6808,'Roster LIMA'!AA$1,FALSE)),\"\",VLOOKUP($A$3,'Roster LIMA'!$B$6280:$AU$6808,'Roster LIMA'!AA$1,FALSE)))","v":""},{"$f":"IF(COUNTBLANK($A$3)<>0,\"\",IF(ISERROR(VLOOKUP($A$3,'Roster LIMA'!$B$6280:$AU$6808,'Roster LIMA'!AB$1,FALSE)),\"\",VLOOKUP($A$3,'Roster LIMA'!$B$6280:$AU$6808,'Roster LIMA'!AB$1,FALSE)))","v":""},{"$f":"IF(COUNTBLANK($A$3)<>0,\"\",IF(ISERROR(VLOOKUP($A$3,'Roster LIMA'!$B$6280:$AU$6808,'Roster LIMA'!AC$1,FALSE)),\"\",VLOOKUP($A$3,'Roster LIMA'!$B$6280:$AU$6808,'Roster LIMA'!AC$1,FALSE)))","v":""},{"$f":"IF(COUNTBLANK($A$3)<>0,\"\",IF(ISERROR(VLOOKUP($A$3,'Roster LIMA'!$B$6280:$AU$6808,'Roster LIMA'!AD$1,FALSE)),\"\",VLOOKUP($A$3,'Roster LIMA'!$B$6280:$AU$6808,'Roster LIMA'!AD$1,FALSE)))","v":""},{"$f":"IF(COUNTBLANK($A$3)<>0,\"\",IF(ISERROR(VLOOKUP($A$3,'Roster LIMA'!$B$6280:$AU$6808,'Roster LIMA'!AE$1,FALSE)),\"\",VLOOKUP($A$3,'Roster LIMA'!$B$6280:$AU$6808,'Roster LIMA'!AE$1,FALSE)))","v":""},{"$f":"IF(COUNTBLANK($A$3)<>0,\"\",IF(ISERROR(VLOOKUP($A$3,'Roster LIMA'!$B$6280:$AU$6808,'Roster LIMA'!AF$1,FALSE)),\"\",VLOOKUP($A$3,'Roster LIMA'!$B$6280:$AU$6808,'Roster LIMA'!AF$1,FALSE)))","v":""},{"$f":"IF(COUNTBLANK($A$3)<>0,\"\",IF(ISERROR(VLOOKUP($A$3,'Roster LIMA'!$B$6280:$AU$6808,'Roster LIMA'!AG$1,FALSE)),\"\",VLOOKUP($A$3,'Roster LIMA'!$B$6280:$AU$6808,'Roster LIMA'!AG$1,FALSE)))","v":""},{"$f":"IF(COUNTBLANK($A$3)<>0,\"\",IF(ISERROR(VLOOKUP($A$3,'Roster LIMA'!$B$6280:$AU$6808,'Roster LIMA'!AH$1,FALSE)),\"\",VLOOKUP($A$3,'Roster LIMA'!$B$6280:$AU$6808,'Roster LIMA'!AH$1,FALSE)))","v":""},{"$f":"IF(COUNTBLANK($A$3)<>0,\"\",IF(ISERROR(VLOOKUP($A$3,'Roster LIMA'!$B$6280:$AU$6808,'Roster LIMA'!AI$1,FALSE)),\"\",VLOOKUP($A$3,'Roster LIMA'!$B$6280:$AU$6808,'Roster LIMA'!AI$1,FALSE)))","v":""},{"$f":"IF(COUNTBLANK($A$3)<>0,\"\",IF(ISERROR(VLOOKUP($A$3,'Roster LIMA'!$B$6280:$AU$6808,'Roster LIMA'!AJ$1,FALSE)),\"\",VLOOKUP($A$3,'Roster LIMA'!$B$6280:$AU$6808,'Roster LIMA'!AJ$1,FALSE)))","v":""},{"$f":"IF(COUNTBLANK($A$3)<>0,\"\",IF(ISERROR(VLOOKUP($A$3,'Roster LIMA'!$B$6280:$AU$6808,'Roster LIMA'!AK$1,FALSE)),\"\",VLOOKUP($A$3,'Roster LIMA'!$B$6280:$AU$6808,'Roster LIMA'!AK$1,FALSE)))","v":""},{"$f":"IF(COUNTBLANK($A$3)<>0,\"\",IF(ISERROR(VLOOKUP($A$3,'Roster LIMA'!$B$6280:$AU$6808,'Roster LIMA'!AL$1,FALSE)),\"\",VLOOKUP($A$3,'Roster LIMA'!$B$6280:$AU$6808,'Roster LIMA'!AL$1,FALSE)))","v":""},{"$f":"IF(COUNTBLANK($A$3)<>0,\"\",IF(ISERROR(VLOOKUP($A$3,'Roster LIMA'!$B$6280:$AU$6808,'Roster LIMA'!AM$1,FALSE)),\"\",VLOOKUP($A$3,'Roster LIMA'!$B$6280:$AU$6808,'Roster LIMA'!AM$1,FALSE)))","v":""},{"$f":"IF(COUNTBLANK($A$3)<>0,\"\",IF(ISERROR(VLOOKUP($A$3,'Roster LIMA'!$B$6280:$AU$6808,'Roster LIMA'!AN$1,FALSE)),\"\",VLOOKUP($A$3,'Roster LIMA'!$B$6280:$AU$6808,'Roster LIMA'!AN$1,FALSE)))","v":""},{"$f":"IF(COUNTBLANK($A$3)<>0,\"\",IF(ISERROR(VLOOKUP($A$3,'Roster LIMA'!$B$6280:$AU$6808,'Roster LIMA'!AO$1,FALSE)),\"\",VLOOKUP($A$3,'Roster LIMA'!$B$6280:$AU$6808,'Roster LIMA'!AO$1,FALSE)))","v":""},{"$f":"IF(COUNTBLANK($A$3)<>0,\"\",IF(ISERROR(VLOOKUP($A$3,'Roster LIMA'!$B$6280:$AU$6808,'Roster LIMA'!AP$1,FALSE)),\"\",VLOOKUP($A$3,'Roster LIMA'!$B$6280:$AU$6808,'Roster LIMA'!AP$1,FALSE)))","v":""},{"$f":"IF(COUNTBLANK($A$3)<>0,\"\",IF(ISERROR(VLOOKUP($A$3,'Roster LIMA'!$B$6280:$AU$6808,'Roster LIMA'!AQ$1,FALSE)),\"\",VLOOKUP($A$3,'Roster LIMA'!$B$6280:$AU$6808,'Roster LIMA'!AQ$1,FALSE)))","v":""},{"$f":"IF(COUNTBLANK($A$3)<>0,\"\",IF(ISERROR(VLOOKUP($A$3,'Roster LIMA'!$B$6280:$AU$6808,'Roster LIMA'!AR$1,FALSE)),\"\",VLOOKUP($A$3,'Roster LIMA'!$B$6280:$AU$6808,'Roster LIMA'!AR$1,FALSE)))","v":""},{"$f":"IF(COUNTBLANK($A$3)<>0,\"\",IF(ISERROR(VLOOKUP($A$3,'Roster LIMA'!$B$6280:$AU$6808,'Roster LIMA'!AS$1,FALSE)),\"\",VLOOKUP($A$3,'Roster LIMA'!$B$6280:$AU$6808,'Roster LIMA'!AS$1,FALSE)))","v":""},{"$f":"IF(COUNTBLANK($A$3)<>0,\"\",IF(ISERROR(VLOOKUP($A$3,'Roster LIMA'!$B$6280:$AU$6808,'Roster LIMA'!AT$1,FALSE)),\"\",VLOOKUP($A$3,'Roster LIMA'!$B$6280:$AU$6808,'Roster LIMA'!AT$1,FALSE)))","v":""},{"$f":"IF(COUNTBLANK($A$3)<>0,\"\",IF(ISERROR(VLOOKUP($A$3,'Roster LIMA'!$B$6280:$AU$6808,'Roster LIMA'!AU$1,FALSE)),\"\",VLOOKUP($A$3,'Roster LIMA'!$B$6280:$AU$6808,'Roster LIMA'!AU$1,FALSE)))","v":""}]
[{"$f":"+'Roster LIMA'!G6809","v":"1986-87"},{"$f":"IF(COUNTBLANK($A$3)<>0,\"\",IF(ISERROR(VLOOKUP($A$3,'Roster LIMA'!$B$6809:$AU$7117,'Roster LIMA'!H$1,FALSE)),\"\",IF(VLOOKUP($A$3,'Roster LIMA'!$B$6809:$AU$7117,'Roster LIMA'!H$1,FALSE)=0,\"\",VLOOKUP($A$3,'Roster LIMA'!$B$6809:$AU$7117,'Roster LIMA'!H$1,FALSE))))","v":""},{"$f":"IF(COUNTBLANK($A$3)<>0,\"\",IF(ISERROR(VLOOKUP($A$3,'Roster LIMA'!$B$6809:$AU$7117,'Roster LIMA'!I$1,FALSE)),\"\",IF(VLOOKUP($A$3,'Roster LIMA'!$B$6809:$AU$7117,'Roster LIMA'!I$1,FALSE)=0,\"\",VLOOKUP($A$3,'Roster LIMA'!$B$6809:$AU$7117,'Roster LIMA'!I$1,FALSE))))","v":""},{"$f":"IF(COUNTBLANK($A$3)<>0,\"\",IF(ISERROR(VLOOKUP($A$3,'Roster LIMA'!$B$6809:$AU$7117,'Roster LIMA'!J$1,FALSE)),\"\",IF(VLOOKUP($A$3,'Roster LIMA'!$B$6809:$AU$7117,'Roster LIMA'!J$1,FALSE)=0,\"\",VLOOKUP($A$3,'Roster LIMA'!$B$6809:$AU$7117,'Roster LIMA'!J$1,FALSE))))","v":""},{"$f":"IF(COUNTBLANK($A$3)<>0,\"\",IF(ISERROR(VLOOKUP($A$3,'Roster LIMA'!$B$6809:$AU$7117,'Roster LIMA'!K$1,FALSE)),\"\",IF(VLOOKUP($A$3,'Roster LIMA'!$B$6809:$AU$7117,'Roster LIMA'!K$1,FALSE)=0,\"\",VLOOKUP($A$3,'Roster LIMA'!$B$6809:$AU$7117,'Roster LIMA'!K$1,FALSE))))","v":""},{"$f":"IF(COUNTBLANK($A$3)<>0,\"\",IF(ISERROR(VLOOKUP($A$3,'Roster LIMA'!$B$6809:$AU$7117,'Roster LIMA'!F$1,FALSE)),\"\",IF(VLOOKUP($A$3,'Roster LIMA'!$B$6809:$AU$7117,'Roster LIMA'!F$1,FALSE)=0,\"\",VLOOKUP($A$3,'Roster LIMA'!$B$6809:$AU$7117,'Roster LIMA'!F$1,FALSE))))","v":""},{"$f":"IF(COUNTBLANK($A$3)<>0,\"\",IF(ISERROR(VLOOKUP($A$3,'Roster LIMA'!$B$6809:$AU$7117,'Roster LIMA'!E$1,FALSE)),\"\",IF(VLOOKUP($A$3,'Roster LIMA'!$B$6809:$AU$7117,'Roster LIMA'!E$1,FALSE)=0,\"\",VLOOKUP($A$3,'Roster LIMA'!$B$6809:$AU$7117,'Roster LIMA'!E$1,FALSE))))","v":""},{"$f":"IF(COUNTBLANK($A$3)<>0,\"\",IF(ISERROR(VLOOKUP($A$3,'Roster LIMA'!$B$6809:$AU$7117,'Roster LIMA'!B$1,FALSE)),\"N/A\",IF(VLOOKUP($A$3,'Roster LIMA'!$B$6809:$AU$7117,'Roster LIMA'!B$1,FALSE)=0,\"\",VLOOKUP($A$3,'Roster LIMA'!$B$6809:$AU$7117,'Roster LIMA'!B$1,FALSE))))","v":""},{"$f":"IF(COUNTBLANK($A$3)<>0,\"\",IF(ISERROR(VLOOKUP($A$3,'Roster LIMA'!$B$6809:$AU$7117,'Roster LIMA'!C$1,FALSE)),\"\",IF(VLOOKUP($A$3,'Roster LIMA'!$B$6809:$AU$7117,'Roster LIMA'!C$1,FALSE)=0,\"\",VLOOKUP($A$3,'Roster LIMA'!$B$6809:$AU$7117,'Roster LIMA'!C$1,FALSE))))","v":""},{"$f":"IF(COUNTBLANK($A$3)<>0,\"\",IF(ISERROR(VLOOKUP($A$3,'Roster LIMA'!$B$6809:$AU$7117,'Roster LIMA'!D$1,FALSE)),\"\",IF(VLOOKUP($A$3,'Roster LIMA'!$B$6809:$AU$7117,'Roster LIMA'!D$1,FALSE)=0,\"\",VLOOKUP($A$3,'Roster LIMA'!$B$6809:$AU$7117,'Roster LIMA'!D$1,FALSE))))","v":""},{"$f":"IF(COUNTBLANK($A$3)<>0,\"\",IF(ISERROR(VLOOKUP($A$3,'Roster LIMA'!$B$6809:$AU$7117,'Roster LIMA'!L$1,FALSE)),\"\",VLOOKUP($A$3,'Roster LIMA'!$B$6809:$AU$7117,'Roster LIMA'!L$1,FALSE)))","v":""},{"$f":"IF(COUNTBLANK($A$3)<>0,\"\",IF(ISERROR(VLOOKUP($A$3,'Roster LIMA'!$B$6809:$AU$7117,'Roster LIMA'!M$1,FALSE)),\"\",VLOOKUP($A$3,'Roster LIMA'!$B$6809:$AU$7117,'Roster LIMA'!M$1,FALSE)))","v":""},{"$f":"IF(COUNTBLANK($A$3)<>0,\"\",IF(ISERROR(VLOOKUP($A$3,'Roster LIMA'!$B$6809:$AU$7117,'Roster LIMA'!N$1,FALSE)),\"\",VLOOKUP($A$3,'Roster LIMA'!$B$6809:$AU$7117,'Roster LIMA'!N$1,FALSE)))","v":""},{"$f":"IF(COUNTBLANK($A$3)<>0,\"\",IF(ISERROR(VLOOKUP($A$3,'Roster LIMA'!$B$6809:$AU$7117,'Roster LIMA'!O$1,FALSE)),\"\",VLOOKUP($A$3,'Roster LIMA'!$B$6809:$AU$7117,'Roster LIMA'!O$1,FALSE)))","v":""},{"$f":"IF(COUNTBLANK($A$3)<>0,\"\",IF(ISERROR(VLOOKUP($A$3,'Roster LIMA'!$B$6809:$AU$7117,'Roster LIMA'!P$1,FALSE)),\"\",VLOOKUP($A$3,'Roster LIMA'!$B$6809:$AU$7117,'Roster LIMA'!P$1,FALSE)))","v":""},{"$f":"IF(COUNTBLANK($A$3)<>0,\"\",IF(ISERROR(VLOOKUP($A$3,'Roster LIMA'!$B$6809:$AU$7117,'Roster LIMA'!Q$1,FALSE)),\"\",VLOOKUP($A$3,'Roster LIMA'!$B$6809:$AU$7117,'Roster LIMA'!Q$1,FALSE)))","v":""},{"$f":"IF(COUNTBLANK($A$3)<>0,\"\",IF(ISERROR(VLOOKUP($A$3,'Roster LIMA'!$B$6809:$AU$7117,'Roster LIMA'!R$1,FALSE)),\"\",VLOOKUP($A$3,'Roster LIMA'!$B$6809:$AU$7117,'Roster LIMA'!R$1,FALSE)))","v":""},{"$f":"IF(COUNTBLANK($A$3)<>0,\"\",IF(ISERROR(VLOOKUP($A$3,'Roster LIMA'!$B$6809:$AU$7117,'Roster LIMA'!S$1,FALSE)),\"\",VLOOKUP($A$3,'Roster LIMA'!$B$6809:$AU$7117,'Roster LIMA'!S$1,FALSE)))","v":""},{"$f":"IF(COUNTBLANK($A$3)<>0,\"\",IF(ISERROR(VLOOKUP($A$3,'Roster LIMA'!$B$6809:$AU$7117,'Roster LIMA'!T$1,FALSE)),\"\",VLOOKUP($A$3,'Roster LIMA'!$B$6809:$AU$7117,'Roster LIMA'!T$1,FALSE)))","v":""},{"$f":"IF(COUNTBLANK($A$3)<>0,\"\",IF(ISERROR(VLOOKUP($A$3,'Roster LIMA'!$B$6809:$AU$7117,'Roster LIMA'!U$1,FALSE)),\"\",VLOOKUP($A$3,'Roster LIMA'!$B$6809:$AU$7117,'Roster LIMA'!U$1,FALSE)))","v":""},{"$f":"IF(COUNTBLANK($A$3)<>0,\"\",IF(ISERROR(VLOOKUP($A$3,'Roster LIMA'!$B$6809:$AU$7117,'Roster LIMA'!V$1,FALSE)),\"\",VLOOKUP($A$3,'Roster LIMA'!$B$6809:$AU$7117,'Roster LIMA'!V$1,FALSE)))","v":""},{"$f":"IF(COUNTBLANK($A$3)<>0,\"\",IF(ISERROR(VLOOKUP($A$3,'Roster LIMA'!$B$6809:$AU$7117,'Roster LIMA'!W$1,FALSE)),\"\",VLOOKUP($A$3,'Roster LIMA'!$B$6809:$AU$7117,'Roster LIMA'!W$1,FALSE)))","v":""},{"$f":"IF(COUNTBLANK($A$3)<>0,\"\",IF(ISERROR(VLOOKUP($A$3,'Roster LIMA'!$B$6809:$AU$7117,'Roster LIMA'!X$1,FALSE)),\"\",VLOOKUP($A$3,'Roster LIMA'!$B$6809:$AU$7117,'Roster LIMA'!X$1,FALSE)))","v":""},{"$f":"IF(COUNTBLANK($A$3)<>0,\"\",IF(ISERROR(VLOOKUP($A$3,'Roster LIMA'!$B$6809:$AU$7117,'Roster LIMA'!Y$1,FALSE)),\"\",VLOOKUP($A$3,'Roster LIMA'!$B$6809:$AU$7117,'Roster LIMA'!Y$1,FALSE)))","v":""},{"$f":"IF(COUNTBLANK($A$3)<>0,\"\",IF(ISERROR(VLOOKUP($A$3,'Roster LIMA'!$B$6809:$AU$7117,'Roster LIMA'!Z$1,FALSE)),\"\",VLOOKUP($A$3,'Roster LIMA'!$B$6809:$AU$7117,'Roster LIMA'!Z$1,FALSE)))","v":""},{"$f":"IF(COUNTBLANK($A$3)<>0,\"\",IF(ISERROR(VLOOKUP($A$3,'Roster LIMA'!$B$6809:$AU$7117,'Roster LIMA'!AA$1,FALSE)),\"\",VLOOKUP($A$3,'Roster LIMA'!$B$6809:$AU$7117,'Roster LIMA'!AA$1,FALSE)))","v":""},{"$f":"IF(COUNTBLANK($A$3)<>0,\"\",IF(ISERROR(VLOOKUP($A$3,'Roster LIMA'!$B$6809:$AU$7117,'Roster LIMA'!AB$1,FALSE)),\"\",VLOOKUP($A$3,'Roster LIMA'!$B$6809:$AU$7117,'Roster LIMA'!AB$1,FALSE)))","v":""},{"$f":"IF(COUNTBLANK($A$3)<>0,\"\",IF(ISERROR(VLOOKUP($A$3,'Roster LIMA'!$B$6809:$AU$7117,'Roster LIMA'!AC$1,FALSE)),\"\",VLOOKUP($A$3,'Roster LIMA'!$B$6809:$AU$7117,'Roster LIMA'!AC$1,FALSE)))","v":""},{"$f":"IF(COUNTBLANK($A$3)<>0,\"\",IF(ISERROR(VLOOKUP($A$3,'Roster LIMA'!$B$6809:$AU$7117,'Roster LIMA'!AD$1,FALSE)),\"\",VLOOKUP($A$3,'Roster LIMA'!$B$6809:$AU$7117,'Roster LIMA'!AD$1,FALSE)))","v":""},{"$f":"IF(COUNTBLANK($A$3)<>0,\"\",IF(ISERROR(VLOOKUP($A$3,'Roster LIMA'!$B$6809:$AU$7117,'Roster LIMA'!AE$1,FALSE)),\"\",VLOOKUP($A$3,'Roster LIMA'!$B$6809:$AU$7117,'Roster LIMA'!AE$1,FALSE)))","v":""},{"$f":"IF(COUNTBLANK($A$3)<>0,\"\",IF(ISERROR(VLOOKUP($A$3,'Roster LIMA'!$B$6809:$AU$7117,'Roster LIMA'!AF$1,FALSE)),\"\",VLOOKUP($A$3,'Roster LIMA'!$B$6809:$AU$7117,'Roster LIMA'!AF$1,FALSE)))","v":""},{"$f":"IF(COUNTBLANK($A$3)<>0,\"\",IF(ISERROR(VLOOKUP($A$3,'Roster LIMA'!$B$6809:$AU$7117,'Roster LIMA'!AG$1,FALSE)),\"\",VLOOKUP($A$3,'Roster LIMA'!$B$6809:$AU$7117,'Roster LIMA'!AG$1,FALSE)))","v":""},{"$f":"IF(COUNTBLANK($A$3)<>0,\"\",IF(ISERROR(VLOOKUP($A$3,'Roster LIMA'!$B$6809:$AU$7117,'Roster LIMA'!AH$1,FALSE)),\"\",VLOOKUP($A$3,'Roster LIMA'!$B$6809:$AU$7117,'Roster LIMA'!AH$1,FALSE)))","v":""},{"$f":"IF(COUNTBLANK($A$3)<>0,\"\",IF(ISERROR(VLOOKUP($A$3,'Roster LIMA'!$B$6809:$AU$7117,'Roster LIMA'!AI$1,FALSE)),\"\",VLOOKUP($A$3,'Roster LIMA'!$B$6809:$AU$7117,'Roster LIMA'!AI$1,FALSE)))","v":""},{"$f":"IF(COUNTBLANK($A$3)<>0,\"\",IF(ISERROR(VLOOKUP($A$3,'Roster LIMA'!$B$6809:$AU$7117,'Roster LIMA'!AJ$1,FALSE)),\"\",VLOOKUP($A$3,'Roster LIMA'!$B$6809:$AU$7117,'Roster LIMA'!AJ$1,FALSE)))","v":""},{"$f":"IF(COUNTBLANK($A$3)<>0,\"\",IF(ISERROR(VLOOKUP($A$3,'Roster LIMA'!$B$6809:$AU$7117,'Roster LIMA'!AK$1,FALSE)),\"\",VLOOKUP($A$3,'Roster LIMA'!$B$6809:$AU$7117,'Roster LIMA'!AK$1,FALSE)))","v":""},{"$f":"IF(COUNTBLANK($A$3)<>0,\"\",IF(ISERROR(VLOOKUP($A$3,'Roster LIMA'!$B$6809:$AU$7117,'Roster LIMA'!AL$1,FALSE)),\"\",VLOOKUP($A$3,'Roster LIMA'!$B$6809:$AU$7117,'Roster LIMA'!AL$1,FALSE)))","v":""},{"$f":"IF(COUNTBLANK($A$3)<>0,\"\",IF(ISERROR(VLOOKUP($A$3,'Roster LIMA'!$B$6809:$AU$7117,'Roster LIMA'!AM$1,FALSE)),\"\",VLOOKUP($A$3,'Roster LIMA'!$B$6809:$AU$7117,'Roster LIMA'!AM$1,FALSE)))","v":""},{"$f":"IF(COUNTBLANK($A$3)<>0,\"\",IF(ISERROR(VLOOKUP($A$3,'Roster LIMA'!$B$6809:$AU$7117,'Roster LIMA'!AN$1,FALSE)),\"\",VLOOKUP($A$3,'Roster LIMA'!$B$6809:$AU$7117,'Roster LIMA'!AN$1,FALSE)))","v":""},{"$f":"IF(COUNTBLANK($A$3)<>0,\"\",IF(ISERROR(VLOOKUP($A$3,'Roster LIMA'!$B$6809:$AU$7117,'Roster LIMA'!AO$1,FALSE)),\"\",VLOOKUP($A$3,'Roster LIMA'!$B$6809:$AU$7117,'Roster LIMA'!AO$1,FALSE)))","v":""},{"$f":"IF(COUNTBLANK($A$3)<>0,\"\",IF(ISERROR(VLOOKUP($A$3,'Roster LIMA'!$B$6809:$AU$7117,'Roster LIMA'!AP$1,FALSE)),\"\",VLOOKUP($A$3,'Roster LIMA'!$B$6809:$AU$7117,'Roster LIMA'!AP$1,FALSE)))","v":""},{"$f":"IF(COUNTBLANK($A$3)<>0,\"\",IF(ISERROR(VLOOKUP($A$3,'Roster LIMA'!$B$6809:$AU$7117,'Roster LIMA'!AQ$1,FALSE)),\"\",VLOOKUP($A$3,'Roster LIMA'!$B$6809:$AU$7117,'Roster LIMA'!AQ$1,FALSE)))","v":""},{"$f":"IF(COUNTBLANK($A$3)<>0,\"\",IF(ISERROR(VLOOKUP($A$3,'Roster LIMA'!$B$6809:$AU$7117,'Roster LIMA'!AR$1,FALSE)),\"\",VLOOKUP($A$3,'Roster LIMA'!$B$6809:$AU$7117,'Roster LIMA'!AR$1,FALSE)))","v":""},{"$f":"IF(COUNTBLANK($A$3)<>0,\"\",IF(ISERROR(VLOOKUP($A$3,'Roster LIMA'!$B$6809:$AU$7117,'Roster LIMA'!AS$1,FALSE)),\"\",VLOOKUP($A$3,'Roster LIMA'!$B$6809:$AU$7117,'Roster LIMA'!AS$1,FALSE)))","v":""},{"$f":"IF(COUNTBLANK($A$3)<>0,\"\",IF(ISERROR(VLOOKUP($A$3,'Roster LIMA'!$B$6809:$AU$7117,'Roster LIMA'!AT$1,FALSE)),\"\",VLOOKUP($A$3,'Roster LIMA'!$B$6809:$AU$7117,'Roster LIMA'!AT$1,FALSE)))","v":""},{"$f":"IF(COUNTBLANK($A$3)<>0,\"\",IF(ISERROR(VLOOKUP($A$3,'Roster LIMA'!$B$6809:$AU$7117,'Roster LIMA'!AU$1,FALSE)),\"\",VLOOKUP($A$3,'Roster LIMA'!$B$6809:$AU$7117,'Roster LIMA'!AU$1,FALSE)))","v":""}]
[{"$f":"+'Roster LIMA'!G7118","v":"1987-88"},{"$f":"IF(COUNTBLANK($A$3)<>0,\"\",IF(ISERROR(VLOOKUP($A$3,'Roster LIMA'!$B$7118:$AU$7332,'Roster LIMA'!H$1,FALSE)),\"\",IF(VLOOKUP($A$3,'Roster LIMA'!$B$7118:$AU$7332,'Roster LIMA'!H$1,FALSE)=0,\"\",VLOOKUP($A$3,'Roster LIMA'!$B$7118:$AU$7332,'Roster LIMA'!H$1,FALSE))))","v":""},{"$f":"IF(COUNTBLANK($A$3)<>0,\"\",IF(ISERROR(VLOOKUP($A$3,'Roster LIMA'!$B$7118:$AU$7332,'Roster LIMA'!I$1,FALSE)),\"\",IF(VLOOKUP($A$3,'Roster LIMA'!$B$7118:$AU$7332,'Roster LIMA'!I$1,FALSE)=0,\"\",VLOOKUP($A$3,'Roster LIMA'!$B$7118:$AU$7332,'Roster LIMA'!I$1,FALSE))))","v":""},{"$f":"IF(COUNTBLANK($A$3)<>0,\"\",IF(ISERROR(VLOOKUP($A$3,'Roster LIMA'!$B$7118:$AU$7332,'Roster LIMA'!J$1,FALSE)),\"\",IF(VLOOKUP($A$3,'Roster LIMA'!$B$7118:$AU$7332,'Roster LIMA'!J$1,FALSE)=0,\"\",VLOOKUP($A$3,'Roster LIMA'!$B$7118:$AU$7332,'Roster LIMA'!J$1,FALSE))))","v":""},{"$f":"IF(COUNTBLANK($A$3)<>0,\"\",IF(ISERROR(VLOOKUP($A$3,'Roster LIMA'!$B$7118:$AU$7332,'Roster LIMA'!K$1,FALSE)),\"\",IF(VLOOKUP($A$3,'Roster LIMA'!$B$7118:$AU$7332,'Roster LIMA'!K$1,FALSE)=0,\"\",VLOOKUP($A$3,'Roster LIMA'!$B$7118:$AU$7332,'Roster LIMA'!K$1,FALSE))))","v":""},{"$f":"IF(COUNTBLANK($A$3)<>0,\"\",IF(ISERROR(VLOOKUP($A$3,'Roster LIMA'!$B$7118:$AU$7332,'Roster LIMA'!F$1,FALSE)),\"\",IF(VLOOKUP($A$3,'Roster LIMA'!$B$7118:$AU$7332,'Roster LIMA'!F$1,FALSE)=0,\"\",VLOOKUP($A$3,'Roster LIMA'!$B$7118:$AU$7332,'Roster LIMA'!F$1,FALSE))))","v":""},{"$f":"IF(COUNTBLANK($A$3)<>0,\"\",IF(ISERROR(VLOOKUP($A$3,'Roster LIMA'!$B$7118:$AU$7332,'Roster LIMA'!E$1,FALSE)),\"\",IF(VLOOKUP($A$3,'Roster LIMA'!$B$7118:$AU$7332,'Roster LIMA'!E$1,FALSE)=0,\"\",VLOOKUP($A$3,'Roster LIMA'!$B$7118:$AU$7332,'Roster LIMA'!E$1,FALSE))))","v":""},{"$f":"IF(COUNTBLANK($A$3)<>0,\"\",IF(ISERROR(VLOOKUP($A$3,'Roster LIMA'!$B$7118:$AU$7332,'Roster LIMA'!B$1,FALSE)),\"N/A\",IF(VLOOKUP($A$3,'Roster LIMA'!$B$7118:$AU$7332,'Roster LIMA'!B$1,FALSE)=0,\"\",VLOOKUP($A$3,'Roster LIMA'!$B$7118:$AU$7332,'Roster LIMA'!B$1,FALSE))))","v":""},{"$f":"IF(COUNTBLANK($A$3)<>0,\"\",IF(ISERROR(VLOOKUP($A$3,'Roster LIMA'!$B$7118:$AU$7332,'Roster LIMA'!C$1,FALSE)),\"\",IF(VLOOKUP($A$3,'Roster LIMA'!$B$7118:$AU$7332,'Roster LIMA'!C$1,FALSE)=0,\"\",VLOOKUP($A$3,'Roster LIMA'!$B$7118:$AU$7332,'Roster LIMA'!C$1,FALSE))))","v":""},{"$f":"IF(COUNTBLANK($A$3)<>0,\"\",IF(ISERROR(VLOOKUP($A$3,'Roster LIMA'!$B$7118:$AU$7332,'Roster LIMA'!D$1,FALSE)),\"\",IF(VLOOKUP($A$3,'Roster LIMA'!$B$7118:$AU$7332,'Roster LIMA'!D$1,FALSE)=0,\"\",VLOOKUP($A$3,'Roster LIMA'!$B$7118:$AU$7332,'Roster LIMA'!D$1,FALSE))))","v":""},{"$f":"IF(COUNTBLANK($A$3)<>0,\"\",IF(ISERROR(VLOOKUP($A$3,'Roster LIMA'!$B$7118:$AU$7332,'Roster LIMA'!L$1,FALSE)),\"\",VLOOKUP($A$3,'Roster LIMA'!$B$7118:$AU$7332,'Roster LIMA'!L$1,FALSE)))","v":""},{"$f":"IF(COUNTBLANK($A$3)<>0,\"\",IF(ISERROR(VLOOKUP($A$3,'Roster LIMA'!$B$7118:$AU$7332,'Roster LIMA'!M$1,FALSE)),\"\",VLOOKUP($A$3,'Roster LIMA'!$B$7118:$AU$7332,'Roster LIMA'!M$1,FALSE)))","v":""},{"$f":"IF(COUNTBLANK($A$3)<>0,\"\",IF(ISERROR(VLOOKUP($A$3,'Roster LIMA'!$B$7118:$AU$7332,'Roster LIMA'!N$1,FALSE)),\"\",VLOOKUP($A$3,'Roster LIMA'!$B$7118:$AU$7332,'Roster LIMA'!N$1,FALSE)))","v":""},{"$f":"IF(COUNTBLANK($A$3)<>0,\"\",IF(ISERROR(VLOOKUP($A$3,'Roster LIMA'!$B$7118:$AU$7332,'Roster LIMA'!O$1,FALSE)),\"\",VLOOKUP($A$3,'Roster LIMA'!$B$7118:$AU$7332,'Roster LIMA'!O$1,FALSE)))","v":""},{"$f":"IF(COUNTBLANK($A$3)<>0,\"\",IF(ISERROR(VLOOKUP($A$3,'Roster LIMA'!$B$7118:$AU$7332,'Roster LIMA'!P$1,FALSE)),\"\",VLOOKUP($A$3,'Roster LIMA'!$B$7118:$AU$7332,'Roster LIMA'!P$1,FALSE)))","v":""},{"$f":"IF(COUNTBLANK($A$3)<>0,\"\",IF(ISERROR(VLOOKUP($A$3,'Roster LIMA'!$B$7118:$AU$7332,'Roster LIMA'!Q$1,FALSE)),\"\",VLOOKUP($A$3,'Roster LIMA'!$B$7118:$AU$7332,'Roster LIMA'!Q$1,FALSE)))","v":""},{"$f":"IF(COUNTBLANK($A$3)<>0,\"\",IF(ISERROR(VLOOKUP($A$3,'Roster LIMA'!$B$7118:$AU$7332,'Roster LIMA'!R$1,FALSE)),\"\",VLOOKUP($A$3,'Roster LIMA'!$B$7118:$AU$7332,'Roster LIMA'!R$1,FALSE)))","v":""},{"$f":"IF(COUNTBLANK($A$3)<>0,\"\",IF(ISERROR(VLOOKUP($A$3,'Roster LIMA'!$B$7118:$AU$7332,'Roster LIMA'!S$1,FALSE)),\"\",VLOOKUP($A$3,'Roster LIMA'!$B$7118:$AU$7332,'Roster LIMA'!S$1,FALSE)))","v":""},{"$f":"IF(COUNTBLANK($A$3)<>0,\"\",IF(ISERROR(VLOOKUP($A$3,'Roster LIMA'!$B$7118:$AU$7332,'Roster LIMA'!T$1,FALSE)),\"\",VLOOKUP($A$3,'Roster LIMA'!$B$7118:$AU$7332,'Roster LIMA'!T$1,FALSE)))","v":""},{"$f":"IF(COUNTBLANK($A$3)<>0,\"\",IF(ISERROR(VLOOKUP($A$3,'Roster LIMA'!$B$7118:$AU$7332,'Roster LIMA'!U$1,FALSE)),\"\",VLOOKUP($A$3,'Roster LIMA'!$B$7118:$AU$7332,'Roster LIMA'!U$1,FALSE)))","v":""},{"$f":"IF(COUNTBLANK($A$3)<>0,\"\",IF(ISERROR(VLOOKUP($A$3,'Roster LIMA'!$B$7118:$AU$7332,'Roster LIMA'!V$1,FALSE)),\"\",VLOOKUP($A$3,'Roster LIMA'!$B$7118:$AU$7332,'Roster LIMA'!V$1,FALSE)))","v":""},{"$f":"IF(COUNTBLANK($A$3)<>0,\"\",IF(ISERROR(VLOOKUP($A$3,'Roster LIMA'!$B$7118:$AU$7332,'Roster LIMA'!W$1,FALSE)),\"\",VLOOKUP($A$3,'Roster LIMA'!$B$7118:$AU$7332,'Roster LIMA'!W$1,FALSE)))","v":""},{"$f":"IF(COUNTBLANK($A$3)<>0,\"\",IF(ISERROR(VLOOKUP($A$3,'Roster LIMA'!$B$7118:$AU$7332,'Roster LIMA'!X$1,FALSE)),\"\",VLOOKUP($A$3,'Roster LIMA'!$B$7118:$AU$7332,'Roster LIMA'!X$1,FALSE)))","v":""},{"$f":"IF(COUNTBLANK($A$3)<>0,\"\",IF(ISERROR(VLOOKUP($A$3,'Roster LIMA'!$B$7118:$AU$7332,'Roster LIMA'!Y$1,FALSE)),\"\",VLOOKUP($A$3,'Roster LIMA'!$B$7118:$AU$7332,'Roster LIMA'!Y$1,FALSE)))","v":""},{"$f":"IF(COUNTBLANK($A$3)<>0,\"\",IF(ISERROR(VLOOKUP($A$3,'Roster LIMA'!$B$7118:$AU$7332,'Roster LIMA'!Z$1,FALSE)),\"\",VLOOKUP($A$3,'Roster LIMA'!$B$7118:$AU$7332,'Roster LIMA'!Z$1,FALSE)))","v":""},{"$f":"IF(COUNTBLANK($A$3)<>0,\"\",IF(ISERROR(VLOOKUP($A$3,'Roster LIMA'!$B$7118:$AU$7332,'Roster LIMA'!AA$1,FALSE)),\"\",VLOOKUP($A$3,'Roster LIMA'!$B$7118:$AU$7332,'Roster LIMA'!AA$1,FALSE)))","v":""},{"$f":"IF(COUNTBLANK($A$3)<>0,\"\",IF(ISERROR(VLOOKUP($A$3,'Roster LIMA'!$B$7118:$AU$7332,'Roster LIMA'!AB$1,FALSE)),\"\",VLOOKUP($A$3,'Roster LIMA'!$B$7118:$AU$7332,'Roster LIMA'!AB$1,FALSE)))","v":""},{"$f":"IF(COUNTBLANK($A$3)<>0,\"\",IF(ISERROR(VLOOKUP($A$3,'Roster LIMA'!$B$7118:$AU$7332,'Roster LIMA'!AC$1,FALSE)),\"\",VLOOKUP($A$3,'Roster LIMA'!$B$7118:$AU$7332,'Roster LIMA'!AC$1,FALSE)))","v":""},{"$f":"IF(COUNTBLANK($A$3)<>0,\"\",IF(ISERROR(VLOOKUP($A$3,'Roster LIMA'!$B$7118:$AU$7332,'Roster LIMA'!AD$1,FALSE)),\"\",VLOOKUP($A$3,'Roster LIMA'!$B$7118:$AU$7332,'Roster LIMA'!AD$1,FALSE)))","v":""},{"$f":"IF(COUNTBLANK($A$3)<>0,\"\",IF(ISERROR(VLOOKUP($A$3,'Roster LIMA'!$B$7118:$AU$7332,'Roster LIMA'!AE$1,FALSE)),\"\",VLOOKUP($A$3,'Roster LIMA'!$B$7118:$AU$7332,'Roster LIMA'!AE$1,FALSE)))","v":""},{"$f":"IF(COUNTBLANK($A$3)<>0,\"\",IF(ISERROR(VLOOKUP($A$3,'Roster LIMA'!$B$7118:$AU$7332,'Roster LIMA'!AF$1,FALSE)),\"\",VLOOKUP($A$3,'Roster LIMA'!$B$7118:$AU$7332,'Roster LIMA'!AF$1,FALSE)))","v":""},{"$f":"IF(COUNTBLANK($A$3)<>0,\"\",IF(ISERROR(VLOOKUP($A$3,'Roster LIMA'!$B$7118:$AU$7332,'Roster LIMA'!AG$1,FALSE)),\"\",VLOOKUP($A$3,'Roster LIMA'!$B$7118:$AU$7332,'Roster LIMA'!AG$1,FALSE)))","v":""},{"$f":"IF(COUNTBLANK($A$3)<>0,\"\",IF(ISERROR(VLOOKUP($A$3,'Roster LIMA'!$B$7118:$AU$7332,'Roster LIMA'!AH$1,FALSE)),\"\",VLOOKUP($A$3,'Roster LIMA'!$B$7118:$AU$7332,'Roster LIMA'!AH$1,FALSE)))","v":""},{"$f":"IF(COUNTBLANK($A$3)<>0,\"\",IF(ISERROR(VLOOKUP($A$3,'Roster LIMA'!$B$7118:$AU$7332,'Roster LIMA'!AI$1,FALSE)),\"\",VLOOKUP($A$3,'Roster LIMA'!$B$7118:$AU$7332,'Roster LIMA'!AI$1,FALSE)))","v":""},{"$f":"IF(COUNTBLANK($A$3)<>0,\"\",IF(ISERROR(VLOOKUP($A$3,'Roster LIMA'!$B$7118:$AU$7332,'Roster LIMA'!AJ$1,FALSE)),\"\",VLOOKUP($A$3,'Roster LIMA'!$B$7118:$AU$7332,'Roster LIMA'!AJ$1,FALSE)))","v":""},{"$f":"IF(COUNTBLANK($A$3)<>0,\"\",IF(ISERROR(VLOOKUP($A$3,'Roster LIMA'!$B$7118:$AU$7332,'Roster LIMA'!AK$1,FALSE)),\"\",VLOOKUP($A$3,'Roster LIMA'!$B$7118:$AU$7332,'Roster LIMA'!AK$1,FALSE)))","v":""},{"$f":"IF(COUNTBLANK($A$3)<>0,\"\",IF(ISERROR(VLOOKUP($A$3,'Roster LIMA'!$B$7118:$AU$7332,'Roster LIMA'!AL$1,FALSE)),\"\",VLOOKUP($A$3,'Roster LIMA'!$B$7118:$AU$7332,'Roster LIMA'!AL$1,FALSE)))","v":""},{"$f":"IF(COUNTBLANK($A$3)<>0,\"\",IF(ISERROR(VLOOKUP($A$3,'Roster LIMA'!$B$7118:$AU$7332,'Roster LIMA'!AM$1,FALSE)),\"\",VLOOKUP($A$3,'Roster LIMA'!$B$7118:$AU$7332,'Roster LIMA'!AM$1,FALSE)))","v":""},{"$f":"IF(COUNTBLANK($A$3)<>0,\"\",IF(ISERROR(VLOOKUP($A$3,'Roster LIMA'!$B$7118:$AU$7332,'Roster LIMA'!AN$1,FALSE)),\"\",VLOOKUP($A$3,'Roster LIMA'!$B$7118:$AU$7332,'Roster LIMA'!AN$1,FALSE)))","v":""},{"$f":"IF(COUNTBLANK($A$3)<>0,\"\",IF(ISERROR(VLOOKUP($A$3,'Roster LIMA'!$B$7118:$AU$7332,'Roster LIMA'!AO$1,FALSE)),\"\",VLOOKUP($A$3,'Roster LIMA'!$B$7118:$AU$7332,'Roster LIMA'!AO$1,FALSE)))","v":""},{"$f":"IF(COUNTBLANK($A$3)<>0,\"\",IF(ISERROR(VLOOKUP($A$3,'Roster LIMA'!$B$7118:$AU$7332,'Roster LIMA'!AP$1,FALSE)),\"\",VLOOKUP($A$3,'Roster LIMA'!$B$7118:$AU$7332,'Roster LIMA'!AP$1,FALSE)))","v":""},{"$f":"IF(COUNTBLANK($A$3)<>0,\"\",IF(ISERROR(VLOOKUP($A$3,'Roster LIMA'!$B$7118:$AU$7332,'Roster LIMA'!AQ$1,FALSE)),\"\",VLOOKUP($A$3,'Roster LIMA'!$B$7118:$AU$7332,'Roster LIMA'!AQ$1,FALSE)))","v":""},{"$f":"IF(COUNTBLANK($A$3)<>0,\"\",IF(ISERROR(VLOOKUP($A$3,'Roster LIMA'!$B$7118:$AU$7332,'Roster LIMA'!AR$1,FALSE)),\"\",VLOOKUP($A$3,'Roster LIMA'!$B$7118:$AU$7332,'Roster LIMA'!AR$1,FALSE)))","v":""},{"$f":"IF(COUNTBLANK($A$3)<>0,\"\",IF(ISERROR(VLOOKUP($A$3,'Roster LIMA'!$B$7118:$AU$7332,'Roster LIMA'!AS$1,FALSE)),\"\",VLOOKUP($A$3,'Roster LIMA'!$B$7118:$AU$7332,'Roster LIMA'!AS$1,FALSE)))","v":""},{"$f":"IF(COUNTBLANK($A$3)<>0,\"\",IF(ISERROR(VLOOKUP($A$3,'Roster LIMA'!$B$7118:$AU$7332,'Roster LIMA'!AT$1,FALSE)),\"\",VLOOKUP($A$3,'Roster LIMA'!$B$7118:$AU$7332,'Roster LIMA'!AT$1,FALSE)))","v":""},{"$f":"IF(COUNTBLANK($A$3)<>0,\"\",IF(ISERROR(VLOOKUP($A$3,'Roster LIMA'!$B$7118:$AU$7332,'Roster LIMA'!AU$1,FALSE)),\"\",VLOOKUP($A$3,'Roster LIMA'!$B$7118:$AU$7332,'Roster LIMA'!AU$1,FALSE)))","v":""}]
[{"$f":"+'Roster LIMA'!G7333","v":"1988-89"},{"$f":"IF(COUNTBLANK($A$3)<>0,\"\",IF(ISERROR(VLOOKUP($A$3,'Roster LIMA'!$B$7333:$AU$7705,'Roster LIMA'!H$1,FALSE)),\"\",IF(VLOOKUP($A$3,'Roster LIMA'!$B$7333:$AU$7705,'Roster LIMA'!H$1,FALSE)=0,\"\",VLOOKUP($A$3,'Roster LIMA'!$B$7333:$AU$7705,'Roster LIMA'!H$1,FALSE))))","v":""},{"$f":"IF(COUNTBLANK($A$3)<>0,\"\",IF(ISERROR(VLOOKUP($A$3,'Roster LIMA'!$B$7333:$AU$7705,'Roster LIMA'!I$1,FALSE)),\"\",IF(VLOOKUP($A$3,'Roster LIMA'!$B$7333:$AU$7705,'Roster LIMA'!I$1,FALSE)=0,\"\",VLOOKUP($A$3,'Roster LIMA'!$B$7333:$AU$7705,'Roster LIMA'!I$1,FALSE))))","v":""},{"$f":"IF(COUNTBLANK($A$3)<>0,\"\",IF(ISERROR(VLOOKUP($A$3,'Roster LIMA'!$B$7333:$AU$7705,'Roster LIMA'!J$1,FALSE)),\"\",IF(VLOOKUP($A$3,'Roster LIMA'!$B$7333:$AU$7705,'Roster LIMA'!J$1,FALSE)=0,\"\",VLOOKUP($A$3,'Roster LIMA'!$B$7333:$AU$7705,'Roster LIMA'!J$1,FALSE))))","v":""},{"$f":"IF(COUNTBLANK($A$3)<>0,\"\",IF(ISERROR(VLOOKUP($A$3,'Roster LIMA'!$B$7333:$AU$7705,'Roster LIMA'!K$1,FALSE)),\"\",IF(VLOOKUP($A$3,'Roster LIMA'!$B$7333:$AU$7705,'Roster LIMA'!K$1,FALSE)=0,\"\",VLOOKUP($A$3,'Roster LIMA'!$B$7333:$AU$7705,'Roster LIMA'!K$1,FALSE))))","v":""},{"$f":"IF(COUNTBLANK($A$3)<>0,\"\",IF(ISERROR(VLOOKUP($A$3,'Roster LIMA'!$B$7333:$AU$7705,'Roster LIMA'!F$1,FALSE)),\"\",IF(VLOOKUP($A$3,'Roster LIMA'!$B$7333:$AU$7705,'Roster LIMA'!F$1,FALSE)=0,\"\",VLOOKUP($A$3,'Roster LIMA'!$B$7333:$AU$7705,'Roster LIMA'!F$1,FALSE))))","v":""},{"$f":"IF(COUNTBLANK($A$3)<>0,\"\",IF(ISERROR(VLOOKUP($A$3,'Roster LIMA'!$B$7333:$AU$7705,'Roster LIMA'!E$1,FALSE)),\"\",IF(VLOOKUP($A$3,'Roster LIMA'!$B$7333:$AU$7705,'Roster LIMA'!E$1,FALSE)=0,\"\",VLOOKUP($A$3,'Roster LIMA'!$B$7333:$AU$7705,'Roster LIMA'!E$1,FALSE))))","v":""},{"$f":"IF(COUNTBLANK($A$3)<>0,\"\",IF(ISERROR(VLOOKUP($A$3,'Roster LIMA'!$B$7333:$AU$7705,'Roster LIMA'!B$1,FALSE)),\"N/A\",IF(VLOOKUP($A$3,'Roster LIMA'!$B$7333:$AU$7705,'Roster LIMA'!B$1,FALSE)=0,\"\",VLOOKUP($A$3,'Roster LIMA'!$B$7333:$AU$7705,'Roster LIMA'!B$1,FALSE))))","v":""},{"$f":"IF(COUNTBLANK($A$3)<>0,\"\",IF(ISERROR(VLOOKUP($A$3,'Roster LIMA'!$B$7333:$AU$7705,'Roster LIMA'!C$1,FALSE)),\"\",IF(VLOOKUP($A$3,'Roster LIMA'!$B$7333:$AU$7705,'Roster LIMA'!C$1,FALSE)=0,\"\",VLOOKUP($A$3,'Roster LIMA'!$B$7333:$AU$7705,'Roster LIMA'!C$1,FALSE))))","v":""},{"$f":"IF(COUNTBLANK($A$3)<>0,\"\",IF(ISERROR(VLOOKUP($A$3,'Roster LIMA'!$B$7333:$AU$7705,'Roster LIMA'!D$1,FALSE)),\"\",IF(VLOOKUP($A$3,'Roster LIMA'!$B$7333:$AU$7705,'Roster LIMA'!D$1,FALSE)=0,\"\",VLOOKUP($A$3,'Roster LIMA'!$B$7333:$AU$7705,'Roster LIMA'!D$1,FALSE))))","v":""},{"$f":"IF(COUNTBLANK($A$3)<>0,\"\",IF(ISERROR(VLOOKUP($A$3,'Roster LIMA'!$B$7333:$AU$7705,'Roster LIMA'!L$1,FALSE)),\"\",VLOOKUP($A$3,'Roster LIMA'!$B$7333:$AU$7705,'Roster LIMA'!L$1,FALSE)))","v":""},{"$f":"IF(COUNTBLANK($A$3)<>0,\"\",IF(ISERROR(VLOOKUP($A$3,'Roster LIMA'!$B$7333:$AU$7705,'Roster LIMA'!M$1,FALSE)),\"\",VLOOKUP($A$3,'Roster LIMA'!$B$7333:$AU$7705,'Roster LIMA'!M$1,FALSE)))","v":""},{"$f":"IF(COUNTBLANK($A$3)<>0,\"\",IF(ISERROR(VLOOKUP($A$3,'Roster LIMA'!$B$7333:$AU$7705,'Roster LIMA'!N$1,FALSE)),\"\",VLOOKUP($A$3,'Roster LIMA'!$B$7333:$AU$7705,'Roster LIMA'!N$1,FALSE)))","v":""},{"$f":"IF(COUNTBLANK($A$3)<>0,\"\",IF(ISERROR(VLOOKUP($A$3,'Roster LIMA'!$B$7333:$AU$7705,'Roster LIMA'!O$1,FALSE)),\"\",VLOOKUP($A$3,'Roster LIMA'!$B$7333:$AU$7705,'Roster LIMA'!O$1,FALSE)))","v":""},{"$f":"IF(COUNTBLANK($A$3)<>0,\"\",IF(ISERROR(VLOOKUP($A$3,'Roster LIMA'!$B$7333:$AU$7705,'Roster LIMA'!P$1,FALSE)),\"\",VLOOKUP($A$3,'Roster LIMA'!$B$7333:$AU$7705,'Roster LIMA'!P$1,FALSE)))","v":""},{"$f":"IF(COUNTBLANK($A$3)<>0,\"\",IF(ISERROR(VLOOKUP($A$3,'Roster LIMA'!$B$7333:$AU$7705,'Roster LIMA'!Q$1,FALSE)),\"\",VLOOKUP($A$3,'Roster LIMA'!$B$7333:$AU$7705,'Roster LIMA'!Q$1,FALSE)))","v":""},{"$f":"IF(COUNTBLANK($A$3)<>0,\"\",IF(ISERROR(VLOOKUP($A$3,'Roster LIMA'!$B$7333:$AU$7705,'Roster LIMA'!R$1,FALSE)),\"\",VLOOKUP($A$3,'Roster LIMA'!$B$7333:$AU$7705,'Roster LIMA'!R$1,FALSE)))","v":""},{"$f":"IF(COUNTBLANK($A$3)<>0,\"\",IF(ISERROR(VLOOKUP($A$3,'Roster LIMA'!$B$7333:$AU$7705,'Roster LIMA'!S$1,FALSE)),\"\",VLOOKUP($A$3,'Roster LIMA'!$B$7333:$AU$7705,'Roster LIMA'!S$1,FALSE)))","v":""},{"$f":"IF(COUNTBLANK($A$3)<>0,\"\",IF(ISERROR(VLOOKUP($A$3,'Roster LIMA'!$B$7333:$AU$7705,'Roster LIMA'!T$1,FALSE)),\"\",VLOOKUP($A$3,'Roster LIMA'!$B$7333:$AU$7705,'Roster LIMA'!T$1,FALSE)))","v":""},{"$f":"IF(COUNTBLANK($A$3)<>0,\"\",IF(ISERROR(VLOOKUP($A$3,'Roster LIMA'!$B$7333:$AU$7705,'Roster LIMA'!U$1,FALSE)),\"\",VLOOKUP($A$3,'Roster LIMA'!$B$7333:$AU$7705,'Roster LIMA'!U$1,FALSE)))","v":""},{"$f":"IF(COUNTBLANK($A$3)<>0,\"\",IF(ISERROR(VLOOKUP($A$3,'Roster LIMA'!$B$7333:$AU$7705,'Roster LIMA'!V$1,FALSE)),\"\",VLOOKUP($A$3,'Roster LIMA'!$B$7333:$AU$7705,'Roster LIMA'!V$1,FALSE)))","v":""},{"$f":"IF(COUNTBLANK($A$3)<>0,\"\",IF(ISERROR(VLOOKUP($A$3,'Roster LIMA'!$B$7333:$AU$7705,'Roster LIMA'!W$1,FALSE)),\"\",VLOOKUP($A$3,'Roster LIMA'!$B$7333:$AU$7705,'Roster LIMA'!W$1,FALSE)))","v":""},{"$f":"IF(COUNTBLANK($A$3)<>0,\"\",IF(ISERROR(VLOOKUP($A$3,'Roster LIMA'!$B$7333:$AU$7705,'Roster LIMA'!X$1,FALSE)),\"\",VLOOKUP($A$3,'Roster LIMA'!$B$7333:$AU$7705,'Roster LIMA'!X$1,FALSE)))","v":""},{"$f":"IF(COUNTBLANK($A$3)<>0,\"\",IF(ISERROR(VLOOKUP($A$3,'Roster LIMA'!$B$7333:$AU$7705,'Roster LIMA'!Y$1,FALSE)),\"\",VLOOKUP($A$3,'Roster LIMA'!$B$7333:$AU$7705,'Roster LIMA'!Y$1,FALSE)))","v":""},{"$f":"IF(COUNTBLANK($A$3)<>0,\"\",IF(ISERROR(VLOOKUP($A$3,'Roster LIMA'!$B$7333:$AU$7705,'Roster LIMA'!Z$1,FALSE)),\"\",VLOOKUP($A$3,'Roster LIMA'!$B$7333:$AU$7705,'Roster LIMA'!Z$1,FALSE)))","v":""},{"$f":"IF(COUNTBLANK($A$3)<>0,\"\",IF(ISERROR(VLOOKUP($A$3,'Roster LIMA'!$B$7333:$AU$7705,'Roster LIMA'!AA$1,FALSE)),\"\",VLOOKUP($A$3,'Roster LIMA'!$B$7333:$AU$7705,'Roster LIMA'!AA$1,FALSE)))","v":""},{"$f":"IF(COUNTBLANK($A$3)<>0,\"\",IF(ISERROR(VLOOKUP($A$3,'Roster LIMA'!$B$7333:$AU$7705,'Roster LIMA'!AB$1,FALSE)),\"\",VLOOKUP($A$3,'Roster LIMA'!$B$7333:$AU$7705,'Roster LIMA'!AB$1,FALSE)))","v":""},{"$f":"IF(COUNTBLANK($A$3)<>0,\"\",IF(ISERROR(VLOOKUP($A$3,'Roster LIMA'!$B$7333:$AU$7705,'Roster LIMA'!AC$1,FALSE)),\"\",VLOOKUP($A$3,'Roster LIMA'!$B$7333:$AU$7705,'Roster LIMA'!AC$1,FALSE)))","v":""},{"$f":"IF(COUNTBLANK($A$3)<>0,\"\",IF(ISERROR(VLOOKUP($A$3,'Roster LIMA'!$B$7333:$AU$7705,'Roster LIMA'!AD$1,FALSE)),\"\",VLOOKUP($A$3,'Roster LIMA'!$B$7333:$AU$7705,'Roster LIMA'!AD$1,FALSE)))","v":""},{"$f":"IF(COUNTBLANK($A$3)<>0,\"\",IF(ISERROR(VLOOKUP($A$3,'Roster LIMA'!$B$7333:$AU$7705,'Roster LIMA'!AE$1,FALSE)),\"\",VLOOKUP($A$3,'Roster LIMA'!$B$7333:$AU$7705,'Roster LIMA'!AE$1,FALSE)))","v":""},{"$f":"IF(COUNTBLANK($A$3)<>0,\"\",IF(ISERROR(VLOOKUP($A$3,'Roster LIMA'!$B$7333:$AU$7705,'Roster LIMA'!AF$1,FALSE)),\"\",VLOOKUP($A$3,'Roster LIMA'!$B$7333:$AU$7705,'Roster LIMA'!AF$1,FALSE)))","v":""},{"$f":"IF(COUNTBLANK($A$3)<>0,\"\",IF(ISERROR(VLOOKUP($A$3,'Roster LIMA'!$B$7333:$AU$7705,'Roster LIMA'!AG$1,FALSE)),\"\",VLOOKUP($A$3,'Roster LIMA'!$B$7333:$AU$7705,'Roster LIMA'!AG$1,FALSE)))","v":""},{"$f":"IF(COUNTBLANK($A$3)<>0,\"\",IF(ISERROR(VLOOKUP($A$3,'Roster LIMA'!$B$7333:$AU$7705,'Roster LIMA'!AH$1,FALSE)),\"\",VLOOKUP($A$3,'Roster LIMA'!$B$7333:$AU$7705,'Roster LIMA'!AH$1,FALSE)))","v":""},{"$f":"IF(COUNTBLANK($A$3)<>0,\"\",IF(ISERROR(VLOOKUP($A$3,'Roster LIMA'!$B$7333:$AU$7705,'Roster LIMA'!AI$1,FALSE)),\"\",VLOOKUP($A$3,'Roster LIMA'!$B$7333:$AU$7705,'Roster LIMA'!AI$1,FALSE)))","v":""},{"$f":"IF(COUNTBLANK($A$3)<>0,\"\",IF(ISERROR(VLOOKUP($A$3,'Roster LIMA'!$B$7333:$AU$7705,'Roster LIMA'!AJ$1,FALSE)),\"\",VLOOKUP($A$3,'Roster LIMA'!$B$7333:$AU$7705,'Roster LIMA'!AJ$1,FALSE)))","v":""},{"$f":"IF(COUNTBLANK($A$3)<>0,\"\",IF(ISERROR(VLOOKUP($A$3,'Roster LIMA'!$B$7333:$AU$7705,'Roster LIMA'!AK$1,FALSE)),\"\",VLOOKUP($A$3,'Roster LIMA'!$B$7333:$AU$7705,'Roster LIMA'!AK$1,FALSE)))","v":""},{"$f":"IF(COUNTBLANK($A$3)<>0,\"\",IF(ISERROR(VLOOKUP($A$3,'Roster LIMA'!$B$7333:$AU$7705,'Roster LIMA'!AL$1,FALSE)),\"\",VLOOKUP($A$3,'Roster LIMA'!$B$7333:$AU$7705,'Roster LIMA'!AL$1,FALSE)))","v":""},{"$f":"IF(COUNTBLANK($A$3)<>0,\"\",IF(ISERROR(VLOOKUP($A$3,'Roster LIMA'!$B$7333:$AU$7705,'Roster LIMA'!AM$1,FALSE)),\"\",VLOOKUP($A$3,'Roster LIMA'!$B$7333:$AU$7705,'Roster LIMA'!AM$1,FALSE)))","v":""},{"$f":"IF(COUNTBLANK($A$3)<>0,\"\",IF(ISERROR(VLOOKUP($A$3,'Roster LIMA'!$B$7333:$AU$7705,'Roster LIMA'!AN$1,FALSE)),\"\",VLOOKUP($A$3,'Roster LIMA'!$B$7333:$AU$7705,'Roster LIMA'!AN$1,FALSE)))","v":""},{"$f":"IF(COUNTBLANK($A$3)<>0,\"\",IF(ISERROR(VLOOKUP($A$3,'Roster LIMA'!$B$7333:$AU$7705,'Roster LIMA'!AO$1,FALSE)),\"\",VLOOKUP($A$3,'Roster LIMA'!$B$7333:$AU$7705,'Roster LIMA'!AO$1,FALSE)))","v":""},{"$f":"IF(COUNTBLANK($A$3)<>0,\"\",IF(ISERROR(VLOOKUP($A$3,'Roster LIMA'!$B$7333:$AU$7705,'Roster LIMA'!AP$1,FALSE)),\"\",VLOOKUP($A$3,'Roster LIMA'!$B$7333:$AU$7705,'Roster LIMA'!AP$1,FALSE)))","v":""},{"$f":"IF(COUNTBLANK($A$3)<>0,\"\",IF(ISERROR(VLOOKUP($A$3,'Roster LIMA'!$B$7333:$AU$7705,'Roster LIMA'!AQ$1,FALSE)),\"\",VLOOKUP($A$3,'Roster LIMA'!$B$7333:$AU$7705,'Roster LIMA'!AQ$1,FALSE)))","v":""},{"$f":"IF(COUNTBLANK($A$3)<>0,\"\",IF(ISERROR(VLOOKUP($A$3,'Roster LIMA'!$B$7333:$AU$7705,'Roster LIMA'!AR$1,FALSE)),\"\",VLOOKUP($A$3,'Roster LIMA'!$B$7333:$AU$7705,'Roster LIMA'!AR$1,FALSE)))","v":""},{"$f":"IF(COUNTBLANK($A$3)<>0,\"\",IF(ISERROR(VLOOKUP($A$3,'Roster LIMA'!$B$7333:$AU$7705,'Roster LIMA'!AS$1,FALSE)),\"\",VLOOKUP($A$3,'Roster LIMA'!$B$7333:$AU$7705,'Roster LIMA'!AS$1,FALSE)))","v":""},{"$f":"IF(COUNTBLANK($A$3)<>0,\"\",IF(ISERROR(VLOOKUP($A$3,'Roster LIMA'!$B$7333:$AU$7705,'Roster LIMA'!AT$1,FALSE)),\"\",VLOOKUP($A$3,'Roster LIMA'!$B$7333:$AU$7705,'Roster LIMA'!AT$1,FALSE)))","v":""},{"$f":"IF(COUNTBLANK($A$3)<>0,\"\",IF(ISERROR(VLOOKUP($A$3,'Roster LIMA'!$B$7333:$AU$7705,'Roster LIMA'!AU$1,FALSE)),\"\",VLOOKUP($A$3,'Roster LIMA'!$B$7333:$AU$7705,'Roster LIMA'!AU$1,FALSE)))","v":""}]
[{"$f":"+'Roster LIMA'!G7706","v":"1989-90"},{"$f":"IF(COUNTBLANK($A$3)<>0,\"\",IF(ISERROR(VLOOKUP($A$3,'Roster LIMA'!$B$7706:$AU$8373,'Roster LIMA'!H$1,FALSE)),\"\",IF(VLOOKUP($A$3,'Roster LIMA'!$B$7706:$AU$8373,'Roster LIMA'!H$1,FALSE)=0,\"\",VLOOKUP($A$3,'Roster LIMA'!$B$7706:$AU$8373,'Roster LIMA'!H$1,FALSE))))","v":""},{"$f":"IF(COUNTBLANK($A$3)<>0,\"\",IF(ISERROR(VLOOKUP($A$3,'Roster LIMA'!$B$7706:$AU$8373,'Roster LIMA'!I$1,FALSE)),\"\",IF(VLOOKUP($A$3,'Roster LIMA'!$B$7706:$AU$8373,'Roster LIMA'!I$1,FALSE)=0,\"\",VLOOKUP($A$3,'Roster LIMA'!$B$7706:$AU$8373,'Roster LIMA'!I$1,FALSE))))","v":""},{"$f":"IF(COUNTBLANK($A$3)<>0,\"\",IF(ISERROR(VLOOKUP($A$3,'Roster LIMA'!$B$7706:$AU$8373,'Roster LIMA'!J$1,FALSE)),\"\",IF(VLOOKUP($A$3,'Roster LIMA'!$B$7706:$AU$8373,'Roster LIMA'!J$1,FALSE)=0,\"\",VLOOKUP($A$3,'Roster LIMA'!$B$7706:$AU$8373,'Roster LIMA'!J$1,FALSE))))","v":""},{"$f":"IF(COUNTBLANK($A$3)<>0,\"\",IF(ISERROR(VLOOKUP($A$3,'Roster LIMA'!$B$7706:$AU$8373,'Roster LIMA'!K$1,FALSE)),\"\",IF(VLOOKUP($A$3,'Roster LIMA'!$B$7706:$AU$8373,'Roster LIMA'!K$1,FALSE)=0,\"\",VLOOKUP($A$3,'Roster LIMA'!$B$7706:$AU$8373,'Roster LIMA'!K$1,FALSE))))","v":""},{"$f":"IF(COUNTBLANK($A$3)<>0,\"\",IF(ISERROR(VLOOKUP($A$3,'Roster LIMA'!$B$7706:$AU$8373,'Roster LIMA'!F$1,FALSE)),\"\",IF(VLOOKUP($A$3,'Roster LIMA'!$B$7706:$AU$8373,'Roster LIMA'!F$1,FALSE)=0,\"\",VLOOKUP($A$3,'Roster LIMA'!$B$7706:$AU$8373,'Roster LIMA'!F$1,FALSE))))","v":""},{"$f":"IF(COUNTBLANK($A$3)<>0,\"\",IF(ISERROR(VLOOKUP($A$3,'Roster LIMA'!$B$7706:$AU$8373,'Roster LIMA'!E$1,FALSE)),\"\",IF(VLOOKUP($A$3,'Roster LIMA'!$B$7706:$AU$8373,'Roster LIMA'!E$1,FALSE)=0,\"\",VLOOKUP($A$3,'Roster LIMA'!$B$7706:$AU$8373,'Roster LIMA'!E$1,FALSE))))","v":""},{"$f":"IF(COUNTBLANK($A$3)<>0,\"\",IF(ISERROR(VLOOKUP($A$3,'Roster LIMA'!$B$7706:$AU$8373,'Roster LIMA'!B$1,FALSE)),\"N/A\",IF(VLOOKUP($A$3,'Roster LIMA'!$B$7706:$AU$8373,'Roster LIMA'!B$1,FALSE)=0,\"\",VLOOKUP($A$3,'Roster LIMA'!$B$7706:$AU$8373,'Roster LIMA'!B$1,FALSE))))","v":""},{"$f":"IF(COUNTBLANK($A$3)<>0,\"\",IF(ISERROR(VLOOKUP($A$3,'Roster LIMA'!$B$7706:$AU$8373,'Roster LIMA'!C$1,FALSE)),\"\",IF(VLOOKUP($A$3,'Roster LIMA'!$B$7706:$AU$8373,'Roster LIMA'!C$1,FALSE)=0,\"\",VLOOKUP($A$3,'Roster LIMA'!$B$7706:$AU$8373,'Roster LIMA'!C$1,FALSE))))","v":""},{"$f":"IF(COUNTBLANK($A$3)<>0,\"\",IF(ISERROR(VLOOKUP($A$3,'Roster LIMA'!$B$7706:$AU$8373,'Roster LIMA'!D$1,FALSE)),\"\",IF(VLOOKUP($A$3,'Roster LIMA'!$B$7706:$AU$8373,'Roster LIMA'!D$1,FALSE)=0,\"\",VLOOKUP($A$3,'Roster LIMA'!$B$7706:$AU$8373,'Roster LIMA'!D$1,FALSE))))","v":""},{"$f":"IF(COUNTBLANK($A$3)<>0,\"\",IF(ISERROR(VLOOKUP($A$3,'Roster LIMA'!$B$7706:$AU$8373,'Roster LIMA'!L$1,FALSE)),\"\",VLOOKUP($A$3,'Roster LIMA'!$B$7706:$AU$8373,'Roster LIMA'!L$1,FALSE)))","v":""},{"$f":"IF(COUNTBLANK($A$3)<>0,\"\",IF(ISERROR(VLOOKUP($A$3,'Roster LIMA'!$B$7706:$AU$8373,'Roster LIMA'!M$1,FALSE)),\"\",VLOOKUP($A$3,'Roster LIMA'!$B$7706:$AU$8373,'Roster LIMA'!M$1,FALSE)))","v":""},{"$f":"IF(COUNTBLANK($A$3)<>0,\"\",IF(ISERROR(VLOOKUP($A$3,'Roster LIMA'!$B$7706:$AU$8373,'Roster LIMA'!N$1,FALSE)),\"\",VLOOKUP($A$3,'Roster LIMA'!$B$7706:$AU$8373,'Roster LIMA'!N$1,FALSE)))","v":""},{"$f":"IF(COUNTBLANK($A$3)<>0,\"\",IF(ISERROR(VLOOKUP($A$3,'Roster LIMA'!$B$7706:$AU$8373,'Roster LIMA'!O$1,FALSE)),\"\",VLOOKUP($A$3,'Roster LIMA'!$B$7706:$AU$8373,'Roster LIMA'!O$1,FALSE)))","v":""},{"$f":"IF(COUNTBLANK($A$3)<>0,\"\",IF(ISERROR(VLOOKUP($A$3,'Roster LIMA'!$B$7706:$AU$8373,'Roster LIMA'!P$1,FALSE)),\"\",VLOOKUP($A$3,'Roster LIMA'!$B$7706:$AU$8373,'Roster LIMA'!P$1,FALSE)))","v":""},{"$f":"IF(COUNTBLANK($A$3)<>0,\"\",IF(ISERROR(VLOOKUP($A$3,'Roster LIMA'!$B$7706:$AU$8373,'Roster LIMA'!Q$1,FALSE)),\"\",VLOOKUP($A$3,'Roster LIMA'!$B$7706:$AU$8373,'Roster LIMA'!Q$1,FALSE)))","v":""},{"$f":"IF(COUNTBLANK($A$3)<>0,\"\",IF(ISERROR(VLOOKUP($A$3,'Roster LIMA'!$B$7706:$AU$8373,'Roster LIMA'!R$1,FALSE)),\"\",VLOOKUP($A$3,'Roster LIMA'!$B$7706:$AU$8373,'Roster LIMA'!R$1,FALSE)))","v":""},{"$f":"IF(COUNTBLANK($A$3)<>0,\"\",IF(ISERROR(VLOOKUP($A$3,'Roster LIMA'!$B$7706:$AU$8373,'Roster LIMA'!S$1,FALSE)),\"\",VLOOKUP($A$3,'Roster LIMA'!$B$7706:$AU$8373,'Roster LIMA'!S$1,FALSE)))","v":""},{"$f":"IF(COUNTBLANK($A$3)<>0,\"\",IF(ISERROR(VLOOKUP($A$3,'Roster LIMA'!$B$7706:$AU$8373,'Roster LIMA'!T$1,FALSE)),\"\",VLOOKUP($A$3,'Roster LIMA'!$B$7706:$AU$8373,'Roster LIMA'!T$1,FALSE)))","v":""},{"$f":"IF(COUNTBLANK($A$3)<>0,\"\",IF(ISERROR(VLOOKUP($A$3,'Roster LIMA'!$B$7706:$AU$8373,'Roster LIMA'!U$1,FALSE)),\"\",VLOOKUP($A$3,'Roster LIMA'!$B$7706:$AU$8373,'Roster LIMA'!U$1,FALSE)))","v":""},{"$f":"IF(COUNTBLANK($A$3)<>0,\"\",IF(ISERROR(VLOOKUP($A$3,'Roster LIMA'!$B$7706:$AU$8373,'Roster LIMA'!V$1,FALSE)),\"\",VLOOKUP($A$3,'Roster LIMA'!$B$7706:$AU$8373,'Roster LIMA'!V$1,FALSE)))","v":""},{"$f":"IF(COUNTBLANK($A$3)<>0,\"\",IF(ISERROR(VLOOKUP($A$3,'Roster LIMA'!$B$7706:$AU$8373,'Roster LIMA'!W$1,FALSE)),\"\",VLOOKUP($A$3,'Roster LIMA'!$B$7706:$AU$8373,'Roster LIMA'!W$1,FALSE)))","v":""},{"$f":"IF(COUNTBLANK($A$3)<>0,\"\",IF(ISERROR(VLOOKUP($A$3,'Roster LIMA'!$B$7706:$AU$8373,'Roster LIMA'!X$1,FALSE)),\"\",VLOOKUP($A$3,'Roster LIMA'!$B$7706:$AU$8373,'Roster LIMA'!X$1,FALSE)))","v":""},{"$f":"IF(COUNTBLANK($A$3)<>0,\"\",IF(ISERROR(VLOOKUP($A$3,'Roster LIMA'!$B$7706:$AU$8373,'Roster LIMA'!Y$1,FALSE)),\"\",VLOOKUP($A$3,'Roster LIMA'!$B$7706:$AU$8373,'Roster LIMA'!Y$1,FALSE)))","v":""},{"$f":"IF(COUNTBLANK($A$3)<>0,\"\",IF(ISERROR(VLOOKUP($A$3,'Roster LIMA'!$B$7706:$AU$8373,'Roster LIMA'!Z$1,FALSE)),\"\",VLOOKUP($A$3,'Roster LIMA'!$B$7706:$AU$8373,'Roster LIMA'!Z$1,FALSE)))","v":""},{"$f":"IF(COUNTBLANK($A$3)<>0,\"\",IF(ISERROR(VLOOKUP($A$3,'Roster LIMA'!$B$7706:$AU$8373,'Roster LIMA'!AA$1,FALSE)),\"\",VLOOKUP($A$3,'Roster LIMA'!$B$7706:$AU$8373,'Roster LIMA'!AA$1,FALSE)))","v":""},{"$f":"IF(COUNTBLANK($A$3)<>0,\"\",IF(ISERROR(VLOOKUP($A$3,'Roster LIMA'!$B$7706:$AU$8373,'Roster LIMA'!AB$1,FALSE)),\"\",VLOOKUP($A$3,'Roster LIMA'!$B$7706:$AU$8373,'Roster LIMA'!AB$1,FALSE)))","v":""},{"$f":"IF(COUNTBLANK($A$3)<>0,\"\",IF(ISERROR(VLOOKUP($A$3,'Roster LIMA'!$B$7706:$AU$8373,'Roster LIMA'!AC$1,FALSE)),\"\",VLOOKUP($A$3,'Roster LIMA'!$B$7706:$AU$8373,'Roster LIMA'!AC$1,FALSE)))","v":""},{"$f":"IF(COUNTBLANK($A$3)<>0,\"\",IF(ISERROR(VLOOKUP($A$3,'Roster LIMA'!$B$7706:$AU$8373,'Roster LIMA'!AD$1,FALSE)),\"\",VLOOKUP($A$3,'Roster LIMA'!$B$7706:$AU$8373,'Roster LIMA'!AD$1,FALSE)))","v":""},{"$f":"IF(COUNTBLANK($A$3)<>0,\"\",IF(ISERROR(VLOOKUP($A$3,'Roster LIMA'!$B$7706:$AU$8373,'Roster LIMA'!AE$1,FALSE)),\"\",VLOOKUP($A$3,'Roster LIMA'!$B$7706:$AU$8373,'Roster LIMA'!AE$1,FALSE)))","v":""},{"$f":"IF(COUNTBLANK($A$3)<>0,\"\",IF(ISERROR(VLOOKUP($A$3,'Roster LIMA'!$B$7706:$AU$8373,'Roster LIMA'!AF$1,FALSE)),\"\",VLOOKUP($A$3,'Roster LIMA'!$B$7706:$AU$8373,'Roster LIMA'!AF$1,FALSE)))","v":""},{"$f":"IF(COUNTBLANK($A$3)<>0,\"\",IF(ISERROR(VLOOKUP($A$3,'Roster LIMA'!$B$7706:$AU$8373,'Roster LIMA'!AG$1,FALSE)),\"\",VLOOKUP($A$3,'Roster LIMA'!$B$7706:$AU$8373,'Roster LIMA'!AG$1,FALSE)))","v":""},{"$f":"IF(COUNTBLANK($A$3)<>0,\"\",IF(ISERROR(VLOOKUP($A$3,'Roster LIMA'!$B$7706:$AU$8373,'Roster LIMA'!AH$1,FALSE)),\"\",VLOOKUP($A$3,'Roster LIMA'!$B$7706:$AU$8373,'Roster LIMA'!AH$1,FALSE)))","v":""},{"$f":"IF(COUNTBLANK($A$3)<>0,\"\",IF(ISERROR(VLOOKUP($A$3,'Roster LIMA'!$B$7706:$AU$8373,'Roster LIMA'!AI$1,FALSE)),\"\",VLOOKUP($A$3,'Roster LIMA'!$B$7706:$AU$8373,'Roster LIMA'!AI$1,FALSE)))","v":""},{"$f":"IF(COUNTBLANK($A$3)<>0,\"\",IF(ISERROR(VLOOKUP($A$3,'Roster LIMA'!$B$7706:$AU$8373,'Roster LIMA'!AJ$1,FALSE)),\"\",VLOOKUP($A$3,'Roster LIMA'!$B$7706:$AU$8373,'Roster LIMA'!AJ$1,FALSE)))","v":""},{"$f":"IF(COUNTBLANK($A$3)<>0,\"\",IF(ISERROR(VLOOKUP($A$3,'Roster LIMA'!$B$7706:$AU$8373,'Roster LIMA'!AK$1,FALSE)),\"\",VLOOKUP($A$3,'Roster LIMA'!$B$7706:$AU$8373,'Roster LIMA'!AK$1,FALSE)))","v":""},{"$f":"IF(COUNTBLANK($A$3)<>0,\"\",IF(ISERROR(VLOOKUP($A$3,'Roster LIMA'!$B$7706:$AU$8373,'Roster LIMA'!AL$1,FALSE)),\"\",VLOOKUP($A$3,'Roster LIMA'!$B$7706:$AU$8373,'Roster LIMA'!AL$1,FALSE)))","v":""},{"$f":"IF(COUNTBLANK($A$3)<>0,\"\",IF(ISERROR(VLOOKUP($A$3,'Roster LIMA'!$B$7706:$AU$8373,'Roster LIMA'!AM$1,FALSE)),\"\",VLOOKUP($A$3,'Roster LIMA'!$B$7706:$AU$8373,'Roster LIMA'!AM$1,FALSE)))","v":""},{"$f":"IF(COUNTBLANK($A$3)<>0,\"\",IF(ISERROR(VLOOKUP($A$3,'Roster LIMA'!$B$7706:$AU$8373,'Roster LIMA'!AN$1,FALSE)),\"\",VLOOKUP($A$3,'Roster LIMA'!$B$7706:$AU$8373,'Roster LIMA'!AN$1,FALSE)))","v":""},{"$f":"IF(COUNTBLANK($A$3)<>0,\"\",IF(ISERROR(VLOOKUP($A$3,'Roster LIMA'!$B$7706:$AU$8373,'Roster LIMA'!AO$1,FALSE)),\"\",VLOOKUP($A$3,'Roster LIMA'!$B$7706:$AU$8373,'Roster LIMA'!AO$1,FALSE)))","v":""},{"$f":"IF(COUNTBLANK($A$3)<>0,\"\",IF(ISERROR(VLOOKUP($A$3,'Roster LIMA'!$B$7706:$AU$8373,'Roster LIMA'!AP$1,FALSE)),\"\",VLOOKUP($A$3,'Roster LIMA'!$B$7706:$AU$8373,'Roster LIMA'!AP$1,FALSE)))","v":""},{"$f":"IF(COUNTBLANK($A$3)<>0,\"\",IF(ISERROR(VLOOKUP($A$3,'Roster LIMA'!$B$7706:$AU$8373,'Roster LIMA'!AQ$1,FALSE)),\"\",VLOOKUP($A$3,'Roster LIMA'!$B$7706:$AU$8373,'Roster LIMA'!AQ$1,FALSE)))","v":""},{"$f":"IF(COUNTBLANK($A$3)<>0,\"\",IF(ISERROR(VLOOKUP($A$3,'Roster LIMA'!$B$7706:$AU$8373,'Roster LIMA'!AR$1,FALSE)),\"\",VLOOKUP($A$3,'Roster LIMA'!$B$7706:$AU$8373,'Roster LIMA'!AR$1,FALSE)))","v":""},{"$f":"IF(COUNTBLANK($A$3)<>0,\"\",IF(ISERROR(VLOOKUP($A$3,'Roster LIMA'!$B$7706:$AU$8373,'Roster LIMA'!AS$1,FALSE)),\"\",VLOOKUP($A$3,'Roster LIMA'!$B$7706:$AU$8373,'Roster LIMA'!AS$1,FALSE)))","v":""},{"$f":"IF(COUNTBLANK($A$3)<>0,\"\",IF(ISERROR(VLOOKUP($A$3,'Roster LIMA'!$B$7706:$AU$8373,'Roster LIMA'!AT$1,FALSE)),\"\",VLOOKUP($A$3,'Roster LIMA'!$B$7706:$AU$8373,'Roster LIMA'!AT$1,FALSE)))","v":""},{"$f":"IF(COUNTBLANK($A$3)<>0,\"\",IF(ISERROR(VLOOKUP($A$3,'Roster LIMA'!$B$7706:$AU$8373,'Roster LIMA'!AU$1,FALSE)),\"\",VLOOKUP($A$3,'Roster LIMA'!$B$7706:$AU$8373,'Roster LIMA'!AU$1,FALSE)))","v":""}]
[{"$f":"+'Roster LIMA'!G8374","v":1990},{"$f":"IF(COUNTBLANK($A$3)<>0,\"\",IF(ISERROR(VLOOKUP($A$3,'Roster LIMA'!$B$8374:$AU$8925,'Roster LIMA'!H$1,FALSE)),\"\",IF(VLOOKUP($A$3,'Roster LIMA'!$B$8374:$AU$8925,'Roster LIMA'!H$1,FALSE)=0,\"\",VLOOKUP($A$3,'Roster LIMA'!$B$8374:$AU$8925,'Roster LIMA'!H$1,FALSE))))","v":""},{"$f":"IF(COUNTBLANK($A$3)<>0,\"\",IF(ISERROR(VLOOKUP($A$3,'Roster LIMA'!$B$8374:$AU$8925,'Roster LIMA'!I$1,FALSE)),\"\",IF(VLOOKUP($A$3,'Roster LIMA'!$B$8374:$AU$8925,'Roster LIMA'!I$1,FALSE)=0,\"\",VLOOKUP($A$3,'Roster LIMA'!$B$8374:$AU$8925,'Roster LIMA'!I$1,FALSE))))","v":""},{"$f":"IF(COUNTBLANK($A$3)<>0,\"\",IF(ISERROR(VLOOKUP($A$3,'Roster LIMA'!$B$8374:$AU$8925,'Roster LIMA'!J$1,FALSE)),\"\",IF(VLOOKUP($A$3,'Roster LIMA'!$B$8374:$AU$8925,'Roster LIMA'!J$1,FALSE)=0,\"\",VLOOKUP($A$3,'Roster LIMA'!$B$8374:$AU$8925,'Roster LIMA'!J$1,FALSE))))","v":""},{"$f":"IF(COUNTBLANK($A$3)<>0,\"\",IF(ISERROR(VLOOKUP($A$3,'Roster LIMA'!$B$8374:$AU$8925,'Roster LIMA'!K$1,FALSE)),\"\",IF(VLOOKUP($A$3,'Roster LIMA'!$B$8374:$AU$8925,'Roster LIMA'!K$1,FALSE)=0,\"\",VLOOKUP($A$3,'Roster LIMA'!$B$8374:$AU$8925,'Roster LIMA'!K$1,FALSE))))","v":""},{"$f":"IF(COUNTBLANK($A$3)<>0,\"\",IF(ISERROR(VLOOKUP($A$3,'Roster LIMA'!$B$8374:$AU$8925,'Roster LIMA'!F$1,FALSE)),\"\",IF(VLOOKUP($A$3,'Roster LIMA'!$B$8374:$AU$8925,'Roster LIMA'!F$1,FALSE)=0,\"\",VLOOKUP($A$3,'Roster LIMA'!$B$8374:$AU$8925,'Roster LIMA'!F$1,FALSE))))","v":""},{"$f":"IF(COUNTBLANK($A$3)<>0,\"\",IF(ISERROR(VLOOKUP($A$3,'Roster LIMA'!$B$8374:$AU$8925,'Roster LIMA'!E$1,FALSE)),\"\",IF(VLOOKUP($A$3,'Roster LIMA'!$B$8374:$AU$8925,'Roster LIMA'!E$1,FALSE)=0,\"\",VLOOKUP($A$3,'Roster LIMA'!$B$8374:$AU$8925,'Roster LIMA'!E$1,FALSE))))","v":""},{"$f":"IF(COUNTBLANK($A$3)<>0,\"\",IF(ISERROR(VLOOKUP($A$3,'Roster LIMA'!$B$8374:$AU$8925,'Roster LIMA'!B$1,FALSE)),\"N/A\",IF(VLOOKUP($A$3,'Roster LIMA'!$B$8374:$AU$8925,'Roster LIMA'!B$1,FALSE)=0,\"\",VLOOKUP($A$3,'Roster LIMA'!$B$8374:$AU$8925,'Roster LIMA'!B$1,FALSE))))","v":""},{"$f":"IF(COUNTBLANK($A$3)<>0,\"\",IF(ISERROR(VLOOKUP($A$3,'Roster LIMA'!$B$8374:$AU$8925,'Roster LIMA'!C$1,FALSE)),\"\",IF(VLOOKUP($A$3,'Roster LIMA'!$B$8374:$AU$8925,'Roster LIMA'!C$1,FALSE)=0,\"\",VLOOKUP($A$3,'Roster LIMA'!$B$8374:$AU$8925,'Roster LIMA'!C$1,FALSE))))","v":""},{"$f":"IF(COUNTBLANK($A$3)<>0,\"\",IF(ISERROR(VLOOKUP($A$3,'Roster LIMA'!$B$8374:$AU$8925,'Roster LIMA'!D$1,FALSE)),\"\",IF(VLOOKUP($A$3,'Roster LIMA'!$B$8374:$AU$8925,'Roster LIMA'!D$1,FALSE)=0,\"\",VLOOKUP($A$3,'Roster LIMA'!$B$8374:$AU$8925,'Roster LIMA'!D$1,FALSE))))","v":""},{"$f":"IF(COUNTBLANK($A$3)<>0,\"\",IF(ISERROR(VLOOKUP($A$3,'Roster LIMA'!$B$8374:$AU$8925,'Roster LIMA'!L$1,FALSE)),\"\",VLOOKUP($A$3,'Roster LIMA'!$B$8374:$AU$8925,'Roster LIMA'!L$1,FALSE)))","v":""},{"$f":"IF(COUNTBLANK($A$3)<>0,\"\",IF(ISERROR(VLOOKUP($A$3,'Roster LIMA'!$B$8374:$AU$8925,'Roster LIMA'!M$1,FALSE)),\"\",VLOOKUP($A$3,'Roster LIMA'!$B$8374:$AU$8925,'Roster LIMA'!M$1,FALSE)))","v":""},{"$f":"IF(COUNTBLANK($A$3)<>0,\"\",IF(ISERROR(VLOOKUP($A$3,'Roster LIMA'!$B$8374:$AU$8925,'Roster LIMA'!N$1,FALSE)),\"\",VLOOKUP($A$3,'Roster LIMA'!$B$8374:$AU$8925,'Roster LIMA'!N$1,FALSE)))","v":""},{"$f":"IF(COUNTBLANK($A$3)<>0,\"\",IF(ISERROR(VLOOKUP($A$3,'Roster LIMA'!$B$8374:$AU$8925,'Roster LIMA'!O$1,FALSE)),\"\",VLOOKUP($A$3,'Roster LIMA'!$B$8374:$AU$8925,'Roster LIMA'!O$1,FALSE)))","v":""},{"$f":"IF(COUNTBLANK($A$3)<>0,\"\",IF(ISERROR(VLOOKUP($A$3,'Roster LIMA'!$B$8374:$AU$8925,'Roster LIMA'!P$1,FALSE)),\"\",VLOOKUP($A$3,'Roster LIMA'!$B$8374:$AU$8925,'Roster LIMA'!P$1,FALSE)))","v":""},{"$f":"IF(COUNTBLANK($A$3)<>0,\"\",IF(ISERROR(VLOOKUP($A$3,'Roster LIMA'!$B$8374:$AU$8925,'Roster LIMA'!Q$1,FALSE)),\"\",VLOOKUP($A$3,'Roster LIMA'!$B$8374:$AU$8925,'Roster LIMA'!Q$1,FALSE)))","v":""},{"$f":"IF(COUNTBLANK($A$3)<>0,\"\",IF(ISERROR(VLOOKUP($A$3,'Roster LIMA'!$B$8374:$AU$8925,'Roster LIMA'!R$1,FALSE)),\"\",VLOOKUP($A$3,'Roster LIMA'!$B$8374:$AU$8925,'Roster LIMA'!R$1,FALSE)))","v":""},{"$f":"IF(COUNTBLANK($A$3)<>0,\"\",IF(ISERROR(VLOOKUP($A$3,'Roster LIMA'!$B$8374:$AU$8925,'Roster LIMA'!S$1,FALSE)),\"\",VLOOKUP($A$3,'Roster LIMA'!$B$8374:$AU$8925,'Roster LIMA'!S$1,FALSE)))","v":""},{"$f":"IF(COUNTBLANK($A$3)<>0,\"\",IF(ISERROR(VLOOKUP($A$3,'Roster LIMA'!$B$8374:$AU$8925,'Roster LIMA'!T$1,FALSE)),\"\",VLOOKUP($A$3,'Roster LIMA'!$B$8374:$AU$8925,'Roster LIMA'!T$1,FALSE)))","v":""},{"$f":"IF(COUNTBLANK($A$3)<>0,\"\",IF(ISERROR(VLOOKUP($A$3,'Roster LIMA'!$B$8374:$AU$8925,'Roster LIMA'!U$1,FALSE)),\"\",VLOOKUP($A$3,'Roster LIMA'!$B$8374:$AU$8925,'Roster LIMA'!U$1,FALSE)))","v":""},{"$f":"IF(COUNTBLANK($A$3)<>0,\"\",IF(ISERROR(VLOOKUP($A$3,'Roster LIMA'!$B$8374:$AU$8925,'Roster LIMA'!V$1,FALSE)),\"\",VLOOKUP($A$3,'Roster LIMA'!$B$8374:$AU$8925,'Roster LIMA'!V$1,FALSE)))","v":""},{"$f":"IF(COUNTBLANK($A$3)<>0,\"\",IF(ISERROR(VLOOKUP($A$3,'Roster LIMA'!$B$8374:$AU$8925,'Roster LIMA'!W$1,FALSE)),\"\",VLOOKUP($A$3,'Roster LIMA'!$B$8374:$AU$8925,'Roster LIMA'!W$1,FALSE)))","v":""},{"$f":"IF(COUNTBLANK($A$3)<>0,\"\",IF(ISERROR(VLOOKUP($A$3,'Roster LIMA'!$B$8374:$AU$8925,'Roster LIMA'!X$1,FALSE)),\"\",VLOOKUP($A$3,'Roster LIMA'!$B$8374:$AU$8925,'Roster LIMA'!X$1,FALSE)))","v":""},{"$f":"IF(COUNTBLANK($A$3)<>0,\"\",IF(ISERROR(VLOOKUP($A$3,'Roster LIMA'!$B$8374:$AU$8925,'Roster LIMA'!Y$1,FALSE)),\"\",VLOOKUP($A$3,'Roster LIMA'!$B$8374:$AU$8925,'Roster LIMA'!Y$1,FALSE)))","v":""},{"$f":"IF(COUNTBLANK($A$3)<>0,\"\",IF(ISERROR(VLOOKUP($A$3,'Roster LIMA'!$B$8374:$AU$8925,'Roster LIMA'!Z$1,FALSE)),\"\",VLOOKUP($A$3,'Roster LIMA'!$B$8374:$AU$8925,'Roster LIMA'!Z$1,FALSE)))","v":""},{"$f":"IF(COUNTBLANK($A$3)<>0,\"\",IF(ISERROR(VLOOKUP($A$3,'Roster LIMA'!$B$8374:$AU$8925,'Roster LIMA'!AA$1,FALSE)),\"\",VLOOKUP($A$3,'Roster LIMA'!$B$8374:$AU$8925,'Roster LIMA'!AA$1,FALSE)))","v":""},{"$f":"IF(COUNTBLANK($A$3)<>0,\"\",IF(ISERROR(VLOOKUP($A$3,'Roster LIMA'!$B$8374:$AU$8925,'Roster LIMA'!AB$1,FALSE)),\"\",VLOOKUP($A$3,'Roster LIMA'!$B$8374:$AU$8925,'Roster LIMA'!AB$1,FALSE)))","v":""},{"$f":"IF(COUNTBLANK($A$3)<>0,\"\",IF(ISERROR(VLOOKUP($A$3,'Roster LIMA'!$B$8374:$AU$8925,'Roster LIMA'!AC$1,FALSE)),\"\",VLOOKUP($A$3,'Roster LIMA'!$B$8374:$AU$8925,'Roster LIMA'!AC$1,FALSE)))","v":""},{"$f":"IF(COUNTBLANK($A$3)<>0,\"\",IF(ISERROR(VLOOKUP($A$3,'Roster LIMA'!$B$8374:$AU$8925,'Roster LIMA'!AD$1,FALSE)),\"\",VLOOKUP($A$3,'Roster LIMA'!$B$8374:$AU$8925,'Roster LIMA'!AD$1,FALSE)))","v":""},{"$f":"IF(COUNTBLANK($A$3)<>0,\"\",IF(ISERROR(VLOOKUP($A$3,'Roster LIMA'!$B$8374:$AU$8925,'Roster LIMA'!AE$1,FALSE)),\"\",VLOOKUP($A$3,'Roster LIMA'!$B$8374:$AU$8925,'Roster LIMA'!AE$1,FALSE)))","v":""},{"$f":"IF(COUNTBLANK($A$3)<>0,\"\",IF(ISERROR(VLOOKUP($A$3,'Roster LIMA'!$B$8374:$AU$8925,'Roster LIMA'!AF$1,FALSE)),\"\",VLOOKUP($A$3,'Roster LIMA'!$B$8374:$AU$8925,'Roster LIMA'!AF$1,FALSE)))","v":""},{"$f":"IF(COUNTBLANK($A$3)<>0,\"\",IF(ISERROR(VLOOKUP($A$3,'Roster LIMA'!$B$8374:$AU$8925,'Roster LIMA'!AG$1,FALSE)),\"\",VLOOKUP($A$3,'Roster LIMA'!$B$8374:$AU$8925,'Roster LIMA'!AG$1,FALSE)))","v":""},{"$f":"IF(COUNTBLANK($A$3)<>0,\"\",IF(ISERROR(VLOOKUP($A$3,'Roster LIMA'!$B$8374:$AU$8925,'Roster LIMA'!AH$1,FALSE)),\"\",VLOOKUP($A$3,'Roster LIMA'!$B$8374:$AU$8925,'Roster LIMA'!AH$1,FALSE)))","v":""},{"$f":"IF(COUNTBLANK($A$3)<>0,\"\",IF(ISERROR(VLOOKUP($A$3,'Roster LIMA'!$B$8374:$AU$8925,'Roster LIMA'!AI$1,FALSE)),\"\",VLOOKUP($A$3,'Roster LIMA'!$B$8374:$AU$8925,'Roster LIMA'!AI$1,FALSE)))","v":""},{"$f":"IF(COUNTBLANK($A$3)<>0,\"\",IF(ISERROR(VLOOKUP($A$3,'Roster LIMA'!$B$8374:$AU$8925,'Roster LIMA'!AJ$1,FALSE)),\"\",VLOOKUP($A$3,'Roster LIMA'!$B$8374:$AU$8925,'Roster LIMA'!AJ$1,FALSE)))","v":""},{"$f":"IF(COUNTBLANK($A$3)<>0,\"\",IF(ISERROR(VLOOKUP($A$3,'Roster LIMA'!$B$8374:$AU$8925,'Roster LIMA'!AK$1,FALSE)),\"\",VLOOKUP($A$3,'Roster LIMA'!$B$8374:$AU$8925,'Roster LIMA'!AK$1,FALSE)))","v":""},{"$f":"IF(COUNTBLANK($A$3)<>0,\"\",IF(ISERROR(VLOOKUP($A$3,'Roster LIMA'!$B$8374:$AU$8925,'Roster LIMA'!AL$1,FALSE)),\"\",VLOOKUP($A$3,'Roster LIMA'!$B$8374:$AU$8925,'Roster LIMA'!AL$1,FALSE)))","v":""},{"$f":"IF(COUNTBLANK($A$3)<>0,\"\",IF(ISERROR(VLOOKUP($A$3,'Roster LIMA'!$B$8374:$AU$8925,'Roster LIMA'!AM$1,FALSE)),\"\",VLOOKUP($A$3,'Roster LIMA'!$B$8374:$AU$8925,'Roster LIMA'!AM$1,FALSE)))","v":""},{"$f":"IF(COUNTBLANK($A$3)<>0,\"\",IF(ISERROR(VLOOKUP($A$3,'Roster LIMA'!$B$8374:$AU$8925,'Roster LIMA'!AN$1,FALSE)),\"\",VLOOKUP($A$3,'Roster LIMA'!$B$8374:$AU$8925,'Roster LIMA'!AN$1,FALSE)))","v":""},{"$f":"IF(COUNTBLANK($A$3)<>0,\"\",IF(ISERROR(VLOOKUP($A$3,'Roster LIMA'!$B$8374:$AU$8925,'Roster LIMA'!AO$1,FALSE)),\"\",VLOOKUP($A$3,'Roster LIMA'!$B$8374:$AU$8925,'Roster LIMA'!AO$1,FALSE)))","v":""},{"$f":"IF(COUNTBLANK($A$3)<>0,\"\",IF(ISERROR(VLOOKUP($A$3,'Roster LIMA'!$B$8374:$AU$8925,'Roster LIMA'!AP$1,FALSE)),\"\",VLOOKUP($A$3,'Roster LIMA'!$B$8374:$AU$8925,'Roster LIMA'!AP$1,FALSE)))","v":""},{"$f":"IF(COUNTBLANK($A$3)<>0,\"\",IF(ISERROR(VLOOKUP($A$3,'Roster LIMA'!$B$8374:$AU$8925,'Roster LIMA'!AQ$1,FALSE)),\"\",VLOOKUP($A$3,'Roster LIMA'!$B$8374:$AU$8925,'Roster LIMA'!AQ$1,FALSE)))","v":""},{"$f":"IF(COUNTBLANK($A$3)<>0,\"\",IF(ISERROR(VLOOKUP($A$3,'Roster LIMA'!$B$8374:$AU$8925,'Roster LIMA'!AR$1,FALSE)),\"\",VLOOKUP($A$3,'Roster LIMA'!$B$8374:$AU$8925,'Roster LIMA'!AR$1,FALSE)))","v":""},{"$f":"IF(COUNTBLANK($A$3)<>0,\"\",IF(ISERROR(VLOOKUP($A$3,'Roster LIMA'!$B$8374:$AU$8925,'Roster LIMA'!AS$1,FALSE)),\"\",VLOOKUP($A$3,'Roster LIMA'!$B$8374:$AU$8925,'Roster LIMA'!AS$1,FALSE)))","v":""},{"$f":"IF(COUNTBLANK($A$3)<>0,\"\",IF(ISERROR(VLOOKUP($A$3,'Roster LIMA'!$B$8374:$AU$8925,'Roster LIMA'!AT$1,FALSE)),\"\",VLOOKUP($A$3,'Roster LIMA'!$B$8374:$AU$8925,'Roster LIMA'!AT$1,FALSE)))","v":""},{"$f":"IF(COUNTBLANK($A$3)<>0,\"\",IF(ISERROR(VLOOKUP($A$3,'Roster LIMA'!$B$8374:$AU$8925,'Roster LIMA'!AU$1,FALSE)),\"\",VLOOKUP($A$3,'Roster LIMA'!$B$8374:$AU$8925,'Roster LIMA'!AU$1,FALSE)))","v":""}]
[{"$f":"+'Roster LIMA'!G8926","v":1991},{"$f":"IF(COUNTBLANK($A$3)<>0,\"\",IF(ISERROR(VLOOKUP($A$3,'Roster LIMA'!$B$8926:$AU$9431,'Roster LIMA'!H$1,FALSE)),\"\",IF(VLOOKUP($A$3,'Roster LIMA'!$B$8926:$AU$9431,'Roster LIMA'!H$1,FALSE)=0,\"\",VLOOKUP($A$3,'Roster LIMA'!$B$8926:$AU$9431,'Roster LIMA'!H$1,FALSE))))","v":""},{"$f":"IF(COUNTBLANK($A$3)<>0,\"\",IF(ISERROR(VLOOKUP($A$3,'Roster LIMA'!$B$8926:$AU$9431,'Roster LIMA'!I$1,FALSE)),\"\",IF(VLOOKUP($A$3,'Roster LIMA'!$B$8926:$AU$9431,'Roster LIMA'!I$1,FALSE)=0,\"\",VLOOKUP($A$3,'Roster LIMA'!$B$8926:$AU$9431,'Roster LIMA'!I$1,FALSE))))","v":""},{"$f":"IF(COUNTBLANK($A$3)<>0,\"\",IF(ISERROR(VLOOKUP($A$3,'Roster LIMA'!$B$8926:$AU$9431,'Roster LIMA'!J$1,FALSE)),\"\",IF(VLOOKUP($A$3,'Roster LIMA'!$B$8926:$AU$9431,'Roster LIMA'!J$1,FALSE)=0,\"\",VLOOKUP($A$3,'Roster LIMA'!$B$8926:$AU$9431,'Roster LIMA'!J$1,FALSE))))","v":""},{"$f":"IF(COUNTBLANK($A$3)<>0,\"\",IF(ISERROR(VLOOKUP($A$3,'Roster LIMA'!$B$8926:$AU$9431,'Roster LIMA'!K$1,FALSE)),\"\",IF(VLOOKUP($A$3,'Roster LIMA'!$B$8926:$AU$9431,'Roster LIMA'!K$1,FALSE)=0,\"\",VLOOKUP($A$3,'Roster LIMA'!$B$8926:$AU$9431,'Roster LIMA'!K$1,FALSE))))","v":""},{"$f":"IF(COUNTBLANK($A$3)<>0,\"\",IF(ISERROR(VLOOKUP($A$3,'Roster LIMA'!$B$8926:$AU$9431,'Roster LIMA'!F$1,FALSE)),\"\",IF(VLOOKUP($A$3,'Roster LIMA'!$B$8926:$AU$9431,'Roster LIMA'!F$1,FALSE)=0,\"\",VLOOKUP($A$3,'Roster LIMA'!$B$8926:$AU$9431,'Roster LIMA'!F$1,FALSE))))","v":""},{"$f":"IF(COUNTBLANK($A$3)<>0,\"\",IF(ISERROR(VLOOKUP($A$3,'Roster LIMA'!$B$8926:$AU$9431,'Roster LIMA'!E$1,FALSE)),\"\",IF(VLOOKUP($A$3,'Roster LIMA'!$B$8926:$AU$9431,'Roster LIMA'!E$1,FALSE)=0,\"\",VLOOKUP($A$3,'Roster LIMA'!$B$8926:$AU$9431,'Roster LIMA'!E$1,FALSE))))","v":""},{"$f":"IF(COUNTBLANK($A$3)<>0,\"\",IF(ISERROR(VLOOKUP($A$3,'Roster LIMA'!$B$8926:$AU$9431,'Roster LIMA'!B$1,FALSE)),\"N/A\",IF(VLOOKUP($A$3,'Roster LIMA'!$B$8926:$AU$9431,'Roster LIMA'!B$1,FALSE)=0,\"\",VLOOKUP($A$3,'Roster LIMA'!$B$8926:$AU$9431,'Roster LIMA'!B$1,FALSE))))","v":""},{"$f":"IF(COUNTBLANK($A$3)<>0,\"\",IF(ISERROR(VLOOKUP($A$3,'Roster LIMA'!$B$8926:$AU$9431,'Roster LIMA'!C$1,FALSE)),\"\",IF(VLOOKUP($A$3,'Roster LIMA'!$B$8926:$AU$9431,'Roster LIMA'!C$1,FALSE)=0,\"\",VLOOKUP($A$3,'Roster LIMA'!$B$8926:$AU$9431,'Roster LIMA'!C$1,FALSE))))","v":""},{"$f":"IF(COUNTBLANK($A$3)<>0,\"\",IF(ISERROR(VLOOKUP($A$3,'Roster LIMA'!$B$8926:$AU$9431,'Roster LIMA'!D$1,FALSE)),\"\",IF(VLOOKUP($A$3,'Roster LIMA'!$B$8926:$AU$9431,'Roster LIMA'!D$1,FALSE)=0,\"\",VLOOKUP($A$3,'Roster LIMA'!$B$8926:$AU$9431,'Roster LIMA'!D$1,FALSE))))","v":""},{"$f":"IF(COUNTBLANK($A$3)<>0,\"\",IF(ISERROR(VLOOKUP($A$3,'Roster LIMA'!$B$8926:$AU$9431,'Roster LIMA'!L$1,FALSE)),\"\",VLOOKUP($A$3,'Roster LIMA'!$B$8926:$AU$9431,'Roster LIMA'!L$1,FALSE)))","v":""},{"$f":"IF(COUNTBLANK($A$3)<>0,\"\",IF(ISERROR(VLOOKUP($A$3,'Roster LIMA'!$B$8926:$AU$9431,'Roster LIMA'!M$1,FALSE)),\"\",VLOOKUP($A$3,'Roster LIMA'!$B$8926:$AU$9431,'Roster LIMA'!M$1,FALSE)))","v":""},{"$f":"IF(COUNTBLANK($A$3)<>0,\"\",IF(ISERROR(VLOOKUP($A$3,'Roster LIMA'!$B$8926:$AU$9431,'Roster LIMA'!N$1,FALSE)),\"\",VLOOKUP($A$3,'Roster LIMA'!$B$8926:$AU$9431,'Roster LIMA'!N$1,FALSE)))","v":""},{"$f":"IF(COUNTBLANK($A$3)<>0,\"\",IF(ISERROR(VLOOKUP($A$3,'Roster LIMA'!$B$8926:$AU$9431,'Roster LIMA'!O$1,FALSE)),\"\",VLOOKUP($A$3,'Roster LIMA'!$B$8926:$AU$9431,'Roster LIMA'!O$1,FALSE)))","v":""},{"$f":"IF(COUNTBLANK($A$3)<>0,\"\",IF(ISERROR(VLOOKUP($A$3,'Roster LIMA'!$B$8926:$AU$9431,'Roster LIMA'!P$1,FALSE)),\"\",VLOOKUP($A$3,'Roster LIMA'!$B$8926:$AU$9431,'Roster LIMA'!P$1,FALSE)))","v":""},{"$f":"IF(COUNTBLANK($A$3)<>0,\"\",IF(ISERROR(VLOOKUP($A$3,'Roster LIMA'!$B$8926:$AU$9431,'Roster LIMA'!Q$1,FALSE)),\"\",VLOOKUP($A$3,'Roster LIMA'!$B$8926:$AU$9431,'Roster LIMA'!Q$1,FALSE)))","v":""},{"$f":"IF(COUNTBLANK($A$3)<>0,\"\",IF(ISERROR(VLOOKUP($A$3,'Roster LIMA'!$B$8926:$AU$9431,'Roster LIMA'!R$1,FALSE)),\"\",VLOOKUP($A$3,'Roster LIMA'!$B$8926:$AU$9431,'Roster LIMA'!R$1,FALSE)))","v":""},{"$f":"IF(COUNTBLANK($A$3)<>0,\"\",IF(ISERROR(VLOOKUP($A$3,'Roster LIMA'!$B$8926:$AU$9431,'Roster LIMA'!S$1,FALSE)),\"\",VLOOKUP($A$3,'Roster LIMA'!$B$8926:$AU$9431,'Roster LIMA'!S$1,FALSE)))","v":""},{"$f":"IF(COUNTBLANK($A$3)<>0,\"\",IF(ISERROR(VLOOKUP($A$3,'Roster LIMA'!$B$8926:$AU$9431,'Roster LIMA'!T$1,FALSE)),\"\",VLOOKUP($A$3,'Roster LIMA'!$B$8926:$AU$9431,'Roster LIMA'!T$1,FALSE)))","v":""},{"$f":"IF(COUNTBLANK($A$3)<>0,\"\",IF(ISERROR(VLOOKUP($A$3,'Roster LIMA'!$B$8926:$AU$9431,'Roster LIMA'!U$1,FALSE)),\"\",VLOOKUP($A$3,'Roster LIMA'!$B$8926:$AU$9431,'Roster LIMA'!U$1,FALSE)))","v":""},{"$f":"IF(COUNTBLANK($A$3)<>0,\"\",IF(ISERROR(VLOOKUP($A$3,'Roster LIMA'!$B$8926:$AU$9431,'Roster LIMA'!V$1,FALSE)),\"\",VLOOKUP($A$3,'Roster LIMA'!$B$8926:$AU$9431,'Roster LIMA'!V$1,FALSE)))","v":""},{"$f":"IF(COUNTBLANK($A$3)<>0,\"\",IF(ISERROR(VLOOKUP($A$3,'Roster LIMA'!$B$8926:$AU$9431,'Roster LIMA'!W$1,FALSE)),\"\",VLOOKUP($A$3,'Roster LIMA'!$B$8926:$AU$9431,'Roster LIMA'!W$1,FALSE)))","v":""},{"$f":"IF(COUNTBLANK($A$3)<>0,\"\",IF(ISERROR(VLOOKUP($A$3,'Roster LIMA'!$B$8926:$AU$9431,'Roster LIMA'!X$1,FALSE)),\"\",VLOOKUP($A$3,'Roster LIMA'!$B$8926:$AU$9431,'Roster LIMA'!X$1,FALSE)))","v":""},{"$f":"IF(COUNTBLANK($A$3)<>0,\"\",IF(ISERROR(VLOOKUP($A$3,'Roster LIMA'!$B$8926:$AU$9431,'Roster LIMA'!Y$1,FALSE)),\"\",VLOOKUP($A$3,'Roster LIMA'!$B$8926:$AU$9431,'Roster LIMA'!Y$1,FALSE)))","v":""},{"$f":"IF(COUNTBLANK($A$3)<>0,\"\",IF(ISERROR(VLOOKUP($A$3,'Roster LIMA'!$B$8926:$AU$9431,'Roster LIMA'!Z$1,FALSE)),\"\",VLOOKUP($A$3,'Roster LIMA'!$B$8926:$AU$9431,'Roster LIMA'!Z$1,FALSE)))","v":""},{"$f":"IF(COUNTBLANK($A$3)<>0,\"\",IF(ISERROR(VLOOKUP($A$3,'Roster LIMA'!$B$8926:$AU$9431,'Roster LIMA'!AA$1,FALSE)),\"\",VLOOKUP($A$3,'Roster LIMA'!$B$8926:$AU$9431,'Roster LIMA'!AA$1,FALSE)))","v":""},{"$f":"IF(COUNTBLANK($A$3)<>0,\"\",IF(ISERROR(VLOOKUP($A$3,'Roster LIMA'!$B$8926:$AU$9431,'Roster LIMA'!AB$1,FALSE)),\"\",VLOOKUP($A$3,'Roster LIMA'!$B$8926:$AU$9431,'Roster LIMA'!AB$1,FALSE)))","v":""},{"$f":"IF(COUNTBLANK($A$3)<>0,\"\",IF(ISERROR(VLOOKUP($A$3,'Roster LIMA'!$B$8926:$AU$9431,'Roster LIMA'!AC$1,FALSE)),\"\",VLOOKUP($A$3,'Roster LIMA'!$B$8926:$AU$9431,'Roster LIMA'!AC$1,FALSE)))","v":""},{"$f":"IF(COUNTBLANK($A$3)<>0,\"\",IF(ISERROR(VLOOKUP($A$3,'Roster LIMA'!$B$8926:$AU$9431,'Roster LIMA'!AD$1,FALSE)),\"\",VLOOKUP($A$3,'Roster LIMA'!$B$8926:$AU$9431,'Roster LIMA'!AD$1,FALSE)))","v":""},{"$f":"IF(COUNTBLANK($A$3)<>0,\"\",IF(ISERROR(VLOOKUP($A$3,'Roster LIMA'!$B$8926:$AU$9431,'Roster LIMA'!AE$1,FALSE)),\"\",VLOOKUP($A$3,'Roster LIMA'!$B$8926:$AU$9431,'Roster LIMA'!AE$1,FALSE)))","v":""},{"$f":"IF(COUNTBLANK($A$3)<>0,\"\",IF(ISERROR(VLOOKUP($A$3,'Roster LIMA'!$B$8926:$AU$9431,'Roster LIMA'!AF$1,FALSE)),\"\",VLOOKUP($A$3,'Roster LIMA'!$B$8926:$AU$9431,'Roster LIMA'!AF$1,FALSE)))","v":""},{"$f":"IF(COUNTBLANK($A$3)<>0,\"\",IF(ISERROR(VLOOKUP($A$3,'Roster LIMA'!$B$8926:$AU$9431,'Roster LIMA'!AG$1,FALSE)),\"\",VLOOKUP($A$3,'Roster LIMA'!$B$8926:$AU$9431,'Roster LIMA'!AG$1,FALSE)))","v":""},{"$f":"IF(COUNTBLANK($A$3)<>0,\"\",IF(ISERROR(VLOOKUP($A$3,'Roster LIMA'!$B$8926:$AU$9431,'Roster LIMA'!AH$1,FALSE)),\"\",VLOOKUP($A$3,'Roster LIMA'!$B$8926:$AU$9431,'Roster LIMA'!AH$1,FALSE)))","v":""},{"$f":"IF(COUNTBLANK($A$3)<>0,\"\",IF(ISERROR(VLOOKUP($A$3,'Roster LIMA'!$B$8926:$AU$9431,'Roster LIMA'!AI$1,FALSE)),\"\",VLOOKUP($A$3,'Roster LIMA'!$B$8926:$AU$9431,'Roster LIMA'!AI$1,FALSE)))","v":""},{"$f":"IF(COUNTBLANK($A$3)<>0,\"\",IF(ISERROR(VLOOKUP($A$3,'Roster LIMA'!$B$8926:$AU$9431,'Roster LIMA'!AJ$1,FALSE)),\"\",VLOOKUP($A$3,'Roster LIMA'!$B$8926:$AU$9431,'Roster LIMA'!AJ$1,FALSE)))","v":""},{"$f":"IF(COUNTBLANK($A$3)<>0,\"\",IF(ISERROR(VLOOKUP($A$3,'Roster LIMA'!$B$8926:$AU$9431,'Roster LIMA'!AK$1,FALSE)),\"\",VLOOKUP($A$3,'Roster LIMA'!$B$8926:$AU$9431,'Roster LIMA'!AK$1,FALSE)))","v":""},{"$f":"IF(COUNTBLANK($A$3)<>0,\"\",IF(ISERROR(VLOOKUP($A$3,'Roster LIMA'!$B$8926:$AU$9431,'Roster LIMA'!AL$1,FALSE)),\"\",VLOOKUP($A$3,'Roster LIMA'!$B$8926:$AU$9431,'Roster LIMA'!AL$1,FALSE)))","v":""},{"$f":"IF(COUNTBLANK($A$3)<>0,\"\",IF(ISERROR(VLOOKUP($A$3,'Roster LIMA'!$B$8926:$AU$9431,'Roster LIMA'!AM$1,FALSE)),\"\",VLOOKUP($A$3,'Roster LIMA'!$B$8926:$AU$9431,'Roster LIMA'!AM$1,FALSE)))","v":""},{"$f":"IF(COUNTBLANK($A$3)<>0,\"\",IF(ISERROR(VLOOKUP($A$3,'Roster LIMA'!$B$8926:$AU$9431,'Roster LIMA'!AN$1,FALSE)),\"\",VLOOKUP($A$3,'Roster LIMA'!$B$8926:$AU$9431,'Roster LIMA'!AN$1,FALSE)))","v":""},{"$f":"IF(COUNTBLANK($A$3)<>0,\"\",IF(ISERROR(VLOOKUP($A$3,'Roster LIMA'!$B$8926:$AU$9431,'Roster LIMA'!AO$1,FALSE)),\"\",VLOOKUP($A$3,'Roster LIMA'!$B$8926:$AU$9431,'Roster LIMA'!AO$1,FALSE)))","v":""},{"$f":"IF(COUNTBLANK($A$3)<>0,\"\",IF(ISERROR(VLOOKUP($A$3,'Roster LIMA'!$B$8926:$AU$9431,'Roster LIMA'!AP$1,FALSE)),\"\",VLOOKUP($A$3,'Roster LIMA'!$B$8926:$AU$9431,'Roster LIMA'!AP$1,FALSE)))","v":""},{"$f":"IF(COUNTBLANK($A$3)<>0,\"\",IF(ISERROR(VLOOKUP($A$3,'Roster LIMA'!$B$8926:$AU$9431,'Roster LIMA'!AQ$1,FALSE)),\"\",VLOOKUP($A$3,'Roster LIMA'!$B$8926:$AU$9431,'Roster LIMA'!AQ$1,FALSE)))","v":""},{"$f":"IF(COUNTBLANK($A$3)<>0,\"\",IF(ISERROR(VLOOKUP($A$3,'Roster LIMA'!$B$8926:$AU$9431,'Roster LIMA'!AR$1,FALSE)),\"\",VLOOKUP($A$3,'Roster LIMA'!$B$8926:$AU$9431,'Roster LIMA'!AR$1,FALSE)))","v":""},{"$f":"IF(COUNTBLANK($A$3)<>0,\"\",IF(ISERROR(VLOOKUP($A$3,'Roster LIMA'!$B$8926:$AU$9431,'Roster LIMA'!AS$1,FALSE)),\"\",VLOOKUP($A$3,'Roster LIMA'!$B$8926:$AU$9431,'Roster LIMA'!AS$1,FALSE)))","v":""},{"$f":"IF(COUNTBLANK($A$3)<>0,\"\",IF(ISERROR(VLOOKUP($A$3,'Roster LIMA'!$B$8926:$AU$9431,'Roster LIMA'!AT$1,FALSE)),\"\",VLOOKUP($A$3,'Roster LIMA'!$B$8926:$AU$9431,'Roster LIMA'!AT$1,FALSE)))","v":""},{"$f":"IF(COUNTBLANK($A$3)<>0,\"\",IF(ISERROR(VLOOKUP($A$3,'Roster LIMA'!$B$8926:$AU$9431,'Roster LIMA'!AU$1,FALSE)),\"\",VLOOKUP($A$3,'Roster LIMA'!$B$8926:$AU$9431,'Roster LIMA'!AU$1,FALSE)))","v":""}]
[{"$f":"+'Roster LIMA'!G9432","v":1992},{"$f":"IF(COUNTBLANK($A$3)<>0,\"\",IF(ISERROR(VLOOKUP($A$3,'Roster LIMA'!$B$9432:$AU$9552,'Roster LIMA'!H$1,FALSE)),\"\",IF(VLOOKUP($A$3,'Roster LIMA'!$B$9432:$AU$9552,'Roster LIMA'!H$1,FALSE)=0,\"\",VLOOKUP($A$3,'Roster LIMA'!$B$9432:$AU$9552,'Roster LIMA'!H$1,FALSE))))","v":""},{"$f":"IF(COUNTBLANK($A$3)<>0,\"\",IF(ISERROR(VLOOKUP($A$3,'Roster LIMA'!$B$9432:$AU$9552,'Roster LIMA'!I$1,FALSE)),\"\",IF(VLOOKUP($A$3,'Roster LIMA'!$B$9432:$AU$9552,'Roster LIMA'!I$1,FALSE)=0,\"\",VLOOKUP($A$3,'Roster LIMA'!$B$9432:$AU$9552,'Roster LIMA'!I$1,FALSE))))","v":""},{"$f":"IF(COUNTBLANK($A$3)<>0,\"\",IF(ISERROR(VLOOKUP($A$3,'Roster LIMA'!$B$9432:$AU$9552,'Roster LIMA'!J$1,FALSE)),\"\",IF(VLOOKUP($A$3,'Roster LIMA'!$B$9432:$AU$9552,'Roster LIMA'!J$1,FALSE)=0,\"\",VLOOKUP($A$3,'Roster LIMA'!$B$9432:$AU$9552,'Roster LIMA'!J$1,FALSE))))","v":""},{"$f":"IF(COUNTBLANK($A$3)<>0,\"\",IF(ISERROR(VLOOKUP($A$3,'Roster LIMA'!$B$9432:$AU$9552,'Roster LIMA'!K$1,FALSE)),\"\",IF(VLOOKUP($A$3,'Roster LIMA'!$B$9432:$AU$9552,'Roster LIMA'!K$1,FALSE)=0,\"\",VLOOKUP($A$3,'Roster LIMA'!$B$9432:$AU$9552,'Roster LIMA'!K$1,FALSE))))","v":""},{"$f":"IF(COUNTBLANK($A$3)<>0,\"\",IF(ISERROR(VLOOKUP($A$3,'Roster LIMA'!$B$9432:$AU$9552,'Roster LIMA'!F$1,FALSE)),\"\",IF(VLOOKUP($A$3,'Roster LIMA'!$B$9432:$AU$9552,'Roster LIMA'!F$1,FALSE)=0,\"\",VLOOKUP($A$3,'Roster LIMA'!$B$9432:$AU$9552,'Roster LIMA'!F$1,FALSE))))","v":""},{"$f":"IF(COUNTBLANK($A$3)<>0,\"\",IF(ISERROR(VLOOKUP($A$3,'Roster LIMA'!$B$9432:$AU$9552,'Roster LIMA'!E$1,FALSE)),\"\",IF(VLOOKUP($A$3,'Roster LIMA'!$B$9432:$AU$9552,'Roster LIMA'!E$1,FALSE)=0,\"\",VLOOKUP($A$3,'Roster LIMA'!$B$9432:$AU$9552,'Roster LIMA'!E$1,FALSE))))","v":""},{"$f":"IF(COUNTBLANK($A$3)<>0,\"\",IF(ISERROR(VLOOKUP($A$3,'Roster LIMA'!$B$9432:$AU$9552,'Roster LIMA'!B$1,FALSE)),\"N/A\",IF(VLOOKUP($A$3,'Roster LIMA'!$B$9432:$AU$9552,'Roster LIMA'!B$1,FALSE)=0,\"\",VLOOKUP($A$3,'Roster LIMA'!$B$9432:$AU$9552,'Roster LIMA'!B$1,FALSE))))","v":""},{"$f":"IF(COUNTBLANK($A$3)<>0,\"\",IF(ISERROR(VLOOKUP($A$3,'Roster LIMA'!$B$9432:$AU$9552,'Roster LIMA'!C$1,FALSE)),\"\",IF(VLOOKUP($A$3,'Roster LIMA'!$B$9432:$AU$9552,'Roster LIMA'!C$1,FALSE)=0,\"\",VLOOKUP($A$3,'Roster LIMA'!$B$9432:$AU$9552,'Roster LIMA'!C$1,FALSE))))","v":""},{"$f":"IF(COUNTBLANK($A$3)<>0,\"\",IF(ISERROR(VLOOKUP($A$3,'Roster LIMA'!$B$9432:$AU$9552,'Roster LIMA'!D$1,FALSE)),\"\",IF(VLOOKUP($A$3,'Roster LIMA'!$B$9432:$AU$9552,'Roster LIMA'!D$1,FALSE)=0,\"\",VLOOKUP($A$3,'Roster LIMA'!$B$9432:$AU$9552,'Roster LIMA'!D$1,FALSE))))","v":""},{"$f":"IF(COUNTBLANK($A$3)<>0,\"\",IF(ISERROR(VLOOKUP($A$3,'Roster LIMA'!$B$9432:$AU$9552,'Roster LIMA'!L$1,FALSE)),\"\",VLOOKUP($A$3,'Roster LIMA'!$B$9432:$AU$9552,'Roster LIMA'!L$1,FALSE)))","v":""},{"$f":"IF(COUNTBLANK($A$3)<>0,\"\",IF(ISERROR(VLOOKUP($A$3,'Roster LIMA'!$B$9432:$AU$9552,'Roster LIMA'!M$1,FALSE)),\"\",VLOOKUP($A$3,'Roster LIMA'!$B$9432:$AU$9552,'Roster LIMA'!M$1,FALSE)))","v":""},{"$f":"IF(COUNTBLANK($A$3)<>0,\"\",IF(ISERROR(VLOOKUP($A$3,'Roster LIMA'!$B$9432:$AU$9552,'Roster LIMA'!N$1,FALSE)),\"\",VLOOKUP($A$3,'Roster LIMA'!$B$9432:$AU$9552,'Roster LIMA'!N$1,FALSE)))","v":""},{"$f":"IF(COUNTBLANK($A$3)<>0,\"\",IF(ISERROR(VLOOKUP($A$3,'Roster LIMA'!$B$9432:$AU$9552,'Roster LIMA'!O$1,FALSE)),\"\",VLOOKUP($A$3,'Roster LIMA'!$B$9432:$AU$9552,'Roster LIMA'!O$1,FALSE)))","v":""},{"$f":"IF(COUNTBLANK($A$3)<>0,\"\",IF(ISERROR(VLOOKUP($A$3,'Roster LIMA'!$B$9432:$AU$9552,'Roster LIMA'!P$1,FALSE)),\"\",VLOOKUP($A$3,'Roster LIMA'!$B$9432:$AU$9552,'Roster LIMA'!P$1,FALSE)))","v":""},{"$f":"IF(COUNTBLANK($A$3)<>0,\"\",IF(ISERROR(VLOOKUP($A$3,'Roster LIMA'!$B$9432:$AU$9552,'Roster LIMA'!Q$1,FALSE)),\"\",VLOOKUP($A$3,'Roster LIMA'!$B$9432:$AU$9552,'Roster LIMA'!Q$1,FALSE)))","v":""},{"$f":"IF(COUNTBLANK($A$3)<>0,\"\",IF(ISERROR(VLOOKUP($A$3,'Roster LIMA'!$B$9432:$AU$9552,'Roster LIMA'!R$1,FALSE)),\"\",VLOOKUP($A$3,'Roster LIMA'!$B$9432:$AU$9552,'Roster LIMA'!R$1,FALSE)))","v":""},{"$f":"IF(COUNTBLANK($A$3)<>0,\"\",IF(ISERROR(VLOOKUP($A$3,'Roster LIMA'!$B$9432:$AU$9552,'Roster LIMA'!S$1,FALSE)),\"\",VLOOKUP($A$3,'Roster LIMA'!$B$9432:$AU$9552,'Roster LIMA'!S$1,FALSE)))","v":""},{"$f":"IF(COUNTBLANK($A$3)<>0,\"\",IF(ISERROR(VLOOKUP($A$3,'Roster LIMA'!$B$9432:$AU$9552,'Roster LIMA'!T$1,FALSE)),\"\",VLOOKUP($A$3,'Roster LIMA'!$B$9432:$AU$9552,'Roster LIMA'!T$1,FALSE)))","v":""},{"$f":"IF(COUNTBLANK($A$3)<>0,\"\",IF(ISERROR(VLOOKUP($A$3,'Roster LIMA'!$B$9432:$AU$9552,'Roster LIMA'!U$1,FALSE)),\"\",VLOOKUP($A$3,'Roster LIMA'!$B$9432:$AU$9552,'Roster LIMA'!U$1,FALSE)))","v":""},{"$f":"IF(COUNTBLANK($A$3)<>0,\"\",IF(ISERROR(VLOOKUP($A$3,'Roster LIMA'!$B$9432:$AU$9552,'Roster LIMA'!V$1,FALSE)),\"\",VLOOKUP($A$3,'Roster LIMA'!$B$9432:$AU$9552,'Roster LIMA'!V$1,FALSE)))","v":""},{"$f":"IF(COUNTBLANK($A$3)<>0,\"\",IF(ISERROR(VLOOKUP($A$3,'Roster LIMA'!$B$9432:$AU$9552,'Roster LIMA'!W$1,FALSE)),\"\",VLOOKUP($A$3,'Roster LIMA'!$B$9432:$AU$9552,'Roster LIMA'!W$1,FALSE)))","v":""},{"$f":"IF(COUNTBLANK($A$3)<>0,\"\",IF(ISERROR(VLOOKUP($A$3,'Roster LIMA'!$B$9432:$AU$9552,'Roster LIMA'!X$1,FALSE)),\"\",VLOOKUP($A$3,'Roster LIMA'!$B$9432:$AU$9552,'Roster LIMA'!X$1,FALSE)))","v":""},{"$f":"IF(COUNTBLANK($A$3)<>0,\"\",IF(ISERROR(VLOOKUP($A$3,'Roster LIMA'!$B$9432:$AU$9552,'Roster LIMA'!Y$1,FALSE)),\"\",VLOOKUP($A$3,'Roster LIMA'!$B$9432:$AU$9552,'Roster LIMA'!Y$1,FALSE)))","v":""},{"$f":"IF(COUNTBLANK($A$3)<>0,\"\",IF(ISERROR(VLOOKUP($A$3,'Roster LIMA'!$B$9432:$AU$9552,'Roster LIMA'!Z$1,FALSE)),\"\",VLOOKUP($A$3,'Roster LIMA'!$B$9432:$AU$9552,'Roster LIMA'!Z$1,FALSE)))","v":""},{"$f":"IF(COUNTBLANK($A$3)<>0,\"\",IF(ISERROR(VLOOKUP($A$3,'Roster LIMA'!$B$9432:$AU$9552,'Roster LIMA'!AA$1,FALSE)),\"\",VLOOKUP($A$3,'Roster LIMA'!$B$9432:$AU$9552,'Roster LIMA'!AA$1,FALSE)))","v":""},{"$f":"IF(COUNTBLANK($A$3)<>0,\"\",IF(ISERROR(VLOOKUP($A$3,'Roster LIMA'!$B$9432:$AU$9552,'Roster LIMA'!AB$1,FALSE)),\"\",VLOOKUP($A$3,'Roster LIMA'!$B$9432:$AU$9552,'Roster LIMA'!AB$1,FALSE)))","v":""},{"$f":"IF(COUNTBLANK($A$3)<>0,\"\",IF(ISERROR(VLOOKUP($A$3,'Roster LIMA'!$B$9432:$AU$9552,'Roster LIMA'!AC$1,FALSE)),\"\",VLOOKUP($A$3,'Roster LIMA'!$B$9432:$AU$9552,'Roster LIMA'!AC$1,FALSE)))","v":""},{"$f":"IF(COUNTBLANK($A$3)<>0,\"\",IF(ISERROR(VLOOKUP($A$3,'Roster LIMA'!$B$9432:$AU$9552,'Roster LIMA'!AD$1,FALSE)),\"\",VLOOKUP($A$3,'Roster LIMA'!$B$9432:$AU$9552,'Roster LIMA'!AD$1,FALSE)))","v":""},{"$f":"IF(COUNTBLANK($A$3)<>0,\"\",IF(ISERROR(VLOOKUP($A$3,'Roster LIMA'!$B$9432:$AU$9552,'Roster LIMA'!AE$1,FALSE)),\"\",VLOOKUP($A$3,'Roster LIMA'!$B$9432:$AU$9552,'Roster LIMA'!AE$1,FALSE)))","v":""},{"$f":"IF(COUNTBLANK($A$3)<>0,\"\",IF(ISERROR(VLOOKUP($A$3,'Roster LIMA'!$B$9432:$AU$9552,'Roster LIMA'!AF$1,FALSE)),\"\",VLOOKUP($A$3,'Roster LIMA'!$B$9432:$AU$9552,'Roster LIMA'!AF$1,FALSE)))","v":""},{"$f":"IF(COUNTBLANK($A$3)<>0,\"\",IF(ISERROR(VLOOKUP($A$3,'Roster LIMA'!$B$9432:$AU$9552,'Roster LIMA'!AG$1,FALSE)),\"\",VLOOKUP($A$3,'Roster LIMA'!$B$9432:$AU$9552,'Roster LIMA'!AG$1,FALSE)))","v":""},{"$f":"IF(COUNTBLANK($A$3)<>0,\"\",IF(ISERROR(VLOOKUP($A$3,'Roster LIMA'!$B$9432:$AU$9552,'Roster LIMA'!AH$1,FALSE)),\"\",VLOOKUP($A$3,'Roster LIMA'!$B$9432:$AU$9552,'Roster LIMA'!AH$1,FALSE)))","v":""},{"$f":"IF(COUNTBLANK($A$3)<>0,\"\",IF(ISERROR(VLOOKUP($A$3,'Roster LIMA'!$B$9432:$AU$9552,'Roster LIMA'!AI$1,FALSE)),\"\",VLOOKUP($A$3,'Roster LIMA'!$B$9432:$AU$9552,'Roster LIMA'!AI$1,FALSE)))","v":""},{"$f":"IF(COUNTBLANK($A$3)<>0,\"\",IF(ISERROR(VLOOKUP($A$3,'Roster LIMA'!$B$9432:$AU$9552,'Roster LIMA'!AJ$1,FALSE)),\"\",VLOOKUP($A$3,'Roster LIMA'!$B$9432:$AU$9552,'Roster LIMA'!AJ$1,FALSE)))","v":""},{"$f":"IF(COUNTBLANK($A$3)<>0,\"\",IF(ISERROR(VLOOKUP($A$3,'Roster LIMA'!$B$9432:$AU$9552,'Roster LIMA'!AK$1,FALSE)),\"\",VLOOKUP($A$3,'Roster LIMA'!$B$9432:$AU$9552,'Roster LIMA'!AK$1,FALSE)))","v":""},{"$f":"IF(COUNTBLANK($A$3)<>0,\"\",IF(ISERROR(VLOOKUP($A$3,'Roster LIMA'!$B$9432:$AU$9552,'Roster LIMA'!AL$1,FALSE)),\"\",VLOOKUP($A$3,'Roster LIMA'!$B$9432:$AU$9552,'Roster LIMA'!AL$1,FALSE)))","v":""},{"$f":"IF(COUNTBLANK($A$3)<>0,\"\",IF(ISERROR(VLOOKUP($A$3,'Roster LIMA'!$B$9432:$AU$9552,'Roster LIMA'!AM$1,FALSE)),\"\",VLOOKUP($A$3,'Roster LIMA'!$B$9432:$AU$9552,'Roster LIMA'!AM$1,FALSE)))","v":""},{"$f":"IF(COUNTBLANK($A$3)<>0,\"\",IF(ISERROR(VLOOKUP($A$3,'Roster LIMA'!$B$9432:$AU$9552,'Roster LIMA'!AN$1,FALSE)),\"\",VLOOKUP($A$3,'Roster LIMA'!$B$9432:$AU$9552,'Roster LIMA'!AN$1,FALSE)))","v":""},{"$f":"IF(COUNTBLANK($A$3)<>0,\"\",IF(ISERROR(VLOOKUP($A$3,'Roster LIMA'!$B$9432:$AU$9552,'Roster LIMA'!AO$1,FALSE)),\"\",VLOOKUP($A$3,'Roster LIMA'!$B$9432:$AU$9552,'Roster LIMA'!AO$1,FALSE)))","v":""},{"$f":"IF(COUNTBLANK($A$3)<>0,\"\",IF(ISERROR(VLOOKUP($A$3,'Roster LIMA'!$B$9432:$AU$9552,'Roster LIMA'!AP$1,FALSE)),\"\",VLOOKUP($A$3,'Roster LIMA'!$B$9432:$AU$9552,'Roster LIMA'!AP$1,FALSE)))","v":""},{"$f":"IF(COUNTBLANK($A$3)<>0,\"\",IF(ISERROR(VLOOKUP($A$3,'Roster LIMA'!$B$9432:$AU$9552,'Roster LIMA'!AQ$1,FALSE)),\"\",VLOOKUP($A$3,'Roster LIMA'!$B$9432:$AU$9552,'Roster LIMA'!AQ$1,FALSE)))","v":""},{"$f":"IF(COUNTBLANK($A$3)<>0,\"\",IF(ISERROR(VLOOKUP($A$3,'Roster LIMA'!$B$9432:$AU$9552,'Roster LIMA'!AR$1,FALSE)),\"\",VLOOKUP($A$3,'Roster LIMA'!$B$9432:$AU$9552,'Roster LIMA'!AR$1,FALSE)))","v":""},{"$f":"IF(COUNTBLANK($A$3)<>0,\"\",IF(ISERROR(VLOOKUP($A$3,'Roster LIMA'!$B$9432:$AU$9552,'Roster LIMA'!AS$1,FALSE)),\"\",VLOOKUP($A$3,'Roster LIMA'!$B$9432:$AU$9552,'Roster LIMA'!AS$1,FALSE)))","v":""},{"$f":"IF(COUNTBLANK($A$3)<>0,\"\",IF(ISERROR(VLOOKUP($A$3,'Roster LIMA'!$B$9432:$AU$9552,'Roster LIMA'!AT$1,FALSE)),\"\",VLOOKUP($A$3,'Roster LIMA'!$B$9432:$AU$9552,'Roster LIMA'!AT$1,FALSE)))","v":""},{"$f":"IF(COUNTBLANK($A$3)<>0,\"\",IF(ISERROR(VLOOKUP($A$3,'Roster LIMA'!$B$9432:$AU$9552,'Roster LIMA'!AU$1,FALSE)),\"\",VLOOKUP($A$3,'Roster LIMA'!$B$9432:$AU$9552,'Roster LIMA'!AU$1,FALSE)))","v":""}]
[{"$f":"+'Roster LIMA'!G9553","v":1993},{"$f":"IF(COUNTBLANK($A$3)<>0,\"\",IF(ISERROR(VLOOKUP($A$3,'Roster LIMA'!$B$9553:$AU$9723,'Roster LIMA'!H$1,FALSE)),\"\",IF(VLOOKUP($A$3,'Roster LIMA'!$B$9553:$AU$9723,'Roster LIMA'!H$1,FALSE)=0,\"\",VLOOKUP($A$3,'Roster LIMA'!$B$9553:$AU$9723,'Roster LIMA'!H$1,FALSE))))","v":""},{"$f":"IF(COUNTBLANK($A$3)<>0,\"\",IF(ISERROR(VLOOKUP($A$3,'Roster LIMA'!$B$9553:$AU$9723,'Roster LIMA'!I$1,FALSE)),\"\",IF(VLOOKUP($A$3,'Roster LIMA'!$B$9553:$AU$9723,'Roster LIMA'!I$1,FALSE)=0,\"\",VLOOKUP($A$3,'Roster LIMA'!$B$9553:$AU$9723,'Roster LIMA'!I$1,FALSE))))","v":""},{"$f":"IF(COUNTBLANK($A$3)<>0,\"\",IF(ISERROR(VLOOKUP($A$3,'Roster LIMA'!$B$9553:$AU$9723,'Roster LIMA'!J$1,FALSE)),\"\",IF(VLOOKUP($A$3,'Roster LIMA'!$B$9553:$AU$9723,'Roster LIMA'!J$1,FALSE)=0,\"\",VLOOKUP($A$3,'Roster LIMA'!$B$9553:$AU$9723,'Roster LIMA'!J$1,FALSE))))","v":""},{"$f":"IF(COUNTBLANK($A$3)<>0,\"\",IF(ISERROR(VLOOKUP($A$3,'Roster LIMA'!$B$9553:$AU$9723,'Roster LIMA'!K$1,FALSE)),\"\",IF(VLOOKUP($A$3,'Roster LIMA'!$B$9553:$AU$9723,'Roster LIMA'!K$1,FALSE)=0,\"\",VLOOKUP($A$3,'Roster LIMA'!$B$9553:$AU$9723,'Roster LIMA'!K$1,FALSE))))","v":""},{"$f":"IF(COUNTBLANK($A$3)<>0,\"\",IF(ISERROR(VLOOKUP($A$3,'Roster LIMA'!$B$9553:$AU$9723,'Roster LIMA'!F$1,FALSE)),\"\",IF(VLOOKUP($A$3,'Roster LIMA'!$B$9553:$AU$9723,'Roster LIMA'!F$1,FALSE)=0,\"\",VLOOKUP($A$3,'Roster LIMA'!$B$9553:$AU$9723,'Roster LIMA'!F$1,FALSE))))","v":""},{"$f":"IF(COUNTBLANK($A$3)<>0,\"\",IF(ISERROR(VLOOKUP($A$3,'Roster LIMA'!$B$9553:$AU$9723,'Roster LIMA'!E$1,FALSE)),\"\",IF(VLOOKUP($A$3,'Roster LIMA'!$B$9553:$AU$9723,'Roster LIMA'!E$1,FALSE)=0,\"\",VLOOKUP($A$3,'Roster LIMA'!$B$9553:$AU$9723,'Roster LIMA'!E$1,FALSE))))","v":""},{"$f":"IF(COUNTBLANK($A$3)<>0,\"\",IF(ISERROR(VLOOKUP($A$3,'Roster LIMA'!$B$9553:$AU$9723,'Roster LIMA'!B$1,FALSE)),\"N/A\",IF(VLOOKUP($A$3,'Roster LIMA'!$B$9553:$AU$9723,'Roster LIMA'!B$1,FALSE)=0,\"\",VLOOKUP($A$3,'Roster LIMA'!$B$9553:$AU$9723,'Roster LIMA'!B$1,FALSE))))","v":""},{"$f":"IF(COUNTBLANK($A$3)<>0,\"\",IF(ISERROR(VLOOKUP($A$3,'Roster LIMA'!$B$9553:$AU$9723,'Roster LIMA'!C$1,FALSE)),\"\",IF(VLOOKUP($A$3,'Roster LIMA'!$B$9553:$AU$9723,'Roster LIMA'!C$1,FALSE)=0,\"\",VLOOKUP($A$3,'Roster LIMA'!$B$9553:$AU$9723,'Roster LIMA'!C$1,FALSE))))","v":""},{"$f":"IF(COUNTBLANK($A$3)<>0,\"\",IF(ISERROR(VLOOKUP($A$3,'Roster LIMA'!$B$9553:$AU$9723,'Roster LIMA'!D$1,FALSE)),\"\",IF(VLOOKUP($A$3,'Roster LIMA'!$B$9553:$AU$9723,'Roster LIMA'!D$1,FALSE)=0,\"\",VLOOKUP($A$3,'Roster LIMA'!$B$9553:$AU$9723,'Roster LIMA'!D$1,FALSE))))","v":""},{"$f":"IF(COUNTBLANK($A$3)<>0,\"\",IF(ISERROR(VLOOKUP($A$3,'Roster LIMA'!$B$9553:$AU$9723,'Roster LIMA'!L$1,FALSE)),\"\",VLOOKUP($A$3,'Roster LIMA'!$B$9553:$AU$9723,'Roster LIMA'!L$1,FALSE)))","v":""},{"$f":"IF(COUNTBLANK($A$3)<>0,\"\",IF(ISERROR(VLOOKUP($A$3,'Roster LIMA'!$B$9553:$AU$9723,'Roster LIMA'!M$1,FALSE)),\"\",VLOOKUP($A$3,'Roster LIMA'!$B$9553:$AU$9723,'Roster LIMA'!M$1,FALSE)))","v":""},{"$f":"IF(COUNTBLANK($A$3)<>0,\"\",IF(ISERROR(VLOOKUP($A$3,'Roster LIMA'!$B$9553:$AU$9723,'Roster LIMA'!N$1,FALSE)),\"\",VLOOKUP($A$3,'Roster LIMA'!$B$9553:$AU$9723,'Roster LIMA'!N$1,FALSE)))","v":""},{"$f":"IF(COUNTBLANK($A$3)<>0,\"\",IF(ISERROR(VLOOKUP($A$3,'Roster LIMA'!$B$9553:$AU$9723,'Roster LIMA'!O$1,FALSE)),\"\",VLOOKUP($A$3,'Roster LIMA'!$B$9553:$AU$9723,'Roster LIMA'!O$1,FALSE)))","v":""},{"$f":"IF(COUNTBLANK($A$3)<>0,\"\",IF(ISERROR(VLOOKUP($A$3,'Roster LIMA'!$B$9553:$AU$9723,'Roster LIMA'!P$1,FALSE)),\"\",VLOOKUP($A$3,'Roster LIMA'!$B$9553:$AU$9723,'Roster LIMA'!P$1,FALSE)))","v":""},{"$f":"IF(COUNTBLANK($A$3)<>0,\"\",IF(ISERROR(VLOOKUP($A$3,'Roster LIMA'!$B$9553:$AU$9723,'Roster LIMA'!Q$1,FALSE)),\"\",VLOOKUP($A$3,'Roster LIMA'!$B$9553:$AU$9723,'Roster LIMA'!Q$1,FALSE)))","v":""},{"$f":"IF(COUNTBLANK($A$3)<>0,\"\",IF(ISERROR(VLOOKUP($A$3,'Roster LIMA'!$B$9553:$AU$9723,'Roster LIMA'!R$1,FALSE)),\"\",VLOOKUP($A$3,'Roster LIMA'!$B$9553:$AU$9723,'Roster LIMA'!R$1,FALSE)))","v":""},{"$f":"IF(COUNTBLANK($A$3)<>0,\"\",IF(ISERROR(VLOOKUP($A$3,'Roster LIMA'!$B$9553:$AU$9723,'Roster LIMA'!S$1,FALSE)),\"\",VLOOKUP($A$3,'Roster LIMA'!$B$9553:$AU$9723,'Roster LIMA'!S$1,FALSE)))","v":""},{"$f":"IF(COUNTBLANK($A$3)<>0,\"\",IF(ISERROR(VLOOKUP($A$3,'Roster LIMA'!$B$9553:$AU$9723,'Roster LIMA'!T$1,FALSE)),\"\",VLOOKUP($A$3,'Roster LIMA'!$B$9553:$AU$9723,'Roster LIMA'!T$1,FALSE)))","v":""},{"$f":"IF(COUNTBLANK($A$3)<>0,\"\",IF(ISERROR(VLOOKUP($A$3,'Roster LIMA'!$B$9553:$AU$9723,'Roster LIMA'!U$1,FALSE)),\"\",VLOOKUP($A$3,'Roster LIMA'!$B$9553:$AU$9723,'Roster LIMA'!U$1,FALSE)))","v":""},{"$f":"IF(COUNTBLANK($A$3)<>0,\"\",IF(ISERROR(VLOOKUP($A$3,'Roster LIMA'!$B$9553:$AU$9723,'Roster LIMA'!V$1,FALSE)),\"\",VLOOKUP($A$3,'Roster LIMA'!$B$9553:$AU$9723,'Roster LIMA'!V$1,FALSE)))","v":""},{"$f":"IF(COUNTBLANK($A$3)<>0,\"\",IF(ISERROR(VLOOKUP($A$3,'Roster LIMA'!$B$9553:$AU$9723,'Roster LIMA'!W$1,FALSE)),\"\",VLOOKUP($A$3,'Roster LIMA'!$B$9553:$AU$9723,'Roster LIMA'!W$1,FALSE)))","v":""},{"$f":"IF(COUNTBLANK($A$3)<>0,\"\",IF(ISERROR(VLOOKUP($A$3,'Roster LIMA'!$B$9553:$AU$9723,'Roster LIMA'!X$1,FALSE)),\"\",VLOOKUP($A$3,'Roster LIMA'!$B$9553:$AU$9723,'Roster LIMA'!X$1,FALSE)))","v":""},{"$f":"IF(COUNTBLANK($A$3)<>0,\"\",IF(ISERROR(VLOOKUP($A$3,'Roster LIMA'!$B$9553:$AU$9723,'Roster LIMA'!Y$1,FALSE)),\"\",VLOOKUP($A$3,'Roster LIMA'!$B$9553:$AU$9723,'Roster LIMA'!Y$1,FALSE)))","v":""},{"$f":"IF(COUNTBLANK($A$3)<>0,\"\",IF(ISERROR(VLOOKUP($A$3,'Roster LIMA'!$B$9553:$AU$9723,'Roster LIMA'!Z$1,FALSE)),\"\",VLOOKUP($A$3,'Roster LIMA'!$B$9553:$AU$9723,'Roster LIMA'!Z$1,FALSE)))","v":""},{"$f":"IF(COUNTBLANK($A$3)<>0,\"\",IF(ISERROR(VLOOKUP($A$3,'Roster LIMA'!$B$9553:$AU$9723,'Roster LIMA'!AA$1,FALSE)),\"\",VLOOKUP($A$3,'Roster LIMA'!$B$9553:$AU$9723,'Roster LIMA'!AA$1,FALSE)))","v":""},{"$f":"IF(COUNTBLANK($A$3)<>0,\"\",IF(ISERROR(VLOOKUP($A$3,'Roster LIMA'!$B$9553:$AU$9723,'Roster LIMA'!AB$1,FALSE)),\"\",VLOOKUP($A$3,'Roster LIMA'!$B$9553:$AU$9723,'Roster LIMA'!AB$1,FALSE)))","v":""},{"$f":"IF(COUNTBLANK($A$3)<>0,\"\",IF(ISERROR(VLOOKUP($A$3,'Roster LIMA'!$B$9553:$AU$9723,'Roster LIMA'!AC$1,FALSE)),\"\",VLOOKUP($A$3,'Roster LIMA'!$B$9553:$AU$9723,'Roster LIMA'!AC$1,FALSE)))","v":""},{"$f":"IF(COUNTBLANK($A$3)<>0,\"\",IF(ISERROR(VLOOKUP($A$3,'Roster LIMA'!$B$9553:$AU$9723,'Roster LIMA'!AD$1,FALSE)),\"\",VLOOKUP($A$3,'Roster LIMA'!$B$9553:$AU$9723,'Roster LIMA'!AD$1,FALSE)))","v":""},{"$f":"IF(COUNTBLANK($A$3)<>0,\"\",IF(ISERROR(VLOOKUP($A$3,'Roster LIMA'!$B$9553:$AU$9723,'Roster LIMA'!AE$1,FALSE)),\"\",VLOOKUP($A$3,'Roster LIMA'!$B$9553:$AU$9723,'Roster LIMA'!AE$1,FALSE)))","v":""},{"$f":"IF(COUNTBLANK($A$3)<>0,\"\",IF(ISERROR(VLOOKUP($A$3,'Roster LIMA'!$B$9553:$AU$9723,'Roster LIMA'!AF$1,FALSE)),\"\",VLOOKUP($A$3,'Roster LIMA'!$B$9553:$AU$9723,'Roster LIMA'!AF$1,FALSE)))","v":""},{"$f":"IF(COUNTBLANK($A$3)<>0,\"\",IF(ISERROR(VLOOKUP($A$3,'Roster LIMA'!$B$9553:$AU$9723,'Roster LIMA'!AG$1,FALSE)),\"\",VLOOKUP($A$3,'Roster LIMA'!$B$9553:$AU$9723,'Roster LIMA'!AG$1,FALSE)))","v":""},{"$f":"IF(COUNTBLANK($A$3)<>0,\"\",IF(ISERROR(VLOOKUP($A$3,'Roster LIMA'!$B$9553:$AU$9723,'Roster LIMA'!AH$1,FALSE)),\"\",VLOOKUP($A$3,'Roster LIMA'!$B$9553:$AU$9723,'Roster LIMA'!AH$1,FALSE)))","v":""},{"$f":"IF(COUNTBLANK($A$3)<>0,\"\",IF(ISERROR(VLOOKUP($A$3,'Roster LIMA'!$B$9553:$AU$9723,'Roster LIMA'!AI$1,FALSE)),\"\",VLOOKUP($A$3,'Roster LIMA'!$B$9553:$AU$9723,'Roster LIMA'!AI$1,FALSE)))","v":""},{"$f":"IF(COUNTBLANK($A$3)<>0,\"\",IF(ISERROR(VLOOKUP($A$3,'Roster LIMA'!$B$9553:$AU$9723,'Roster LIMA'!AJ$1,FALSE)),\"\",VLOOKUP($A$3,'Roster LIMA'!$B$9553:$AU$9723,'Roster LIMA'!AJ$1,FALSE)))","v":""},{"$f":"IF(COUNTBLANK($A$3)<>0,\"\",IF(ISERROR(VLOOKUP($A$3,'Roster LIMA'!$B$9553:$AU$9723,'Roster LIMA'!AK$1,FALSE)),\"\",VLOOKUP($A$3,'Roster LIMA'!$B$9553:$AU$9723,'Roster LIMA'!AK$1,FALSE)))","v":""},{"$f":"IF(COUNTBLANK($A$3)<>0,\"\",IF(ISERROR(VLOOKUP($A$3,'Roster LIMA'!$B$9553:$AU$9723,'Roster LIMA'!AL$1,FALSE)),\"\",VLOOKUP($A$3,'Roster LIMA'!$B$9553:$AU$9723,'Roster LIMA'!AL$1,FALSE)))","v":""},{"$f":"IF(COUNTBLANK($A$3)<>0,\"\",IF(ISERROR(VLOOKUP($A$3,'Roster LIMA'!$B$9553:$AU$9723,'Roster LIMA'!AM$1,FALSE)),\"\",VLOOKUP($A$3,'Roster LIMA'!$B$9553:$AU$9723,'Roster LIMA'!AM$1,FALSE)))","v":""},{"$f":"IF(COUNTBLANK($A$3)<>0,\"\",IF(ISERROR(VLOOKUP($A$3,'Roster LIMA'!$B$9553:$AU$9723,'Roster LIMA'!AN$1,FALSE)),\"\",VLOOKUP($A$3,'Roster LIMA'!$B$9553:$AU$9723,'Roster LIMA'!AN$1,FALSE)))","v":""},{"$f":"IF(COUNTBLANK($A$3)<>0,\"\",IF(ISERROR(VLOOKUP($A$3,'Roster LIMA'!$B$9553:$AU$9723,'Roster LIMA'!AO$1,FALSE)),\"\",VLOOKUP($A$3,'Roster LIMA'!$B$9553:$AU$9723,'Roster LIMA'!AO$1,FALSE)))","v":""},{"$f":"IF(COUNTBLANK($A$3)<>0,\"\",IF(ISERROR(VLOOKUP($A$3,'Roster LIMA'!$B$9553:$AU$9723,'Roster LIMA'!AP$1,FALSE)),\"\",VLOOKUP($A$3,'Roster LIMA'!$B$9553:$AU$9723,'Roster LIMA'!AP$1,FALSE)))","v":""},{"$f":"IF(COUNTBLANK($A$3)<>0,\"\",IF(ISERROR(VLOOKUP($A$3,'Roster LIMA'!$B$9553:$AU$9723,'Roster LIMA'!AQ$1,FALSE)),\"\",VLOOKUP($A$3,'Roster LIMA'!$B$9553:$AU$9723,'Roster LIMA'!AQ$1,FALSE)))","v":""},{"$f":"IF(COUNTBLANK($A$3)<>0,\"\",IF(ISERROR(VLOOKUP($A$3,'Roster LIMA'!$B$9553:$AU$9723,'Roster LIMA'!AR$1,FALSE)),\"\",VLOOKUP($A$3,'Roster LIMA'!$B$9553:$AU$9723,'Roster LIMA'!AR$1,FALSE)))","v":""},{"$f":"IF(COUNTBLANK($A$3)<>0,\"\",IF(ISERROR(VLOOKUP($A$3,'Roster LIMA'!$B$9553:$AU$9723,'Roster LIMA'!AS$1,FALSE)),\"\",VLOOKUP($A$3,'Roster LIMA'!$B$9553:$AU$9723,'Roster LIMA'!AS$1,FALSE)))","v":""},{"$f":"IF(COUNTBLANK($A$3)<>0,\"\",IF(ISERROR(VLOOKUP($A$3,'Roster LIMA'!$B$9553:$AU$9723,'Roster LIMA'!AT$1,FALSE)),\"\",VLOOKUP($A$3,'Roster LIMA'!$B$9553:$AU$9723,'Roster LIMA'!AT$1,FALSE)))","v":""},{"$f":"IF(COUNTBLANK($A$3)<>0,\"\",IF(ISERROR(VLOOKUP($A$3,'Roster LIMA'!$B$9553:$AU$9723,'Roster LIMA'!AU$1,FALSE)),\"\",VLOOKUP($A$3,'Roster LIMA'!$B$9553:$AU$9723,'Roster LIMA'!AU$1,FALSE)))","v":""}]
[{"$f":"+'Roster LIMA'!G9724","v":1994},{"$f":"IF(COUNTBLANK($A$3)<>0,\"\",IF(ISERROR(VLOOKUP($A$3,'Roster LIMA'!$B$9724:$AU$10450,'Roster LIMA'!H$1,FALSE)),\"\",IF(VLOOKUP($A$3,'Roster LIMA'!$B$9724:$AU$10450,'Roster LIMA'!H$1,FALSE)=0,\"\",VLOOKUP($A$3,'Roster LIMA'!$B$9724:$AU$10450,'Roster LIMA'!H$1,FALSE))))","v":""},{"$f":"IF(COUNTBLANK($A$3)<>0,\"\",IF(ISERROR(VLOOKUP($A$3,'Roster LIMA'!$B$9724:$AU$10450,'Roster LIMA'!I$1,FALSE)),\"\",IF(VLOOKUP($A$3,'Roster LIMA'!$B$9724:$AU$10450,'Roster LIMA'!I$1,FALSE)=0,\"\",VLOOKUP($A$3,'Roster LIMA'!$B$9724:$AU$10450,'Roster LIMA'!I$1,FALSE))))","v":""},{"$f":"IF(COUNTBLANK($A$3)<>0,\"\",IF(ISERROR(VLOOKUP($A$3,'Roster LIMA'!$B$9724:$AU$10450,'Roster LIMA'!J$1,FALSE)),\"\",IF(VLOOKUP($A$3,'Roster LIMA'!$B$9724:$AU$10450,'Roster LIMA'!J$1,FALSE)=0,\"\",VLOOKUP($A$3,'Roster LIMA'!$B$9724:$AU$10450,'Roster LIMA'!J$1,FALSE))))","v":""},{"$f":"IF(COUNTBLANK($A$3)<>0,\"\",IF(ISERROR(VLOOKUP($A$3,'Roster LIMA'!$B$9724:$AU$10450,'Roster LIMA'!K$1,FALSE)),\"\",IF(VLOOKUP($A$3,'Roster LIMA'!$B$9724:$AU$10450,'Roster LIMA'!K$1,FALSE)=0,\"\",VLOOKUP($A$3,'Roster LIMA'!$B$9724:$AU$10450,'Roster LIMA'!K$1,FALSE))))","v":""},{"$f":"IF(COUNTBLANK($A$3)<>0,\"\",IF(ISERROR(VLOOKUP($A$3,'Roster LIMA'!$B$9724:$AU$10450,'Roster LIMA'!F$1,FALSE)),\"\",IF(VLOOKUP($A$3,'Roster LIMA'!$B$9724:$AU$10450,'Roster LIMA'!F$1,FALSE)=0,\"\",VLOOKUP($A$3,'Roster LIMA'!$B$9724:$AU$10450,'Roster LIMA'!F$1,FALSE))))","v":""},{"$f":"IF(COUNTBLANK($A$3)<>0,\"\",IF(ISERROR(VLOOKUP($A$3,'Roster LIMA'!$B$9724:$AU$10450,'Roster LIMA'!E$1,FALSE)),\"\",IF(VLOOKUP($A$3,'Roster LIMA'!$B$9724:$AU$10450,'Roster LIMA'!E$1,FALSE)=0,\"\",VLOOKUP($A$3,'Roster LIMA'!$B$9724:$AU$10450,'Roster LIMA'!E$1,FALSE))))","v":""},{"$f":"IF(COUNTBLANK($A$3)<>0,\"\",IF(ISERROR(VLOOKUP($A$3,'Roster LIMA'!$B$9724:$AU$10450,'Roster LIMA'!B$1,FALSE)),\"N/A\",IF(VLOOKUP($A$3,'Roster LIMA'!$B$9724:$AU$10450,'Roster LIMA'!B$1,FALSE)=0,\"\",VLOOKUP($A$3,'Roster LIMA'!$B$9724:$AU$10450,'Roster LIMA'!B$1,FALSE))))","v":""},{"$f":"IF(COUNTBLANK($A$3)<>0,\"\",IF(ISERROR(VLOOKUP($A$3,'Roster LIMA'!$B$9724:$AU$10450,'Roster LIMA'!C$1,FALSE)),\"\",IF(VLOOKUP($A$3,'Roster LIMA'!$B$9724:$AU$10450,'Roster LIMA'!C$1,FALSE)=0,\"\",VLOOKUP($A$3,'Roster LIMA'!$B$9724:$AU$10450,'Roster LIMA'!C$1,FALSE))))","v":""},{"$f":"IF(COUNTBLANK($A$3)<>0,\"\",IF(ISERROR(VLOOKUP($A$3,'Roster LIMA'!$B$9724:$AU$10450,'Roster LIMA'!D$1,FALSE)),\"\",IF(VLOOKUP($A$3,'Roster LIMA'!$B$9724:$AU$10450,'Roster LIMA'!D$1,FALSE)=0,\"\",VLOOKUP($A$3,'Roster LIMA'!$B$9724:$AU$10450,'Roster LIMA'!D$1,FALSE))))","v":""},{"$f":"IF(COUNTBLANK($A$3)<>0,\"\",IF(ISERROR(VLOOKUP($A$3,'Roster LIMA'!$B$9724:$AU$10450,'Roster LIMA'!L$1,FALSE)),\"\",VLOOKUP($A$3,'Roster LIMA'!$B$9724:$AU$10450,'Roster LIMA'!L$1,FALSE)))","v":""},{"$f":"IF(COUNTBLANK($A$3)<>0,\"\",IF(ISERROR(VLOOKUP($A$3,'Roster LIMA'!$B$9724:$AU$10450,'Roster LIMA'!M$1,FALSE)),\"\",VLOOKUP($A$3,'Roster LIMA'!$B$9724:$AU$10450,'Roster LIMA'!M$1,FALSE)))","v":""},{"$f":"IF(COUNTBLANK($A$3)<>0,\"\",IF(ISERROR(VLOOKUP($A$3,'Roster LIMA'!$B$9724:$AU$10450,'Roster LIMA'!N$1,FALSE)),\"\",VLOOKUP($A$3,'Roster LIMA'!$B$9724:$AU$10450,'Roster LIMA'!N$1,FALSE)))","v":""},{"$f":"IF(COUNTBLANK($A$3)<>0,\"\",IF(ISERROR(VLOOKUP($A$3,'Roster LIMA'!$B$9724:$AU$10450,'Roster LIMA'!O$1,FALSE)),\"\",VLOOKUP($A$3,'Roster LIMA'!$B$9724:$AU$10450,'Roster LIMA'!O$1,FALSE)))","v":""},{"$f":"IF(COUNTBLANK($A$3)<>0,\"\",IF(ISERROR(VLOOKUP($A$3,'Roster LIMA'!$B$9724:$AU$10450,'Roster LIMA'!P$1,FALSE)),\"\",VLOOKUP($A$3,'Roster LIMA'!$B$9724:$AU$10450,'Roster LIMA'!P$1,FALSE)))","v":""},{"$f":"IF(COUNTBLANK($A$3)<>0,\"\",IF(ISERROR(VLOOKUP($A$3,'Roster LIMA'!$B$9724:$AU$10450,'Roster LIMA'!Q$1,FALSE)),\"\",VLOOKUP($A$3,'Roster LIMA'!$B$9724:$AU$10450,'Roster LIMA'!Q$1,FALSE)))","v":""},{"$f":"IF(COUNTBLANK($A$3)<>0,\"\",IF(ISERROR(VLOOKUP($A$3,'Roster LIMA'!$B$9724:$AU$10450,'Roster LIMA'!R$1,FALSE)),\"\",VLOOKUP($A$3,'Roster LIMA'!$B$9724:$AU$10450,'Roster LIMA'!R$1,FALSE)))","v":""},{"$f":"IF(COUNTBLANK($A$3)<>0,\"\",IF(ISERROR(VLOOKUP($A$3,'Roster LIMA'!$B$9724:$AU$10450,'Roster LIMA'!S$1,FALSE)),\"\",VLOOKUP($A$3,'Roster LIMA'!$B$9724:$AU$10450,'Roster LIMA'!S$1,FALSE)))","v":""},{"$f":"IF(COUNTBLANK($A$3)<>0,\"\",IF(ISERROR(VLOOKUP($A$3,'Roster LIMA'!$B$9724:$AU$10450,'Roster LIMA'!T$1,FALSE)),\"\",VLOOKUP($A$3,'Roster LIMA'!$B$9724:$AU$10450,'Roster LIMA'!T$1,FALSE)))","v":""},{"$f":"IF(COUNTBLANK($A$3)<>0,\"\",IF(ISERROR(VLOOKUP($A$3,'Roster LIMA'!$B$9724:$AU$10450,'Roster LIMA'!U$1,FALSE)),\"\",VLOOKUP($A$3,'Roster LIMA'!$B$9724:$AU$10450,'Roster LIMA'!U$1,FALSE)))","v":""},{"$f":"IF(COUNTBLANK($A$3)<>0,\"\",IF(ISERROR(VLOOKUP($A$3,'Roster LIMA'!$B$9724:$AU$10450,'Roster LIMA'!V$1,FALSE)),\"\",VLOOKUP($A$3,'Roster LIMA'!$B$9724:$AU$10450,'Roster LIMA'!V$1,FALSE)))","v":""},{"$f":"IF(COUNTBLANK($A$3)<>0,\"\",IF(ISERROR(VLOOKUP($A$3,'Roster LIMA'!$B$9724:$AU$10450,'Roster LIMA'!W$1,FALSE)),\"\",VLOOKUP($A$3,'Roster LIMA'!$B$9724:$AU$10450,'Roster LIMA'!W$1,FALSE)))","v":""},{"$f":"IF(COUNTBLANK($A$3)<>0,\"\",IF(ISERROR(VLOOKUP($A$3,'Roster LIMA'!$B$9724:$AU$10450,'Roster LIMA'!X$1,FALSE)),\"\",VLOOKUP($A$3,'Roster LIMA'!$B$9724:$AU$10450,'Roster LIMA'!X$1,FALSE)))","v":""},{"$f":"IF(COUNTBLANK($A$3)<>0,\"\",IF(ISERROR(VLOOKUP($A$3,'Roster LIMA'!$B$9724:$AU$10450,'Roster LIMA'!Y$1,FALSE)),\"\",VLOOKUP($A$3,'Roster LIMA'!$B$9724:$AU$10450,'Roster LIMA'!Y$1,FALSE)))","v":""},{"$f":"IF(COUNTBLANK($A$3)<>0,\"\",IF(ISERROR(VLOOKUP($A$3,'Roster LIMA'!$B$9724:$AU$10450,'Roster LIMA'!Z$1,FALSE)),\"\",VLOOKUP($A$3,'Roster LIMA'!$B$9724:$AU$10450,'Roster LIMA'!Z$1,FALSE)))","v":""},{"$f":"IF(COUNTBLANK($A$3)<>0,\"\",IF(ISERROR(VLOOKUP($A$3,'Roster LIMA'!$B$9724:$AU$10450,'Roster LIMA'!AA$1,FALSE)),\"\",VLOOKUP($A$3,'Roster LIMA'!$B$9724:$AU$10450,'Roster LIMA'!AA$1,FALSE)))","v":""},{"$f":"IF(COUNTBLANK($A$3)<>0,\"\",IF(ISERROR(VLOOKUP($A$3,'Roster LIMA'!$B$9724:$AU$10450,'Roster LIMA'!AB$1,FALSE)),\"\",VLOOKUP($A$3,'Roster LIMA'!$B$9724:$AU$10450,'Roster LIMA'!AB$1,FALSE)))","v":""},{"$f":"IF(COUNTBLANK($A$3)<>0,\"\",IF(ISERROR(VLOOKUP($A$3,'Roster LIMA'!$B$9724:$AU$10450,'Roster LIMA'!AC$1,FALSE)),\"\",VLOOKUP($A$3,'Roster LIMA'!$B$9724:$AU$10450,'Roster LIMA'!AC$1,FALSE)))","v":""},{"$f":"IF(COUNTBLANK($A$3)<>0,\"\",IF(ISERROR(VLOOKUP($A$3,'Roster LIMA'!$B$9724:$AU$10450,'Roster LIMA'!AD$1,FALSE)),\"\",VLOOKUP($A$3,'Roster LIMA'!$B$9724:$AU$10450,'Roster LIMA'!AD$1,FALSE)))","v":""},{"$f":"IF(COUNTBLANK($A$3)<>0,\"\",IF(ISERROR(VLOOKUP($A$3,'Roster LIMA'!$B$9724:$AU$10450,'Roster LIMA'!AE$1,FALSE)),\"\",VLOOKUP($A$3,'Roster LIMA'!$B$9724:$AU$10450,'Roster LIMA'!AE$1,FALSE)))","v":""},{"$f":"IF(COUNTBLANK($A$3)<>0,\"\",IF(ISERROR(VLOOKUP($A$3,'Roster LIMA'!$B$9724:$AU$10450,'Roster LIMA'!AF$1,FALSE)),\"\",VLOOKUP($A$3,'Roster LIMA'!$B$9724:$AU$10450,'Roster LIMA'!AF$1,FALSE)))","v":""},{"$f":"IF(COUNTBLANK($A$3)<>0,\"\",IF(ISERROR(VLOOKUP($A$3,'Roster LIMA'!$B$9724:$AU$10450,'Roster LIMA'!AG$1,FALSE)),\"\",VLOOKUP($A$3,'Roster LIMA'!$B$9724:$AU$10450,'Roster LIMA'!AG$1,FALSE)))","v":""},{"$f":"IF(COUNTBLANK($A$3)<>0,\"\",IF(ISERROR(VLOOKUP($A$3,'Roster LIMA'!$B$9724:$AU$10450,'Roster LIMA'!AH$1,FALSE)),\"\",VLOOKUP($A$3,'Roster LIMA'!$B$9724:$AU$10450,'Roster LIMA'!AH$1,FALSE)))","v":""},{"$f":"IF(COUNTBLANK($A$3)<>0,\"\",IF(ISERROR(VLOOKUP($A$3,'Roster LIMA'!$B$9724:$AU$10450,'Roster LIMA'!AI$1,FALSE)),\"\",VLOOKUP($A$3,'Roster LIMA'!$B$9724:$AU$10450,'Roster LIMA'!AI$1,FALSE)))","v":""},{"$f":"IF(COUNTBLANK($A$3)<>0,\"\",IF(ISERROR(VLOOKUP($A$3,'Roster LIMA'!$B$9724:$AU$10450,'Roster LIMA'!AJ$1,FALSE)),\"\",VLOOKUP($A$3,'Roster LIMA'!$B$9724:$AU$10450,'Roster LIMA'!AJ$1,FALSE)))","v":""},{"$f":"IF(COUNTBLANK($A$3)<>0,\"\",IF(ISERROR(VLOOKUP($A$3,'Roster LIMA'!$B$9724:$AU$10450,'Roster LIMA'!AK$1,FALSE)),\"\",VLOOKUP($A$3,'Roster LIMA'!$B$9724:$AU$10450,'Roster LIMA'!AK$1,FALSE)))","v":""},{"$f":"IF(COUNTBLANK($A$3)<>0,\"\",IF(ISERROR(VLOOKUP($A$3,'Roster LIMA'!$B$9724:$AU$10450,'Roster LIMA'!AL$1,FALSE)),\"\",VLOOKUP($A$3,'Roster LIMA'!$B$9724:$AU$10450,'Roster LIMA'!AL$1,FALSE)))","v":""},{"$f":"IF(COUNTBLANK($A$3)<>0,\"\",IF(ISERROR(VLOOKUP($A$3,'Roster LIMA'!$B$9724:$AU$10450,'Roster LIMA'!AM$1,FALSE)),\"\",VLOOKUP($A$3,'Roster LIMA'!$B$9724:$AU$10450,'Roster LIMA'!AM$1,FALSE)))","v":""},{"$f":"IF(COUNTBLANK($A$3)<>0,\"\",IF(ISERROR(VLOOKUP($A$3,'Roster LIMA'!$B$9724:$AU$10450,'Roster LIMA'!AN$1,FALSE)),\"\",VLOOKUP($A$3,'Roster LIMA'!$B$9724:$AU$10450,'Roster LIMA'!AN$1,FALSE)))","v":""},{"$f":"IF(COUNTBLANK($A$3)<>0,\"\",IF(ISERROR(VLOOKUP($A$3,'Roster LIMA'!$B$9724:$AU$10450,'Roster LIMA'!AO$1,FALSE)),\"\",VLOOKUP($A$3,'Roster LIMA'!$B$9724:$AU$10450,'Roster LIMA'!AO$1,FALSE)))","v":""},{"$f":"IF(COUNTBLANK($A$3)<>0,\"\",IF(ISERROR(VLOOKUP($A$3,'Roster LIMA'!$B$9724:$AU$10450,'Roster LIMA'!AP$1,FALSE)),\"\",VLOOKUP($A$3,'Roster LIMA'!$B$9724:$AU$10450,'Roster LIMA'!AP$1,FALSE)))","v":""},{"$f":"IF(COUNTBLANK($A$3)<>0,\"\",IF(ISERROR(VLOOKUP($A$3,'Roster LIMA'!$B$9724:$AU$10450,'Roster LIMA'!AQ$1,FALSE)),\"\",VLOOKUP($A$3,'Roster LIMA'!$B$9724:$AU$10450,'Roster LIMA'!AQ$1,FALSE)))","v":""},{"$f":"IF(COUNTBLANK($A$3)<>0,\"\",IF(ISERROR(VLOOKUP($A$3,'Roster LIMA'!$B$9724:$AU$10450,'Roster LIMA'!AR$1,FALSE)),\"\",VLOOKUP($A$3,'Roster LIMA'!$B$9724:$AU$10450,'Roster LIMA'!AR$1,FALSE)))","v":""},{"$f":"IF(COUNTBLANK($A$3)<>0,\"\",IF(ISERROR(VLOOKUP($A$3,'Roster LIMA'!$B$9724:$AU$10450,'Roster LIMA'!AS$1,FALSE)),\"\",VLOOKUP($A$3,'Roster LIMA'!$B$9724:$AU$10450,'Roster LIMA'!AS$1,FALSE)))","v":""},{"$f":"IF(COUNTBLANK($A$3)<>0,\"\",IF(ISERROR(VLOOKUP($A$3,'Roster LIMA'!$B$9724:$AU$10450,'Roster LIMA'!AT$1,FALSE)),\"\",VLOOKUP($A$3,'Roster LIMA'!$B$9724:$AU$10450,'Roster LIMA'!AT$1,FALSE)))","v":""},{"$f":"IF(COUNTBLANK($A$3)<>0,\"\",IF(ISERROR(VLOOKUP($A$3,'Roster LIMA'!$B$9724:$AU$10450,'Roster LIMA'!AU$1,FALSE)),\"\",VLOOKUP($A$3,'Roster LIMA'!$B$9724:$AU$10450,'Roster LIMA'!AU$1,FALSE)))","v":""}]
[{"$f":"+'Roster LIMA'!G10451","v":"1994-95"},{"$f":"IF(COUNTBLANK($A$3)<>0,\"\",IF(ISERROR(VLOOKUP($A$3,'Roster LIMA'!$B$10451:$AU$10965,'Roster LIMA'!H$1,FALSE)),\"\",IF(VLOOKUP($A$3,'Roster LIMA'!$B$10451:$AU$10965,'Roster LIMA'!H$1,FALSE)=0,\"\",VLOOKUP($A$3,'Roster LIMA'!$B$10451:$AU$10965,'Roster LIMA'!H$1,FALSE))))","v":""},{"$f":"IF(COUNTBLANK($A$3)<>0,\"\",IF(ISERROR(VLOOKUP($A$3,'Roster LIMA'!$B$10451:$AU$10965,'Roster LIMA'!I$1,FALSE)),\"\",IF(VLOOKUP($A$3,'Roster LIMA'!$B$10451:$AU$10965,'Roster LIMA'!I$1,FALSE)=0,\"\",VLOOKUP($A$3,'Roster LIMA'!$B$10451:$AU$10965,'Roster LIMA'!I$1,FALSE))))","v":""},{"$f":"IF(COUNTBLANK($A$3)<>0,\"\",IF(ISERROR(VLOOKUP($A$3,'Roster LIMA'!$B$10451:$AU$10965,'Roster LIMA'!J$1,FALSE)),\"\",IF(VLOOKUP($A$3,'Roster LIMA'!$B$10451:$AU$10965,'Roster LIMA'!J$1,FALSE)=0,\"\",VLOOKUP($A$3,'Roster LIMA'!$B$10451:$AU$10965,'Roster LIMA'!J$1,FALSE))))","v":""},{"$f":"IF(COUNTBLANK($A$3)<>0,\"\",IF(ISERROR(VLOOKUP($A$3,'Roster LIMA'!$B$10451:$AU$10965,'Roster LIMA'!K$1,FALSE)),\"\",IF(VLOOKUP($A$3,'Roster LIMA'!$B$10451:$AU$10965,'Roster LIMA'!K$1,FALSE)=0,\"\",VLOOKUP($A$3,'Roster LIMA'!$B$10451:$AU$10965,'Roster LIMA'!K$1,FALSE))))","v":""},{"$f":"IF(COUNTBLANK($A$3)<>0,\"\",IF(ISERROR(VLOOKUP($A$3,'Roster LIMA'!$B$10451:$AU$10965,'Roster LIMA'!F$1,FALSE)),\"\",IF(VLOOKUP($A$3,'Roster LIMA'!$B$10451:$AU$10965,'Roster LIMA'!F$1,FALSE)=0,\"\",VLOOKUP($A$3,'Roster LIMA'!$B$10451:$AU$10965,'Roster LIMA'!F$1,FALSE))))","v":""},{"$f":"IF(COUNTBLANK($A$3)<>0,\"\",IF(ISERROR(VLOOKUP($A$3,'Roster LIMA'!$B$10451:$AU$10965,'Roster LIMA'!E$1,FALSE)),\"\",IF(VLOOKUP($A$3,'Roster LIMA'!$B$10451:$AU$10965,'Roster LIMA'!E$1,FALSE)=0,\"\",VLOOKUP($A$3,'Roster LIMA'!$B$10451:$AU$10965,'Roster LIMA'!E$1,FALSE))))","v":""},{"$f":"IF(COUNTBLANK($A$3)<>0,\"\",IF(ISERROR(VLOOKUP($A$3,'Roster LIMA'!$B$10451:$AU$10965,'Roster LIMA'!B$1,FALSE)),\"N/A\",IF(VLOOKUP($A$3,'Roster LIMA'!$B$10451:$AU$10965,'Roster LIMA'!B$1,FALSE)=0,\"\",VLOOKUP($A$3,'Roster LIMA'!$B$10451:$AU$10965,'Roster LIMA'!B$1,FALSE))))","v":""},{"$f":"IF(COUNTBLANK($A$3)<>0,\"\",IF(ISERROR(VLOOKUP($A$3,'Roster LIMA'!$B$10451:$AU$10965,'Roster LIMA'!C$1,FALSE)),\"\",IF(VLOOKUP($A$3,'Roster LIMA'!$B$10451:$AU$10965,'Roster LIMA'!C$1,FALSE)=0,\"\",VLOOKUP($A$3,'Roster LIMA'!$B$10451:$AU$10965,'Roster LIMA'!C$1,FALSE))))","v":""},{"$f":"IF(COUNTBLANK($A$3)<>0,\"\",IF(ISERROR(VLOOKUP($A$3,'Roster LIMA'!$B$10451:$AU$10965,'Roster LIMA'!D$1,FALSE)),\"\",IF(VLOOKUP($A$3,'Roster LIMA'!$B$10451:$AU$10965,'Roster LIMA'!D$1,FALSE)=0,\"\",VLOOKUP($A$3,'Roster LIMA'!$B$10451:$AU$10965,'Roster LIMA'!D$1,FALSE))))","v":""},{"$f":"IF(COUNTBLANK($A$3)<>0,\"\",IF(ISERROR(VLOOKUP($A$3,'Roster LIMA'!$B$10451:$AU$10965,'Roster LIMA'!L$1,FALSE)),\"\",VLOOKUP($A$3,'Roster LIMA'!$B$10451:$AU$10965,'Roster LIMA'!L$1,FALSE)))","v":""},{"$f":"IF(COUNTBLANK($A$3)<>0,\"\",IF(ISERROR(VLOOKUP($A$3,'Roster LIMA'!$B$10451:$AU$10965,'Roster LIMA'!M$1,FALSE)),\"\",VLOOKUP($A$3,'Roster LIMA'!$B$10451:$AU$10965,'Roster LIMA'!M$1,FALSE)))","v":""},{"$f":"IF(COUNTBLANK($A$3)<>0,\"\",IF(ISERROR(VLOOKUP($A$3,'Roster LIMA'!$B$10451:$AU$10965,'Roster LIMA'!N$1,FALSE)),\"\",VLOOKUP($A$3,'Roster LIMA'!$B$10451:$AU$10965,'Roster LIMA'!N$1,FALSE)))","v":""},{"$f":"IF(COUNTBLANK($A$3)<>0,\"\",IF(ISERROR(VLOOKUP($A$3,'Roster LIMA'!$B$10451:$AU$10965,'Roster LIMA'!O$1,FALSE)),\"\",VLOOKUP($A$3,'Roster LIMA'!$B$10451:$AU$10965,'Roster LIMA'!O$1,FALSE)))","v":""},{"$f":"IF(COUNTBLANK($A$3)<>0,\"\",IF(ISERROR(VLOOKUP($A$3,'Roster LIMA'!$B$10451:$AU$10965,'Roster LIMA'!P$1,FALSE)),\"\",VLOOKUP($A$3,'Roster LIMA'!$B$10451:$AU$10965,'Roster LIMA'!P$1,FALSE)))","v":""},{"$f":"IF(COUNTBLANK($A$3)<>0,\"\",IF(ISERROR(VLOOKUP($A$3,'Roster LIMA'!$B$10451:$AU$10965,'Roster LIMA'!Q$1,FALSE)),\"\",VLOOKUP($A$3,'Roster LIMA'!$B$10451:$AU$10965,'Roster LIMA'!Q$1,FALSE)))","v":""},{"$f":"IF(COUNTBLANK($A$3)<>0,\"\",IF(ISERROR(VLOOKUP($A$3,'Roster LIMA'!$B$10451:$AU$10965,'Roster LIMA'!R$1,FALSE)),\"\",VLOOKUP($A$3,'Roster LIMA'!$B$10451:$AU$10965,'Roster LIMA'!R$1,FALSE)))","v":""},{"$f":"IF(COUNTBLANK($A$3)<>0,\"\",IF(ISERROR(VLOOKUP($A$3,'Roster LIMA'!$B$10451:$AU$10965,'Roster LIMA'!S$1,FALSE)),\"\",VLOOKUP($A$3,'Roster LIMA'!$B$10451:$AU$10965,'Roster LIMA'!S$1,FALSE)))","v":""},{"$f":"IF(COUNTBLANK($A$3)<>0,\"\",IF(ISERROR(VLOOKUP($A$3,'Roster LIMA'!$B$10451:$AU$10965,'Roster LIMA'!T$1,FALSE)),\"\",VLOOKUP($A$3,'Roster LIMA'!$B$10451:$AU$10965,'Roster LIMA'!T$1,FALSE)))","v":""},{"$f":"IF(COUNTBLANK($A$3)<>0,\"\",IF(ISERROR(VLOOKUP($A$3,'Roster LIMA'!$B$10451:$AU$10965,'Roster LIMA'!U$1,FALSE)),\"\",VLOOKUP($A$3,'Roster LIMA'!$B$10451:$AU$10965,'Roster LIMA'!U$1,FALSE)))","v":""},{"$f":"IF(COUNTBLANK($A$3)<>0,\"\",IF(ISERROR(VLOOKUP($A$3,'Roster LIMA'!$B$10451:$AU$10965,'Roster LIMA'!V$1,FALSE)),\"\",VLOOKUP($A$3,'Roster LIMA'!$B$10451:$AU$10965,'Roster LIMA'!V$1,FALSE)))","v":""},{"$f":"IF(COUNTBLANK($A$3)<>0,\"\",IF(ISERROR(VLOOKUP($A$3,'Roster LIMA'!$B$10451:$AU$10965,'Roster LIMA'!W$1,FALSE)),\"\",VLOOKUP($A$3,'Roster LIMA'!$B$10451:$AU$10965,'Roster LIMA'!W$1,FALSE)))","v":""},{"$f":"IF(COUNTBLANK($A$3)<>0,\"\",IF(ISERROR(VLOOKUP($A$3,'Roster LIMA'!$B$10451:$AU$10965,'Roster LIMA'!X$1,FALSE)),\"\",VLOOKUP($A$3,'Roster LIMA'!$B$10451:$AU$10965,'Roster LIMA'!X$1,FALSE)))","v":""},{"$f":"IF(COUNTBLANK($A$3)<>0,\"\",IF(ISERROR(VLOOKUP($A$3,'Roster LIMA'!$B$10451:$AU$10965,'Roster LIMA'!Y$1,FALSE)),\"\",VLOOKUP($A$3,'Roster LIMA'!$B$10451:$AU$10965,'Roster LIMA'!Y$1,FALSE)))","v":""},{"$f":"IF(COUNTBLANK($A$3)<>0,\"\",IF(ISERROR(VLOOKUP($A$3,'Roster LIMA'!$B$10451:$AU$10965,'Roster LIMA'!Z$1,FALSE)),\"\",VLOOKUP($A$3,'Roster LIMA'!$B$10451:$AU$10965,'Roster LIMA'!Z$1,FALSE)))","v":""},{"$f":"IF(COUNTBLANK($A$3)<>0,\"\",IF(ISERROR(VLOOKUP($A$3,'Roster LIMA'!$B$10451:$AU$10965,'Roster LIMA'!AA$1,FALSE)),\"\",VLOOKUP($A$3,'Roster LIMA'!$B$10451:$AU$10965,'Roster LIMA'!AA$1,FALSE)))","v":""},{"$f":"IF(COUNTBLANK($A$3)<>0,\"\",IF(ISERROR(VLOOKUP($A$3,'Roster LIMA'!$B$10451:$AU$10965,'Roster LIMA'!AB$1,FALSE)),\"\",VLOOKUP($A$3,'Roster LIMA'!$B$10451:$AU$10965,'Roster LIMA'!AB$1,FALSE)))","v":""},{"$f":"IF(COUNTBLANK($A$3)<>0,\"\",IF(ISERROR(VLOOKUP($A$3,'Roster LIMA'!$B$10451:$AU$10965,'Roster LIMA'!AC$1,FALSE)),\"\",VLOOKUP($A$3,'Roster LIMA'!$B$10451:$AU$10965,'Roster LIMA'!AC$1,FALSE)))","v":""},{"$f":"IF(COUNTBLANK($A$3)<>0,\"\",IF(ISERROR(VLOOKUP($A$3,'Roster LIMA'!$B$10451:$AU$10965,'Roster LIMA'!AD$1,FALSE)),\"\",VLOOKUP($A$3,'Roster LIMA'!$B$10451:$AU$10965,'Roster LIMA'!AD$1,FALSE)))","v":""},{"$f":"IF(COUNTBLANK($A$3)<>0,\"\",IF(ISERROR(VLOOKUP($A$3,'Roster LIMA'!$B$10451:$AU$10965,'Roster LIMA'!AE$1,FALSE)),\"\",VLOOKUP($A$3,'Roster LIMA'!$B$10451:$AU$10965,'Roster LIMA'!AE$1,FALSE)))","v":""},{"$f":"IF(COUNTBLANK($A$3)<>0,\"\",IF(ISERROR(VLOOKUP($A$3,'Roster LIMA'!$B$10451:$AU$10965,'Roster LIMA'!AF$1,FALSE)),\"\",VLOOKUP($A$3,'Roster LIMA'!$B$10451:$AU$10965,'Roster LIMA'!AF$1,FALSE)))","v":""},{"$f":"IF(COUNTBLANK($A$3)<>0,\"\",IF(ISERROR(VLOOKUP($A$3,'Roster LIMA'!$B$10451:$AU$10965,'Roster LIMA'!AG$1,FALSE)),\"\",VLOOKUP($A$3,'Roster LIMA'!$B$10451:$AU$10965,'Roster LIMA'!AG$1,FALSE)))","v":""},{"$f":"IF(COUNTBLANK($A$3)<>0,\"\",IF(ISERROR(VLOOKUP($A$3,'Roster LIMA'!$B$10451:$AU$10965,'Roster LIMA'!AH$1,FALSE)),\"\",VLOOKUP($A$3,'Roster LIMA'!$B$10451:$AU$10965,'Roster LIMA'!AH$1,FALSE)))","v":""},{"$f":"IF(COUNTBLANK($A$3)<>0,\"\",IF(ISERROR(VLOOKUP($A$3,'Roster LIMA'!$B$10451:$AU$10965,'Roster LIMA'!AI$1,FALSE)),\"\",VLOOKUP($A$3,'Roster LIMA'!$B$10451:$AU$10965,'Roster LIMA'!AI$1,FALSE)))","v":""},{"$f":"IF(COUNTBLANK($A$3)<>0,\"\",IF(ISERROR(VLOOKUP($A$3,'Roster LIMA'!$B$10451:$AU$10965,'Roster LIMA'!AJ$1,FALSE)),\"\",VLOOKUP($A$3,'Roster LIMA'!$B$10451:$AU$10965,'Roster LIMA'!AJ$1,FALSE)))","v":""},{"$f":"IF(COUNTBLANK($A$3)<>0,\"\",IF(ISERROR(VLOOKUP($A$3,'Roster LIMA'!$B$10451:$AU$10965,'Roster LIMA'!AK$1,FALSE)),\"\",VLOOKUP($A$3,'Roster LIMA'!$B$10451:$AU$10965,'Roster LIMA'!AK$1,FALSE)))","v":""},{"$f":"IF(COUNTBLANK($A$3)<>0,\"\",IF(ISERROR(VLOOKUP($A$3,'Roster LIMA'!$B$10451:$AU$10965,'Roster LIMA'!AL$1,FALSE)),\"\",VLOOKUP($A$3,'Roster LIMA'!$B$10451:$AU$10965,'Roster LIMA'!AL$1,FALSE)))","v":""},{"$f":"IF(COUNTBLANK($A$3)<>0,\"\",IF(ISERROR(VLOOKUP($A$3,'Roster LIMA'!$B$10451:$AU$10965,'Roster LIMA'!AM$1,FALSE)),\"\",VLOOKUP($A$3,'Roster LIMA'!$B$10451:$AU$10965,'Roster LIMA'!AM$1,FALSE)))","v":""},{"$f":"IF(COUNTBLANK($A$3)<>0,\"\",IF(ISERROR(VLOOKUP($A$3,'Roster LIMA'!$B$10451:$AU$10965,'Roster LIMA'!AN$1,FALSE)),\"\",VLOOKUP($A$3,'Roster LIMA'!$B$10451:$AU$10965,'Roster LIMA'!AN$1,FALSE)))","v":""},{"$f":"IF(COUNTBLANK($A$3)<>0,\"\",IF(ISERROR(VLOOKUP($A$3,'Roster LIMA'!$B$10451:$AU$10965,'Roster LIMA'!AO$1,FALSE)),\"\",VLOOKUP($A$3,'Roster LIMA'!$B$10451:$AU$10965,'Roster LIMA'!AO$1,FALSE)))","v":""},{"$f":"IF(COUNTBLANK($A$3)<>0,\"\",IF(ISERROR(VLOOKUP($A$3,'Roster LIMA'!$B$10451:$AU$10965,'Roster LIMA'!AP$1,FALSE)),\"\",VLOOKUP($A$3,'Roster LIMA'!$B$10451:$AU$10965,'Roster LIMA'!AP$1,FALSE)))","v":""},{"$f":"IF(COUNTBLANK($A$3)<>0,\"\",IF(ISERROR(VLOOKUP($A$3,'Roster LIMA'!$B$10451:$AU$10965,'Roster LIMA'!AQ$1,FALSE)),\"\",VLOOKUP($A$3,'Roster LIMA'!$B$10451:$AU$10965,'Roster LIMA'!AQ$1,FALSE)))","v":""},{"$f":"IF(COUNTBLANK($A$3)<>0,\"\",IF(ISERROR(VLOOKUP($A$3,'Roster LIMA'!$B$10451:$AU$10965,'Roster LIMA'!AR$1,FALSE)),\"\",VLOOKUP($A$3,'Roster LIMA'!$B$10451:$AU$10965,'Roster LIMA'!AR$1,FALSE)))","v":""},{"$f":"IF(COUNTBLANK($A$3)<>0,\"\",IF(ISERROR(VLOOKUP($A$3,'Roster LIMA'!$B$10451:$AU$10965,'Roster LIMA'!AS$1,FALSE)),\"\",VLOOKUP($A$3,'Roster LIMA'!$B$10451:$AU$10965,'Roster LIMA'!AS$1,FALSE)))","v":""},{"$f":"IF(COUNTBLANK($A$3)<>0,\"\",IF(ISERROR(VLOOKUP($A$3,'Roster LIMA'!$B$10451:$AU$10965,'Roster LIMA'!AT$1,FALSE)),\"\",VLOOKUP($A$3,'Roster LIMA'!$B$10451:$AU$10965,'Roster LIMA'!AT$1,FALSE)))","v":""},{"$f":"IF(COUNTBLANK($A$3)<>0,\"\",IF(ISERROR(VLOOKUP($A$3,'Roster LIMA'!$B$10451:$AU$10965,'Roster LIMA'!AU$1,FALSE)),\"\",VLOOKUP($A$3,'Roster LIMA'!$B$10451:$AU$10965,'Roster LIMA'!AU$1,FALSE)))","v":""}]
[{"$f":"+'Roster LIMA'!G10966","v":1995},{"$f":"IF(COUNTBLANK($A$3)<>0,\"\",IF(ISERROR(VLOOKUP($A$3,'Roster LIMA'!$B$10966:$AU$11363,'Roster LIMA'!H$1,FALSE)),\"\",IF(VLOOKUP($A$3,'Roster LIMA'!$B$10966:$AU$11363,'Roster LIMA'!H$1,FALSE)=0,\"\",VLOOKUP($A$3,'Roster LIMA'!$B$10966:$AU$11363,'Roster LIMA'!H$1,FALSE))))","v":""},{"$f":"IF(COUNTBLANK($A$3)<>0,\"\",IF(ISERROR(VLOOKUP($A$3,'Roster LIMA'!$B$10966:$AU$11363,'Roster LIMA'!I$1,FALSE)),\"\",IF(VLOOKUP($A$3,'Roster LIMA'!$B$10966:$AU$11363,'Roster LIMA'!I$1,FALSE)=0,\"\",VLOOKUP($A$3,'Roster LIMA'!$B$10966:$AU$11363,'Roster LIMA'!I$1,FALSE))))","v":""},{"$f":"IF(COUNTBLANK($A$3)<>0,\"\",IF(ISERROR(VLOOKUP($A$3,'Roster LIMA'!$B$10966:$AU$11363,'Roster LIMA'!J$1,FALSE)),\"\",IF(VLOOKUP($A$3,'Roster LIMA'!$B$10966:$AU$11363,'Roster LIMA'!J$1,FALSE)=0,\"\",VLOOKUP($A$3,'Roster LIMA'!$B$10966:$AU$11363,'Roster LIMA'!J$1,FALSE))))","v":""},{"$f":"IF(COUNTBLANK($A$3)<>0,\"\",IF(ISERROR(VLOOKUP($A$3,'Roster LIMA'!$B$10966:$AU$11363,'Roster LIMA'!K$1,FALSE)),\"\",IF(VLOOKUP($A$3,'Roster LIMA'!$B$10966:$AU$11363,'Roster LIMA'!K$1,FALSE)=0,\"\",VLOOKUP($A$3,'Roster LIMA'!$B$10966:$AU$11363,'Roster LIMA'!K$1,FALSE))))","v":""},{"$f":"IF(COUNTBLANK($A$3)<>0,\"\",IF(ISERROR(VLOOKUP($A$3,'Roster LIMA'!$B$10966:$AU$11363,'Roster LIMA'!F$1,FALSE)),\"\",IF(VLOOKUP($A$3,'Roster LIMA'!$B$10966:$AU$11363,'Roster LIMA'!F$1,FALSE)=0,\"\",VLOOKUP($A$3,'Roster LIMA'!$B$10966:$AU$11363,'Roster LIMA'!F$1,FALSE))))","v":""},{"$f":"IF(COUNTBLANK($A$3)<>0,\"\",IF(ISERROR(VLOOKUP($A$3,'Roster LIMA'!$B$10966:$AU$11363,'Roster LIMA'!E$1,FALSE)),\"\",IF(VLOOKUP($A$3,'Roster LIMA'!$B$10966:$AU$11363,'Roster LIMA'!E$1,FALSE)=0,\"\",VLOOKUP($A$3,'Roster LIMA'!$B$10966:$AU$11363,'Roster LIMA'!E$1,FALSE))))","v":""},{"$f":"IF(COUNTBLANK($A$3)<>0,\"\",IF(ISERROR(VLOOKUP($A$3,'Roster LIMA'!$B$10966:$AU$11363,'Roster LIMA'!B$1,FALSE)),\"N/A\",IF(VLOOKUP($A$3,'Roster LIMA'!$B$10966:$AU$11363,'Roster LIMA'!B$1,FALSE)=0,\"\",VLOOKUP($A$3,'Roster LIMA'!$B$10966:$AU$11363,'Roster LIMA'!B$1,FALSE))))","v":""},{"$f":"IF(COUNTBLANK($A$3)<>0,\"\",IF(ISERROR(VLOOKUP($A$3,'Roster LIMA'!$B$10966:$AU$11363,'Roster LIMA'!C$1,FALSE)),\"\",IF(VLOOKUP($A$3,'Roster LIMA'!$B$10966:$AU$11363,'Roster LIMA'!C$1,FALSE)=0,\"\",VLOOKUP($A$3,'Roster LIMA'!$B$10966:$AU$11363,'Roster LIMA'!C$1,FALSE))))","v":""},{"$f":"IF(COUNTBLANK($A$3)<>0,\"\",IF(ISERROR(VLOOKUP($A$3,'Roster LIMA'!$B$10966:$AU$11363,'Roster LIMA'!D$1,FALSE)),\"\",IF(VLOOKUP($A$3,'Roster LIMA'!$B$10966:$AU$11363,'Roster LIMA'!D$1,FALSE)=0,\"\",VLOOKUP($A$3,'Roster LIMA'!$B$10966:$AU$11363,'Roster LIMA'!D$1,FALSE))))","v":""},{"$f":"IF(COUNTBLANK($A$3)<>0,\"\",IF(ISERROR(VLOOKUP($A$3,'Roster LIMA'!$B$10966:$AU$11363,'Roster LIMA'!L$1,FALSE)),\"\",VLOOKUP($A$3,'Roster LIMA'!$B$10966:$AU$11363,'Roster LIMA'!L$1,FALSE)))","v":""},{"$f":"IF(COUNTBLANK($A$3)<>0,\"\",IF(ISERROR(VLOOKUP($A$3,'Roster LIMA'!$B$10966:$AU$11363,'Roster LIMA'!M$1,FALSE)),\"\",VLOOKUP($A$3,'Roster LIMA'!$B$10966:$AU$11363,'Roster LIMA'!M$1,FALSE)))","v":""},{"$f":"IF(COUNTBLANK($A$3)<>0,\"\",IF(ISERROR(VLOOKUP($A$3,'Roster LIMA'!$B$10966:$AU$11363,'Roster LIMA'!N$1,FALSE)),\"\",VLOOKUP($A$3,'Roster LIMA'!$B$10966:$AU$11363,'Roster LIMA'!N$1,FALSE)))","v":""},{"$f":"IF(COUNTBLANK($A$3)<>0,\"\",IF(ISERROR(VLOOKUP($A$3,'Roster LIMA'!$B$10966:$AU$11363,'Roster LIMA'!O$1,FALSE)),\"\",VLOOKUP($A$3,'Roster LIMA'!$B$10966:$AU$11363,'Roster LIMA'!O$1,FALSE)))","v":""},{"$f":"IF(COUNTBLANK($A$3)<>0,\"\",IF(ISERROR(VLOOKUP($A$3,'Roster LIMA'!$B$10966:$AU$11363,'Roster LIMA'!P$1,FALSE)),\"\",VLOOKUP($A$3,'Roster LIMA'!$B$10966:$AU$11363,'Roster LIMA'!P$1,FALSE)))","v":""},{"$f":"IF(COUNTBLANK($A$3)<>0,\"\",IF(ISERROR(VLOOKUP($A$3,'Roster LIMA'!$B$10966:$AU$11363,'Roster LIMA'!Q$1,FALSE)),\"\",VLOOKUP($A$3,'Roster LIMA'!$B$10966:$AU$11363,'Roster LIMA'!Q$1,FALSE)))","v":""},{"$f":"IF(COUNTBLANK($A$3)<>0,\"\",IF(ISERROR(VLOOKUP($A$3,'Roster LIMA'!$B$10966:$AU$11363,'Roster LIMA'!R$1,FALSE)),\"\",VLOOKUP($A$3,'Roster LIMA'!$B$10966:$AU$11363,'Roster LIMA'!R$1,FALSE)))","v":""},{"$f":"IF(COUNTBLANK($A$3)<>0,\"\",IF(ISERROR(VLOOKUP($A$3,'Roster LIMA'!$B$10966:$AU$11363,'Roster LIMA'!S$1,FALSE)),\"\",VLOOKUP($A$3,'Roster LIMA'!$B$10966:$AU$11363,'Roster LIMA'!S$1,FALSE)))","v":""},{"$f":"IF(COUNTBLANK($A$3)<>0,\"\",IF(ISERROR(VLOOKUP($A$3,'Roster LIMA'!$B$10966:$AU$11363,'Roster LIMA'!T$1,FALSE)),\"\",VLOOKUP($A$3,'Roster LIMA'!$B$10966:$AU$11363,'Roster LIMA'!T$1,FALSE)))","v":""},{"$f":"IF(COUNTBLANK($A$3)<>0,\"\",IF(ISERROR(VLOOKUP($A$3,'Roster LIMA'!$B$10966:$AU$11363,'Roster LIMA'!U$1,FALSE)),\"\",VLOOKUP($A$3,'Roster LIMA'!$B$10966:$AU$11363,'Roster LIMA'!U$1,FALSE)))","v":""},{"$f":"IF(COUNTBLANK($A$3)<>0,\"\",IF(ISERROR(VLOOKUP($A$3,'Roster LIMA'!$B$10966:$AU$11363,'Roster LIMA'!V$1,FALSE)),\"\",VLOOKUP($A$3,'Roster LIMA'!$B$10966:$AU$11363,'Roster LIMA'!V$1,FALSE)))","v":""},{"$f":"IF(COUNTBLANK($A$3)<>0,\"\",IF(ISERROR(VLOOKUP($A$3,'Roster LIMA'!$B$10966:$AU$11363,'Roster LIMA'!W$1,FALSE)),\"\",VLOOKUP($A$3,'Roster LIMA'!$B$10966:$AU$11363,'Roster LIMA'!W$1,FALSE)))","v":""},{"$f":"IF(COUNTBLANK($A$3)<>0,\"\",IF(ISERROR(VLOOKUP($A$3,'Roster LIMA'!$B$10966:$AU$11363,'Roster LIMA'!X$1,FALSE)),\"\",VLOOKUP($A$3,'Roster LIMA'!$B$10966:$AU$11363,'Roster LIMA'!X$1,FALSE)))","v":""},{"$f":"IF(COUNTBLANK($A$3)<>0,\"\",IF(ISERROR(VLOOKUP($A$3,'Roster LIMA'!$B$10966:$AU$11363,'Roster LIMA'!Y$1,FALSE)),\"\",VLOOKUP($A$3,'Roster LIMA'!$B$10966:$AU$11363,'Roster LIMA'!Y$1,FALSE)))","v":""},{"$f":"IF(COUNTBLANK($A$3)<>0,\"\",IF(ISERROR(VLOOKUP($A$3,'Roster LIMA'!$B$10966:$AU$11363,'Roster LIMA'!Z$1,FALSE)),\"\",VLOOKUP($A$3,'Roster LIMA'!$B$10966:$AU$11363,'Roster LIMA'!Z$1,FALSE)))","v":""},{"$f":"IF(COUNTBLANK($A$3)<>0,\"\",IF(ISERROR(VLOOKUP($A$3,'Roster LIMA'!$B$10966:$AU$11363,'Roster LIMA'!AA$1,FALSE)),\"\",VLOOKUP($A$3,'Roster LIMA'!$B$10966:$AU$11363,'Roster LIMA'!AA$1,FALSE)))","v":""},{"$f":"IF(COUNTBLANK($A$3)<>0,\"\",IF(ISERROR(VLOOKUP($A$3,'Roster LIMA'!$B$10966:$AU$11363,'Roster LIMA'!AB$1,FALSE)),\"\",VLOOKUP($A$3,'Roster LIMA'!$B$10966:$AU$11363,'Roster LIMA'!AB$1,FALSE)))","v":""},{"$f":"IF(COUNTBLANK($A$3)<>0,\"\",IF(ISERROR(VLOOKUP($A$3,'Roster LIMA'!$B$10966:$AU$11363,'Roster LIMA'!AC$1,FALSE)),\"\",VLOOKUP($A$3,'Roster LIMA'!$B$10966:$AU$11363,'Roster LIMA'!AC$1,FALSE)))","v":""},{"$f":"IF(COUNTBLANK($A$3)<>0,\"\",IF(ISERROR(VLOOKUP($A$3,'Roster LIMA'!$B$10966:$AU$11363,'Roster LIMA'!AD$1,FALSE)),\"\",VLOOKUP($A$3,'Roster LIMA'!$B$10966:$AU$11363,'Roster LIMA'!AD$1,FALSE)))","v":""},{"$f":"IF(COUNTBLANK($A$3)<>0,\"\",IF(ISERROR(VLOOKUP($A$3,'Roster LIMA'!$B$10966:$AU$11363,'Roster LIMA'!AE$1,FALSE)),\"\",VLOOKUP($A$3,'Roster LIMA'!$B$10966:$AU$11363,'Roster LIMA'!AE$1,FALSE)))","v":""},{"$f":"IF(COUNTBLANK($A$3)<>0,\"\",IF(ISERROR(VLOOKUP($A$3,'Roster LIMA'!$B$10966:$AU$11363,'Roster LIMA'!AF$1,FALSE)),\"\",VLOOKUP($A$3,'Roster LIMA'!$B$10966:$AU$11363,'Roster LIMA'!AF$1,FALSE)))","v":""},{"$f":"IF(COUNTBLANK($A$3)<>0,\"\",IF(ISERROR(VLOOKUP($A$3,'Roster LIMA'!$B$10966:$AU$11363,'Roster LIMA'!AG$1,FALSE)),\"\",VLOOKUP($A$3,'Roster LIMA'!$B$10966:$AU$11363,'Roster LIMA'!AG$1,FALSE)))","v":""},{"$f":"IF(COUNTBLANK($A$3)<>0,\"\",IF(ISERROR(VLOOKUP($A$3,'Roster LIMA'!$B$10966:$AU$11363,'Roster LIMA'!AH$1,FALSE)),\"\",VLOOKUP($A$3,'Roster LIMA'!$B$10966:$AU$11363,'Roster LIMA'!AH$1,FALSE)))","v":""},{"$f":"IF(COUNTBLANK($A$3)<>0,\"\",IF(ISERROR(VLOOKUP($A$3,'Roster LIMA'!$B$10966:$AU$11363,'Roster LIMA'!AI$1,FALSE)),\"\",VLOOKUP($A$3,'Roster LIMA'!$B$10966:$AU$11363,'Roster LIMA'!AI$1,FALSE)))","v":""},{"$f":"IF(COUNTBLANK($A$3)<>0,\"\",IF(ISERROR(VLOOKUP($A$3,'Roster LIMA'!$B$10966:$AU$11363,'Roster LIMA'!AJ$1,FALSE)),\"\",VLOOKUP($A$3,'Roster LIMA'!$B$10966:$AU$11363,'Roster LIMA'!AJ$1,FALSE)))","v":""},{"$f":"IF(COUNTBLANK($A$3)<>0,\"\",IF(ISERROR(VLOOKUP($A$3,'Roster LIMA'!$B$10966:$AU$11363,'Roster LIMA'!AK$1,FALSE)),\"\",VLOOKUP($A$3,'Roster LIMA'!$B$10966:$AU$11363,'Roster LIMA'!AK$1,FALSE)))","v":""},{"$f":"IF(COUNTBLANK($A$3)<>0,\"\",IF(ISERROR(VLOOKUP($A$3,'Roster LIMA'!$B$10966:$AU$11363,'Roster LIMA'!AL$1,FALSE)),\"\",VLOOKUP($A$3,'Roster LIMA'!$B$10966:$AU$11363,'Roster LIMA'!AL$1,FALSE)))","v":""},{"$f":"IF(COUNTBLANK($A$3)<>0,\"\",IF(ISERROR(VLOOKUP($A$3,'Roster LIMA'!$B$10966:$AU$11363,'Roster LIMA'!AM$1,FALSE)),\"\",VLOOKUP($A$3,'Roster LIMA'!$B$10966:$AU$11363,'Roster LIMA'!AM$1,FALSE)))","v":""},{"$f":"IF(COUNTBLANK($A$3)<>0,\"\",IF(ISERROR(VLOOKUP($A$3,'Roster LIMA'!$B$10966:$AU$11363,'Roster LIMA'!AN$1,FALSE)),\"\",VLOOKUP($A$3,'Roster LIMA'!$B$10966:$AU$11363,'Roster LIMA'!AN$1,FALSE)))","v":""},{"$f":"IF(COUNTBLANK($A$3)<>0,\"\",IF(ISERROR(VLOOKUP($A$3,'Roster LIMA'!$B$10966:$AU$11363,'Roster LIMA'!AO$1,FALSE)),\"\",VLOOKUP($A$3,'Roster LIMA'!$B$10966:$AU$11363,'Roster LIMA'!AO$1,FALSE)))","v":""},{"$f":"IF(COUNTBLANK($A$3)<>0,\"\",IF(ISERROR(VLOOKUP($A$3,'Roster LIMA'!$B$10966:$AU$11363,'Roster LIMA'!AP$1,FALSE)),\"\",VLOOKUP($A$3,'Roster LIMA'!$B$10966:$AU$11363,'Roster LIMA'!AP$1,FALSE)))","v":""},{"$f":"IF(COUNTBLANK($A$3)<>0,\"\",IF(ISERROR(VLOOKUP($A$3,'Roster LIMA'!$B$10966:$AU$11363,'Roster LIMA'!AQ$1,FALSE)),\"\",VLOOKUP($A$3,'Roster LIMA'!$B$10966:$AU$11363,'Roster LIMA'!AQ$1,FALSE)))","v":""},{"$f":"IF(COUNTBLANK($A$3)<>0,\"\",IF(ISERROR(VLOOKUP($A$3,'Roster LIMA'!$B$10966:$AU$11363,'Roster LIMA'!AR$1,FALSE)),\"\",VLOOKUP($A$3,'Roster LIMA'!$B$10966:$AU$11363,'Roster LIMA'!AR$1,FALSE)))","v":""},{"$f":"IF(COUNTBLANK($A$3)<>0,\"\",IF(ISERROR(VLOOKUP($A$3,'Roster LIMA'!$B$10966:$AU$11363,'Roster LIMA'!AS$1,FALSE)),\"\",VLOOKUP($A$3,'Roster LIMA'!$B$10966:$AU$11363,'Roster LIMA'!AS$1,FALSE)))","v":""},{"$f":"IF(COUNTBLANK($A$3)<>0,\"\",IF(ISERROR(VLOOKUP($A$3,'Roster LIMA'!$B$10966:$AU$11363,'Roster LIMA'!AT$1,FALSE)),\"\",VLOOKUP($A$3,'Roster LIMA'!$B$10966:$AU$11363,'Roster LIMA'!AT$1,FALSE)))","v":""},{"$f":"IF(COUNTBLANK($A$3)<>0,\"\",IF(ISERROR(VLOOKUP($A$3,'Roster LIMA'!$B$10966:$AU$11363,'Roster LIMA'!AU$1,FALSE)),\"\",VLOOKUP($A$3,'Roster LIMA'!$B$10966:$AU$11363,'Roster LIMA'!AU$1,FALSE)))","v":""}]
[{"$f":"+'Roster LIMA'!G11364","v":"1995-96"},{"$f":"IF(COUNTBLANK($A$3)<>0,\"\",IF(ISERROR(VLOOKUP($A$3,'Roster LIMA'!$B$11364:$AU$11899,'Roster LIMA'!H$1,FALSE)),\"\",IF(VLOOKUP($A$3,'Roster LIMA'!$B$11364:$AU$11899,'Roster LIMA'!H$1,FALSE)=0,\"\",VLOOKUP($A$3,'Roster LIMA'!$B$11364:$AU$11899,'Roster LIMA'!H$1,FALSE))))","v":""},{"$f":"IF(COUNTBLANK($A$3)<>0,\"\",IF(ISERROR(VLOOKUP($A$3,'Roster LIMA'!$B$11364:$AU$11899,'Roster LIMA'!I$1,FALSE)),\"\",IF(VLOOKUP($A$3,'Roster LIMA'!$B$11364:$AU$11899,'Roster LIMA'!I$1,FALSE)=0,\"\",VLOOKUP($A$3,'Roster LIMA'!$B$11364:$AU$11899,'Roster LIMA'!I$1,FALSE))))","v":""},{"$f":"IF(COUNTBLANK($A$3)<>0,\"\",IF(ISERROR(VLOOKUP($A$3,'Roster LIMA'!$B$11364:$AU$11899,'Roster LIMA'!J$1,FALSE)),\"\",IF(VLOOKUP($A$3,'Roster LIMA'!$B$11364:$AU$11899,'Roster LIMA'!J$1,FALSE)=0,\"\",VLOOKUP($A$3,'Roster LIMA'!$B$11364:$AU$11899,'Roster LIMA'!J$1,FALSE))))","v":""},{"$f":"IF(COUNTBLANK($A$3)<>0,\"\",IF(ISERROR(VLOOKUP($A$3,'Roster LIMA'!$B$11364:$AU$11899,'Roster LIMA'!K$1,FALSE)),\"\",IF(VLOOKUP($A$3,'Roster LIMA'!$B$11364:$AU$11899,'Roster LIMA'!K$1,FALSE)=0,\"\",VLOOKUP($A$3,'Roster LIMA'!$B$11364:$AU$11899,'Roster LIMA'!K$1,FALSE))))","v":""},{"$f":"IF(COUNTBLANK($A$3)<>0,\"\",IF(ISERROR(VLOOKUP($A$3,'Roster LIMA'!$B$11364:$AU$11899,'Roster LIMA'!F$1,FALSE)),\"\",IF(VLOOKUP($A$3,'Roster LIMA'!$B$11364:$AU$11899,'Roster LIMA'!F$1,FALSE)=0,\"\",VLOOKUP($A$3,'Roster LIMA'!$B$11364:$AU$11899,'Roster LIMA'!F$1,FALSE))))","v":""},{"$f":"IF(COUNTBLANK($A$3)<>0,\"\",IF(ISERROR(VLOOKUP($A$3,'Roster LIMA'!$B$11364:$AU$11899,'Roster LIMA'!E$1,FALSE)),\"\",IF(VLOOKUP($A$3,'Roster LIMA'!$B$11364:$AU$11899,'Roster LIMA'!E$1,FALSE)=0,\"\",VLOOKUP($A$3,'Roster LIMA'!$B$11364:$AU$11899,'Roster LIMA'!E$1,FALSE))))","v":""},{"$f":"IF(COUNTBLANK($A$3)<>0,\"\",IF(ISERROR(VLOOKUP($A$3,'Roster LIMA'!$B$11364:$AU$11899,'Roster LIMA'!B$1,FALSE)),\"N/A\",IF(VLOOKUP($A$3,'Roster LIMA'!$B$11364:$AU$11899,'Roster LIMA'!B$1,FALSE)=0,\"\",VLOOKUP($A$3,'Roster LIMA'!$B$11364:$AU$11899,'Roster LIMA'!B$1,FALSE))))","v":""},{"$f":"IF(COUNTBLANK($A$3)<>0,\"\",IF(ISERROR(VLOOKUP($A$3,'Roster LIMA'!$B$11364:$AU$11899,'Roster LIMA'!C$1,FALSE)),\"\",IF(VLOOKUP($A$3,'Roster LIMA'!$B$11364:$AU$11899,'Roster LIMA'!C$1,FALSE)=0,\"\",VLOOKUP($A$3,'Roster LIMA'!$B$11364:$AU$11899,'Roster LIMA'!C$1,FALSE))))","v":""},{"$f":"IF(COUNTBLANK($A$3)<>0,\"\",IF(ISERROR(VLOOKUP($A$3,'Roster LIMA'!$B$11364:$AU$11899,'Roster LIMA'!D$1,FALSE)),\"\",IF(VLOOKUP($A$3,'Roster LIMA'!$B$11364:$AU$11899,'Roster LIMA'!D$1,FALSE)=0,\"\",VLOOKUP($A$3,'Roster LIMA'!$B$11364:$AU$11899,'Roster LIMA'!D$1,FALSE))))","v":""},{"$f":"IF(COUNTBLANK($A$3)<>0,\"\",IF(ISERROR(VLOOKUP($A$3,'Roster LIMA'!$B$11364:$AU$11899,'Roster LIMA'!L$1,FALSE)),\"\",VLOOKUP($A$3,'Roster LIMA'!$B$11364:$AU$11899,'Roster LIMA'!L$1,FALSE)))","v":""},{"$f":"IF(COUNTBLANK($A$3)<>0,\"\",IF(ISERROR(VLOOKUP($A$3,'Roster LIMA'!$B$11364:$AU$11899,'Roster LIMA'!M$1,FALSE)),\"\",VLOOKUP($A$3,'Roster LIMA'!$B$11364:$AU$11899,'Roster LIMA'!M$1,FALSE)))","v":""},{"$f":"IF(COUNTBLANK($A$3)<>0,\"\",IF(ISERROR(VLOOKUP($A$3,'Roster LIMA'!$B$11364:$AU$11899,'Roster LIMA'!N$1,FALSE)),\"\",VLOOKUP($A$3,'Roster LIMA'!$B$11364:$AU$11899,'Roster LIMA'!N$1,FALSE)))","v":""},{"$f":"IF(COUNTBLANK($A$3)<>0,\"\",IF(ISERROR(VLOOKUP($A$3,'Roster LIMA'!$B$11364:$AU$11899,'Roster LIMA'!O$1,FALSE)),\"\",VLOOKUP($A$3,'Roster LIMA'!$B$11364:$AU$11899,'Roster LIMA'!O$1,FALSE)))","v":""},{"$f":"IF(COUNTBLANK($A$3)<>0,\"\",IF(ISERROR(VLOOKUP($A$3,'Roster LIMA'!$B$11364:$AU$11899,'Roster LIMA'!P$1,FALSE)),\"\",VLOOKUP($A$3,'Roster LIMA'!$B$11364:$AU$11899,'Roster LIMA'!P$1,FALSE)))","v":""},{"$f":"IF(COUNTBLANK($A$3)<>0,\"\",IF(ISERROR(VLOOKUP($A$3,'Roster LIMA'!$B$11364:$AU$11899,'Roster LIMA'!Q$1,FALSE)),\"\",VLOOKUP($A$3,'Roster LIMA'!$B$11364:$AU$11899,'Roster LIMA'!Q$1,FALSE)))","v":""},{"$f":"IF(COUNTBLANK($A$3)<>0,\"\",IF(ISERROR(VLOOKUP($A$3,'Roster LIMA'!$B$11364:$AU$11899,'Roster LIMA'!R$1,FALSE)),\"\",VLOOKUP($A$3,'Roster LIMA'!$B$11364:$AU$11899,'Roster LIMA'!R$1,FALSE)))","v":""},{"$f":"IF(COUNTBLANK($A$3)<>0,\"\",IF(ISERROR(VLOOKUP($A$3,'Roster LIMA'!$B$11364:$AU$11899,'Roster LIMA'!S$1,FALSE)),\"\",VLOOKUP($A$3,'Roster LIMA'!$B$11364:$AU$11899,'Roster LIMA'!S$1,FALSE)))","v":""},{"$f":"IF(COUNTBLANK($A$3)<>0,\"\",IF(ISERROR(VLOOKUP($A$3,'Roster LIMA'!$B$11364:$AU$11899,'Roster LIMA'!T$1,FALSE)),\"\",VLOOKUP($A$3,'Roster LIMA'!$B$11364:$AU$11899,'Roster LIMA'!T$1,FALSE)))","v":""},{"$f":"IF(COUNTBLANK($A$3)<>0,\"\",IF(ISERROR(VLOOKUP($A$3,'Roster LIMA'!$B$11364:$AU$11899,'Roster LIMA'!U$1,FALSE)),\"\",VLOOKUP($A$3,'Roster LIMA'!$B$11364:$AU$11899,'Roster LIMA'!U$1,FALSE)))","v":""},{"$f":"IF(COUNTBLANK($A$3)<>0,\"\",IF(ISERROR(VLOOKUP($A$3,'Roster LIMA'!$B$11364:$AU$11899,'Roster LIMA'!V$1,FALSE)),\"\",VLOOKUP($A$3,'Roster LIMA'!$B$11364:$AU$11899,'Roster LIMA'!V$1,FALSE)))","v":""},{"$f":"IF(COUNTBLANK($A$3)<>0,\"\",IF(ISERROR(VLOOKUP($A$3,'Roster LIMA'!$B$11364:$AU$11899,'Roster LIMA'!W$1,FALSE)),\"\",VLOOKUP($A$3,'Roster LIMA'!$B$11364:$AU$11899,'Roster LIMA'!W$1,FALSE)))","v":""},{"$f":"IF(COUNTBLANK($A$3)<>0,\"\",IF(ISERROR(VLOOKUP($A$3,'Roster LIMA'!$B$11364:$AU$11899,'Roster LIMA'!X$1,FALSE)),\"\",VLOOKUP($A$3,'Roster LIMA'!$B$11364:$AU$11899,'Roster LIMA'!X$1,FALSE)))","v":""},{"$f":"IF(COUNTBLANK($A$3)<>0,\"\",IF(ISERROR(VLOOKUP($A$3,'Roster LIMA'!$B$11364:$AU$11899,'Roster LIMA'!Y$1,FALSE)),\"\",VLOOKUP($A$3,'Roster LIMA'!$B$11364:$AU$11899,'Roster LIMA'!Y$1,FALSE)))","v":""},{"$f":"IF(COUNTBLANK($A$3)<>0,\"\",IF(ISERROR(VLOOKUP($A$3,'Roster LIMA'!$B$11364:$AU$11899,'Roster LIMA'!Z$1,FALSE)),\"\",VLOOKUP($A$3,'Roster LIMA'!$B$11364:$AU$11899,'Roster LIMA'!Z$1,FALSE)))","v":""},{"$f":"IF(COUNTBLANK($A$3)<>0,\"\",IF(ISERROR(VLOOKUP($A$3,'Roster LIMA'!$B$11364:$AU$11899,'Roster LIMA'!AA$1,FALSE)),\"\",VLOOKUP($A$3,'Roster LIMA'!$B$11364:$AU$11899,'Roster LIMA'!AA$1,FALSE)))","v":""},{"$f":"IF(COUNTBLANK($A$3)<>0,\"\",IF(ISERROR(VLOOKUP($A$3,'Roster LIMA'!$B$11364:$AU$11899,'Roster LIMA'!AB$1,FALSE)),\"\",VLOOKUP($A$3,'Roster LIMA'!$B$11364:$AU$11899,'Roster LIMA'!AB$1,FALSE)))","v":""},{"$f":"IF(COUNTBLANK($A$3)<>0,\"\",IF(ISERROR(VLOOKUP($A$3,'Roster LIMA'!$B$11364:$AU$11899,'Roster LIMA'!AC$1,FALSE)),\"\",VLOOKUP($A$3,'Roster LIMA'!$B$11364:$AU$11899,'Roster LIMA'!AC$1,FALSE)))","v":""},{"$f":"IF(COUNTBLANK($A$3)<>0,\"\",IF(ISERROR(VLOOKUP($A$3,'Roster LIMA'!$B$11364:$AU$11899,'Roster LIMA'!AD$1,FALSE)),\"\",VLOOKUP($A$3,'Roster LIMA'!$B$11364:$AU$11899,'Roster LIMA'!AD$1,FALSE)))","v":""},{"$f":"IF(COUNTBLANK($A$3)<>0,\"\",IF(ISERROR(VLOOKUP($A$3,'Roster LIMA'!$B$11364:$AU$11899,'Roster LIMA'!AE$1,FALSE)),\"\",VLOOKUP($A$3,'Roster LIMA'!$B$11364:$AU$11899,'Roster LIMA'!AE$1,FALSE)))","v":""},{"$f":"IF(COUNTBLANK($A$3)<>0,\"\",IF(ISERROR(VLOOKUP($A$3,'Roster LIMA'!$B$11364:$AU$11899,'Roster LIMA'!AF$1,FALSE)),\"\",VLOOKUP($A$3,'Roster LIMA'!$B$11364:$AU$11899,'Roster LIMA'!AF$1,FALSE)))","v":""},{"$f":"IF(COUNTBLANK($A$3)<>0,\"\",IF(ISERROR(VLOOKUP($A$3,'Roster LIMA'!$B$11364:$AU$11899,'Roster LIMA'!AG$1,FALSE)),\"\",VLOOKUP($A$3,'Roster LIMA'!$B$11364:$AU$11899,'Roster LIMA'!AG$1,FALSE)))","v":""},{"$f":"IF(COUNTBLANK($A$3)<>0,\"\",IF(ISERROR(VLOOKUP($A$3,'Roster LIMA'!$B$11364:$AU$11899,'Roster LIMA'!AH$1,FALSE)),\"\",VLOOKUP($A$3,'Roster LIMA'!$B$11364:$AU$11899,'Roster LIMA'!AH$1,FALSE)))","v":""},{"$f":"IF(COUNTBLANK($A$3)<>0,\"\",IF(ISERROR(VLOOKUP($A$3,'Roster LIMA'!$B$11364:$AU$11899,'Roster LIMA'!AI$1,FALSE)),\"\",VLOOKUP($A$3,'Roster LIMA'!$B$11364:$AU$11899,'Roster LIMA'!AI$1,FALSE)))","v":""},{"$f":"IF(COUNTBLANK($A$3)<>0,\"\",IF(ISERROR(VLOOKUP($A$3,'Roster LIMA'!$B$11364:$AU$11899,'Roster LIMA'!AJ$1,FALSE)),\"\",VLOOKUP($A$3,'Roster LIMA'!$B$11364:$AU$11899,'Roster LIMA'!AJ$1,FALSE)))","v":""},{"$f":"IF(COUNTBLANK($A$3)<>0,\"\",IF(ISERROR(VLOOKUP($A$3,'Roster LIMA'!$B$11364:$AU$11899,'Roster LIMA'!AK$1,FALSE)),\"\",VLOOKUP($A$3,'Roster LIMA'!$B$11364:$AU$11899,'Roster LIMA'!AK$1,FALSE)))","v":""},{"$f":"IF(COUNTBLANK($A$3)<>0,\"\",IF(ISERROR(VLOOKUP($A$3,'Roster LIMA'!$B$11364:$AU$11899,'Roster LIMA'!AL$1,FALSE)),\"\",VLOOKUP($A$3,'Roster LIMA'!$B$11364:$AU$11899,'Roster LIMA'!AL$1,FALSE)))","v":""},{"$f":"IF(COUNTBLANK($A$3)<>0,\"\",IF(ISERROR(VLOOKUP($A$3,'Roster LIMA'!$B$11364:$AU$11899,'Roster LIMA'!AM$1,FALSE)),\"\",VLOOKUP($A$3,'Roster LIMA'!$B$11364:$AU$11899,'Roster LIMA'!AM$1,FALSE)))","v":""},{"$f":"IF(COUNTBLANK($A$3)<>0,\"\",IF(ISERROR(VLOOKUP($A$3,'Roster LIMA'!$B$11364:$AU$11899,'Roster LIMA'!AN$1,FALSE)),\"\",VLOOKUP($A$3,'Roster LIMA'!$B$11364:$AU$11899,'Roster LIMA'!AN$1,FALSE)))","v":""},{"$f":"IF(COUNTBLANK($A$3)<>0,\"\",IF(ISERROR(VLOOKUP($A$3,'Roster LIMA'!$B$11364:$AU$11899,'Roster LIMA'!AO$1,FALSE)),\"\",VLOOKUP($A$3,'Roster LIMA'!$B$11364:$AU$11899,'Roster LIMA'!AO$1,FALSE)))","v":""},{"$f":"IF(COUNTBLANK($A$3)<>0,\"\",IF(ISERROR(VLOOKUP($A$3,'Roster LIMA'!$B$11364:$AU$11899,'Roster LIMA'!AP$1,FALSE)),\"\",VLOOKUP($A$3,'Roster LIMA'!$B$11364:$AU$11899,'Roster LIMA'!AP$1,FALSE)))","v":""},{"$f":"IF(COUNTBLANK($A$3)<>0,\"\",IF(ISERROR(VLOOKUP($A$3,'Roster LIMA'!$B$11364:$AU$11899,'Roster LIMA'!AQ$1,FALSE)),\"\",VLOOKUP($A$3,'Roster LIMA'!$B$11364:$AU$11899,'Roster LIMA'!AQ$1,FALSE)))","v":""},{"$f":"IF(COUNTBLANK($A$3)<>0,\"\",IF(ISERROR(VLOOKUP($A$3,'Roster LIMA'!$B$11364:$AU$11899,'Roster LIMA'!AR$1,FALSE)),\"\",VLOOKUP($A$3,'Roster LIMA'!$B$11364:$AU$11899,'Roster LIMA'!AR$1,FALSE)))","v":""},{"$f":"IF(COUNTBLANK($A$3)<>0,\"\",IF(ISERROR(VLOOKUP($A$3,'Roster LIMA'!$B$11364:$AU$11899,'Roster LIMA'!AS$1,FALSE)),\"\",VLOOKUP($A$3,'Roster LIMA'!$B$11364:$AU$11899,'Roster LIMA'!AS$1,FALSE)))","v":""},{"$f":"IF(COUNTBLANK($A$3)<>0,\"\",IF(ISERROR(VLOOKUP($A$3,'Roster LIMA'!$B$11364:$AU$11899,'Roster LIMA'!AT$1,FALSE)),\"\",VLOOKUP($A$3,'Roster LIMA'!$B$11364:$AU$11899,'Roster LIMA'!AT$1,FALSE)))","v":""},{"$f":"IF(COUNTBLANK($A$3)<>0,\"\",IF(ISERROR(VLOOKUP($A$3,'Roster LIMA'!$B$11364:$AU$11899,'Roster LIMA'!AU$1,FALSE)),\"\",VLOOKUP($A$3,'Roster LIMA'!$B$11364:$AU$11899,'Roster LIMA'!AU$1,FALSE)))","v":""}]
[{"$f":"+'Roster LIMA'!G11900","v":1996},{"$f":"IF(COUNTBLANK($A$3)<>0,\"\",IF(ISERROR(VLOOKUP($A$3,'Roster LIMA'!$B$11900:$AU$12051,'Roster LIMA'!H$1,FALSE)),\"\",IF(VLOOKUP($A$3,'Roster LIMA'!$B$11900:$AU$12051,'Roster LIMA'!H$1,FALSE)=0,\"\",VLOOKUP($A$3,'Roster LIMA'!$B$11900:$AU$12051,'Roster LIMA'!H$1,FALSE))))","v":""},{"$f":"IF(COUNTBLANK($A$3)<>0,\"\",IF(ISERROR(VLOOKUP($A$3,'Roster LIMA'!$B$11900:$AU$12051,'Roster LIMA'!I$1,FALSE)),\"\",IF(VLOOKUP($A$3,'Roster LIMA'!$B$11900:$AU$12051,'Roster LIMA'!I$1,FALSE)=0,\"\",VLOOKUP($A$3,'Roster LIMA'!$B$11900:$AU$12051,'Roster LIMA'!I$1,FALSE))))","v":""},{"$f":"IF(COUNTBLANK($A$3)<>0,\"\",IF(ISERROR(VLOOKUP($A$3,'Roster LIMA'!$B$11900:$AU$12051,'Roster LIMA'!J$1,FALSE)),\"\",IF(VLOOKUP($A$3,'Roster LIMA'!$B$11900:$AU$12051,'Roster LIMA'!J$1,FALSE)=0,\"\",VLOOKUP($A$3,'Roster LIMA'!$B$11900:$AU$12051,'Roster LIMA'!J$1,FALSE))))","v":""},{"$f":"IF(COUNTBLANK($A$3)<>0,\"\",IF(ISERROR(VLOOKUP($A$3,'Roster LIMA'!$B$11900:$AU$12051,'Roster LIMA'!K$1,FALSE)),\"\",IF(VLOOKUP($A$3,'Roster LIMA'!$B$11900:$AU$12051,'Roster LIMA'!K$1,FALSE)=0,\"\",VLOOKUP($A$3,'Roster LIMA'!$B$11900:$AU$12051,'Roster LIMA'!K$1,FALSE))))","v":""},{"$f":"IF(COUNTBLANK($A$3)<>0,\"\",IF(ISERROR(VLOOKUP($A$3,'Roster LIMA'!$B$11900:$AU$12051,'Roster LIMA'!F$1,FALSE)),\"\",IF(VLOOKUP($A$3,'Roster LIMA'!$B$11900:$AU$12051,'Roster LIMA'!F$1,FALSE)=0,\"\",VLOOKUP($A$3,'Roster LIMA'!$B$11900:$AU$12051,'Roster LIMA'!F$1,FALSE))))","v":""},{"$f":"IF(COUNTBLANK($A$3)<>0,\"\",IF(ISERROR(VLOOKUP($A$3,'Roster LIMA'!$B$11900:$AU$12051,'Roster LIMA'!E$1,FALSE)),\"\",IF(VLOOKUP($A$3,'Roster LIMA'!$B$11900:$AU$12051,'Roster LIMA'!E$1,FALSE)=0,\"\",VLOOKUP($A$3,'Roster LIMA'!$B$11900:$AU$12051,'Roster LIMA'!E$1,FALSE))))","v":""},{"$f":"IF(COUNTBLANK($A$3)<>0,\"\",IF(ISERROR(VLOOKUP($A$3,'Roster LIMA'!$B$11900:$AU$12051,'Roster LIMA'!B$1,FALSE)),\"N/A\",IF(VLOOKUP($A$3,'Roster LIMA'!$B$11900:$AU$12051,'Roster LIMA'!B$1,FALSE)=0,\"\",VLOOKUP($A$3,'Roster LIMA'!$B$11900:$AU$12051,'Roster LIMA'!B$1,FALSE))))","v":""},{"$f":"IF(COUNTBLANK($A$3)<>0,\"\",IF(ISERROR(VLOOKUP($A$3,'Roster LIMA'!$B$11900:$AU$12051,'Roster LIMA'!C$1,FALSE)),\"\",IF(VLOOKUP($A$3,'Roster LIMA'!$B$11900:$AU$12051,'Roster LIMA'!C$1,FALSE)=0,\"\",VLOOKUP($A$3,'Roster LIMA'!$B$11900:$AU$12051,'Roster LIMA'!C$1,FALSE))))","v":""},{"$f":"IF(COUNTBLANK($A$3)<>0,\"\",IF(ISERROR(VLOOKUP($A$3,'Roster LIMA'!$B$11900:$AU$12051,'Roster LIMA'!D$1,FALSE)),\"\",IF(VLOOKUP($A$3,'Roster LIMA'!$B$11900:$AU$12051,'Roster LIMA'!D$1,FALSE)=0,\"\",VLOOKUP($A$3,'Roster LIMA'!$B$11900:$AU$12051,'Roster LIMA'!D$1,FALSE))))","v":""},{"$f":"IF(COUNTBLANK($A$3)<>0,\"\",IF(ISERROR(VLOOKUP($A$3,'Roster LIMA'!$B$11900:$AU$12051,'Roster LIMA'!L$1,FALSE)),\"\",VLOOKUP($A$3,'Roster LIMA'!$B$11900:$AU$12051,'Roster LIMA'!L$1,FALSE)))","v":""},{"$f":"IF(COUNTBLANK($A$3)<>0,\"\",IF(ISERROR(VLOOKUP($A$3,'Roster LIMA'!$B$11900:$AU$12051,'Roster LIMA'!M$1,FALSE)),\"\",VLOOKUP($A$3,'Roster LIMA'!$B$11900:$AU$12051,'Roster LIMA'!M$1,FALSE)))","v":""},{"$f":"IF(COUNTBLANK($A$3)<>0,\"\",IF(ISERROR(VLOOKUP($A$3,'Roster LIMA'!$B$11900:$AU$12051,'Roster LIMA'!N$1,FALSE)),\"\",VLOOKUP($A$3,'Roster LIMA'!$B$11900:$AU$12051,'Roster LIMA'!N$1,FALSE)))","v":""},{"$f":"IF(COUNTBLANK($A$3)<>0,\"\",IF(ISERROR(VLOOKUP($A$3,'Roster LIMA'!$B$11900:$AU$12051,'Roster LIMA'!O$1,FALSE)),\"\",VLOOKUP($A$3,'Roster LIMA'!$B$11900:$AU$12051,'Roster LIMA'!O$1,FALSE)))","v":""},{"$f":"IF(COUNTBLANK($A$3)<>0,\"\",IF(ISERROR(VLOOKUP($A$3,'Roster LIMA'!$B$11900:$AU$12051,'Roster LIMA'!P$1,FALSE)),\"\",VLOOKUP($A$3,'Roster LIMA'!$B$11900:$AU$12051,'Roster LIMA'!P$1,FALSE)))","v":""},{"$f":"IF(COUNTBLANK($A$3)<>0,\"\",IF(ISERROR(VLOOKUP($A$3,'Roster LIMA'!$B$11900:$AU$12051,'Roster LIMA'!Q$1,FALSE)),\"\",VLOOKUP($A$3,'Roster LIMA'!$B$11900:$AU$12051,'Roster LIMA'!Q$1,FALSE)))","v":""},{"$f":"IF(COUNTBLANK($A$3)<>0,\"\",IF(ISERROR(VLOOKUP($A$3,'Roster LIMA'!$B$11900:$AU$12051,'Roster LIMA'!R$1,FALSE)),\"\",VLOOKUP($A$3,'Roster LIMA'!$B$11900:$AU$12051,'Roster LIMA'!R$1,FALSE)))","v":""},{"$f":"IF(COUNTBLANK($A$3)<>0,\"\",IF(ISERROR(VLOOKUP($A$3,'Roster LIMA'!$B$11900:$AU$12051,'Roster LIMA'!S$1,FALSE)),\"\",VLOOKUP($A$3,'Roster LIMA'!$B$11900:$AU$12051,'Roster LIMA'!S$1,FALSE)))","v":""},{"$f":"IF(COUNTBLANK($A$3)<>0,\"\",IF(ISERROR(VLOOKUP($A$3,'Roster LIMA'!$B$11900:$AU$12051,'Roster LIMA'!T$1,FALSE)),\"\",VLOOKUP($A$3,'Roster LIMA'!$B$11900:$AU$12051,'Roster LIMA'!T$1,FALSE)))","v":""},{"$f":"IF(COUNTBLANK($A$3)<>0,\"\",IF(ISERROR(VLOOKUP($A$3,'Roster LIMA'!$B$11900:$AU$12051,'Roster LIMA'!U$1,FALSE)),\"\",VLOOKUP($A$3,'Roster LIMA'!$B$11900:$AU$12051,'Roster LIMA'!U$1,FALSE)))","v":""},{"$f":"IF(COUNTBLANK($A$3)<>0,\"\",IF(ISERROR(VLOOKUP($A$3,'Roster LIMA'!$B$11900:$AU$12051,'Roster LIMA'!V$1,FALSE)),\"\",VLOOKUP($A$3,'Roster LIMA'!$B$11900:$AU$12051,'Roster LIMA'!V$1,FALSE)))","v":""},{"$f":"IF(COUNTBLANK($A$3)<>0,\"\",IF(ISERROR(VLOOKUP($A$3,'Roster LIMA'!$B$11900:$AU$12051,'Roster LIMA'!W$1,FALSE)),\"\",VLOOKUP($A$3,'Roster LIMA'!$B$11900:$AU$12051,'Roster LIMA'!W$1,FALSE)))","v":""},{"$f":"IF(COUNTBLANK($A$3)<>0,\"\",IF(ISERROR(VLOOKUP($A$3,'Roster LIMA'!$B$11900:$AU$12051,'Roster LIMA'!X$1,FALSE)),\"\",VLOOKUP($A$3,'Roster LIMA'!$B$11900:$AU$12051,'Roster LIMA'!X$1,FALSE)))","v":""},{"$f":"IF(COUNTBLANK($A$3)<>0,\"\",IF(ISERROR(VLOOKUP($A$3,'Roster LIMA'!$B$11900:$AU$12051,'Roster LIMA'!Y$1,FALSE)),\"\",VLOOKUP($A$3,'Roster LIMA'!$B$11900:$AU$12051,'Roster LIMA'!Y$1,FALSE)))","v":""},{"$f":"IF(COUNTBLANK($A$3)<>0,\"\",IF(ISERROR(VLOOKUP($A$3,'Roster LIMA'!$B$11900:$AU$12051,'Roster LIMA'!Z$1,FALSE)),\"\",VLOOKUP($A$3,'Roster LIMA'!$B$11900:$AU$12051,'Roster LIMA'!Z$1,FALSE)))","v":""},{"$f":"IF(COUNTBLANK($A$3)<>0,\"\",IF(ISERROR(VLOOKUP($A$3,'Roster LIMA'!$B$11900:$AU$12051,'Roster LIMA'!AA$1,FALSE)),\"\",VLOOKUP($A$3,'Roster LIMA'!$B$11900:$AU$12051,'Roster LIMA'!AA$1,FALSE)))","v":""},{"$f":"IF(COUNTBLANK($A$3)<>0,\"\",IF(ISERROR(VLOOKUP($A$3,'Roster LIMA'!$B$11900:$AU$12051,'Roster LIMA'!AB$1,FALSE)),\"\",VLOOKUP($A$3,'Roster LIMA'!$B$11900:$AU$12051,'Roster LIMA'!AB$1,FALSE)))","v":""},{"$f":"IF(COUNTBLANK($A$3)<>0,\"\",IF(ISERROR(VLOOKUP($A$3,'Roster LIMA'!$B$11900:$AU$12051,'Roster LIMA'!AC$1,FALSE)),\"\",VLOOKUP($A$3,'Roster LIMA'!$B$11900:$AU$12051,'Roster LIMA'!AC$1,FALSE)))","v":""},{"$f":"IF(COUNTBLANK($A$3)<>0,\"\",IF(ISERROR(VLOOKUP($A$3,'Roster LIMA'!$B$11900:$AU$12051,'Roster LIMA'!AD$1,FALSE)),\"\",VLOOKUP($A$3,'Roster LIMA'!$B$11900:$AU$12051,'Roster LIMA'!AD$1,FALSE)))","v":""},{"$f":"IF(COUNTBLANK($A$3)<>0,\"\",IF(ISERROR(VLOOKUP($A$3,'Roster LIMA'!$B$11900:$AU$12051,'Roster LIMA'!AE$1,FALSE)),\"\",VLOOKUP($A$3,'Roster LIMA'!$B$11900:$AU$12051,'Roster LIMA'!AE$1,FALSE)))","v":""},{"$f":"IF(COUNTBLANK($A$3)<>0,\"\",IF(ISERROR(VLOOKUP($A$3,'Roster LIMA'!$B$11900:$AU$12051,'Roster LIMA'!AF$1,FALSE)),\"\",VLOOKUP($A$3,'Roster LIMA'!$B$11900:$AU$12051,'Roster LIMA'!AF$1,FALSE)))","v":""},{"$f":"IF(COUNTBLANK($A$3)<>0,\"\",IF(ISERROR(VLOOKUP($A$3,'Roster LIMA'!$B$11900:$AU$12051,'Roster LIMA'!AG$1,FALSE)),\"\",VLOOKUP($A$3,'Roster LIMA'!$B$11900:$AU$12051,'Roster LIMA'!AG$1,FALSE)))","v":""},{"$f":"IF(COUNTBLANK($A$3)<>0,\"\",IF(ISERROR(VLOOKUP($A$3,'Roster LIMA'!$B$11900:$AU$12051,'Roster LIMA'!AH$1,FALSE)),\"\",VLOOKUP($A$3,'Roster LIMA'!$B$11900:$AU$12051,'Roster LIMA'!AH$1,FALSE)))","v":""},{"$f":"IF(COUNTBLANK($A$3)<>0,\"\",IF(ISERROR(VLOOKUP($A$3,'Roster LIMA'!$B$11900:$AU$12051,'Roster LIMA'!AI$1,FALSE)),\"\",VLOOKUP($A$3,'Roster LIMA'!$B$11900:$AU$12051,'Roster LIMA'!AI$1,FALSE)))","v":""},{"$f":"IF(COUNTBLANK($A$3)<>0,\"\",IF(ISERROR(VLOOKUP($A$3,'Roster LIMA'!$B$11900:$AU$12051,'Roster LIMA'!AJ$1,FALSE)),\"\",VLOOKUP($A$3,'Roster LIMA'!$B$11900:$AU$12051,'Roster LIMA'!AJ$1,FALSE)))","v":""},{"$f":"IF(COUNTBLANK($A$3)<>0,\"\",IF(ISERROR(VLOOKUP($A$3,'Roster LIMA'!$B$11900:$AU$12051,'Roster LIMA'!AK$1,FALSE)),\"\",VLOOKUP($A$3,'Roster LIMA'!$B$11900:$AU$12051,'Roster LIMA'!AK$1,FALSE)))","v":""},{"$f":"IF(COUNTBLANK($A$3)<>0,\"\",IF(ISERROR(VLOOKUP($A$3,'Roster LIMA'!$B$11900:$AU$12051,'Roster LIMA'!AL$1,FALSE)),\"\",VLOOKUP($A$3,'Roster LIMA'!$B$11900:$AU$12051,'Roster LIMA'!AL$1,FALSE)))","v":""},{"$f":"IF(COUNTBLANK($A$3)<>0,\"\",IF(ISERROR(VLOOKUP($A$3,'Roster LIMA'!$B$11900:$AU$12051,'Roster LIMA'!AM$1,FALSE)),\"\",VLOOKUP($A$3,'Roster LIMA'!$B$11900:$AU$12051,'Roster LIMA'!AM$1,FALSE)))","v":""},{"$f":"IF(COUNTBLANK($A$3)<>0,\"\",IF(ISERROR(VLOOKUP($A$3,'Roster LIMA'!$B$11900:$AU$12051,'Roster LIMA'!AN$1,FALSE)),\"\",VLOOKUP($A$3,'Roster LIMA'!$B$11900:$AU$12051,'Roster LIMA'!AN$1,FALSE)))","v":""},{"$f":"IF(COUNTBLANK($A$3)<>0,\"\",IF(ISERROR(VLOOKUP($A$3,'Roster LIMA'!$B$11900:$AU$12051,'Roster LIMA'!AO$1,FALSE)),\"\",VLOOKUP($A$3,'Roster LIMA'!$B$11900:$AU$12051,'Roster LIMA'!AO$1,FALSE)))","v":""},{"$f":"IF(COUNTBLANK($A$3)<>0,\"\",IF(ISERROR(VLOOKUP($A$3,'Roster LIMA'!$B$11900:$AU$12051,'Roster LIMA'!AP$1,FALSE)),\"\",VLOOKUP($A$3,'Roster LIMA'!$B$11900:$AU$12051,'Roster LIMA'!AP$1,FALSE)))","v":""},{"$f":"IF(COUNTBLANK($A$3)<>0,\"\",IF(ISERROR(VLOOKUP($A$3,'Roster LIMA'!$B$11900:$AU$12051,'Roster LIMA'!AQ$1,FALSE)),\"\",VLOOKUP($A$3,'Roster LIMA'!$B$11900:$AU$12051,'Roster LIMA'!AQ$1,FALSE)))","v":""},{"$f":"IF(COUNTBLANK($A$3)<>0,\"\",IF(ISERROR(VLOOKUP($A$3,'Roster LIMA'!$B$11900:$AU$12051,'Roster LIMA'!AR$1,FALSE)),\"\",VLOOKUP($A$3,'Roster LIMA'!$B$11900:$AU$12051,'Roster LIMA'!AR$1,FALSE)))","v":""},{"$f":"IF(COUNTBLANK($A$3)<>0,\"\",IF(ISERROR(VLOOKUP($A$3,'Roster LIMA'!$B$11900:$AU$12051,'Roster LIMA'!AS$1,FALSE)),\"\",VLOOKUP($A$3,'Roster LIMA'!$B$11900:$AU$12051,'Roster LIMA'!AS$1,FALSE)))","v":""},{"$f":"IF(COUNTBLANK($A$3)<>0,\"\",IF(ISERROR(VLOOKUP($A$3,'Roster LIMA'!$B$11900:$AU$12051,'Roster LIMA'!AT$1,FALSE)),\"\",VLOOKUP($A$3,'Roster LIMA'!$B$11900:$AU$12051,'Roster LIMA'!AT$1,FALSE)))","v":""},{"$f":"IF(COUNTBLANK($A$3)<>0,\"\",IF(ISERROR(VLOOKUP($A$3,'Roster LIMA'!$B$11900:$AU$12051,'Roster LIMA'!AU$1,FALSE)),\"\",VLOOKUP($A$3,'Roster LIMA'!$B$11900:$AU$12051,'Roster LIMA'!AU$1,FALSE)))","v":""}]
[{"$f":"+'Roster LIMA'!G12052","v":"1996-97"},{"$f":"IF(COUNTBLANK($A$3)<>0,\"\",IF(ISERROR(VLOOKUP($A$3,'Roster LIMA'!$B$12052:$AU$12588,'Roster LIMA'!H$1,FALSE)),\"\",IF(VLOOKUP($A$3,'Roster LIMA'!$B$12052:$AU$12588,'Roster LIMA'!H$1,FALSE)=0,\"\",VLOOKUP($A$3,'Roster LIMA'!$B$12052:$AU$12588,'Roster LIMA'!H$1,FALSE))))","v":""},{"$f":"IF(COUNTBLANK($A$3)<>0,\"\",IF(ISERROR(VLOOKUP($A$3,'Roster LIMA'!$B$12052:$AU$12588,'Roster LIMA'!I$1,FALSE)),\"\",IF(VLOOKUP($A$3,'Roster LIMA'!$B$12052:$AU$12588,'Roster LIMA'!I$1,FALSE)=0,\"\",VLOOKUP($A$3,'Roster LIMA'!$B$12052:$AU$12588,'Roster LIMA'!I$1,FALSE))))","v":""},{"$f":"IF(COUNTBLANK($A$3)<>0,\"\",IF(ISERROR(VLOOKUP($A$3,'Roster LIMA'!$B$12052:$AU$12588,'Roster LIMA'!J$1,FALSE)),\"\",IF(VLOOKUP($A$3,'Roster LIMA'!$B$12052:$AU$12588,'Roster LIMA'!J$1,FALSE)=0,\"\",VLOOKUP($A$3,'Roster LIMA'!$B$12052:$AU$12588,'Roster LIMA'!J$1,FALSE))))","v":""},{"$f":"IF(COUNTBLANK($A$3)<>0,\"\",IF(ISERROR(VLOOKUP($A$3,'Roster LIMA'!$B$12052:$AU$12588,'Roster LIMA'!K$1,FALSE)),\"\",IF(VLOOKUP($A$3,'Roster LIMA'!$B$12052:$AU$12588,'Roster LIMA'!K$1,FALSE)=0,\"\",VLOOKUP($A$3,'Roster LIMA'!$B$12052:$AU$12588,'Roster LIMA'!K$1,FALSE))))","v":""},{"$f":"IF(COUNTBLANK($A$3)<>0,\"\",IF(ISERROR(VLOOKUP($A$3,'Roster LIMA'!$B$12052:$AU$12588,'Roster LIMA'!F$1,FALSE)),\"\",IF(VLOOKUP($A$3,'Roster LIMA'!$B$12052:$AU$12588,'Roster LIMA'!F$1,FALSE)=0,\"\",VLOOKUP($A$3,'Roster LIMA'!$B$12052:$AU$12588,'Roster LIMA'!F$1,FALSE))))","v":""},{"$f":"IF(COUNTBLANK($A$3)<>0,\"\",IF(ISERROR(VLOOKUP($A$3,'Roster LIMA'!$B$12052:$AU$12588,'Roster LIMA'!E$1,FALSE)),\"\",IF(VLOOKUP($A$3,'Roster LIMA'!$B$12052:$AU$12588,'Roster LIMA'!E$1,FALSE)=0,\"\",VLOOKUP($A$3,'Roster LIMA'!$B$12052:$AU$12588,'Roster LIMA'!E$1,FALSE))))","v":""},{"$f":"IF(COUNTBLANK($A$3)<>0,\"\",IF(ISERROR(VLOOKUP($A$3,'Roster LIMA'!$B$12052:$AU$12588,'Roster LIMA'!B$1,FALSE)),\"N/A\",IF(VLOOKUP($A$3,'Roster LIMA'!$B$12052:$AU$12588,'Roster LIMA'!B$1,FALSE)=0,\"\",VLOOKUP($A$3,'Roster LIMA'!$B$12052:$AU$12588,'Roster LIMA'!B$1,FALSE))))","v":""},{"$f":"IF(COUNTBLANK($A$3)<>0,\"\",IF(ISERROR(VLOOKUP($A$3,'Roster LIMA'!$B$12052:$AU$12588,'Roster LIMA'!C$1,FALSE)),\"\",IF(VLOOKUP($A$3,'Roster LIMA'!$B$12052:$AU$12588,'Roster LIMA'!C$1,FALSE)=0,\"\",VLOOKUP($A$3,'Roster LIMA'!$B$12052:$AU$12588,'Roster LIMA'!C$1,FALSE))))","v":""},{"$f":"IF(COUNTBLANK($A$3)<>0,\"\",IF(ISERROR(VLOOKUP($A$3,'Roster LIMA'!$B$12052:$AU$12588,'Roster LIMA'!D$1,FALSE)),\"\",IF(VLOOKUP($A$3,'Roster LIMA'!$B$12052:$AU$12588,'Roster LIMA'!D$1,FALSE)=0,\"\",VLOOKUP($A$3,'Roster LIMA'!$B$12052:$AU$12588,'Roster LIMA'!D$1,FALSE))))","v":""},{"$f":"IF(COUNTBLANK($A$3)<>0,\"\",IF(ISERROR(VLOOKUP($A$3,'Roster LIMA'!$B$12052:$AU$12588,'Roster LIMA'!L$1,FALSE)),\"\",VLOOKUP($A$3,'Roster LIMA'!$B$12052:$AU$12588,'Roster LIMA'!L$1,FALSE)))","v":""},{"$f":"IF(COUNTBLANK($A$3)<>0,\"\",IF(ISERROR(VLOOKUP($A$3,'Roster LIMA'!$B$12052:$AU$12588,'Roster LIMA'!M$1,FALSE)),\"\",VLOOKUP($A$3,'Roster LIMA'!$B$12052:$AU$12588,'Roster LIMA'!M$1,FALSE)))","v":""},{"$f":"IF(COUNTBLANK($A$3)<>0,\"\",IF(ISERROR(VLOOKUP($A$3,'Roster LIMA'!$B$12052:$AU$12588,'Roster LIMA'!N$1,FALSE)),\"\",VLOOKUP($A$3,'Roster LIMA'!$B$12052:$AU$12588,'Roster LIMA'!N$1,FALSE)))","v":""},{"$f":"IF(COUNTBLANK($A$3)<>0,\"\",IF(ISERROR(VLOOKUP($A$3,'Roster LIMA'!$B$12052:$AU$12588,'Roster LIMA'!O$1,FALSE)),\"\",VLOOKUP($A$3,'Roster LIMA'!$B$12052:$AU$12588,'Roster LIMA'!O$1,FALSE)))","v":""},{"$f":"IF(COUNTBLANK($A$3)<>0,\"\",IF(ISERROR(VLOOKUP($A$3,'Roster LIMA'!$B$12052:$AU$12588,'Roster LIMA'!P$1,FALSE)),\"\",VLOOKUP($A$3,'Roster LIMA'!$B$12052:$AU$12588,'Roster LIMA'!P$1,FALSE)))","v":""},{"$f":"IF(COUNTBLANK($A$3)<>0,\"\",IF(ISERROR(VLOOKUP($A$3,'Roster LIMA'!$B$12052:$AU$12588,'Roster LIMA'!Q$1,FALSE)),\"\",VLOOKUP($A$3,'Roster LIMA'!$B$12052:$AU$12588,'Roster LIMA'!Q$1,FALSE)))","v":""},{"$f":"IF(COUNTBLANK($A$3)<>0,\"\",IF(ISERROR(VLOOKUP($A$3,'Roster LIMA'!$B$12052:$AU$12588,'Roster LIMA'!R$1,FALSE)),\"\",VLOOKUP($A$3,'Roster LIMA'!$B$12052:$AU$12588,'Roster LIMA'!R$1,FALSE)))","v":""},{"$f":"IF(COUNTBLANK($A$3)<>0,\"\",IF(ISERROR(VLOOKUP($A$3,'Roster LIMA'!$B$12052:$AU$12588,'Roster LIMA'!S$1,FALSE)),\"\",VLOOKUP($A$3,'Roster LIMA'!$B$12052:$AU$12588,'Roster LIMA'!S$1,FALSE)))","v":""},{"$f":"IF(COUNTBLANK($A$3)<>0,\"\",IF(ISERROR(VLOOKUP($A$3,'Roster LIMA'!$B$12052:$AU$12588,'Roster LIMA'!T$1,FALSE)),\"\",VLOOKUP($A$3,'Roster LIMA'!$B$12052:$AU$12588,'Roster LIMA'!T$1,FALSE)))","v":""},{"$f":"IF(COUNTBLANK($A$3)<>0,\"\",IF(ISERROR(VLOOKUP($A$3,'Roster LIMA'!$B$12052:$AU$12588,'Roster LIMA'!U$1,FALSE)),\"\",VLOOKUP($A$3,'Roster LIMA'!$B$12052:$AU$12588,'Roster LIMA'!U$1,FALSE)))","v":""},{"$f":"IF(COUNTBLANK($A$3)<>0,\"\",IF(ISERROR(VLOOKUP($A$3,'Roster LIMA'!$B$12052:$AU$12588,'Roster LIMA'!V$1,FALSE)),\"\",VLOOKUP($A$3,'Roster LIMA'!$B$12052:$AU$12588,'Roster LIMA'!V$1,FALSE)))","v":""},{"$f":"IF(COUNTBLANK($A$3)<>0,\"\",IF(ISERROR(VLOOKUP($A$3,'Roster LIMA'!$B$12052:$AU$12588,'Roster LIMA'!W$1,FALSE)),\"\",VLOOKUP($A$3,'Roster LIMA'!$B$12052:$AU$12588,'Roster LIMA'!W$1,FALSE)))","v":""},{"$f":"IF(COUNTBLANK($A$3)<>0,\"\",IF(ISERROR(VLOOKUP($A$3,'Roster LIMA'!$B$12052:$AU$12588,'Roster LIMA'!X$1,FALSE)),\"\",VLOOKUP($A$3,'Roster LIMA'!$B$12052:$AU$12588,'Roster LIMA'!X$1,FALSE)))","v":""},{"$f":"IF(COUNTBLANK($A$3)<>0,\"\",IF(ISERROR(VLOOKUP($A$3,'Roster LIMA'!$B$12052:$AU$12588,'Roster LIMA'!Y$1,FALSE)),\"\",VLOOKUP($A$3,'Roster LIMA'!$B$12052:$AU$12588,'Roster LIMA'!Y$1,FALSE)))","v":""},{"$f":"IF(COUNTBLANK($A$3)<>0,\"\",IF(ISERROR(VLOOKUP($A$3,'Roster LIMA'!$B$12052:$AU$12588,'Roster LIMA'!Z$1,FALSE)),\"\",VLOOKUP($A$3,'Roster LIMA'!$B$12052:$AU$12588,'Roster LIMA'!Z$1,FALSE)))","v":""},{"$f":"IF(COUNTBLANK($A$3)<>0,\"\",IF(ISERROR(VLOOKUP($A$3,'Roster LIMA'!$B$12052:$AU$12588,'Roster LIMA'!AA$1,FALSE)),\"\",VLOOKUP($A$3,'Roster LIMA'!$B$12052:$AU$12588,'Roster LIMA'!AA$1,FALSE)))","v":""},{"$f":"IF(COUNTBLANK($A$3)<>0,\"\",IF(ISERROR(VLOOKUP($A$3,'Roster LIMA'!$B$12052:$AU$12588,'Roster LIMA'!AB$1,FALSE)),\"\",VLOOKUP($A$3,'Roster LIMA'!$B$12052:$AU$12588,'Roster LIMA'!AB$1,FALSE)))","v":""},{"$f":"IF(COUNTBLANK($A$3)<>0,\"\",IF(ISERROR(VLOOKUP($A$3,'Roster LIMA'!$B$12052:$AU$12588,'Roster LIMA'!AC$1,FALSE)),\"\",VLOOKUP($A$3,'Roster LIMA'!$B$12052:$AU$12588,'Roster LIMA'!AC$1,FALSE)))","v":""},{"$f":"IF(COUNTBLANK($A$3)<>0,\"\",IF(ISERROR(VLOOKUP($A$3,'Roster LIMA'!$B$12052:$AU$12588,'Roster LIMA'!AD$1,FALSE)),\"\",VLOOKUP($A$3,'Roster LIMA'!$B$12052:$AU$12588,'Roster LIMA'!AD$1,FALSE)))","v":""},{"$f":"IF(COUNTBLANK($A$3)<>0,\"\",IF(ISERROR(VLOOKUP($A$3,'Roster LIMA'!$B$12052:$AU$12588,'Roster LIMA'!AE$1,FALSE)),\"\",VLOOKUP($A$3,'Roster LIMA'!$B$12052:$AU$12588,'Roster LIMA'!AE$1,FALSE)))","v":""},{"$f":"IF(COUNTBLANK($A$3)<>0,\"\",IF(ISERROR(VLOOKUP($A$3,'Roster LIMA'!$B$12052:$AU$12588,'Roster LIMA'!AF$1,FALSE)),\"\",VLOOKUP($A$3,'Roster LIMA'!$B$12052:$AU$12588,'Roster LIMA'!AF$1,FALSE)))","v":""},{"$f":"IF(COUNTBLANK($A$3)<>0,\"\",IF(ISERROR(VLOOKUP($A$3,'Roster LIMA'!$B$12052:$AU$12588,'Roster LIMA'!AG$1,FALSE)),\"\",VLOOKUP($A$3,'Roster LIMA'!$B$12052:$AU$12588,'Roster LIMA'!AG$1,FALSE)))","v":""},{"$f":"IF(COUNTBLANK($A$3)<>0,\"\",IF(ISERROR(VLOOKUP($A$3,'Roster LIMA'!$B$12052:$AU$12588,'Roster LIMA'!AH$1,FALSE)),\"\",VLOOKUP($A$3,'Roster LIMA'!$B$12052:$AU$12588,'Roster LIMA'!AH$1,FALSE)))","v":""},{"$f":"IF(COUNTBLANK($A$3)<>0,\"\",IF(ISERROR(VLOOKUP($A$3,'Roster LIMA'!$B$12052:$AU$12588,'Roster LIMA'!AI$1,FALSE)),\"\",VLOOKUP($A$3,'Roster LIMA'!$B$12052:$AU$12588,'Roster LIMA'!AI$1,FALSE)))","v":""},{"$f":"IF(COUNTBLANK($A$3)<>0,\"\",IF(ISERROR(VLOOKUP($A$3,'Roster LIMA'!$B$12052:$AU$12588,'Roster LIMA'!AJ$1,FALSE)),\"\",VLOOKUP($A$3,'Roster LIMA'!$B$12052:$AU$12588,'Roster LIMA'!AJ$1,FALSE)))","v":""},{"$f":"IF(COUNTBLANK($A$3)<>0,\"\",IF(ISERROR(VLOOKUP($A$3,'Roster LIMA'!$B$12052:$AU$12588,'Roster LIMA'!AK$1,FALSE)),\"\",VLOOKUP($A$3,'Roster LIMA'!$B$12052:$AU$12588,'Roster LIMA'!AK$1,FALSE)))","v":""},{"$f":"IF(COUNTBLANK($A$3)<>0,\"\",IF(ISERROR(VLOOKUP($A$3,'Roster LIMA'!$B$12052:$AU$12588,'Roster LIMA'!AL$1,FALSE)),\"\",VLOOKUP($A$3,'Roster LIMA'!$B$12052:$AU$12588,'Roster LIMA'!AL$1,FALSE)))","v":""},{"$f":"IF(COUNTBLANK($A$3)<>0,\"\",IF(ISERROR(VLOOKUP($A$3,'Roster LIMA'!$B$12052:$AU$12588,'Roster LIMA'!AM$1,FALSE)),\"\",VLOOKUP($A$3,'Roster LIMA'!$B$12052:$AU$12588,'Roster LIMA'!AM$1,FALSE)))","v":""},{"$f":"IF(COUNTBLANK($A$3)<>0,\"\",IF(ISERROR(VLOOKUP($A$3,'Roster LIMA'!$B$12052:$AU$12588,'Roster LIMA'!AN$1,FALSE)),\"\",VLOOKUP($A$3,'Roster LIMA'!$B$12052:$AU$12588,'Roster LIMA'!AN$1,FALSE)))","v":""},{"$f":"IF(COUNTBLANK($A$3)<>0,\"\",IF(ISERROR(VLOOKUP($A$3,'Roster LIMA'!$B$12052:$AU$12588,'Roster LIMA'!AO$1,FALSE)),\"\",VLOOKUP($A$3,'Roster LIMA'!$B$12052:$AU$12588,'Roster LIMA'!AO$1,FALSE)))","v":""},{"$f":"IF(COUNTBLANK($A$3)<>0,\"\",IF(ISERROR(VLOOKUP($A$3,'Roster LIMA'!$B$12052:$AU$12588,'Roster LIMA'!AP$1,FALSE)),\"\",VLOOKUP($A$3,'Roster LIMA'!$B$12052:$AU$12588,'Roster LIMA'!AP$1,FALSE)))","v":""},{"$f":"IF(COUNTBLANK($A$3)<>0,\"\",IF(ISERROR(VLOOKUP($A$3,'Roster LIMA'!$B$12052:$AU$12588,'Roster LIMA'!AQ$1,FALSE)),\"\",VLOOKUP($A$3,'Roster LIMA'!$B$12052:$AU$12588,'Roster LIMA'!AQ$1,FALSE)))","v":""},{"$f":"IF(COUNTBLANK($A$3)<>0,\"\",IF(ISERROR(VLOOKUP($A$3,'Roster LIMA'!$B$12052:$AU$12588,'Roster LIMA'!AR$1,FALSE)),\"\",VLOOKUP($A$3,'Roster LIMA'!$B$12052:$AU$12588,'Roster LIMA'!AR$1,FALSE)))","v":""},{"$f":"IF(COUNTBLANK($A$3)<>0,\"\",IF(ISERROR(VLOOKUP($A$3,'Roster LIMA'!$B$12052:$AU$12588,'Roster LIMA'!AS$1,FALSE)),\"\",VLOOKUP($A$3,'Roster LIMA'!$B$12052:$AU$12588,'Roster LIMA'!AS$1,FALSE)))","v":""},{"$f":"IF(COUNTBLANK($A$3)<>0,\"\",IF(ISERROR(VLOOKUP($A$3,'Roster LIMA'!$B$12052:$AU$12588,'Roster LIMA'!AT$1,FALSE)),\"\",VLOOKUP($A$3,'Roster LIMA'!$B$12052:$AU$12588,'Roster LIMA'!AT$1,FALSE)))","v":""},{"$f":"IF(COUNTBLANK($A$3)<>0,\"\",IF(ISERROR(VLOOKUP($A$3,'Roster LIMA'!$B$12052:$AU$12588,'Roster LIMA'!AU$1,FALSE)),\"\",VLOOKUP($A$3,'Roster LIMA'!$B$12052:$AU$12588,'Roster LIMA'!AU$1,FALSE)))","v":""}]
[{"$f":"+'Roster LIMA'!G12589","v":1997},{"$f":"IF(COUNTBLANK($A$3)<>0,\"\",IF(ISERROR(VLOOKUP($A$3,'Roster LIMA'!$B$12589:$AU$12798,'Roster LIMA'!H$1,FALSE)),\"\",IF(VLOOKUP($A$3,'Roster LIMA'!$B$12589:$AU$12798,'Roster LIMA'!H$1,FALSE)=0,\"\",VLOOKUP($A$3,'Roster LIMA'!$B$12589:$AU$12798,'Roster LIMA'!H$1,FALSE))))","v":""},{"$f":"IF(COUNTBLANK($A$3)<>0,\"\",IF(ISERROR(VLOOKUP($A$3,'Roster LIMA'!$B$12589:$AU$12798,'Roster LIMA'!I$1,FALSE)),\"\",IF(VLOOKUP($A$3,'Roster LIMA'!$B$12589:$AU$12798,'Roster LIMA'!I$1,FALSE)=0,\"\",VLOOKUP($A$3,'Roster LIMA'!$B$12589:$AU$12798,'Roster LIMA'!I$1,FALSE))))","v":""},{"$f":"IF(COUNTBLANK($A$3)<>0,\"\",IF(ISERROR(VLOOKUP($A$3,'Roster LIMA'!$B$12589:$AU$12798,'Roster LIMA'!J$1,FALSE)),\"\",IF(VLOOKUP($A$3,'Roster LIMA'!$B$12589:$AU$12798,'Roster LIMA'!J$1,FALSE)=0,\"\",VLOOKUP($A$3,'Roster LIMA'!$B$12589:$AU$12798,'Roster LIMA'!J$1,FALSE))))","v":""},{"$f":"IF(COUNTBLANK($A$3)<>0,\"\",IF(ISERROR(VLOOKUP($A$3,'Roster LIMA'!$B$12589:$AU$12798,'Roster LIMA'!K$1,FALSE)),\"\",IF(VLOOKUP($A$3,'Roster LIMA'!$B$12589:$AU$12798,'Roster LIMA'!K$1,FALSE)=0,\"\",VLOOKUP($A$3,'Roster LIMA'!$B$12589:$AU$12798,'Roster LIMA'!K$1,FALSE))))","v":""},{"$f":"IF(COUNTBLANK($A$3)<>0,\"\",IF(ISERROR(VLOOKUP($A$3,'Roster LIMA'!$B$12589:$AU$12798,'Roster LIMA'!F$1,FALSE)),\"\",IF(VLOOKUP($A$3,'Roster LIMA'!$B$12589:$AU$12798,'Roster LIMA'!F$1,FALSE)=0,\"\",VLOOKUP($A$3,'Roster LIMA'!$B$12589:$AU$12798,'Roster LIMA'!F$1,FALSE))))","v":""},{"$f":"IF(COUNTBLANK($A$3)<>0,\"\",IF(ISERROR(VLOOKUP($A$3,'Roster LIMA'!$B$12589:$AU$12798,'Roster LIMA'!E$1,FALSE)),\"\",IF(VLOOKUP($A$3,'Roster LIMA'!$B$12589:$AU$12798,'Roster LIMA'!E$1,FALSE)=0,\"\",VLOOKUP($A$3,'Roster LIMA'!$B$12589:$AU$12798,'Roster LIMA'!E$1,FALSE))))","v":""},{"$f":"IF(COUNTBLANK($A$3)<>0,\"\",IF(ISERROR(VLOOKUP($A$3,'Roster LIMA'!$B$12589:$AU$12798,'Roster LIMA'!B$1,FALSE)),\"N/A\",IF(VLOOKUP($A$3,'Roster LIMA'!$B$12589:$AU$12798,'Roster LIMA'!B$1,FALSE)=0,\"\",VLOOKUP($A$3,'Roster LIMA'!$B$12589:$AU$12798,'Roster LIMA'!B$1,FALSE))))","v":""},{"$f":"IF(COUNTBLANK($A$3)<>0,\"\",IF(ISERROR(VLOOKUP($A$3,'Roster LIMA'!$B$12589:$AU$12798,'Roster LIMA'!C$1,FALSE)),\"\",IF(VLOOKUP($A$3,'Roster LIMA'!$B$12589:$AU$12798,'Roster LIMA'!C$1,FALSE)=0,\"\",VLOOKUP($A$3,'Roster LIMA'!$B$12589:$AU$12798,'Roster LIMA'!C$1,FALSE))))","v":""},{"$f":"IF(COUNTBLANK($A$3)<>0,\"\",IF(ISERROR(VLOOKUP($A$3,'Roster LIMA'!$B$12589:$AU$12798,'Roster LIMA'!D$1,FALSE)),\"\",IF(VLOOKUP($A$3,'Roster LIMA'!$B$12589:$AU$12798,'Roster LIMA'!D$1,FALSE)=0,\"\",VLOOKUP($A$3,'Roster LIMA'!$B$12589:$AU$12798,'Roster LIMA'!D$1,FALSE))))","v":""},{"$f":"IF(COUNTBLANK($A$3)<>0,\"\",IF(ISERROR(VLOOKUP($A$3,'Roster LIMA'!$B$12589:$AU$12798,'Roster LIMA'!L$1,FALSE)),\"\",VLOOKUP($A$3,'Roster LIMA'!$B$12589:$AU$12798,'Roster LIMA'!L$1,FALSE)))","v":""},{"$f":"IF(COUNTBLANK($A$3)<>0,\"\",IF(ISERROR(VLOOKUP($A$3,'Roster LIMA'!$B$12589:$AU$12798,'Roster LIMA'!M$1,FALSE)),\"\",VLOOKUP($A$3,'Roster LIMA'!$B$12589:$AU$12798,'Roster LIMA'!M$1,FALSE)))","v":""},{"$f":"IF(COUNTBLANK($A$3)<>0,\"\",IF(ISERROR(VLOOKUP($A$3,'Roster LIMA'!$B$12589:$AU$12798,'Roster LIMA'!N$1,FALSE)),\"\",VLOOKUP($A$3,'Roster LIMA'!$B$12589:$AU$12798,'Roster LIMA'!N$1,FALSE)))","v":""},{"$f":"IF(COUNTBLANK($A$3)<>0,\"\",IF(ISERROR(VLOOKUP($A$3,'Roster LIMA'!$B$12589:$AU$12798,'Roster LIMA'!O$1,FALSE)),\"\",VLOOKUP($A$3,'Roster LIMA'!$B$12589:$AU$12798,'Roster LIMA'!O$1,FALSE)))","v":""},{"$f":"IF(COUNTBLANK($A$3)<>0,\"\",IF(ISERROR(VLOOKUP($A$3,'Roster LIMA'!$B$12589:$AU$12798,'Roster LIMA'!P$1,FALSE)),\"\",VLOOKUP($A$3,'Roster LIMA'!$B$12589:$AU$12798,'Roster LIMA'!P$1,FALSE)))","v":""},{"$f":"IF(COUNTBLANK($A$3)<>0,\"\",IF(ISERROR(VLOOKUP($A$3,'Roster LIMA'!$B$12589:$AU$12798,'Roster LIMA'!Q$1,FALSE)),\"\",VLOOKUP($A$3,'Roster LIMA'!$B$12589:$AU$12798,'Roster LIMA'!Q$1,FALSE)))","v":""},{"$f":"IF(COUNTBLANK($A$3)<>0,\"\",IF(ISERROR(VLOOKUP($A$3,'Roster LIMA'!$B$12589:$AU$12798,'Roster LIMA'!R$1,FALSE)),\"\",VLOOKUP($A$3,'Roster LIMA'!$B$12589:$AU$12798,'Roster LIMA'!R$1,FALSE)))","v":""},{"$f":"IF(COUNTBLANK($A$3)<>0,\"\",IF(ISERROR(VLOOKUP($A$3,'Roster LIMA'!$B$12589:$AU$12798,'Roster LIMA'!S$1,FALSE)),\"\",VLOOKUP($A$3,'Roster LIMA'!$B$12589:$AU$12798,'Roster LIMA'!S$1,FALSE)))","v":""},{"$f":"IF(COUNTBLANK($A$3)<>0,\"\",IF(ISERROR(VLOOKUP($A$3,'Roster LIMA'!$B$12589:$AU$12798,'Roster LIMA'!T$1,FALSE)),\"\",VLOOKUP($A$3,'Roster LIMA'!$B$12589:$AU$12798,'Roster LIMA'!T$1,FALSE)))","v":""},{"$f":"IF(COUNTBLANK($A$3)<>0,\"\",IF(ISERROR(VLOOKUP($A$3,'Roster LIMA'!$B$12589:$AU$12798,'Roster LIMA'!U$1,FALSE)),\"\",VLOOKUP($A$3,'Roster LIMA'!$B$12589:$AU$12798,'Roster LIMA'!U$1,FALSE)))","v":""},{"$f":"IF(COUNTBLANK($A$3)<>0,\"\",IF(ISERROR(VLOOKUP($A$3,'Roster LIMA'!$B$12589:$AU$12798,'Roster LIMA'!V$1,FALSE)),\"\",VLOOKUP($A$3,'Roster LIMA'!$B$12589:$AU$12798,'Roster LIMA'!V$1,FALSE)))","v":""},{"$f":"IF(COUNTBLANK($A$3)<>0,\"\",IF(ISERROR(VLOOKUP($A$3,'Roster LIMA'!$B$12589:$AU$12798,'Roster LIMA'!W$1,FALSE)),\"\",VLOOKUP($A$3,'Roster LIMA'!$B$12589:$AU$12798,'Roster LIMA'!W$1,FALSE)))","v":""},{"$f":"IF(COUNTBLANK($A$3)<>0,\"\",IF(ISERROR(VLOOKUP($A$3,'Roster LIMA'!$B$12589:$AU$12798,'Roster LIMA'!X$1,FALSE)),\"\",VLOOKUP($A$3,'Roster LIMA'!$B$12589:$AU$12798,'Roster LIMA'!X$1,FALSE)))","v":""},{"$f":"IF(COUNTBLANK($A$3)<>0,\"\",IF(ISERROR(VLOOKUP($A$3,'Roster LIMA'!$B$12589:$AU$12798,'Roster LIMA'!Y$1,FALSE)),\"\",VLOOKUP($A$3,'Roster LIMA'!$B$12589:$AU$12798,'Roster LIMA'!Y$1,FALSE)))","v":""},{"$f":"IF(COUNTBLANK($A$3)<>0,\"\",IF(ISERROR(VLOOKUP($A$3,'Roster LIMA'!$B$12589:$AU$12798,'Roster LIMA'!Z$1,FALSE)),\"\",VLOOKUP($A$3,'Roster LIMA'!$B$12589:$AU$12798,'Roster LIMA'!Z$1,FALSE)))","v":""},{"$f":"IF(COUNTBLANK($A$3)<>0,\"\",IF(ISERROR(VLOOKUP($A$3,'Roster LIMA'!$B$12589:$AU$12798,'Roster LIMA'!AA$1,FALSE)),\"\",VLOOKUP($A$3,'Roster LIMA'!$B$12589:$AU$12798,'Roster LIMA'!AA$1,FALSE)))","v":""},{"$f":"IF(COUNTBLANK($A$3)<>0,\"\",IF(ISERROR(VLOOKUP($A$3,'Roster LIMA'!$B$12589:$AU$12798,'Roster LIMA'!AB$1,FALSE)),\"\",VLOOKUP($A$3,'Roster LIMA'!$B$12589:$AU$12798,'Roster LIMA'!AB$1,FALSE)))","v":""},{"$f":"IF(COUNTBLANK($A$3)<>0,\"\",IF(ISERROR(VLOOKUP($A$3,'Roster LIMA'!$B$12589:$AU$12798,'Roster LIMA'!AC$1,FALSE)),\"\",VLOOKUP($A$3,'Roster LIMA'!$B$12589:$AU$12798,'Roster LIMA'!AC$1,FALSE)))","v":""},{"$f":"IF(COUNTBLANK($A$3)<>0,\"\",IF(ISERROR(VLOOKUP($A$3,'Roster LIMA'!$B$12589:$AU$12798,'Roster LIMA'!AD$1,FALSE)),\"\",VLOOKUP($A$3,'Roster LIMA'!$B$12589:$AU$12798,'Roster LIMA'!AD$1,FALSE)))","v":""},{"$f":"IF(COUNTBLANK($A$3)<>0,\"\",IF(ISERROR(VLOOKUP($A$3,'Roster LIMA'!$B$12589:$AU$12798,'Roster LIMA'!AE$1,FALSE)),\"\",VLOOKUP($A$3,'Roster LIMA'!$B$12589:$AU$12798,'Roster LIMA'!AE$1,FALSE)))","v":""},{"$f":"IF(COUNTBLANK($A$3)<>0,\"\",IF(ISERROR(VLOOKUP($A$3,'Roster LIMA'!$B$12589:$AU$12798,'Roster LIMA'!AF$1,FALSE)),\"\",VLOOKUP($A$3,'Roster LIMA'!$B$12589:$AU$12798,'Roster LIMA'!AF$1,FALSE)))","v":""},{"$f":"IF(COUNTBLANK($A$3)<>0,\"\",IF(ISERROR(VLOOKUP($A$3,'Roster LIMA'!$B$12589:$AU$12798,'Roster LIMA'!AG$1,FALSE)),\"\",VLOOKUP($A$3,'Roster LIMA'!$B$12589:$AU$12798,'Roster LIMA'!AG$1,FALSE)))","v":""},{"$f":"IF(COUNTBLANK($A$3)<>0,\"\",IF(ISERROR(VLOOKUP($A$3,'Roster LIMA'!$B$12589:$AU$12798,'Roster LIMA'!AH$1,FALSE)),\"\",VLOOKUP($A$3,'Roster LIMA'!$B$12589:$AU$12798,'Roster LIMA'!AH$1,FALSE)))","v":""},{"$f":"IF(COUNTBLANK($A$3)<>0,\"\",IF(ISERROR(VLOOKUP($A$3,'Roster LIMA'!$B$12589:$AU$12798,'Roster LIMA'!AI$1,FALSE)),\"\",VLOOKUP($A$3,'Roster LIMA'!$B$12589:$AU$12798,'Roster LIMA'!AI$1,FALSE)))","v":""},{"$f":"IF(COUNTBLANK($A$3)<>0,\"\",IF(ISERROR(VLOOKUP($A$3,'Roster LIMA'!$B$12589:$AU$12798,'Roster LIMA'!AJ$1,FALSE)),\"\",VLOOKUP($A$3,'Roster LIMA'!$B$12589:$AU$12798,'Roster LIMA'!AJ$1,FALSE)))","v":""},{"$f":"IF(COUNTBLANK($A$3)<>0,\"\",IF(ISERROR(VLOOKUP($A$3,'Roster LIMA'!$B$12589:$AU$12798,'Roster LIMA'!AK$1,FALSE)),\"\",VLOOKUP($A$3,'Roster LIMA'!$B$12589:$AU$12798,'Roster LIMA'!AK$1,FALSE)))","v":""},{"$f":"IF(COUNTBLANK($A$3)<>0,\"\",IF(ISERROR(VLOOKUP($A$3,'Roster LIMA'!$B$12589:$AU$12798,'Roster LIMA'!AL$1,FALSE)),\"\",VLOOKUP($A$3,'Roster LIMA'!$B$12589:$AU$12798,'Roster LIMA'!AL$1,FALSE)))","v":""},{"$f":"IF(COUNTBLANK($A$3)<>0,\"\",IF(ISERROR(VLOOKUP($A$3,'Roster LIMA'!$B$12589:$AU$12798,'Roster LIMA'!AM$1,FALSE)),\"\",VLOOKUP($A$3,'Roster LIMA'!$B$12589:$AU$12798,'Roster LIMA'!AM$1,FALSE)))","v":""},{"$f":"IF(COUNTBLANK($A$3)<>0,\"\",IF(ISERROR(VLOOKUP($A$3,'Roster LIMA'!$B$12589:$AU$12798,'Roster LIMA'!AN$1,FALSE)),\"\",VLOOKUP($A$3,'Roster LIMA'!$B$12589:$AU$12798,'Roster LIMA'!AN$1,FALSE)))","v":""},{"$f":"IF(COUNTBLANK($A$3)<>0,\"\",IF(ISERROR(VLOOKUP($A$3,'Roster LIMA'!$B$12589:$AU$12798,'Roster LIMA'!AO$1,FALSE)),\"\",VLOOKUP($A$3,'Roster LIMA'!$B$12589:$AU$12798,'Roster LIMA'!AO$1,FALSE)))","v":""},{"$f":"IF(COUNTBLANK($A$3)<>0,\"\",IF(ISERROR(VLOOKUP($A$3,'Roster LIMA'!$B$12589:$AU$12798,'Roster LIMA'!AP$1,FALSE)),\"\",VLOOKUP($A$3,'Roster LIMA'!$B$12589:$AU$12798,'Roster LIMA'!AP$1,FALSE)))","v":""},{"$f":"IF(COUNTBLANK($A$3)<>0,\"\",IF(ISERROR(VLOOKUP($A$3,'Roster LIMA'!$B$12589:$AU$12798,'Roster LIMA'!AQ$1,FALSE)),\"\",VLOOKUP($A$3,'Roster LIMA'!$B$12589:$AU$12798,'Roster LIMA'!AQ$1,FALSE)))","v":""},{"$f":"IF(COUNTBLANK($A$3)<>0,\"\",IF(ISERROR(VLOOKUP($A$3,'Roster LIMA'!$B$12589:$AU$12798,'Roster LIMA'!AR$1,FALSE)),\"\",VLOOKUP($A$3,'Roster LIMA'!$B$12589:$AU$12798,'Roster LIMA'!AR$1,FALSE)))","v":""},{"$f":"IF(COUNTBLANK($A$3)<>0,\"\",IF(ISERROR(VLOOKUP($A$3,'Roster LIMA'!$B$12589:$AU$12798,'Roster LIMA'!AS$1,FALSE)),\"\",VLOOKUP($A$3,'Roster LIMA'!$B$12589:$AU$12798,'Roster LIMA'!AS$1,FALSE)))","v":""},{"$f":"IF(COUNTBLANK($A$3)<>0,\"\",IF(ISERROR(VLOOKUP($A$3,'Roster LIMA'!$B$12589:$AU$12798,'Roster LIMA'!AT$1,FALSE)),\"\",VLOOKUP($A$3,'Roster LIMA'!$B$12589:$AU$12798,'Roster LIMA'!AT$1,FALSE)))","v":""},{"$f":"IF(COUNTBLANK($A$3)<>0,\"\",IF(ISERROR(VLOOKUP($A$3,'Roster LIMA'!$B$12589:$AU$12798,'Roster LIMA'!AU$1,FALSE)),\"\",VLOOKUP($A$3,'Roster LIMA'!$B$12589:$AU$12798,'Roster LIMA'!AU$1,FALSE)))","v":""}]
[{"$f":"+'Roster LIMA'!G12799","v":"1997-98"},{"$f":"IF(COUNTBLANK($A$3)<>0,\"\",IF(ISERROR(VLOOKUP($A$3,'Roster LIMA'!$B$12799:$AU$13484,'Roster LIMA'!H$1,FALSE)),\"\",IF(VLOOKUP($A$3,'Roster LIMA'!$B$12799:$AU$13484,'Roster LIMA'!H$1,FALSE)=0,\"\",VLOOKUP($A$3,'Roster LIMA'!$B$12799:$AU$13484,'Roster LIMA'!H$1,FALSE))))","v":""},{"$f":"IF(COUNTBLANK($A$3)<>0,\"\",IF(ISERROR(VLOOKUP($A$3,'Roster LIMA'!$B$12799:$AU$13484,'Roster LIMA'!I$1,FALSE)),\"\",IF(VLOOKUP($A$3,'Roster LIMA'!$B$12799:$AU$13484,'Roster LIMA'!I$1,FALSE)=0,\"\",VLOOKUP($A$3,'Roster LIMA'!$B$12799:$AU$13484,'Roster LIMA'!I$1,FALSE))))","v":""},{"$f":"IF(COUNTBLANK($A$3)<>0,\"\",IF(ISERROR(VLOOKUP($A$3,'Roster LIMA'!$B$12799:$AU$13484,'Roster LIMA'!J$1,FALSE)),\"\",IF(VLOOKUP($A$3,'Roster LIMA'!$B$12799:$AU$13484,'Roster LIMA'!J$1,FALSE)=0,\"\",VLOOKUP($A$3,'Roster LIMA'!$B$12799:$AU$13484,'Roster LIMA'!J$1,FALSE))))","v":""},{"$f":"IF(COUNTBLANK($A$3)<>0,\"\",IF(ISERROR(VLOOKUP($A$3,'Roster LIMA'!$B$12799:$AU$13484,'Roster LIMA'!K$1,FALSE)),\"\",IF(VLOOKUP($A$3,'Roster LIMA'!$B$12799:$AU$13484,'Roster LIMA'!K$1,FALSE)=0,\"\",VLOOKUP($A$3,'Roster LIMA'!$B$12799:$AU$13484,'Roster LIMA'!K$1,FALSE))))","v":""},{"$f":"IF(COUNTBLANK($A$3)<>0,\"\",IF(ISERROR(VLOOKUP($A$3,'Roster LIMA'!$B$12799:$AU$13484,'Roster LIMA'!F$1,FALSE)),\"\",IF(VLOOKUP($A$3,'Roster LIMA'!$B$12799:$AU$13484,'Roster LIMA'!F$1,FALSE)=0,\"\",VLOOKUP($A$3,'Roster LIMA'!$B$12799:$AU$13484,'Roster LIMA'!F$1,FALSE))))","v":""},{"$f":"IF(COUNTBLANK($A$3)<>0,\"\",IF(ISERROR(VLOOKUP($A$3,'Roster LIMA'!$B$12799:$AU$13484,'Roster LIMA'!E$1,FALSE)),\"\",IF(VLOOKUP($A$3,'Roster LIMA'!$B$12799:$AU$13484,'Roster LIMA'!E$1,FALSE)=0,\"\",VLOOKUP($A$3,'Roster LIMA'!$B$12799:$AU$13484,'Roster LIMA'!E$1,FALSE))))","v":""},{"$f":"IF(COUNTBLANK($A$3)<>0,\"\",IF(ISERROR(VLOOKUP($A$3,'Roster LIMA'!$B$12799:$AU$13484,'Roster LIMA'!B$1,FALSE)),\"N/A\",IF(VLOOKUP($A$3,'Roster LIMA'!$B$12799:$AU$13484,'Roster LIMA'!B$1,FALSE)=0,\"\",VLOOKUP($A$3,'Roster LIMA'!$B$12799:$AU$13484,'Roster LIMA'!B$1,FALSE))))","v":""},{"$f":"IF(COUNTBLANK($A$3)<>0,\"\",IF(ISERROR(VLOOKUP($A$3,'Roster LIMA'!$B$12799:$AU$13484,'Roster LIMA'!C$1,FALSE)),\"\",IF(VLOOKUP($A$3,'Roster LIMA'!$B$12799:$AU$13484,'Roster LIMA'!C$1,FALSE)=0,\"\",VLOOKUP($A$3,'Roster LIMA'!$B$12799:$AU$13484,'Roster LIMA'!C$1,FALSE))))","v":""},{"$f":"IF(COUNTBLANK($A$3)<>0,\"\",IF(ISERROR(VLOOKUP($A$3,'Roster LIMA'!$B$12799:$AU$13484,'Roster LIMA'!D$1,FALSE)),\"\",IF(VLOOKUP($A$3,'Roster LIMA'!$B$12799:$AU$13484,'Roster LIMA'!D$1,FALSE)=0,\"\",VLOOKUP($A$3,'Roster LIMA'!$B$12799:$AU$13484,'Roster LIMA'!D$1,FALSE))))","v":""},{"$f":"IF(COUNTBLANK($A$3)<>0,\"\",IF(ISERROR(VLOOKUP($A$3,'Roster LIMA'!$B$12799:$AU$13484,'Roster LIMA'!L$1,FALSE)),\"\",VLOOKUP($A$3,'Roster LIMA'!$B$12799:$AU$13484,'Roster LIMA'!L$1,FALSE)))","v":""},{"$f":"IF(COUNTBLANK($A$3)<>0,\"\",IF(ISERROR(VLOOKUP($A$3,'Roster LIMA'!$B$12799:$AU$13484,'Roster LIMA'!M$1,FALSE)),\"\",VLOOKUP($A$3,'Roster LIMA'!$B$12799:$AU$13484,'Roster LIMA'!M$1,FALSE)))","v":""},{"$f":"IF(COUNTBLANK($A$3)<>0,\"\",IF(ISERROR(VLOOKUP($A$3,'Roster LIMA'!$B$12799:$AU$13484,'Roster LIMA'!N$1,FALSE)),\"\",VLOOKUP($A$3,'Roster LIMA'!$B$12799:$AU$13484,'Roster LIMA'!N$1,FALSE)))","v":""},{"$f":"IF(COUNTBLANK($A$3)<>0,\"\",IF(ISERROR(VLOOKUP($A$3,'Roster LIMA'!$B$12799:$AU$13484,'Roster LIMA'!O$1,FALSE)),\"\",VLOOKUP($A$3,'Roster LIMA'!$B$12799:$AU$13484,'Roster LIMA'!O$1,FALSE)))","v":""},{"$f":"IF(COUNTBLANK($A$3)<>0,\"\",IF(ISERROR(VLOOKUP($A$3,'Roster LIMA'!$B$12799:$AU$13484,'Roster LIMA'!P$1,FALSE)),\"\",VLOOKUP($A$3,'Roster LIMA'!$B$12799:$AU$13484,'Roster LIMA'!P$1,FALSE)))","v":""},{"$f":"IF(COUNTBLANK($A$3)<>0,\"\",IF(ISERROR(VLOOKUP($A$3,'Roster LIMA'!$B$12799:$AU$13484,'Roster LIMA'!Q$1,FALSE)),\"\",VLOOKUP($A$3,'Roster LIMA'!$B$12799:$AU$13484,'Roster LIMA'!Q$1,FALSE)))","v":""},{"$f":"IF(COUNTBLANK($A$3)<>0,\"\",IF(ISERROR(VLOOKUP($A$3,'Roster LIMA'!$B$12799:$AU$13484,'Roster LIMA'!R$1,FALSE)),\"\",VLOOKUP($A$3,'Roster LIMA'!$B$12799:$AU$13484,'Roster LIMA'!R$1,FALSE)))","v":""},{"$f":"IF(COUNTBLANK($A$3)<>0,\"\",IF(ISERROR(VLOOKUP($A$3,'Roster LIMA'!$B$12799:$AU$13484,'Roster LIMA'!S$1,FALSE)),\"\",VLOOKUP($A$3,'Roster LIMA'!$B$12799:$AU$13484,'Roster LIMA'!S$1,FALSE)))","v":""},{"$f":"IF(COUNTBLANK($A$3)<>0,\"\",IF(ISERROR(VLOOKUP($A$3,'Roster LIMA'!$B$12799:$AU$13484,'Roster LIMA'!T$1,FALSE)),\"\",VLOOKUP($A$3,'Roster LIMA'!$B$12799:$AU$13484,'Roster LIMA'!T$1,FALSE)))","v":""},{"$f":"IF(COUNTBLANK($A$3)<>0,\"\",IF(ISERROR(VLOOKUP($A$3,'Roster LIMA'!$B$12799:$AU$13484,'Roster LIMA'!U$1,FALSE)),\"\",VLOOKUP($A$3,'Roster LIMA'!$B$12799:$AU$13484,'Roster LIMA'!U$1,FALSE)))","v":""},{"$f":"IF(COUNTBLANK($A$3)<>0,\"\",IF(ISERROR(VLOOKUP($A$3,'Roster LIMA'!$B$12799:$AU$13484,'Roster LIMA'!V$1,FALSE)),\"\",VLOOKUP($A$3,'Roster LIMA'!$B$12799:$AU$13484,'Roster LIMA'!V$1,FALSE)))","v":""},{"$f":"IF(COUNTBLANK($A$3)<>0,\"\",IF(ISERROR(VLOOKUP($A$3,'Roster LIMA'!$B$12799:$AU$13484,'Roster LIMA'!W$1,FALSE)),\"\",VLOOKUP($A$3,'Roster LIMA'!$B$12799:$AU$13484,'Roster LIMA'!W$1,FALSE)))","v":""},{"$f":"IF(COUNTBLANK($A$3)<>0,\"\",IF(ISERROR(VLOOKUP($A$3,'Roster LIMA'!$B$12799:$AU$13484,'Roster LIMA'!X$1,FALSE)),\"\",VLOOKUP($A$3,'Roster LIMA'!$B$12799:$AU$13484,'Roster LIMA'!X$1,FALSE)))","v":""},{"$f":"IF(COUNTBLANK($A$3)<>0,\"\",IF(ISERROR(VLOOKUP($A$3,'Roster LIMA'!$B$12799:$AU$13484,'Roster LIMA'!Y$1,FALSE)),\"\",VLOOKUP($A$3,'Roster LIMA'!$B$12799:$AU$13484,'Roster LIMA'!Y$1,FALSE)))","v":""},{"$f":"IF(COUNTBLANK($A$3)<>0,\"\",IF(ISERROR(VLOOKUP($A$3,'Roster LIMA'!$B$12799:$AU$13484,'Roster LIMA'!Z$1,FALSE)),\"\",VLOOKUP($A$3,'Roster LIMA'!$B$12799:$AU$13484,'Roster LIMA'!Z$1,FALSE)))","v":""},{"$f":"IF(COUNTBLANK($A$3)<>0,\"\",IF(ISERROR(VLOOKUP($A$3,'Roster LIMA'!$B$12799:$AU$13484,'Roster LIMA'!AA$1,FALSE)),\"\",VLOOKUP($A$3,'Roster LIMA'!$B$12799:$AU$13484,'Roster LIMA'!AA$1,FALSE)))","v":""},{"$f":"IF(COUNTBLANK($A$3)<>0,\"\",IF(ISERROR(VLOOKUP($A$3,'Roster LIMA'!$B$12799:$AU$13484,'Roster LIMA'!AB$1,FALSE)),\"\",VLOOKUP($A$3,'Roster LIMA'!$B$12799:$AU$13484,'Roster LIMA'!AB$1,FALSE)))","v":""},{"$f":"IF(COUNTBLANK($A$3)<>0,\"\",IF(ISERROR(VLOOKUP($A$3,'Roster LIMA'!$B$12799:$AU$13484,'Roster LIMA'!AC$1,FALSE)),\"\",VLOOKUP($A$3,'Roster LIMA'!$B$12799:$AU$13484,'Roster LIMA'!AC$1,FALSE)))","v":""},{"$f":"IF(COUNTBLANK($A$3)<>0,\"\",IF(ISERROR(VLOOKUP($A$3,'Roster LIMA'!$B$12799:$AU$13484,'Roster LIMA'!AD$1,FALSE)),\"\",VLOOKUP($A$3,'Roster LIMA'!$B$12799:$AU$13484,'Roster LIMA'!AD$1,FALSE)))","v":""},{"$f":"IF(COUNTBLANK($A$3)<>0,\"\",IF(ISERROR(VLOOKUP($A$3,'Roster LIMA'!$B$12799:$AU$13484,'Roster LIMA'!AE$1,FALSE)),\"\",VLOOKUP($A$3,'Roster LIMA'!$B$12799:$AU$13484,'Roster LIMA'!AE$1,FALSE)))","v":""},{"$f":"IF(COUNTBLANK($A$3)<>0,\"\",IF(ISERROR(VLOOKUP($A$3,'Roster LIMA'!$B$12799:$AU$13484,'Roster LIMA'!AF$1,FALSE)),\"\",VLOOKUP($A$3,'Roster LIMA'!$B$12799:$AU$13484,'Roster LIMA'!AF$1,FALSE)))","v":""},{"$f":"IF(COUNTBLANK($A$3)<>0,\"\",IF(ISERROR(VLOOKUP($A$3,'Roster LIMA'!$B$12799:$AU$13484,'Roster LIMA'!AG$1,FALSE)),\"\",VLOOKUP($A$3,'Roster LIMA'!$B$12799:$AU$13484,'Roster LIMA'!AG$1,FALSE)))","v":""},{"$f":"IF(COUNTBLANK($A$3)<>0,\"\",IF(ISERROR(VLOOKUP($A$3,'Roster LIMA'!$B$12799:$AU$13484,'Roster LIMA'!AH$1,FALSE)),\"\",VLOOKUP($A$3,'Roster LIMA'!$B$12799:$AU$13484,'Roster LIMA'!AH$1,FALSE)))","v":""},{"$f":"IF(COUNTBLANK($A$3)<>0,\"\",IF(ISERROR(VLOOKUP($A$3,'Roster LIMA'!$B$12799:$AU$13484,'Roster LIMA'!AI$1,FALSE)),\"\",VLOOKUP($A$3,'Roster LIMA'!$B$12799:$AU$13484,'Roster LIMA'!AI$1,FALSE)))","v":""},{"$f":"IF(COUNTBLANK($A$3)<>0,\"\",IF(ISERROR(VLOOKUP($A$3,'Roster LIMA'!$B$12799:$AU$13484,'Roster LIMA'!AJ$1,FALSE)),\"\",VLOOKUP($A$3,'Roster LIMA'!$B$12799:$AU$13484,'Roster LIMA'!AJ$1,FALSE)))","v":""},{"$f":"IF(COUNTBLANK($A$3)<>0,\"\",IF(ISERROR(VLOOKUP($A$3,'Roster LIMA'!$B$12799:$AU$13484,'Roster LIMA'!AK$1,FALSE)),\"\",VLOOKUP($A$3,'Roster LIMA'!$B$12799:$AU$13484,'Roster LIMA'!AK$1,FALSE)))","v":""},{"$f":"IF(COUNTBLANK($A$3)<>0,\"\",IF(ISERROR(VLOOKUP($A$3,'Roster LIMA'!$B$12799:$AU$13484,'Roster LIMA'!AL$1,FALSE)),\"\",VLOOKUP($A$3,'Roster LIMA'!$B$12799:$AU$13484,'Roster LIMA'!AL$1,FALSE)))","v":""},{"$f":"IF(COUNTBLANK($A$3)<>0,\"\",IF(ISERROR(VLOOKUP($A$3,'Roster LIMA'!$B$12799:$AU$13484,'Roster LIMA'!AM$1,FALSE)),\"\",VLOOKUP($A$3,'Roster LIMA'!$B$12799:$AU$13484,'Roster LIMA'!AM$1,FALSE)))","v":""},{"$f":"IF(COUNTBLANK($A$3)<>0,\"\",IF(ISERROR(VLOOKUP($A$3,'Roster LIMA'!$B$12799:$AU$13484,'Roster LIMA'!AN$1,FALSE)),\"\",VLOOKUP($A$3,'Roster LIMA'!$B$12799:$AU$13484,'Roster LIMA'!AN$1,FALSE)))","v":""},{"$f":"IF(COUNTBLANK($A$3)<>0,\"\",IF(ISERROR(VLOOKUP($A$3,'Roster LIMA'!$B$12799:$AU$13484,'Roster LIMA'!AO$1,FALSE)),\"\",VLOOKUP($A$3,'Roster LIMA'!$B$12799:$AU$13484,'Roster LIMA'!AO$1,FALSE)))","v":""},{"$f":"IF(COUNTBLANK($A$3)<>0,\"\",IF(ISERROR(VLOOKUP($A$3,'Roster LIMA'!$B$12799:$AU$13484,'Roster LIMA'!AP$1,FALSE)),\"\",VLOOKUP($A$3,'Roster LIMA'!$B$12799:$AU$13484,'Roster LIMA'!AP$1,FALSE)))","v":""},{"$f":"IF(COUNTBLANK($A$3)<>0,\"\",IF(ISERROR(VLOOKUP($A$3,'Roster LIMA'!$B$12799:$AU$13484,'Roster LIMA'!AQ$1,FALSE)),\"\",VLOOKUP($A$3,'Roster LIMA'!$B$12799:$AU$13484,'Roster LIMA'!AQ$1,FALSE)))","v":""},{"$f":"IF(COUNTBLANK($A$3)<>0,\"\",IF(ISERROR(VLOOKUP($A$3,'Roster LIMA'!$B$12799:$AU$13484,'Roster LIMA'!AR$1,FALSE)),\"\",VLOOKUP($A$3,'Roster LIMA'!$B$12799:$AU$13484,'Roster LIMA'!AR$1,FALSE)))","v":""},{"$f":"IF(COUNTBLANK($A$3)<>0,\"\",IF(ISERROR(VLOOKUP($A$3,'Roster LIMA'!$B$12799:$AU$13484,'Roster LIMA'!AS$1,FALSE)),\"\",VLOOKUP($A$3,'Roster LIMA'!$B$12799:$AU$13484,'Roster LIMA'!AS$1,FALSE)))","v":""},{"$f":"IF(COUNTBLANK($A$3)<>0,\"\",IF(ISERROR(VLOOKUP($A$3,'Roster LIMA'!$B$12799:$AU$13484,'Roster LIMA'!AT$1,FALSE)),\"\",VLOOKUP($A$3,'Roster LIMA'!$B$12799:$AU$13484,'Roster LIMA'!AT$1,FALSE)))","v":""},{"$f":"IF(COUNTBLANK($A$3)<>0,\"\",IF(ISERROR(VLOOKUP($A$3,'Roster LIMA'!$B$12799:$AU$13484,'Roster LIMA'!AU$1,FALSE)),\"\",VLOOKUP($A$3,'Roster LIMA'!$B$12799:$AU$13484,'Roster LIMA'!AU$1,FALSE)))","v":""}]
[{"$f":"+'Roster LIMA'!G13485","v":1998},{"$f":"IF(COUNTBLANK($A$3)<>0,\"\",IF(ISERROR(VLOOKUP($A$3,'Roster LIMA'!$B$13485:$AU$13693,'Roster LIMA'!H$1,FALSE)),\"\",IF(VLOOKUP($A$3,'Roster LIMA'!$B$13485:$AU$13693,'Roster LIMA'!H$1,FALSE)=0,\"\",VLOOKUP($A$3,'Roster LIMA'!$B$13485:$AU$13693,'Roster LIMA'!H$1,FALSE))))","v":""},{"$f":"IF(COUNTBLANK($A$3)<>0,\"\",IF(ISERROR(VLOOKUP($A$3,'Roster LIMA'!$B$13485:$AU$13693,'Roster LIMA'!I$1,FALSE)),\"\",IF(VLOOKUP($A$3,'Roster LIMA'!$B$13485:$AU$13693,'Roster LIMA'!I$1,FALSE)=0,\"\",VLOOKUP($A$3,'Roster LIMA'!$B$13485:$AU$13693,'Roster LIMA'!I$1,FALSE))))","v":""},{"$f":"IF(COUNTBLANK($A$3)<>0,\"\",IF(ISERROR(VLOOKUP($A$3,'Roster LIMA'!$B$13485:$AU$13693,'Roster LIMA'!J$1,FALSE)),\"\",IF(VLOOKUP($A$3,'Roster LIMA'!$B$13485:$AU$13693,'Roster LIMA'!J$1,FALSE)=0,\"\",VLOOKUP($A$3,'Roster LIMA'!$B$13485:$AU$13693,'Roster LIMA'!J$1,FALSE))))","v":""},{"$f":"IF(COUNTBLANK($A$3)<>0,\"\",IF(ISERROR(VLOOKUP($A$3,'Roster LIMA'!$B$13485:$AU$13693,'Roster LIMA'!K$1,FALSE)),\"\",IF(VLOOKUP($A$3,'Roster LIMA'!$B$13485:$AU$13693,'Roster LIMA'!K$1,FALSE)=0,\"\",VLOOKUP($A$3,'Roster LIMA'!$B$13485:$AU$13693,'Roster LIMA'!K$1,FALSE))))","v":""},{"$f":"IF(COUNTBLANK($A$3)<>0,\"\",IF(ISERROR(VLOOKUP($A$3,'Roster LIMA'!$B$13485:$AU$13693,'Roster LIMA'!F$1,FALSE)),\"\",IF(VLOOKUP($A$3,'Roster LIMA'!$B$13485:$AU$13693,'Roster LIMA'!F$1,FALSE)=0,\"\",VLOOKUP($A$3,'Roster LIMA'!$B$13485:$AU$13693,'Roster LIMA'!F$1,FALSE))))","v":""},{"$f":"IF(COUNTBLANK($A$3)<>0,\"\",IF(ISERROR(VLOOKUP($A$3,'Roster LIMA'!$B$13485:$AU$13693,'Roster LIMA'!E$1,FALSE)),\"\",IF(VLOOKUP($A$3,'Roster LIMA'!$B$13485:$AU$13693,'Roster LIMA'!E$1,FALSE)=0,\"\",VLOOKUP($A$3,'Roster LIMA'!$B$13485:$AU$13693,'Roster LIMA'!E$1,FALSE))))","v":""},{"$f":"IF(COUNTBLANK($A$3)<>0,\"\",IF(ISERROR(VLOOKUP($A$3,'Roster LIMA'!$B$13485:$AU$13693,'Roster LIMA'!B$1,FALSE)),\"N/A\",IF(VLOOKUP($A$3,'Roster LIMA'!$B$13485:$AU$13693,'Roster LIMA'!B$1,FALSE)=0,\"\",VLOOKUP($A$3,'Roster LIMA'!$B$13485:$AU$13693,'Roster LIMA'!B$1,FALSE))))","v":""},{"$f":"IF(COUNTBLANK($A$3)<>0,\"\",IF(ISERROR(VLOOKUP($A$3,'Roster LIMA'!$B$13485:$AU$13693,'Roster LIMA'!C$1,FALSE)),\"\",IF(VLOOKUP($A$3,'Roster LIMA'!$B$13485:$AU$13693,'Roster LIMA'!C$1,FALSE)=0,\"\",VLOOKUP($A$3,'Roster LIMA'!$B$13485:$AU$13693,'Roster LIMA'!C$1,FALSE))))","v":""},{"$f":"IF(COUNTBLANK($A$3)<>0,\"\",IF(ISERROR(VLOOKUP($A$3,'Roster LIMA'!$B$13485:$AU$13693,'Roster LIMA'!D$1,FALSE)),\"\",IF(VLOOKUP($A$3,'Roster LIMA'!$B$13485:$AU$13693,'Roster LIMA'!D$1,FALSE)=0,\"\",VLOOKUP($A$3,'Roster LIMA'!$B$13485:$AU$13693,'Roster LIMA'!D$1,FALSE))))","v":""},{"$f":"IF(COUNTBLANK($A$3)<>0,\"\",IF(ISERROR(VLOOKUP($A$3,'Roster LIMA'!$B$13485:$AU$13693,'Roster LIMA'!L$1,FALSE)),\"\",VLOOKUP($A$3,'Roster LIMA'!$B$13485:$AU$13693,'Roster LIMA'!L$1,FALSE)))","v":""},{"$f":"IF(COUNTBLANK($A$3)<>0,\"\",IF(ISERROR(VLOOKUP($A$3,'Roster LIMA'!$B$13485:$AU$13693,'Roster LIMA'!M$1,FALSE)),\"\",VLOOKUP($A$3,'Roster LIMA'!$B$13485:$AU$13693,'Roster LIMA'!M$1,FALSE)))","v":""},{"$f":"IF(COUNTBLANK($A$3)<>0,\"\",IF(ISERROR(VLOOKUP($A$3,'Roster LIMA'!$B$13485:$AU$13693,'Roster LIMA'!N$1,FALSE)),\"\",VLOOKUP($A$3,'Roster LIMA'!$B$13485:$AU$13693,'Roster LIMA'!N$1,FALSE)))","v":""},{"$f":"IF(COUNTBLANK($A$3)<>0,\"\",IF(ISERROR(VLOOKUP($A$3,'Roster LIMA'!$B$13485:$AU$13693,'Roster LIMA'!O$1,FALSE)),\"\",VLOOKUP($A$3,'Roster LIMA'!$B$13485:$AU$13693,'Roster LIMA'!O$1,FALSE)))","v":""},{"$f":"IF(COUNTBLANK($A$3)<>0,\"\",IF(ISERROR(VLOOKUP($A$3,'Roster LIMA'!$B$13485:$AU$13693,'Roster LIMA'!P$1,FALSE)),\"\",VLOOKUP($A$3,'Roster LIMA'!$B$13485:$AU$13693,'Roster LIMA'!P$1,FALSE)))","v":""},{"$f":"IF(COUNTBLANK($A$3)<>0,\"\",IF(ISERROR(VLOOKUP($A$3,'Roster LIMA'!$B$13485:$AU$13693,'Roster LIMA'!Q$1,FALSE)),\"\",VLOOKUP($A$3,'Roster LIMA'!$B$13485:$AU$13693,'Roster LIMA'!Q$1,FALSE)))","v":""},{"$f":"IF(COUNTBLANK($A$3)<>0,\"\",IF(ISERROR(VLOOKUP($A$3,'Roster LIMA'!$B$13485:$AU$13693,'Roster LIMA'!R$1,FALSE)),\"\",VLOOKUP($A$3,'Roster LIMA'!$B$13485:$AU$13693,'Roster LIMA'!R$1,FALSE)))","v":""},{"$f":"IF(COUNTBLANK($A$3)<>0,\"\",IF(ISERROR(VLOOKUP($A$3,'Roster LIMA'!$B$13485:$AU$13693,'Roster LIMA'!S$1,FALSE)),\"\",VLOOKUP($A$3,'Roster LIMA'!$B$13485:$AU$13693,'Roster LIMA'!S$1,FALSE)))","v":""},{"$f":"IF(COUNTBLANK($A$3)<>0,\"\",IF(ISERROR(VLOOKUP($A$3,'Roster LIMA'!$B$13485:$AU$13693,'Roster LIMA'!T$1,FALSE)),\"\",VLOOKUP($A$3,'Roster LIMA'!$B$13485:$AU$13693,'Roster LIMA'!T$1,FALSE)))","v":""},{"$f":"IF(COUNTBLANK($A$3)<>0,\"\",IF(ISERROR(VLOOKUP($A$3,'Roster LIMA'!$B$13485:$AU$13693,'Roster LIMA'!U$1,FALSE)),\"\",VLOOKUP($A$3,'Roster LIMA'!$B$13485:$AU$13693,'Roster LIMA'!U$1,FALSE)))","v":""},{"$f":"IF(COUNTBLANK($A$3)<>0,\"\",IF(ISERROR(VLOOKUP($A$3,'Roster LIMA'!$B$13485:$AU$13693,'Roster LIMA'!V$1,FALSE)),\"\",VLOOKUP($A$3,'Roster LIMA'!$B$13485:$AU$13693,'Roster LIMA'!V$1,FALSE)))","v":""},{"$f":"IF(COUNTBLANK($A$3)<>0,\"\",IF(ISERROR(VLOOKUP($A$3,'Roster LIMA'!$B$13485:$AU$13693,'Roster LIMA'!W$1,FALSE)),\"\",VLOOKUP($A$3,'Roster LIMA'!$B$13485:$AU$13693,'Roster LIMA'!W$1,FALSE)))","v":""},{"$f":"IF(COUNTBLANK($A$3)<>0,\"\",IF(ISERROR(VLOOKUP($A$3,'Roster LIMA'!$B$13485:$AU$13693,'Roster LIMA'!X$1,FALSE)),\"\",VLOOKUP($A$3,'Roster LIMA'!$B$13485:$AU$13693,'Roster LIMA'!X$1,FALSE)))","v":""},{"$f":"IF(COUNTBLANK($A$3)<>0,\"\",IF(ISERROR(VLOOKUP($A$3,'Roster LIMA'!$B$13485:$AU$13693,'Roster LIMA'!Y$1,FALSE)),\"\",VLOOKUP($A$3,'Roster LIMA'!$B$13485:$AU$13693,'Roster LIMA'!Y$1,FALSE)))","v":""},{"$f":"IF(COUNTBLANK($A$3)<>0,\"\",IF(ISERROR(VLOOKUP($A$3,'Roster LIMA'!$B$13485:$AU$13693,'Roster LIMA'!Z$1,FALSE)),\"\",VLOOKUP($A$3,'Roster LIMA'!$B$13485:$AU$13693,'Roster LIMA'!Z$1,FALSE)))","v":""},{"$f":"IF(COUNTBLANK($A$3)<>0,\"\",IF(ISERROR(VLOOKUP($A$3,'Roster LIMA'!$B$13485:$AU$13693,'Roster LIMA'!AA$1,FALSE)),\"\",VLOOKUP($A$3,'Roster LIMA'!$B$13485:$AU$13693,'Roster LIMA'!AA$1,FALSE)))","v":""},{"$f":"IF(COUNTBLANK($A$3)<>0,\"\",IF(ISERROR(VLOOKUP($A$3,'Roster LIMA'!$B$13485:$AU$13693,'Roster LIMA'!AB$1,FALSE)),\"\",VLOOKUP($A$3,'Roster LIMA'!$B$13485:$AU$13693,'Roster LIMA'!AB$1,FALSE)))","v":""},{"$f":"IF(COUNTBLANK($A$3)<>0,\"\",IF(ISERROR(VLOOKUP($A$3,'Roster LIMA'!$B$13485:$AU$13693,'Roster LIMA'!AC$1,FALSE)),\"\",VLOOKUP($A$3,'Roster LIMA'!$B$13485:$AU$13693,'Roster LIMA'!AC$1,FALSE)))","v":""},{"$f":"IF(COUNTBLANK($A$3)<>0,\"\",IF(ISERROR(VLOOKUP($A$3,'Roster LIMA'!$B$13485:$AU$13693,'Roster LIMA'!AD$1,FALSE)),\"\",VLOOKUP($A$3,'Roster LIMA'!$B$13485:$AU$13693,'Roster LIMA'!AD$1,FALSE)))","v":""},{"$f":"IF(COUNTBLANK($A$3)<>0,\"\",IF(ISERROR(VLOOKUP($A$3,'Roster LIMA'!$B$13485:$AU$13693,'Roster LIMA'!AE$1,FALSE)),\"\",VLOOKUP($A$3,'Roster LIMA'!$B$13485:$AU$13693,'Roster LIMA'!AE$1,FALSE)))","v":""},{"$f":"IF(COUNTBLANK($A$3)<>0,\"\",IF(ISERROR(VLOOKUP($A$3,'Roster LIMA'!$B$13485:$AU$13693,'Roster LIMA'!AF$1,FALSE)),\"\",VLOOKUP($A$3,'Roster LIMA'!$B$13485:$AU$13693,'Roster LIMA'!AF$1,FALSE)))","v":""},{"$f":"IF(COUNTBLANK($A$3)<>0,\"\",IF(ISERROR(VLOOKUP($A$3,'Roster LIMA'!$B$13485:$AU$13693,'Roster LIMA'!AG$1,FALSE)),\"\",VLOOKUP($A$3,'Roster LIMA'!$B$13485:$AU$13693,'Roster LIMA'!AG$1,FALSE)))","v":""},{"$f":"IF(COUNTBLANK($A$3)<>0,\"\",IF(ISERROR(VLOOKUP($A$3,'Roster LIMA'!$B$13485:$AU$13693,'Roster LIMA'!AH$1,FALSE)),\"\",VLOOKUP($A$3,'Roster LIMA'!$B$13485:$AU$13693,'Roster LIMA'!AH$1,FALSE)))","v":""},{"$f":"IF(COUNTBLANK($A$3)<>0,\"\",IF(ISERROR(VLOOKUP($A$3,'Roster LIMA'!$B$13485:$AU$13693,'Roster LIMA'!AI$1,FALSE)),\"\",VLOOKUP($A$3,'Roster LIMA'!$B$13485:$AU$13693,'Roster LIMA'!AI$1,FALSE)))","v":""},{"$f":"IF(COUNTBLANK($A$3)<>0,\"\",IF(ISERROR(VLOOKUP($A$3,'Roster LIMA'!$B$13485:$AU$13693,'Roster LIMA'!AJ$1,FALSE)),\"\",VLOOKUP($A$3,'Roster LIMA'!$B$13485:$AU$13693,'Roster LIMA'!AJ$1,FALSE)))","v":""},{"$f":"IF(COUNTBLANK($A$3)<>0,\"\",IF(ISERROR(VLOOKUP($A$3,'Roster LIMA'!$B$13485:$AU$13693,'Roster LIMA'!AK$1,FALSE)),\"\",VLOOKUP($A$3,'Roster LIMA'!$B$13485:$AU$13693,'Roster LIMA'!AK$1,FALSE)))","v":""},{"$f":"IF(COUNTBLANK($A$3)<>0,\"\",IF(ISERROR(VLOOKUP($A$3,'Roster LIMA'!$B$13485:$AU$13693,'Roster LIMA'!AL$1,FALSE)),\"\",VLOOKUP($A$3,'Roster LIMA'!$B$13485:$AU$13693,'Roster LIMA'!AL$1,FALSE)))","v":""},{"$f":"IF(COUNTBLANK($A$3)<>0,\"\",IF(ISERROR(VLOOKUP($A$3,'Roster LIMA'!$B$13485:$AU$13693,'Roster LIMA'!AM$1,FALSE)),\"\",VLOOKUP($A$3,'Roster LIMA'!$B$13485:$AU$13693,'Roster LIMA'!AM$1,FALSE)))","v":""},{"$f":"IF(COUNTBLANK($A$3)<>0,\"\",IF(ISERROR(VLOOKUP($A$3,'Roster LIMA'!$B$13485:$AU$13693,'Roster LIMA'!AN$1,FALSE)),\"\",VLOOKUP($A$3,'Roster LIMA'!$B$13485:$AU$13693,'Roster LIMA'!AN$1,FALSE)))","v":""},{"$f":"IF(COUNTBLANK($A$3)<>0,\"\",IF(ISERROR(VLOOKUP($A$3,'Roster LIMA'!$B$13485:$AU$13693,'Roster LIMA'!AO$1,FALSE)),\"\",VLOOKUP($A$3,'Roster LIMA'!$B$13485:$AU$13693,'Roster LIMA'!AO$1,FALSE)))","v":""},{"$f":"IF(COUNTBLANK($A$3)<>0,\"\",IF(ISERROR(VLOOKUP($A$3,'Roster LIMA'!$B$13485:$AU$13693,'Roster LIMA'!AP$1,FALSE)),\"\",VLOOKUP($A$3,'Roster LIMA'!$B$13485:$AU$13693,'Roster LIMA'!AP$1,FALSE)))","v":""},{"$f":"IF(COUNTBLANK($A$3)<>0,\"\",IF(ISERROR(VLOOKUP($A$3,'Roster LIMA'!$B$13485:$AU$13693,'Roster LIMA'!AQ$1,FALSE)),\"\",VLOOKUP($A$3,'Roster LIMA'!$B$13485:$AU$13693,'Roster LIMA'!AQ$1,FALSE)))","v":""},{"$f":"IF(COUNTBLANK($A$3)<>0,\"\",IF(ISERROR(VLOOKUP($A$3,'Roster LIMA'!$B$13485:$AU$13693,'Roster LIMA'!AR$1,FALSE)),\"\",VLOOKUP($A$3,'Roster LIMA'!$B$13485:$AU$13693,'Roster LIMA'!AR$1,FALSE)))","v":""},{"$f":"IF(COUNTBLANK($A$3)<>0,\"\",IF(ISERROR(VLOOKUP($A$3,'Roster LIMA'!$B$13485:$AU$13693,'Roster LIMA'!AS$1,FALSE)),\"\",VLOOKUP($A$3,'Roster LIMA'!$B$13485:$AU$13693,'Roster LIMA'!AS$1,FALSE)))","v":""},{"$f":"IF(COUNTBLANK($A$3)<>0,\"\",IF(ISERROR(VLOOKUP($A$3,'Roster LIMA'!$B$13485:$AU$13693,'Roster LIMA'!AT$1,FALSE)),\"\",VLOOKUP($A$3,'Roster LIMA'!$B$13485:$AU$13693,'Roster LIMA'!AT$1,FALSE)))","v":""},{"$f":"IF(COUNTBLANK($A$3)<>0,\"\",IF(ISERROR(VLOOKUP($A$3,'Roster LIMA'!$B$13485:$AU$13693,'Roster LIMA'!AU$1,FALSE)),\"\",VLOOKUP($A$3,'Roster LIMA'!$B$13485:$AU$13693,'Roster LIMA'!AU$1,FALSE)))","v":""}]
[{"$f":"+'Roster LIMA'!G13697","v":1999},{"$f":"IF(COUNTBLANK($A$3)<>0,\"\",IF(ISERROR(VLOOKUP($A$3,'Roster LIMA'!$B$13697:$AU$13828,'Roster LIMA'!H$1,FALSE)),\"\",IF(VLOOKUP($A$3,'Roster LIMA'!$B$13697:$AU$13828,'Roster LIMA'!H$1,FALSE)=0,\"\",VLOOKUP($A$3,'Roster LIMA'!$B$13697:$AU$13828,'Roster LIMA'!H$1,FALSE))))","v":""},{"$f":"IF(COUNTBLANK($A$3)<>0,\"\",IF(ISERROR(VLOOKUP($A$3,'Roster LIMA'!$B$13697:$AU$13828,'Roster LIMA'!I$1,FALSE)),\"\",IF(VLOOKUP($A$3,'Roster LIMA'!$B$13697:$AU$13828,'Roster LIMA'!I$1,FALSE)=0,\"\",VLOOKUP($A$3,'Roster LIMA'!$B$13697:$AU$13828,'Roster LIMA'!I$1,FALSE))))","v":""},{"$f":"IF(COUNTBLANK($A$3)<>0,\"\",IF(ISERROR(VLOOKUP($A$3,'Roster LIMA'!$B$13697:$AU$13828,'Roster LIMA'!J$1,FALSE)),\"\",IF(VLOOKUP($A$3,'Roster LIMA'!$B$13697:$AU$13828,'Roster LIMA'!J$1,FALSE)=0,\"\",VLOOKUP($A$3,'Roster LIMA'!$B$13697:$AU$13828,'Roster LIMA'!J$1,FALSE))))","v":""},{"$f":"IF(COUNTBLANK($A$3)<>0,\"\",IF(ISERROR(VLOOKUP($A$3,'Roster LIMA'!$B$13697:$AU$13828,'Roster LIMA'!K$1,FALSE)),\"\",IF(VLOOKUP($A$3,'Roster LIMA'!$B$13697:$AU$13828,'Roster LIMA'!K$1,FALSE)=0,\"\",VLOOKUP($A$3,'Roster LIMA'!$B$13697:$AU$13828,'Roster LIMA'!K$1,FALSE))))","v":""},{"$f":"IF(COUNTBLANK($A$3)<>0,\"\",IF(ISERROR(VLOOKUP($A$3,'Roster LIMA'!$B$13697:$AU$13828,'Roster LIMA'!F$1,FALSE)),\"\",IF(VLOOKUP($A$3,'Roster LIMA'!$B$13697:$AU$13828,'Roster LIMA'!F$1,FALSE)=0,\"\",VLOOKUP($A$3,'Roster LIMA'!$B$13697:$AU$13828,'Roster LIMA'!F$1,FALSE))))","v":""},{"$f":"IF(COUNTBLANK($A$3)<>0,\"\",IF(ISERROR(VLOOKUP($A$3,'Roster LIMA'!$B$13697:$AU$13828,'Roster LIMA'!E$1,FALSE)),\"\",IF(VLOOKUP($A$3,'Roster LIMA'!$B$13697:$AU$13828,'Roster LIMA'!E$1,FALSE)=0,\"\",VLOOKUP($A$3,'Roster LIMA'!$B$13697:$AU$13828,'Roster LIMA'!E$1,FALSE))))","v":""},{"$f":"IF(COUNTBLANK($A$3)<>0,\"\",IF(ISERROR(VLOOKUP($A$3,'Roster LIMA'!$B$13697:$AU$13828,'Roster LIMA'!B$1,FALSE)),\"N/A\",IF(VLOOKUP($A$3,'Roster LIMA'!$B$13697:$AU$13828,'Roster LIMA'!B$1,FALSE)=0,\"\",VLOOKUP($A$3,'Roster LIMA'!$B$13697:$AU$13828,'Roster LIMA'!B$1,FALSE))))","v":""},{"$f":"IF(COUNTBLANK($A$3)<>0,\"\",IF(ISERROR(VLOOKUP($A$3,'Roster LIMA'!$B$13697:$AU$13828,'Roster LIMA'!C$1,FALSE)),\"\",IF(VLOOKUP($A$3,'Roster LIMA'!$B$13697:$AU$13828,'Roster LIMA'!C$1,FALSE)=0,\"\",VLOOKUP($A$3,'Roster LIMA'!$B$13697:$AU$13828,'Roster LIMA'!C$1,FALSE))))","v":""},{"$f":"IF(COUNTBLANK($A$3)<>0,\"\",IF(ISERROR(VLOOKUP($A$3,'Roster LIMA'!$B$13697:$AU$13828,'Roster LIMA'!D$1,FALSE)),\"\",IF(VLOOKUP($A$3,'Roster LIMA'!$B$13697:$AU$13828,'Roster LIMA'!D$1,FALSE)=0,\"\",VLOOKUP($A$3,'Roster LIMA'!$B$13697:$AU$13828,'Roster LIMA'!D$1,FALSE))))","v":""},{"$f":"IF(COUNTBLANK($A$3)<>0,\"\",IF(ISERROR(VLOOKUP($A$3,'Roster LIMA'!$B$13697:$AU$13828,'Roster LIMA'!L$1,FALSE)),\"\",VLOOKUP($A$3,'Roster LIMA'!$B$13697:$AU$13828,'Roster LIMA'!L$1,FALSE)))","v":""},{"$f":"IF(COUNTBLANK($A$3)<>0,\"\",IF(ISERROR(VLOOKUP($A$3,'Roster LIMA'!$B$13697:$AU$13828,'Roster LIMA'!M$1,FALSE)),\"\",VLOOKUP($A$3,'Roster LIMA'!$B$13697:$AU$13828,'Roster LIMA'!M$1,FALSE)))","v":""},{"$f":"IF(COUNTBLANK($A$3)<>0,\"\",IF(ISERROR(VLOOKUP($A$3,'Roster LIMA'!$B$13697:$AU$13828,'Roster LIMA'!N$1,FALSE)),\"\",VLOOKUP($A$3,'Roster LIMA'!$B$13697:$AU$13828,'Roster LIMA'!N$1,FALSE)))","v":""},{"$f":"IF(COUNTBLANK($A$3)<>0,\"\",IF(ISERROR(VLOOKUP($A$3,'Roster LIMA'!$B$13697:$AU$13828,'Roster LIMA'!O$1,FALSE)),\"\",VLOOKUP($A$3,'Roster LIMA'!$B$13697:$AU$13828,'Roster LIMA'!O$1,FALSE)))","v":""},{"$f":"IF(COUNTBLANK($A$3)<>0,\"\",IF(ISERROR(VLOOKUP($A$3,'Roster LIMA'!$B$13697:$AU$13828,'Roster LIMA'!P$1,FALSE)),\"\",VLOOKUP($A$3,'Roster LIMA'!$B$13697:$AU$13828,'Roster LIMA'!P$1,FALSE)))","v":""},{"$f":"IF(COUNTBLANK($A$3)<>0,\"\",IF(ISERROR(VLOOKUP($A$3,'Roster LIMA'!$B$13697:$AU$13828,'Roster LIMA'!Q$1,FALSE)),\"\",VLOOKUP($A$3,'Roster LIMA'!$B$13697:$AU$13828,'Roster LIMA'!Q$1,FALSE)))","v":""},{"$f":"IF(COUNTBLANK($A$3)<>0,\"\",IF(ISERROR(VLOOKUP($A$3,'Roster LIMA'!$B$13697:$AU$13828,'Roster LIMA'!R$1,FALSE)),\"\",VLOOKUP($A$3,'Roster LIMA'!$B$13697:$AU$13828,'Roster LIMA'!R$1,FALSE)))","v":""},{"$f":"IF(COUNTBLANK($A$3)<>0,\"\",IF(ISERROR(VLOOKUP($A$3,'Roster LIMA'!$B$13697:$AU$13828,'Roster LIMA'!S$1,FALSE)),\"\",VLOOKUP($A$3,'Roster LIMA'!$B$13697:$AU$13828,'Roster LIMA'!S$1,FALSE)))","v":""},{"$f":"IF(COUNTBLANK($A$3)<>0,\"\",IF(ISERROR(VLOOKUP($A$3,'Roster LIMA'!$B$13697:$AU$13828,'Roster LIMA'!T$1,FALSE)),\"\",VLOOKUP($A$3,'Roster LIMA'!$B$13697:$AU$13828,'Roster LIMA'!T$1,FALSE)))","v":""},{"$f":"IF(COUNTBLANK($A$3)<>0,\"\",IF(ISERROR(VLOOKUP($A$3,'Roster LIMA'!$B$13697:$AU$13828,'Roster LIMA'!U$1,FALSE)),\"\",VLOOKUP($A$3,'Roster LIMA'!$B$13697:$AU$13828,'Roster LIMA'!U$1,FALSE)))","v":""},{"$f":"IF(COUNTBLANK($A$3)<>0,\"\",IF(ISERROR(VLOOKUP($A$3,'Roster LIMA'!$B$13697:$AU$13828,'Roster LIMA'!V$1,FALSE)),\"\",VLOOKUP($A$3,'Roster LIMA'!$B$13697:$AU$13828,'Roster LIMA'!V$1,FALSE)))","v":""},{"$f":"IF(COUNTBLANK($A$3)<>0,\"\",IF(ISERROR(VLOOKUP($A$3,'Roster LIMA'!$B$13697:$AU$13828,'Roster LIMA'!W$1,FALSE)),\"\",VLOOKUP($A$3,'Roster LIMA'!$B$13697:$AU$13828,'Roster LIMA'!W$1,FALSE)))","v":""},{"$f":"IF(COUNTBLANK($A$3)<>0,\"\",IF(ISERROR(VLOOKUP($A$3,'Roster LIMA'!$B$13697:$AU$13828,'Roster LIMA'!X$1,FALSE)),\"\",VLOOKUP($A$3,'Roster LIMA'!$B$13697:$AU$13828,'Roster LIMA'!X$1,FALSE)))","v":""},{"$f":"IF(COUNTBLANK($A$3)<>0,\"\",IF(ISERROR(VLOOKUP($A$3,'Roster LIMA'!$B$13697:$AU$13828,'Roster LIMA'!Y$1,FALSE)),\"\",VLOOKUP($A$3,'Roster LIMA'!$B$13697:$AU$13828,'Roster LIMA'!Y$1,FALSE)))","v":""},{"$f":"IF(COUNTBLANK($A$3)<>0,\"\",IF(ISERROR(VLOOKUP($A$3,'Roster LIMA'!$B$13697:$AU$13828,'Roster LIMA'!Z$1,FALSE)),\"\",VLOOKUP($A$3,'Roster LIMA'!$B$13697:$AU$13828,'Roster LIMA'!Z$1,FALSE)))","v":""},{"$f":"IF(COUNTBLANK($A$3)<>0,\"\",IF(ISERROR(VLOOKUP($A$3,'Roster LIMA'!$B$13697:$AU$13828,'Roster LIMA'!AA$1,FALSE)),\"\",VLOOKUP($A$3,'Roster LIMA'!$B$13697:$AU$13828,'Roster LIMA'!AA$1,FALSE)))","v":""},{"$f":"IF(COUNTBLANK($A$3)<>0,\"\",IF(ISERROR(VLOOKUP($A$3,'Roster LIMA'!$B$13697:$AU$13828,'Roster LIMA'!AB$1,FALSE)),\"\",VLOOKUP($A$3,'Roster LIMA'!$B$13697:$AU$13828,'Roster LIMA'!AB$1,FALSE)))","v":""},{"$f":"IF(COUNTBLANK($A$3)<>0,\"\",IF(ISERROR(VLOOKUP($A$3,'Roster LIMA'!$B$13697:$AU$13828,'Roster LIMA'!AC$1,FALSE)),\"\",VLOOKUP($A$3,'Roster LIMA'!$B$13697:$AU$13828,'Roster LIMA'!AC$1,FALSE)))","v":""},{"$f":"IF(COUNTBLANK($A$3)<>0,\"\",IF(ISERROR(VLOOKUP($A$3,'Roster LIMA'!$B$13697:$AU$13828,'Roster LIMA'!AD$1,FALSE)),\"\",VLOOKUP($A$3,'Roster LIMA'!$B$13697:$AU$13828,'Roster LIMA'!AD$1,FALSE)))","v":""},{"$f":"IF(COUNTBLANK($A$3)<>0,\"\",IF(ISERROR(VLOOKUP($A$3,'Roster LIMA'!$B$13697:$AU$13828,'Roster LIMA'!AE$1,FALSE)),\"\",VLOOKUP($A$3,'Roster LIMA'!$B$13697:$AU$13828,'Roster LIMA'!AE$1,FALSE)))","v":""},{"$f":"IF(COUNTBLANK($A$3)<>0,\"\",IF(ISERROR(VLOOKUP($A$3,'Roster LIMA'!$B$13697:$AU$13828,'Roster LIMA'!AF$1,FALSE)),\"\",VLOOKUP($A$3,'Roster LIMA'!$B$13697:$AU$13828,'Roster LIMA'!AF$1,FALSE)))","v":""},{"$f":"IF(COUNTBLANK($A$3)<>0,\"\",IF(ISERROR(VLOOKUP($A$3,'Roster LIMA'!$B$13697:$AU$13828,'Roster LIMA'!AG$1,FALSE)),\"\",VLOOKUP($A$3,'Roster LIMA'!$B$13697:$AU$13828,'Roster LIMA'!AG$1,FALSE)))","v":""},{"$f":"IF(COUNTBLANK($A$3)<>0,\"\",IF(ISERROR(VLOOKUP($A$3,'Roster LIMA'!$B$13697:$AU$13828,'Roster LIMA'!AH$1,FALSE)),\"\",VLOOKUP($A$3,'Roster LIMA'!$B$13697:$AU$13828,'Roster LIMA'!AH$1,FALSE)))","v":""},{"$f":"IF(COUNTBLANK($A$3)<>0,\"\",IF(ISERROR(VLOOKUP($A$3,'Roster LIMA'!$B$13697:$AU$13828,'Roster LIMA'!AI$1,FALSE)),\"\",VLOOKUP($A$3,'Roster LIMA'!$B$13697:$AU$13828,'Roster LIMA'!AI$1,FALSE)))","v":""},{"$f":"IF(COUNTBLANK($A$3)<>0,\"\",IF(ISERROR(VLOOKUP($A$3,'Roster LIMA'!$B$13697:$AU$13828,'Roster LIMA'!AJ$1,FALSE)),\"\",VLOOKUP($A$3,'Roster LIMA'!$B$13697:$AU$13828,'Roster LIMA'!AJ$1,FALSE)))","v":""},{"$f":"IF(COUNTBLANK($A$3)<>0,\"\",IF(ISERROR(VLOOKUP($A$3,'Roster LIMA'!$B$13697:$AU$13828,'Roster LIMA'!AK$1,FALSE)),\"\",VLOOKUP($A$3,'Roster LIMA'!$B$13697:$AU$13828,'Roster LIMA'!AK$1,FALSE)))","v":""},{"$f":"IF(COUNTBLANK($A$3)<>0,\"\",IF(ISERROR(VLOOKUP($A$3,'Roster LIMA'!$B$13697:$AU$13828,'Roster LIMA'!AL$1,FALSE)),\"\",VLOOKUP($A$3,'Roster LIMA'!$B$13697:$AU$13828,'Roster LIMA'!AL$1,FALSE)))","v":""},{"$f":"IF(COUNTBLANK($A$3)<>0,\"\",IF(ISERROR(VLOOKUP($A$3,'Roster LIMA'!$B$13697:$AU$13828,'Roster LIMA'!AM$1,FALSE)),\"\",VLOOKUP($A$3,'Roster LIMA'!$B$13697:$AU$13828,'Roster LIMA'!AM$1,FALSE)))","v":""},{"$f":"IF(COUNTBLANK($A$3)<>0,\"\",IF(ISERROR(VLOOKUP($A$3,'Roster LIMA'!$B$13697:$AU$13828,'Roster LIMA'!AN$1,FALSE)),\"\",VLOOKUP($A$3,'Roster LIMA'!$B$13697:$AU$13828,'Roster LIMA'!AN$1,FALSE)))","v":""},{"$f":"IF(COUNTBLANK($A$3)<>0,\"\",IF(ISERROR(VLOOKUP($A$3,'Roster LIMA'!$B$13697:$AU$13828,'Roster LIMA'!AO$1,FALSE)),\"\",VLOOKUP($A$3,'Roster LIMA'!$B$13697:$AU$13828,'Roster LIMA'!AO$1,FALSE)))","v":""},{"$f":"IF(COUNTBLANK($A$3)<>0,\"\",IF(ISERROR(VLOOKUP($A$3,'Roster LIMA'!$B$13697:$AU$13828,'Roster LIMA'!AP$1,FALSE)),\"\",VLOOKUP($A$3,'Roster LIMA'!$B$13697:$AU$13828,'Roster LIMA'!AP$1,FALSE)))","v":""},{"$f":"IF(COUNTBLANK($A$3)<>0,\"\",IF(ISERROR(VLOOKUP($A$3,'Roster LIMA'!$B$13697:$AU$13828,'Roster LIMA'!AQ$1,FALSE)),\"\",VLOOKUP($A$3,'Roster LIMA'!$B$13697:$AU$13828,'Roster LIMA'!AQ$1,FALSE)))","v":""},{"$f":"IF(COUNTBLANK($A$3)<>0,\"\",IF(ISERROR(VLOOKUP($A$3,'Roster LIMA'!$B$13697:$AU$13828,'Roster LIMA'!AR$1,FALSE)),\"\",VLOOKUP($A$3,'Roster LIMA'!$B$13697:$AU$13828,'Roster LIMA'!AR$1,FALSE)))","v":""},{"$f":"IF(COUNTBLANK($A$3)<>0,\"\",IF(ISERROR(VLOOKUP($A$3,'Roster LIMA'!$B$13697:$AU$13828,'Roster LIMA'!AS$1,FALSE)),\"\",VLOOKUP($A$3,'Roster LIMA'!$B$13697:$AU$13828,'Roster LIMA'!AS$1,FALSE)))","v":""},{"$f":"IF(COUNTBLANK($A$3)<>0,\"\",IF(ISERROR(VLOOKUP($A$3,'Roster LIMA'!$B$13697:$AU$13828,'Roster LIMA'!AT$1,FALSE)),\"\",VLOOKUP($A$3,'Roster LIMA'!$B$13697:$AU$13828,'Roster LIMA'!AT$1,FALSE)))","v":""},{"$f":"IF(COUNTBLANK($A$3)<>0,\"\",IF(ISERROR(VLOOKUP($A$3,'Roster LIMA'!$B$13697:$AU$13828,'Roster LIMA'!AU$1,FALSE)),\"\",VLOOKUP($A$3,'Roster LIMA'!$B$13697:$AU$13828,'Roster LIMA'!AU$1,FALSE)))","v":""}]
["1999-00",{"$f":"IF(COUNTBLANK($A$3)<>0,\"\",IF(ISERROR(VLOOKUP($A$3,'Roster LIMA'!$B$13829:$AU$14007,'Roster LIMA'!H$1,FALSE)),\"\",IF(VLOOKUP($A$3,'Roster LIMA'!$B$13829:$AU$14007,'Roster LIMA'!H$1,FALSE)=0,\"\",VLOOKUP($A$3,'Roster LIMA'!$B$13829:$AU$14007,'Roster LIMA'!H$1,FALSE))))","v":""},{"$f":"IF(COUNTBLANK($A$3)<>0,\"\",IF(ISERROR(VLOOKUP($A$3,'Roster LIMA'!$B$13829:$AU$14007,'Roster LIMA'!I$1,FALSE)),\"\",IF(VLOOKUP($A$3,'Roster LIMA'!$B$13829:$AU$14007,'Roster LIMA'!I$1,FALSE)=0,\"\",VLOOKUP($A$3,'Roster LIMA'!$B$13829:$AU$14007,'Roster LIMA'!I$1,FALSE))))","v":""},{"$f":"IF(COUNTBLANK($A$3)<>0,\"\",IF(ISERROR(VLOOKUP($A$3,'Roster LIMA'!$B$13829:$AU$14007,'Roster LIMA'!J$1,FALSE)),\"\",IF(VLOOKUP($A$3,'Roster LIMA'!$B$13829:$AU$14007,'Roster LIMA'!J$1,FALSE)=0,\"\",VLOOKUP($A$3,'Roster LIMA'!$B$13829:$AU$14007,'Roster LIMA'!J$1,FALSE))))","v":""},{"$f":"IF(COUNTBLANK($A$3)<>0,\"\",IF(ISERROR(VLOOKUP($A$3,'Roster LIMA'!$B$13829:$AU$14007,'Roster LIMA'!K$1,FALSE)),\"\",IF(VLOOKUP($A$3,'Roster LIMA'!$B$13829:$AU$14007,'Roster LIMA'!K$1,FALSE)=0,\"\",VLOOKUP($A$3,'Roster LIMA'!$B$13829:$AU$14007,'Roster LIMA'!K$1,FALSE))))","v":""},{"$f":"IF(COUNTBLANK($A$3)<>0,\"\",IF(ISERROR(VLOOKUP($A$3,'Roster LIMA'!$B$13829:$AU$14007,'Roster LIMA'!F$1,FALSE)),\"\",IF(VLOOKUP($A$3,'Roster LIMA'!$B$13829:$AU$14007,'Roster LIMA'!F$1,FALSE)=0,\"\",VLOOKUP($A$3,'Roster LIMA'!$B$13829:$AU$14007,'Roster LIMA'!F$1,FALSE))))","v":""},{"$f":"IF(COUNTBLANK($A$3)<>0,\"\",IF(ISERROR(VLOOKUP($A$3,'Roster LIMA'!$B$13829:$AU$14007,'Roster LIMA'!E$1,FALSE)),\"\",IF(VLOOKUP($A$3,'Roster LIMA'!$B$13829:$AU$14007,'Roster LIMA'!E$1,FALSE)=0,\"\",VLOOKUP($A$3,'Roster LIMA'!$B$13829:$AU$14007,'Roster LIMA'!E$1,FALSE))))","v":""},{"$f":"IF(COUNTBLANK($A$3)<>0,\"\",IF(ISERROR(VLOOKUP($A$3,'Roster LIMA'!$B$13829:$AU$14007,'Roster LIMA'!B$1,FALSE)),\"N/A\",IF(VLOOKUP($A$3,'Roster LIMA'!$B$13829:$AU$14007,'Roster LIMA'!B$1,FALSE)=0,\"\",VLOOKUP($A$3,'Roster LIMA'!$B$13829:$AU$14007,'Roster LIMA'!B$1,FALSE))))","v":""},{"$f":"IF(COUNTBLANK($A$3)<>0,\"\",IF(ISERROR(VLOOKUP($A$3,'Roster LIMA'!$B$13829:$AU$14007,'Roster LIMA'!C$1,FALSE)),\"\",IF(VLOOKUP($A$3,'Roster LIMA'!$B$13829:$AU$14007,'Roster LIMA'!C$1,FALSE)=0,\"\",VLOOKUP($A$3,'Roster LIMA'!$B$13829:$AU$14007,'Roster LIMA'!C$1,FALSE))))","v":""},{"$f":"IF(COUNTBLANK($A$3)<>0,\"\",IF(ISERROR(VLOOKUP($A$3,'Roster LIMA'!$B$13829:$AU$14007,'Roster LIMA'!D$1,FALSE)),\"\",IF(VLOOKUP($A$3,'Roster LIMA'!$B$13829:$AU$14007,'Roster LIMA'!D$1,FALSE)=0,\"\",VLOOKUP($A$3,'Roster LIMA'!$B$13829:$AU$14007,'Roster LIMA'!D$1,FALSE))))","v":""},{"$f":"IF(COUNTBLANK($A$3)<>0,\"\",IF(ISERROR(VLOOKUP($A$3,'Roster LIMA'!$B$13829:$AU$14007,'Roster LIMA'!L$1,FALSE)),\"\",VLOOKUP($A$3,'Roster LIMA'!$B$13829:$AU$14007,'Roster LIMA'!L$1,FALSE)))","v":""},{"$f":"IF(COUNTBLANK($A$3)<>0,\"\",IF(ISERROR(VLOOKUP($A$3,'Roster LIMA'!$B$13829:$AU$14007,'Roster LIMA'!M$1,FALSE)),\"\",VLOOKUP($A$3,'Roster LIMA'!$B$13829:$AU$14007,'Roster LIMA'!M$1,FALSE)))","v":""},{"$f":"IF(COUNTBLANK($A$3)<>0,\"\",IF(ISERROR(VLOOKUP($A$3,'Roster LIMA'!$B$13829:$AU$14007,'Roster LIMA'!N$1,FALSE)),\"\",VLOOKUP($A$3,'Roster LIMA'!$B$13829:$AU$14007,'Roster LIMA'!N$1,FALSE)))","v":""},{"$f":"IF(COUNTBLANK($A$3)<>0,\"\",IF(ISERROR(VLOOKUP($A$3,'Roster LIMA'!$B$13829:$AU$14007,'Roster LIMA'!O$1,FALSE)),\"\",VLOOKUP($A$3,'Roster LIMA'!$B$13829:$AU$14007,'Roster LIMA'!O$1,FALSE)))","v":""},{"$f":"IF(COUNTBLANK($A$3)<>0,\"\",IF(ISERROR(VLOOKUP($A$3,'Roster LIMA'!$B$13829:$AU$14007,'Roster LIMA'!P$1,FALSE)),\"\",VLOOKUP($A$3,'Roster LIMA'!$B$13829:$AU$14007,'Roster LIMA'!P$1,FALSE)))","v":""},{"$f":"IF(COUNTBLANK($A$3)<>0,\"\",IF(ISERROR(VLOOKUP($A$3,'Roster LIMA'!$B$13829:$AU$14007,'Roster LIMA'!Q$1,FALSE)),\"\",VLOOKUP($A$3,'Roster LIMA'!$B$13829:$AU$14007,'Roster LIMA'!Q$1,FALSE)))","v":""},{"$f":"IF(COUNTBLANK($A$3)<>0,\"\",IF(ISERROR(VLOOKUP($A$3,'Roster LIMA'!$B$13829:$AU$14007,'Roster LIMA'!R$1,FALSE)),\"\",VLOOKUP($A$3,'Roster LIMA'!$B$13829:$AU$14007,'Roster LIMA'!R$1,FALSE)))","v":""},{"$f":"IF(COUNTBLANK($A$3)<>0,\"\",IF(ISERROR(VLOOKUP($A$3,'Roster LIMA'!$B$13829:$AU$14007,'Roster LIMA'!S$1,FALSE)),\"\",VLOOKUP($A$3,'Roster LIMA'!$B$13829:$AU$14007,'Roster LIMA'!S$1,FALSE)))","v":""},{"$f":"IF(COUNTBLANK($A$3)<>0,\"\",IF(ISERROR(VLOOKUP($A$3,'Roster LIMA'!$B$13829:$AU$14007,'Roster LIMA'!T$1,FALSE)),\"\",VLOOKUP($A$3,'Roster LIMA'!$B$13829:$AU$14007,'Roster LIMA'!T$1,FALSE)))","v":""},{"$f":"IF(COUNTBLANK($A$3)<>0,\"\",IF(ISERROR(VLOOKUP($A$3,'Roster LIMA'!$B$13829:$AU$14007,'Roster LIMA'!U$1,FALSE)),\"\",VLOOKUP($A$3,'Roster LIMA'!$B$13829:$AU$14007,'Roster LIMA'!U$1,FALSE)))","v":""},{"$f":"IF(COUNTBLANK($A$3)<>0,\"\",IF(ISERROR(VLOOKUP($A$3,'Roster LIMA'!$B$13829:$AU$14007,'Roster LIMA'!V$1,FALSE)),\"\",VLOOKUP($A$3,'Roster LIMA'!$B$13829:$AU$14007,'Roster LIMA'!V$1,FALSE)))","v":""},{"$f":"IF(COUNTBLANK($A$3)<>0,\"\",IF(ISERROR(VLOOKUP($A$3,'Roster LIMA'!$B$13829:$AU$14007,'Roster LIMA'!W$1,FALSE)),\"\",VLOOKUP($A$3,'Roster LIMA'!$B$13829:$AU$14007,'Roster LIMA'!W$1,FALSE)))","v":""},{"$f":"IF(COUNTBLANK($A$3)<>0,\"\",IF(ISERROR(VLOOKUP($A$3,'Roster LIMA'!$B$13829:$AU$14007,'Roster LIMA'!X$1,FALSE)),\"\",VLOOKUP($A$3,'Roster LIMA'!$B$13829:$AU$14007,'Roster LIMA'!X$1,FALSE)))","v":""},{"$f":"IF(COUNTBLANK($A$3)<>0,\"\",IF(ISERROR(VLOOKUP($A$3,'Roster LIMA'!$B$13829:$AU$14007,'Roster LIMA'!Y$1,FALSE)),\"\",VLOOKUP($A$3,'Roster LIMA'!$B$13829:$AU$14007,'Roster LIMA'!Y$1,FALSE)))","v":""},{"$f":"IF(COUNTBLANK($A$3)<>0,\"\",IF(ISERROR(VLOOKUP($A$3,'Roster LIMA'!$B$13829:$AU$14007,'Roster LIMA'!Z$1,FALSE)),\"\",VLOOKUP($A$3,'Roster LIMA'!$B$13829:$AU$14007,'Roster LIMA'!Z$1,FALSE)))","v":""},{"$f":"IF(COUNTBLANK($A$3)<>0,\"\",IF(ISERROR(VLOOKUP($A$3,'Roster LIMA'!$B$13829:$AU$14007,'Roster LIMA'!AA$1,FALSE)),\"\",VLOOKUP($A$3,'Roster LIMA'!$B$13829:$AU$14007,'Roster LIMA'!AA$1,FALSE)))","v":""},{"$f":"IF(COUNTBLANK($A$3)<>0,\"\",IF(ISERROR(VLOOKUP($A$3,'Roster LIMA'!$B$13829:$AU$14007,'Roster LIMA'!AB$1,FALSE)),\"\",VLOOKUP($A$3,'Roster LIMA'!$B$13829:$AU$14007,'Roster LIMA'!AB$1,FALSE)))","v":""},{"$f":"IF(COUNTBLANK($A$3)<>0,\"\",IF(ISERROR(VLOOKUP($A$3,'Roster LIMA'!$B$13829:$AU$14007,'Roster LIMA'!AC$1,FALSE)),\"\",VLOOKUP($A$3,'Roster LIMA'!$B$13829:$AU$14007,'Roster LIMA'!AC$1,FALSE)))","v":""},{"$f":"IF(COUNTBLANK($A$3)<>0,\"\",IF(ISERROR(VLOOKUP($A$3,'Roster LIMA'!$B$13829:$AU$14007,'Roster LIMA'!AD$1,FALSE)),\"\",VLOOKUP($A$3,'Roster LIMA'!$B$13829:$AU$14007,'Roster LIMA'!AD$1,FALSE)))","v":""},{"$f":"IF(COUNTBLANK($A$3)<>0,\"\",IF(ISERROR(VLOOKUP($A$3,'Roster LIMA'!$B$13829:$AU$14007,'Roster LIMA'!AE$1,FALSE)),\"\",VLOOKUP($A$3,'Roster LIMA'!$B$13829:$AU$14007,'Roster LIMA'!AE$1,FALSE)))","v":""},{"$f":"IF(COUNTBLANK($A$3)<>0,\"\",IF(ISERROR(VLOOKUP($A$3,'Roster LIMA'!$B$13829:$AU$14007,'Roster LIMA'!AF$1,FALSE)),\"\",VLOOKUP($A$3,'Roster LIMA'!$B$13829:$AU$14007,'Roster LIMA'!AF$1,FALSE)))","v":""},{"$f":"IF(COUNTBLANK($A$3)<>0,\"\",IF(ISERROR(VLOOKUP($A$3,'Roster LIMA'!$B$13829:$AU$14007,'Roster LIMA'!AG$1,FALSE)),\"\",VLOOKUP($A$3,'Roster LIMA'!$B$13829:$AU$14007,'Roster LIMA'!AG$1,FALSE)))","v":""},{"$f":"IF(COUNTBLANK($A$3)<>0,\"\",IF(ISERROR(VLOOKUP($A$3,'Roster LIMA'!$B$13829:$AU$14007,'Roster LIMA'!AH$1,FALSE)),\"\",VLOOKUP($A$3,'Roster LIMA'!$B$13829:$AU$14007,'Roster LIMA'!AH$1,FALSE)))","v":""},{"$f":"IF(COUNTBLANK($A$3)<>0,\"\",IF(ISERROR(VLOOKUP($A$3,'Roster LIMA'!$B$13829:$AU$14007,'Roster LIMA'!AI$1,FALSE)),\"\",VLOOKUP($A$3,'Roster LIMA'!$B$13829:$AU$14007,'Roster LIMA'!AI$1,FALSE)))","v":""},{"$f":"IF(COUNTBLANK($A$3)<>0,\"\",IF(ISERROR(VLOOKUP($A$3,'Roster LIMA'!$B$13829:$AU$14007,'Roster LIMA'!AJ$1,FALSE)),\"\",VLOOKUP($A$3,'Roster LIMA'!$B$13829:$AU$14007,'Roster LIMA'!AJ$1,FALSE)))","v":""},{"$f":"IF(COUNTBLANK($A$3)<>0,\"\",IF(ISERROR(VLOOKUP($A$3,'Roster LIMA'!$B$13829:$AU$14007,'Roster LIMA'!AK$1,FALSE)),\"\",VLOOKUP($A$3,'Roster LIMA'!$B$13829:$AU$14007,'Roster LIMA'!AK$1,FALSE)))","v":""},{"$f":"IF(COUNTBLANK($A$3)<>0,\"\",IF(ISERROR(VLOOKUP($A$3,'Roster LIMA'!$B$13829:$AU$14007,'Roster LIMA'!AL$1,FALSE)),\"\",VLOOKUP($A$3,'Roster LIMA'!$B$13829:$AU$14007,'Roster LIMA'!AL$1,FALSE)))","v":""},{"$f":"IF(COUNTBLANK($A$3)<>0,\"\",IF(ISERROR(VLOOKUP($A$3,'Roster LIMA'!$B$13829:$AU$14007,'Roster LIMA'!AM$1,FALSE)),\"\",VLOOKUP($A$3,'Roster LIMA'!$B$13829:$AU$14007,'Roster LIMA'!AM$1,FALSE)))","v":""},{"$f":"IF(COUNTBLANK($A$3)<>0,\"\",IF(ISERROR(VLOOKUP($A$3,'Roster LIMA'!$B$13829:$AU$14007,'Roster LIMA'!AN$1,FALSE)),\"\",VLOOKUP($A$3,'Roster LIMA'!$B$13829:$AU$14007,'Roster LIMA'!AN$1,FALSE)))","v":""},{"$f":"IF(COUNTBLANK($A$3)<>0,\"\",IF(ISERROR(VLOOKUP($A$3,'Roster LIMA'!$B$13829:$AU$14007,'Roster LIMA'!AO$1,FALSE)),\"\",VLOOKUP($A$3,'Roster LIMA'!$B$13829:$AU$14007,'Roster LIMA'!AO$1,FALSE)))","v":""},{"$f":"IF(COUNTBLANK($A$3)<>0,\"\",IF(ISERROR(VLOOKUP($A$3,'Roster LIMA'!$B$13829:$AU$14007,'Roster LIMA'!AP$1,FALSE)),\"\",VLOOKUP($A$3,'Roster LIMA'!$B$13829:$AU$14007,'Roster LIMA'!AP$1,FALSE)))","v":""},{"$f":"IF(COUNTBLANK($A$3)<>0,\"\",IF(ISERROR(VLOOKUP($A$3,'Roster LIMA'!$B$13829:$AU$14007,'Roster LIMA'!AQ$1,FALSE)),\"\",VLOOKUP($A$3,'Roster LIMA'!$B$13829:$AU$14007,'Roster LIMA'!AQ$1,FALSE)))","v":""},{"$f":"IF(COUNTBLANK($A$3)<>0,\"\",IF(ISERROR(VLOOKUP($A$3,'Roster LIMA'!$B$13829:$AU$14007,'Roster LIMA'!AR$1,FALSE)),\"\",VLOOKUP($A$3,'Roster LIMA'!$B$13829:$AU$14007,'Roster LIMA'!AR$1,FALSE)))","v":""},{"$f":"IF(COUNTBLANK($A$3)<>0,\"\",IF(ISERROR(VLOOKUP($A$3,'Roster LIMA'!$B$13829:$AU$14007,'Roster LIMA'!AS$1,FALSE)),\"\",VLOOKUP($A$3,'Roster LIMA'!$B$13829:$AU$14007,'Roster LIMA'!AS$1,FALSE)))","v":""},{"$f":"IF(COUNTBLANK($A$3)<>0,\"\",IF(ISERROR(VLOOKUP($A$3,'Roster LIMA'!$B$13829:$AU$14007,'Roster LIMA'!AT$1,FALSE)),\"\",VLOOKUP($A$3,'Roster LIMA'!$B$13829:$AU$14007,'Roster LIMA'!AT$1,FALSE)))","v":""},{"$f":"IF(COUNTBLANK($A$3)<>0,\"\",IF(ISERROR(VLOOKUP($A$3,'Roster LIMA'!$B$13829:$AU$14007,'Roster LIMA'!AU$1,FALSE)),\"\",VLOOKUP($A$3,'Roster LIMA'!$B$13829:$AU$14007,'Roster LIMA'!AU$1,FALSE)))","v":""}]
[{"$f":"+'Roster LIMA'!G14008","v":2000},{"$f":"IF(COUNTBLANK($A$3)<>0,\"\",IF(ISERROR(VLOOKUP($A$3,'Roster LIMA'!$B$14008:$AU$14161,'Roster LIMA'!H$1,FALSE)),\"\",IF(VLOOKUP($A$3,'Roster LIMA'!$B$14008:$AU$14161,'Roster LIMA'!H$1,FALSE)=0,\"\",VLOOKUP($A$3,'Roster LIMA'!$B$14008:$AU$14161,'Roster LIMA'!H$1,FALSE))))","v":""},{"$f":"IF(COUNTBLANK($A$3)<>0,\"\",IF(ISERROR(VLOOKUP($A$3,'Roster LIMA'!$B$14008:$AU$14161,'Roster LIMA'!I$1,FALSE)),\"\",IF(VLOOKUP($A$3,'Roster LIMA'!$B$14008:$AU$14161,'Roster LIMA'!I$1,FALSE)=0,\"\",VLOOKUP($A$3,'Roster LIMA'!$B$14008:$AU$14161,'Roster LIMA'!I$1,FALSE))))","v":""},{"$f":"IF(COUNTBLANK($A$3)<>0,\"\",IF(ISERROR(VLOOKUP($A$3,'Roster LIMA'!$B$14008:$AU$14161,'Roster LIMA'!J$1,FALSE)),\"\",IF(VLOOKUP($A$3,'Roster LIMA'!$B$14008:$AU$14161,'Roster LIMA'!J$1,FALSE)=0,\"\",VLOOKUP($A$3,'Roster LIMA'!$B$14008:$AU$14161,'Roster LIMA'!J$1,FALSE))))","v":""},{"$f":"IF(COUNTBLANK($A$3)<>0,\"\",IF(ISERROR(VLOOKUP($A$3,'Roster LIMA'!$B$14008:$AU$14161,'Roster LIMA'!K$1,FALSE)),\"\",IF(VLOOKUP($A$3,'Roster LIMA'!$B$14008:$AU$14161,'Roster LIMA'!K$1,FALSE)=0,\"\",VLOOKUP($A$3,'Roster LIMA'!$B$14008:$AU$14161,'Roster LIMA'!K$1,FALSE))))","v":""},{"$f":"IF(COUNTBLANK($A$3)<>0,\"\",IF(ISERROR(VLOOKUP($A$3,'Roster LIMA'!$B$14008:$AU$14161,'Roster LIMA'!F$1,FALSE)),\"\",IF(VLOOKUP($A$3,'Roster LIMA'!$B$14008:$AU$14161,'Roster LIMA'!F$1,FALSE)=0,\"\",VLOOKUP($A$3,'Roster LIMA'!$B$14008:$AU$14161,'Roster LIMA'!F$1,FALSE))))","v":""},{"$f":"IF(COUNTBLANK($A$3)<>0,\"\",IF(ISERROR(VLOOKUP($A$3,'Roster LIMA'!$B$14008:$AU$14161,'Roster LIMA'!E$1,FALSE)),\"\",IF(VLOOKUP($A$3,'Roster LIMA'!$B$14008:$AU$14161,'Roster LIMA'!E$1,FALSE)=0,\"\",VLOOKUP($A$3,'Roster LIMA'!$B$14008:$AU$14161,'Roster LIMA'!E$1,FALSE))))","v":""},{"$f":"IF(COUNTBLANK($A$3)<>0,\"\",IF(ISERROR(VLOOKUP($A$3,'Roster LIMA'!$B$14008:$AU$14161,'Roster LIMA'!B$1,FALSE)),\"N/A\",IF(VLOOKUP($A$3,'Roster LIMA'!$B$14008:$AU$14161,'Roster LIMA'!B$1,FALSE)=0,\"\",VLOOKUP($A$3,'Roster LIMA'!$B$14008:$AU$14161,'Roster LIMA'!B$1,FALSE))))","v":""},{"$f":"IF(COUNTBLANK($A$3)<>0,\"\",IF(ISERROR(VLOOKUP($A$3,'Roster LIMA'!$B$14008:$AU$14161,'Roster LIMA'!C$1,FALSE)),\"\",IF(VLOOKUP($A$3,'Roster LIMA'!$B$14008:$AU$14161,'Roster LIMA'!C$1,FALSE)=0,\"\",VLOOKUP($A$3,'Roster LIMA'!$B$14008:$AU$14161,'Roster LIMA'!C$1,FALSE))))","v":""},{"$f":"IF(COUNTBLANK($A$3)<>0,\"\",IF(ISERROR(VLOOKUP($A$3,'Roster LIMA'!$B$14008:$AU$14161,'Roster LIMA'!D$1,FALSE)),\"\",IF(VLOOKUP($A$3,'Roster LIMA'!$B$14008:$AU$14161,'Roster LIMA'!D$1,FALSE)=0,\"\",VLOOKUP($A$3,'Roster LIMA'!$B$14008:$AU$14161,'Roster LIMA'!D$1,FALSE))))","v":""},{"$f":"IF(COUNTBLANK($A$3)<>0,\"\",IF(ISERROR(VLOOKUP($A$3,'Roster LIMA'!$B$14008:$AU$14161,'Roster LIMA'!L$1,FALSE)),\"\",VLOOKUP($A$3,'Roster LIMA'!$B$14008:$AU$14161,'Roster LIMA'!L$1,FALSE)))","v":""},{"$f":"IF(COUNTBLANK($A$3)<>0,\"\",IF(ISERROR(VLOOKUP($A$3,'Roster LIMA'!$B$14008:$AU$14161,'Roster LIMA'!M$1,FALSE)),\"\",VLOOKUP($A$3,'Roster LIMA'!$B$14008:$AU$14161,'Roster LIMA'!M$1,FALSE)))","v":""},{"$f":"IF(COUNTBLANK($A$3)<>0,\"\",IF(ISERROR(VLOOKUP($A$3,'Roster LIMA'!$B$14008:$AU$14161,'Roster LIMA'!N$1,FALSE)),\"\",VLOOKUP($A$3,'Roster LIMA'!$B$14008:$AU$14161,'Roster LIMA'!N$1,FALSE)))","v":""},{"$f":"IF(COUNTBLANK($A$3)<>0,\"\",IF(ISERROR(VLOOKUP($A$3,'Roster LIMA'!$B$14008:$AU$14161,'Roster LIMA'!O$1,FALSE)),\"\",VLOOKUP($A$3,'Roster LIMA'!$B$14008:$AU$14161,'Roster LIMA'!O$1,FALSE)))","v":""},{"$f":"IF(COUNTBLANK($A$3)<>0,\"\",IF(ISERROR(VLOOKUP($A$3,'Roster LIMA'!$B$14008:$AU$14161,'Roster LIMA'!P$1,FALSE)),\"\",VLOOKUP($A$3,'Roster LIMA'!$B$14008:$AU$14161,'Roster LIMA'!P$1,FALSE)))","v":""},{"$f":"IF(COUNTBLANK($A$3)<>0,\"\",IF(ISERROR(VLOOKUP($A$3,'Roster LIMA'!$B$14008:$AU$14161,'Roster LIMA'!Q$1,FALSE)),\"\",VLOOKUP($A$3,'Roster LIMA'!$B$14008:$AU$14161,'Roster LIMA'!Q$1,FALSE)))","v":""},{"$f":"IF(COUNTBLANK($A$3)<>0,\"\",IF(ISERROR(VLOOKUP($A$3,'Roster LIMA'!$B$14008:$AU$14161,'Roster LIMA'!R$1,FALSE)),\"\",VLOOKUP($A$3,'Roster LIMA'!$B$14008:$AU$14161,'Roster LIMA'!R$1,FALSE)))","v":""},{"$f":"IF(COUNTBLANK($A$3)<>0,\"\",IF(ISERROR(VLOOKUP($A$3,'Roster LIMA'!$B$14008:$AU$14161,'Roster LIMA'!S$1,FALSE)),\"\",VLOOKUP($A$3,'Roster LIMA'!$B$14008:$AU$14161,'Roster LIMA'!S$1,FALSE)))","v":""},{"$f":"IF(COUNTBLANK($A$3)<>0,\"\",IF(ISERROR(VLOOKUP($A$3,'Roster LIMA'!$B$14008:$AU$14161,'Roster LIMA'!T$1,FALSE)),\"\",VLOOKUP($A$3,'Roster LIMA'!$B$14008:$AU$14161,'Roster LIMA'!T$1,FALSE)))","v":""},{"$f":"IF(COUNTBLANK($A$3)<>0,\"\",IF(ISERROR(VLOOKUP($A$3,'Roster LIMA'!$B$14008:$AU$14161,'Roster LIMA'!U$1,FALSE)),\"\",VLOOKUP($A$3,'Roster LIMA'!$B$14008:$AU$14161,'Roster LIMA'!U$1,FALSE)))","v":""},{"$f":"IF(COUNTBLANK($A$3)<>0,\"\",IF(ISERROR(VLOOKUP($A$3,'Roster LIMA'!$B$14008:$AU$14161,'Roster LIMA'!V$1,FALSE)),\"\",VLOOKUP($A$3,'Roster LIMA'!$B$14008:$AU$14161,'Roster LIMA'!V$1,FALSE)))","v":""},{"$f":"IF(COUNTBLANK($A$3)<>0,\"\",IF(ISERROR(VLOOKUP($A$3,'Roster LIMA'!$B$14008:$AU$14161,'Roster LIMA'!W$1,FALSE)),\"\",VLOOKUP($A$3,'Roster LIMA'!$B$14008:$AU$14161,'Roster LIMA'!W$1,FALSE)))","v":""},{"$f":"IF(COUNTBLANK($A$3)<>0,\"\",IF(ISERROR(VLOOKUP($A$3,'Roster LIMA'!$B$14008:$AU$14161,'Roster LIMA'!X$1,FALSE)),\"\",VLOOKUP($A$3,'Roster LIMA'!$B$14008:$AU$14161,'Roster LIMA'!X$1,FALSE)))","v":""},{"$f":"IF(COUNTBLANK($A$3)<>0,\"\",IF(ISERROR(VLOOKUP($A$3,'Roster LIMA'!$B$14008:$AU$14161,'Roster LIMA'!Y$1,FALSE)),\"\",VLOOKUP($A$3,'Roster LIMA'!$B$14008:$AU$14161,'Roster LIMA'!Y$1,FALSE)))","v":""},{"$f":"IF(COUNTBLANK($A$3)<>0,\"\",IF(ISERROR(VLOOKUP($A$3,'Roster LIMA'!$B$14008:$AU$14161,'Roster LIMA'!Z$1,FALSE)),\"\",VLOOKUP($A$3,'Roster LIMA'!$B$14008:$AU$14161,'Roster LIMA'!Z$1,FALSE)))","v":""},{"$f":"IF(COUNTBLANK($A$3)<>0,\"\",IF(ISERROR(VLOOKUP($A$3,'Roster LIMA'!$B$14008:$AU$14161,'Roster LIMA'!AA$1,FALSE)),\"\",VLOOKUP($A$3,'Roster LIMA'!$B$14008:$AU$14161,'Roster LIMA'!AA$1,FALSE)))","v":""},{"$f":"IF(COUNTBLANK($A$3)<>0,\"\",IF(ISERROR(VLOOKUP($A$3,'Roster LIMA'!$B$14008:$AU$14161,'Roster LIMA'!AB$1,FALSE)),\"\",VLOOKUP($A$3,'Roster LIMA'!$B$14008:$AU$14161,'Roster LIMA'!AB$1,FALSE)))","v":""},{"$f":"IF(COUNTBLANK($A$3)<>0,\"\",IF(ISERROR(VLOOKUP($A$3,'Roster LIMA'!$B$14008:$AU$14161,'Roster LIMA'!AC$1,FALSE)),\"\",VLOOKUP($A$3,'Roster LIMA'!$B$14008:$AU$14161,'Roster LIMA'!AC$1,FALSE)))","v":""},{"$f":"IF(COUNTBLANK($A$3)<>0,\"\",IF(ISERROR(VLOOKUP($A$3,'Roster LIMA'!$B$14008:$AU$14161,'Roster LIMA'!AD$1,FALSE)),\"\",VLOOKUP($A$3,'Roster LIMA'!$B$14008:$AU$14161,'Roster LIMA'!AD$1,FALSE)))","v":""},{"$f":"IF(COUNTBLANK($A$3)<>0,\"\",IF(ISERROR(VLOOKUP($A$3,'Roster LIMA'!$B$14008:$AU$14161,'Roster LIMA'!AE$1,FALSE)),\"\",VLOOKUP($A$3,'Roster LIMA'!$B$14008:$AU$14161,'Roster LIMA'!AE$1,FALSE)))","v":""},{"$f":"IF(COUNTBLANK($A$3)<>0,\"\",IF(ISERROR(VLOOKUP($A$3,'Roster LIMA'!$B$14008:$AU$14161,'Roster LIMA'!AF$1,FALSE)),\"\",VLOOKUP($A$3,'Roster LIMA'!$B$14008:$AU$14161,'Roster LIMA'!AF$1,FALSE)))","v":""},{"$f":"IF(COUNTBLANK($A$3)<>0,\"\",IF(ISERROR(VLOOKUP($A$3,'Roster LIMA'!$B$14008:$AU$14161,'Roster LIMA'!AG$1,FALSE)),\"\",VLOOKUP($A$3,'Roster LIMA'!$B$14008:$AU$14161,'Roster LIMA'!AG$1,FALSE)))","v":""},{"$f":"IF(COUNTBLANK($A$3)<>0,\"\",IF(ISERROR(VLOOKUP($A$3,'Roster LIMA'!$B$14008:$AU$14161,'Roster LIMA'!AH$1,FALSE)),\"\",VLOOKUP($A$3,'Roster LIMA'!$B$14008:$AU$14161,'Roster LIMA'!AH$1,FALSE)))","v":""},{"$f":"IF(COUNTBLANK($A$3)<>0,\"\",IF(ISERROR(VLOOKUP($A$3,'Roster LIMA'!$B$14008:$AU$14161,'Roster LIMA'!AI$1,FALSE)),\"\",VLOOKUP($A$3,'Roster LIMA'!$B$14008:$AU$14161,'Roster LIMA'!AI$1,FALSE)))","v":""},{"$f":"IF(COUNTBLANK($A$3)<>0,\"\",IF(ISERROR(VLOOKUP($A$3,'Roster LIMA'!$B$14008:$AU$14161,'Roster LIMA'!AJ$1,FALSE)),\"\",VLOOKUP($A$3,'Roster LIMA'!$B$14008:$AU$14161,'Roster LIMA'!AJ$1,FALSE)))","v":""},{"$f":"IF(COUNTBLANK($A$3)<>0,\"\",IF(ISERROR(VLOOKUP($A$3,'Roster LIMA'!$B$14008:$AU$14161,'Roster LIMA'!AK$1,FALSE)),\"\",VLOOKUP($A$3,'Roster LIMA'!$B$14008:$AU$14161,'Roster LIMA'!AK$1,FALSE)))","v":""},{"$f":"IF(COUNTBLANK($A$3)<>0,\"\",IF(ISERROR(VLOOKUP($A$3,'Roster LIMA'!$B$14008:$AU$14161,'Roster LIMA'!AL$1,FALSE)),\"\",VLOOKUP($A$3,'Roster LIMA'!$B$14008:$AU$14161,'Roster LIMA'!AL$1,FALSE)))","v":""},{"$f":"IF(COUNTBLANK($A$3)<>0,\"\",IF(ISERROR(VLOOKUP($A$3,'Roster LIMA'!$B$14008:$AU$14161,'Roster LIMA'!AM$1,FALSE)),\"\",VLOOKUP($A$3,'Roster LIMA'!$B$14008:$AU$14161,'Roster LIMA'!AM$1,FALSE)))","v":""},{"$f":"IF(COUNTBLANK($A$3)<>0,\"\",IF(ISERROR(VLOOKUP($A$3,'Roster LIMA'!$B$14008:$AU$14161,'Roster LIMA'!AN$1,FALSE)),\"\",VLOOKUP($A$3,'Roster LIMA'!$B$14008:$AU$14161,'Roster LIMA'!AN$1,FALSE)))","v":""},{"$f":"IF(COUNTBLANK($A$3)<>0,\"\",IF(ISERROR(VLOOKUP($A$3,'Roster LIMA'!$B$14008:$AU$14161,'Roster LIMA'!AO$1,FALSE)),\"\",VLOOKUP($A$3,'Roster LIMA'!$B$14008:$AU$14161,'Roster LIMA'!AO$1,FALSE)))","v":""},{"$f":"IF(COUNTBLANK($A$3)<>0,\"\",IF(ISERROR(VLOOKUP($A$3,'Roster LIMA'!$B$14008:$AU$14161,'Roster LIMA'!AP$1,FALSE)),\"\",VLOOKUP($A$3,'Roster LIMA'!$B$14008:$AU$14161,'Roster LIMA'!AP$1,FALSE)))","v":""},{"$f":"IF(COUNTBLANK($A$3)<>0,\"\",IF(ISERROR(VLOOKUP($A$3,'Roster LIMA'!$B$14008:$AU$14161,'Roster LIMA'!AQ$1,FALSE)),\"\",VLOOKUP($A$3,'Roster LIMA'!$B$14008:$AU$14161,'Roster LIMA'!AQ$1,FALSE)))","v":""},{"$f":"IF(COUNTBLANK($A$3)<>0,\"\",IF(ISERROR(VLOOKUP($A$3,'Roster LIMA'!$B$14008:$AU$14161,'Roster LIMA'!AR$1,FALSE)),\"\",VLOOKUP($A$3,'Roster LIMA'!$B$14008:$AU$14161,'Roster LIMA'!AR$1,FALSE)))","v":""},{"$f":"IF(COUNTBLANK($A$3)<>0,\"\",IF(ISERROR(VLOOKUP($A$3,'Roster LIMA'!$B$14008:$AU$14161,'Roster LIMA'!AS$1,FALSE)),\"\",VLOOKUP($A$3,'Roster LIMA'!$B$14008:$AU$14161,'Roster LIMA'!AS$1,FALSE)))","v":""},{"$f":"IF(COUNTBLANK($A$3)<>0,\"\",IF(ISERROR(VLOOKUP($A$3,'Roster LIMA'!$B$14008:$AU$14161,'Roster LIMA'!AT$1,FALSE)),\"\",VLOOKUP($A$3,'Roster LIMA'!$B$14008:$AU$14161,'Roster LIMA'!AT$1,FALSE)))","v":""},{"$f":"IF(COUNTBLANK($A$3)<>0,\"\",IF(ISERROR(VLOOKUP($A$3,'Roster LIMA'!$B$14008:$AU$14161,'Roster LIMA'!AU$1,FALSE)),\"\",VLOOKUP($A$3,'Roster LIMA'!$B$14008:$AU$14161,'Roster LIMA'!AU$1,FALSE)))","v":""}]
[{"$f":"+'Roster LIMA'!G14186","v":"2000-01"},{"$f":"IF(COUNTBLANK($A$3)<>0,\"\",IF(ISERROR(VLOOKUP($A$3,'Roster LIMA'!$B$14162:$AU$14186,'Roster LIMA'!H$1,FALSE)),\"\",IF(VLOOKUP($A$3,'Roster LIMA'!$B$14162:$AU$14186,'Roster LIMA'!H$1,FALSE)=0,\"\",VLOOKUP($A$3,'Roster LIMA'!$B$14162:$AU$14186,'Roster LIMA'!H$1,FALSE))))","v":""},{"$f":"IF(COUNTBLANK($A$3)<>0,\"\",IF(ISERROR(VLOOKUP($A$3,'Roster LIMA'!$B$14162:$AU$14186,'Roster LIMA'!I$1,FALSE)),\"\",IF(VLOOKUP($A$3,'Roster LIMA'!$B$14162:$AU$14186,'Roster LIMA'!I$1,FALSE)=0,\"\",VLOOKUP($A$3,'Roster LIMA'!$B$14162:$AU$14186,'Roster LIMA'!I$1,FALSE))))","v":""},{"$f":"IF(COUNTBLANK($A$3)<>0,\"\",IF(ISERROR(VLOOKUP($A$3,'Roster LIMA'!$B$14162:$AU$14186,'Roster LIMA'!J$1,FALSE)),\"\",IF(VLOOKUP($A$3,'Roster LIMA'!$B$14162:$AU$14186,'Roster LIMA'!J$1,FALSE)=0,\"\",VLOOKUP($A$3,'Roster LIMA'!$B$14162:$AU$14186,'Roster LIMA'!J$1,FALSE))))","v":""},{"$f":"IF(COUNTBLANK($A$3)<>0,\"\",IF(ISERROR(VLOOKUP($A$3,'Roster LIMA'!$B$14162:$AU$14186,'Roster LIMA'!K$1,FALSE)),\"\",IF(VLOOKUP($A$3,'Roster LIMA'!$B$14162:$AU$14186,'Roster LIMA'!K$1,FALSE)=0,\"\",VLOOKUP($A$3,'Roster LIMA'!$B$14162:$AU$14186,'Roster LIMA'!K$1,FALSE))))","v":""},{"$f":"IF(COUNTBLANK($A$3)<>0,\"\",IF(ISERROR(VLOOKUP($A$3,'Roster LIMA'!$B$14162:$AU$14186,'Roster LIMA'!F$1,FALSE)),\"\",IF(VLOOKUP($A$3,'Roster LIMA'!$B$14162:$AU$14186,'Roster LIMA'!F$1,FALSE)=0,\"\",VLOOKUP($A$3,'Roster LIMA'!$B$14162:$AU$14186,'Roster LIMA'!F$1,FALSE))))","v":""},{"$f":"IF(COUNTBLANK($A$3)<>0,\"\",IF(ISERROR(VLOOKUP($A$3,'Roster LIMA'!$B$14162:$AU$14186,'Roster LIMA'!E$1,FALSE)),\"\",IF(VLOOKUP($A$3,'Roster LIMA'!$B$14162:$AU$14186,'Roster LIMA'!E$1,FALSE)=0,\"\",VLOOKUP($A$3,'Roster LIMA'!$B$14162:$AU$14186,'Roster LIMA'!E$1,FALSE))))","v":""},{"$f":"IF(COUNTBLANK($A$3)<>0,\"\",IF(ISERROR(VLOOKUP($A$3,'Roster LIMA'!$B$14162:$AU$14186,'Roster LIMA'!B$1,FALSE)),\"N/A\",IF(VLOOKUP($A$3,'Roster LIMA'!$B$14162:$AU$14186,'Roster LIMA'!B$1,FALSE)=0,\"\",VLOOKUP($A$3,'Roster LIMA'!$B$14162:$AU$14186,'Roster LIMA'!B$1,FALSE))))","v":""},{"$f":"IF(COUNTBLANK($A$3)<>0,\"\",IF(ISERROR(VLOOKUP($A$3,'Roster LIMA'!$B$14162:$AU$14186,'Roster LIMA'!C$1,FALSE)),\"\",IF(VLOOKUP($A$3,'Roster LIMA'!$B$14162:$AU$14186,'Roster LIMA'!C$1,FALSE)=0,\"\",VLOOKUP($A$3,'Roster LIMA'!$B$14162:$AU$14186,'Roster LIMA'!C$1,FALSE))))","v":""},{"$f":"IF(COUNTBLANK($A$3)<>0,\"\",IF(ISERROR(VLOOKUP($A$3,'Roster LIMA'!$B$14162:$AU$14186,'Roster LIMA'!D$1,FALSE)),\"\",IF(VLOOKUP($A$3,'Roster LIMA'!$B$14162:$AU$14186,'Roster LIMA'!D$1,FALSE)=0,\"\",VLOOKUP($A$3,'Roster LIMA'!$B$14162:$AU$14186,'Roster LIMA'!D$1,FALSE))))","v":""},{"$f":"IF(COUNTBLANK($A$3)<>0,\"\",IF(ISERROR(VLOOKUP($A$3,'Roster LIMA'!$B$14162:$AU$14186,'Roster LIMA'!L$1,FALSE)),\"\",VLOOKUP($A$3,'Roster LIMA'!$B$14162:$AU$14186,'Roster LIMA'!L$1,FALSE)))","v":""},{"$f":"IF(COUNTBLANK($A$3)<>0,\"\",IF(ISERROR(VLOOKUP($A$3,'Roster LIMA'!$B$14162:$AU$14186,'Roster LIMA'!M$1,FALSE)),\"\",VLOOKUP($A$3,'Roster LIMA'!$B$14162:$AU$14186,'Roster LIMA'!M$1,FALSE)))","v":""},{"$f":"IF(COUNTBLANK($A$3)<>0,\"\",IF(ISERROR(VLOOKUP($A$3,'Roster LIMA'!$B$14162:$AU$14186,'Roster LIMA'!N$1,FALSE)),\"\",VLOOKUP($A$3,'Roster LIMA'!$B$14162:$AU$14186,'Roster LIMA'!N$1,FALSE)))","v":""},{"$f":"IF(COUNTBLANK($A$3)<>0,\"\",IF(ISERROR(VLOOKUP($A$3,'Roster LIMA'!$B$14162:$AU$14186,'Roster LIMA'!O$1,FALSE)),\"\",VLOOKUP($A$3,'Roster LIMA'!$B$14162:$AU$14186,'Roster LIMA'!O$1,FALSE)))","v":""},{"$f":"IF(COUNTBLANK($A$3)<>0,\"\",IF(ISERROR(VLOOKUP($A$3,'Roster LIMA'!$B$14162:$AU$14186,'Roster LIMA'!P$1,FALSE)),\"\",VLOOKUP($A$3,'Roster LIMA'!$B$14162:$AU$14186,'Roster LIMA'!P$1,FALSE)))","v":""},{"$f":"IF(COUNTBLANK($A$3)<>0,\"\",IF(ISERROR(VLOOKUP($A$3,'Roster LIMA'!$B$14162:$AU$14186,'Roster LIMA'!Q$1,FALSE)),\"\",VLOOKUP($A$3,'Roster LIMA'!$B$14162:$AU$14186,'Roster LIMA'!Q$1,FALSE)))","v":""},{"$f":"IF(COUNTBLANK($A$3)<>0,\"\",IF(ISERROR(VLOOKUP($A$3,'Roster LIMA'!$B$14162:$AU$14186,'Roster LIMA'!R$1,FALSE)),\"\",VLOOKUP($A$3,'Roster LIMA'!$B$14162:$AU$14186,'Roster LIMA'!R$1,FALSE)))","v":""},{"$f":"IF(COUNTBLANK($A$3)<>0,\"\",IF(ISERROR(VLOOKUP($A$3,'Roster LIMA'!$B$14162:$AU$14186,'Roster LIMA'!S$1,FALSE)),\"\",VLOOKUP($A$3,'Roster LIMA'!$B$14162:$AU$14186,'Roster LIMA'!S$1,FALSE)))","v":""},{"$f":"IF(COUNTBLANK($A$3)<>0,\"\",IF(ISERROR(VLOOKUP($A$3,'Roster LIMA'!$B$14162:$AU$14186,'Roster LIMA'!T$1,FALSE)),\"\",VLOOKUP($A$3,'Roster LIMA'!$B$14162:$AU$14186,'Roster LIMA'!T$1,FALSE)))","v":""},{"$f":"IF(COUNTBLANK($A$3)<>0,\"\",IF(ISERROR(VLOOKUP($A$3,'Roster LIMA'!$B$14162:$AU$14186,'Roster LIMA'!U$1,FALSE)),\"\",VLOOKUP($A$3,'Roster LIMA'!$B$14162:$AU$14186,'Roster LIMA'!U$1,FALSE)))","v":""},{"$f":"IF(COUNTBLANK($A$3)<>0,\"\",IF(ISERROR(VLOOKUP($A$3,'Roster LIMA'!$B$14162:$AU$14186,'Roster LIMA'!V$1,FALSE)),\"\",VLOOKUP($A$3,'Roster LIMA'!$B$14162:$AU$14186,'Roster LIMA'!V$1,FALSE)))","v":""},{"$f":"IF(COUNTBLANK($A$3)<>0,\"\",IF(ISERROR(VLOOKUP($A$3,'Roster LIMA'!$B$14162:$AU$14186,'Roster LIMA'!W$1,FALSE)),\"\",VLOOKUP($A$3,'Roster LIMA'!$B$14162:$AU$14186,'Roster LIMA'!W$1,FALSE)))","v":""},{"$f":"IF(COUNTBLANK($A$3)<>0,\"\",IF(ISERROR(VLOOKUP($A$3,'Roster LIMA'!$B$14162:$AU$14186,'Roster LIMA'!X$1,FALSE)),\"\",VLOOKUP($A$3,'Roster LIMA'!$B$14162:$AU$14186,'Roster LIMA'!X$1,FALSE)))","v":""},{"$f":"IF(COUNTBLANK($A$3)<>0,\"\",IF(ISERROR(VLOOKUP($A$3,'Roster LIMA'!$B$14162:$AU$14186,'Roster LIMA'!Y$1,FALSE)),\"\",VLOOKUP($A$3,'Roster LIMA'!$B$14162:$AU$14186,'Roster LIMA'!Y$1,FALSE)))","v":""},{"$f":"IF(COUNTBLANK($A$3)<>0,\"\",IF(ISERROR(VLOOKUP($A$3,'Roster LIMA'!$B$14162:$AU$14186,'Roster LIMA'!Z$1,FALSE)),\"\",VLOOKUP($A$3,'Roster LIMA'!$B$14162:$AU$14186,'Roster LIMA'!Z$1,FALSE)))","v":""},{"$f":"IF(COUNTBLANK($A$3)<>0,\"\",IF(ISERROR(VLOOKUP($A$3,'Roster LIMA'!$B$14162:$AU$14186,'Roster LIMA'!AA$1,FALSE)),\"\",VLOOKUP($A$3,'Roster LIMA'!$B$14162:$AU$14186,'Roster LIMA'!AA$1,FALSE)))","v":""},{"$f":"IF(COUNTBLANK($A$3)<>0,\"\",IF(ISERROR(VLOOKUP($A$3,'Roster LIMA'!$B$14162:$AU$14186,'Roster LIMA'!AB$1,FALSE)),\"\",VLOOKUP($A$3,'Roster LIMA'!$B$14162:$AU$14186,'Roster LIMA'!AB$1,FALSE)))","v":""},{"$f":"IF(COUNTBLANK($A$3)<>0,\"\",IF(ISERROR(VLOOKUP($A$3,'Roster LIMA'!$B$14162:$AU$14186,'Roster LIMA'!AC$1,FALSE)),\"\",VLOOKUP($A$3,'Roster LIMA'!$B$14162:$AU$14186,'Roster LIMA'!AC$1,FALSE)))","v":""},{"$f":"IF(COUNTBLANK($A$3)<>0,\"\",IF(ISERROR(VLOOKUP($A$3,'Roster LIMA'!$B$14162:$AU$14186,'Roster LIMA'!AD$1,FALSE)),\"\",VLOOKUP($A$3,'Roster LIMA'!$B$14162:$AU$14186,'Roster LIMA'!AD$1,FALSE)))","v":""},{"$f":"IF(COUNTBLANK($A$3)<>0,\"\",IF(ISERROR(VLOOKUP($A$3,'Roster LIMA'!$B$14162:$AU$14186,'Roster LIMA'!AE$1,FALSE)),\"\",VLOOKUP($A$3,'Roster LIMA'!$B$14162:$AU$14186,'Roster LIMA'!AE$1,FALSE)))","v":""},{"$f":"IF(COUNTBLANK($A$3)<>0,\"\",IF(ISERROR(VLOOKUP($A$3,'Roster LIMA'!$B$14162:$AU$14186,'Roster LIMA'!AF$1,FALSE)),\"\",VLOOKUP($A$3,'Roster LIMA'!$B$14162:$AU$14186,'Roster LIMA'!AF$1,FALSE)))","v":""},{"$f":"IF(COUNTBLANK($A$3)<>0,\"\",IF(ISERROR(VLOOKUP($A$3,'Roster LIMA'!$B$14162:$AU$14186,'Roster LIMA'!AG$1,FALSE)),\"\",VLOOKUP($A$3,'Roster LIMA'!$B$14162:$AU$14186,'Roster LIMA'!AG$1,FALSE)))","v":""},{"$f":"IF(COUNTBLANK($A$3)<>0,\"\",IF(ISERROR(VLOOKUP($A$3,'Roster LIMA'!$B$14162:$AU$14186,'Roster LIMA'!AH$1,FALSE)),\"\",VLOOKUP($A$3,'Roster LIMA'!$B$14162:$AU$14186,'Roster LIMA'!AH$1,FALSE)))","v":""},{"$f":"IF(COUNTBLANK($A$3)<>0,\"\",IF(ISERROR(VLOOKUP($A$3,'Roster LIMA'!$B$14162:$AU$14186,'Roster LIMA'!AI$1,FALSE)),\"\",VLOOKUP($A$3,'Roster LIMA'!$B$14162:$AU$14186,'Roster LIMA'!AI$1,FALSE)))","v":""},{"$f":"IF(COUNTBLANK($A$3)<>0,\"\",IF(ISERROR(VLOOKUP($A$3,'Roster LIMA'!$B$14162:$AU$14186,'Roster LIMA'!AJ$1,FALSE)),\"\",VLOOKUP($A$3,'Roster LIMA'!$B$14162:$AU$14186,'Roster LIMA'!AJ$1,FALSE)))","v":""},{"$f":"IF(COUNTBLANK($A$3)<>0,\"\",IF(ISERROR(VLOOKUP($A$3,'Roster LIMA'!$B$14162:$AU$14186,'Roster LIMA'!AK$1,FALSE)),\"\",VLOOKUP($A$3,'Roster LIMA'!$B$14162:$AU$14186,'Roster LIMA'!AK$1,FALSE)))","v":""},{"$f":"IF(COUNTBLANK($A$3)<>0,\"\",IF(ISERROR(VLOOKUP($A$3,'Roster LIMA'!$B$14162:$AU$14186,'Roster LIMA'!AL$1,FALSE)),\"\",VLOOKUP($A$3,'Roster LIMA'!$B$14162:$AU$14186,'Roster LIMA'!AL$1,FALSE)))","v":""},{"$f":"IF(COUNTBLANK($A$3)<>0,\"\",IF(ISERROR(VLOOKUP($A$3,'Roster LIMA'!$B$14162:$AU$14186,'Roster LIMA'!AM$1,FALSE)),\"\",VLOOKUP($A$3,'Roster LIMA'!$B$14162:$AU$14186,'Roster LIMA'!AM$1,FALSE)))","v":""},{"$f":"IF(COUNTBLANK($A$3)<>0,\"\",IF(ISERROR(VLOOKUP($A$3,'Roster LIMA'!$B$14162:$AU$14186,'Roster LIMA'!AN$1,FALSE)),\"\",VLOOKUP($A$3,'Roster LIMA'!$B$14162:$AU$14186,'Roster LIMA'!AN$1,FALSE)))","v":""},{"$f":"IF(COUNTBLANK($A$3)<>0,\"\",IF(ISERROR(VLOOKUP($A$3,'Roster LIMA'!$B$14162:$AU$14186,'Roster LIMA'!AO$1,FALSE)),\"\",VLOOKUP($A$3,'Roster LIMA'!$B$14162:$AU$14186,'Roster LIMA'!AO$1,FALSE)))","v":""},{"$f":"IF(COUNTBLANK($A$3)<>0,\"\",IF(ISERROR(VLOOKUP($A$3,'Roster LIMA'!$B$14162:$AU$14186,'Roster LIMA'!AP$1,FALSE)),\"\",VLOOKUP($A$3,'Roster LIMA'!$B$14162:$AU$14186,'Roster LIMA'!AP$1,FALSE)))","v":""},{"$f":"IF(COUNTBLANK($A$3)<>0,\"\",IF(ISERROR(VLOOKUP($A$3,'Roster LIMA'!$B$14162:$AU$14186,'Roster LIMA'!AQ$1,FALSE)),\"\",VLOOKUP($A$3,'Roster LIMA'!$B$14162:$AU$14186,'Roster LIMA'!AQ$1,FALSE)))","v":""},{"$f":"IF(COUNTBLANK($A$3)<>0,\"\",IF(ISERROR(VLOOKUP($A$3,'Roster LIMA'!$B$14162:$AU$14186,'Roster LIMA'!AR$1,FALSE)),\"\",VLOOKUP($A$3,'Roster LIMA'!$B$14162:$AU$14186,'Roster LIMA'!AR$1,FALSE)))","v":""},{"$f":"IF(COUNTBLANK($A$3)<>0,\"\",IF(ISERROR(VLOOKUP($A$3,'Roster LIMA'!$B$14162:$AU$14186,'Roster LIMA'!AS$1,FALSE)),\"\",VLOOKUP($A$3,'Roster LIMA'!$B$14162:$AU$14186,'Roster LIMA'!AS$1,FALSE)))","v":""},{"$f":"IF(COUNTBLANK($A$3)<>0,\"\",IF(ISERROR(VLOOKUP($A$3,'Roster LIMA'!$B$14162:$AU$14186,'Roster LIMA'!AT$1,FALSE)),\"\",VLOOKUP($A$3,'Roster LIMA'!$B$14162:$AU$14186,'Roster LIMA'!AT$1,FALSE)))","v":""},{"$f":"IF(COUNTBLANK($A$3)<>0,\"\",IF(ISERROR(VLOOKUP($A$3,'Roster LIMA'!$B$14162:$AU$14186,'Roster LIMA'!AU$1,FALSE)),\"\",VLOOKUP($A$3,'Roster LIMA'!$B$14162:$AU$14186,'Roster LIMA'!AU$1,FALSE)))","v":""}]
[{"$f":"+'Roster LIMA'!G14187","v":2001},{"$f":"IF(COUNTBLANK($A$3)<>0,\"\",IF(ISERROR(VLOOKUP($A$3,'Roster LIMA'!$B$14187:$AU$15054,'Roster LIMA'!H$1,FALSE)),\"\",IF(VLOOKUP($A$3,'Roster LIMA'!$B$14187:$AU$15054,'Roster LIMA'!H$1,FALSE)=0,\"\",VLOOKUP($A$3,'Roster LIMA'!$B$14187:$AU$15054,'Roster LIMA'!H$1,FALSE))))","v":""},{"$f":"IF(COUNTBLANK($A$3)<>0,\"\",IF(ISERROR(VLOOKUP($A$3,'Roster LIMA'!$B$14187:$AU$15054,'Roster LIMA'!I$1,FALSE)),\"\",IF(VLOOKUP($A$3,'Roster LIMA'!$B$14187:$AU$15054,'Roster LIMA'!I$1,FALSE)=0,\"\",VLOOKUP($A$3,'Roster LIMA'!$B$14187:$AU$15054,'Roster LIMA'!I$1,FALSE))))","v":""},{"$f":"IF(COUNTBLANK($A$3)<>0,\"\",IF(ISERROR(VLOOKUP($A$3,'Roster LIMA'!$B$14187:$AU$15054,'Roster LIMA'!J$1,FALSE)),\"\",IF(VLOOKUP($A$3,'Roster LIMA'!$B$14187:$AU$15054,'Roster LIMA'!J$1,FALSE)=0,\"\",VLOOKUP($A$3,'Roster LIMA'!$B$14187:$AU$15054,'Roster LIMA'!J$1,FALSE))))","v":""},{"$f":"IF(COUNTBLANK($A$3)<>0,\"\",IF(ISERROR(VLOOKUP($A$3,'Roster LIMA'!$B$14187:$AU$15054,'Roster LIMA'!K$1,FALSE)),\"\",IF(VLOOKUP($A$3,'Roster LIMA'!$B$14187:$AU$15054,'Roster LIMA'!K$1,FALSE)=0,\"\",VLOOKUP($A$3,'Roster LIMA'!$B$14187:$AU$15054,'Roster LIMA'!K$1,FALSE))))","v":""},{"$f":"IF(COUNTBLANK($A$3)<>0,\"\",IF(ISERROR(VLOOKUP($A$3,'Roster LIMA'!$B$14187:$AU$15054,'Roster LIMA'!F$1,FALSE)),\"\",IF(VLOOKUP($A$3,'Roster LIMA'!$B$14187:$AU$15054,'Roster LIMA'!F$1,FALSE)=0,\"\",VLOOKUP($A$3,'Roster LIMA'!$B$14187:$AU$15054,'Roster LIMA'!F$1,FALSE))))","v":""},{"$f":"IF(COUNTBLANK($A$3)<>0,\"\",IF(ISERROR(VLOOKUP($A$3,'Roster LIMA'!$B$14187:$AU$15054,'Roster LIMA'!E$1,FALSE)),\"\",IF(VLOOKUP($A$3,'Roster LIMA'!$B$14187:$AU$15054,'Roster LIMA'!E$1,FALSE)=0,\"\",VLOOKUP($A$3,'Roster LIMA'!$B$14187:$AU$15054,'Roster LIMA'!E$1,FALSE))))","v":""},{"$f":"IF(COUNTBLANK($A$3)<>0,\"\",IF(ISERROR(VLOOKUP($A$3,'Roster LIMA'!$B$14187:$AU$15054,'Roster LIMA'!B$1,FALSE)),\"N/A\",IF(VLOOKUP($A$3,'Roster LIMA'!$B$14187:$AU$15054,'Roster LIMA'!B$1,FALSE)=0,\"\",VLOOKUP($A$3,'Roster LIMA'!$B$14187:$AU$15054,'Roster LIMA'!B$1,FALSE))))","v":""},{"$f":"IF(COUNTBLANK($A$3)<>0,\"\",IF(ISERROR(VLOOKUP($A$3,'Roster LIMA'!$B$14187:$AU$15054,'Roster LIMA'!C$1,FALSE)),\"\",IF(VLOOKUP($A$3,'Roster LIMA'!$B$14187:$AU$15054,'Roster LIMA'!C$1,FALSE)=0,\"\",VLOOKUP($A$3,'Roster LIMA'!$B$14187:$AU$15054,'Roster LIMA'!C$1,FALSE))))","v":""},{"$f":"IF(COUNTBLANK($A$3)<>0,\"\",IF(ISERROR(VLOOKUP($A$3,'Roster LIMA'!$B$14187:$AU$15054,'Roster LIMA'!D$1,FALSE)),\"\",IF(VLOOKUP($A$3,'Roster LIMA'!$B$14187:$AU$15054,'Roster LIMA'!D$1,FALSE)=0,\"\",VLOOKUP($A$3,'Roster LIMA'!$B$14187:$AU$15054,'Roster LIMA'!D$1,FALSE))))","v":""},{"$f":"IF(COUNTBLANK($A$3)<>0,\"\",IF(ISERROR(VLOOKUP($A$3,'Roster LIMA'!$B$14187:$AU$15054,'Roster LIMA'!L$1,FALSE)),\"\",VLOOKUP($A$3,'Roster LIMA'!$B$14187:$AU$15054,'Roster LIMA'!L$1,FALSE)))","v":""},{"$f":"IF(COUNTBLANK($A$3)<>0,\"\",IF(ISERROR(VLOOKUP($A$3,'Roster LIMA'!$B$14187:$AU$15054,'Roster LIMA'!M$1,FALSE)),\"\",VLOOKUP($A$3,'Roster LIMA'!$B$14187:$AU$15054,'Roster LIMA'!M$1,FALSE)))","v":""},{"$f":"IF(COUNTBLANK($A$3)<>0,\"\",IF(ISERROR(VLOOKUP($A$3,'Roster LIMA'!$B$14187:$AU$15054,'Roster LIMA'!N$1,FALSE)),\"\",VLOOKUP($A$3,'Roster LIMA'!$B$14187:$AU$15054,'Roster LIMA'!N$1,FALSE)))","v":""},{"$f":"IF(COUNTBLANK($A$3)<>0,\"\",IF(ISERROR(VLOOKUP($A$3,'Roster LIMA'!$B$14187:$AU$15054,'Roster LIMA'!O$1,FALSE)),\"\",VLOOKUP($A$3,'Roster LIMA'!$B$14187:$AU$15054,'Roster LIMA'!O$1,FALSE)))","v":""},{"$f":"IF(COUNTBLANK($A$3)<>0,\"\",IF(ISERROR(VLOOKUP($A$3,'Roster LIMA'!$B$14187:$AU$15054,'Roster LIMA'!P$1,FALSE)),\"\",VLOOKUP($A$3,'Roster LIMA'!$B$14187:$AU$15054,'Roster LIMA'!P$1,FALSE)))","v":""},{"$f":"IF(COUNTBLANK($A$3)<>0,\"\",IF(ISERROR(VLOOKUP($A$3,'Roster LIMA'!$B$14187:$AU$15054,'Roster LIMA'!Q$1,FALSE)),\"\",VLOOKUP($A$3,'Roster LIMA'!$B$14187:$AU$15054,'Roster LIMA'!Q$1,FALSE)))","v":""},{"$f":"IF(COUNTBLANK($A$3)<>0,\"\",IF(ISERROR(VLOOKUP($A$3,'Roster LIMA'!$B$14187:$AU$15054,'Roster LIMA'!R$1,FALSE)),\"\",VLOOKUP($A$3,'Roster LIMA'!$B$14187:$AU$15054,'Roster LIMA'!R$1,FALSE)))","v":""},{"$f":"IF(COUNTBLANK($A$3)<>0,\"\",IF(ISERROR(VLOOKUP($A$3,'Roster LIMA'!$B$14187:$AU$15054,'Roster LIMA'!S$1,FALSE)),\"\",VLOOKUP($A$3,'Roster LIMA'!$B$14187:$AU$15054,'Roster LIMA'!S$1,FALSE)))","v":""},{"$f":"IF(COUNTBLANK($A$3)<>0,\"\",IF(ISERROR(VLOOKUP($A$3,'Roster LIMA'!$B$14187:$AU$15054,'Roster LIMA'!T$1,FALSE)),\"\",VLOOKUP($A$3,'Roster LIMA'!$B$14187:$AU$15054,'Roster LIMA'!T$1,FALSE)))","v":""},{"$f":"IF(COUNTBLANK($A$3)<>0,\"\",IF(ISERROR(VLOOKUP($A$3,'Roster LIMA'!$B$14187:$AU$15054,'Roster LIMA'!U$1,FALSE)),\"\",VLOOKUP($A$3,'Roster LIMA'!$B$14187:$AU$15054,'Roster LIMA'!U$1,FALSE)))","v":""},{"$f":"IF(COUNTBLANK($A$3)<>0,\"\",IF(ISERROR(VLOOKUP($A$3,'Roster LIMA'!$B$14187:$AU$15054,'Roster LIMA'!V$1,FALSE)),\"\",VLOOKUP($A$3,'Roster LIMA'!$B$14187:$AU$15054,'Roster LIMA'!V$1,FALSE)))","v":""},{"$f":"IF(COUNTBLANK($A$3)<>0,\"\",IF(ISERROR(VLOOKUP($A$3,'Roster LIMA'!$B$14187:$AU$15054,'Roster LIMA'!W$1,FALSE)),\"\",VLOOKUP($A$3,'Roster LIMA'!$B$14187:$AU$15054,'Roster LIMA'!W$1,FALSE)))","v":""},{"$f":"IF(COUNTBLANK($A$3)<>0,\"\",IF(ISERROR(VLOOKUP($A$3,'Roster LIMA'!$B$14187:$AU$15054,'Roster LIMA'!X$1,FALSE)),\"\",VLOOKUP($A$3,'Roster LIMA'!$B$14187:$AU$15054,'Roster LIMA'!X$1,FALSE)))","v":""},{"$f":"IF(COUNTBLANK($A$3)<>0,\"\",IF(ISERROR(VLOOKUP($A$3,'Roster LIMA'!$B$14187:$AU$15054,'Roster LIMA'!Y$1,FALSE)),\"\",VLOOKUP($A$3,'Roster LIMA'!$B$14187:$AU$15054,'Roster LIMA'!Y$1,FALSE)))","v":""},{"$f":"IF(COUNTBLANK($A$3)<>0,\"\",IF(ISERROR(VLOOKUP($A$3,'Roster LIMA'!$B$14187:$AU$15054,'Roster LIMA'!Z$1,FALSE)),\"\",VLOOKUP($A$3,'Roster LIMA'!$B$14187:$AU$15054,'Roster LIMA'!Z$1,FALSE)))","v":""},{"$f":"IF(COUNTBLANK($A$3)<>0,\"\",IF(ISERROR(VLOOKUP($A$3,'Roster LIMA'!$B$14187:$AU$15054,'Roster LIMA'!AA$1,FALSE)),\"\",VLOOKUP($A$3,'Roster LIMA'!$B$14187:$AU$15054,'Roster LIMA'!AA$1,FALSE)))","v":""},{"$f":"IF(COUNTBLANK($A$3)<>0,\"\",IF(ISERROR(VLOOKUP($A$3,'Roster LIMA'!$B$14187:$AU$15054,'Roster LIMA'!AB$1,FALSE)),\"\",VLOOKUP($A$3,'Roster LIMA'!$B$14187:$AU$15054,'Roster LIMA'!AB$1,FALSE)))","v":""},{"$f":"IF(COUNTBLANK($A$3)<>0,\"\",IF(ISERROR(VLOOKUP($A$3,'Roster LIMA'!$B$14187:$AU$15054,'Roster LIMA'!AC$1,FALSE)),\"\",VLOOKUP($A$3,'Roster LIMA'!$B$14187:$AU$15054,'Roster LIMA'!AC$1,FALSE)))","v":""},{"$f":"IF(COUNTBLANK($A$3)<>0,\"\",IF(ISERROR(VLOOKUP($A$3,'Roster LIMA'!$B$14187:$AU$15054,'Roster LIMA'!AD$1,FALSE)),\"\",VLOOKUP($A$3,'Roster LIMA'!$B$14187:$AU$15054,'Roster LIMA'!AD$1,FALSE)))","v":""},{"$f":"IF(COUNTBLANK($A$3)<>0,\"\",IF(ISERROR(VLOOKUP($A$3,'Roster LIMA'!$B$14187:$AU$15054,'Roster LIMA'!AE$1,FALSE)),\"\",VLOOKUP($A$3,'Roster LIMA'!$B$14187:$AU$15054,'Roster LIMA'!AE$1,FALSE)))","v":""},{"$f":"IF(COUNTBLANK($A$3)<>0,\"\",IF(ISERROR(VLOOKUP($A$3,'Roster LIMA'!$B$14187:$AU$15054,'Roster LIMA'!AF$1,FALSE)),\"\",VLOOKUP($A$3,'Roster LIMA'!$B$14187:$AU$15054,'Roster LIMA'!AF$1,FALSE)))","v":""},{"$f":"IF(COUNTBLANK($A$3)<>0,\"\",IF(ISERROR(VLOOKUP($A$3,'Roster LIMA'!$B$14187:$AU$15054,'Roster LIMA'!AG$1,FALSE)),\"\",VLOOKUP($A$3,'Roster LIMA'!$B$14187:$AU$15054,'Roster LIMA'!AG$1,FALSE)))","v":""},{"$f":"IF(COUNTBLANK($A$3)<>0,\"\",IF(ISERROR(VLOOKUP($A$3,'Roster LIMA'!$B$14187:$AU$15054,'Roster LIMA'!AH$1,FALSE)),\"\",VLOOKUP($A$3,'Roster LIMA'!$B$14187:$AU$15054,'Roster LIMA'!AH$1,FALSE)))","v":""},{"$f":"IF(COUNTBLANK($A$3)<>0,\"\",IF(ISERROR(VLOOKUP($A$3,'Roster LIMA'!$B$14187:$AU$15054,'Roster LIMA'!AI$1,FALSE)),\"\",VLOOKUP($A$3,'Roster LIMA'!$B$14187:$AU$15054,'Roster LIMA'!AI$1,FALSE)))","v":""},{"$f":"IF(COUNTBLANK($A$3)<>0,\"\",IF(ISERROR(VLOOKUP($A$3,'Roster LIMA'!$B$14187:$AU$15054,'Roster LIMA'!AJ$1,FALSE)),\"\",VLOOKUP($A$3,'Roster LIMA'!$B$14187:$AU$15054,'Roster LIMA'!AJ$1,FALSE)))","v":""},{"$f":"IF(COUNTBLANK($A$3)<>0,\"\",IF(ISERROR(VLOOKUP($A$3,'Roster LIMA'!$B$14187:$AU$15054,'Roster LIMA'!AK$1,FALSE)),\"\",VLOOKUP($A$3,'Roster LIMA'!$B$14187:$AU$15054,'Roster LIMA'!AK$1,FALSE)))","v":""},{"$f":"IF(COUNTBLANK($A$3)<>0,\"\",IF(ISERROR(VLOOKUP($A$3,'Roster LIMA'!$B$14187:$AU$15054,'Roster LIMA'!AL$1,FALSE)),\"\",VLOOKUP($A$3,'Roster LIMA'!$B$14187:$AU$15054,'Roster LIMA'!AL$1,FALSE)))","v":""},{"$f":"IF(COUNTBLANK($A$3)<>0,\"\",IF(ISERROR(VLOOKUP($A$3,'Roster LIMA'!$B$14187:$AU$15054,'Roster LIMA'!AM$1,FALSE)),\"\",VLOOKUP($A$3,'Roster LIMA'!$B$14187:$AU$15054,'Roster LIMA'!AM$1,FALSE)))","v":""},{"$f":"IF(COUNTBLANK($A$3)<>0,\"\",IF(ISERROR(VLOOKUP($A$3,'Roster LIMA'!$B$14187:$AU$15054,'Roster LIMA'!AN$1,FALSE)),\"\",VLOOKUP($A$3,'Roster LIMA'!$B$14187:$AU$15054,'Roster LIMA'!AN$1,FALSE)))","v":""},{"$f":"IF(COUNTBLANK($A$3)<>0,\"\",IF(ISERROR(VLOOKUP($A$3,'Roster LIMA'!$B$14187:$AU$15054,'Roster LIMA'!AO$1,FALSE)),\"\",VLOOKUP($A$3,'Roster LIMA'!$B$14187:$AU$15054,'Roster LIMA'!AO$1,FALSE)))","v":""},{"$f":"IF(COUNTBLANK($A$3)<>0,\"\",IF(ISERROR(VLOOKUP($A$3,'Roster LIMA'!$B$14187:$AU$15054,'Roster LIMA'!AP$1,FALSE)),\"\",VLOOKUP($A$3,'Roster LIMA'!$B$14187:$AU$15054,'Roster LIMA'!AP$1,FALSE)))","v":""},{"$f":"IF(COUNTBLANK($A$3)<>0,\"\",IF(ISERROR(VLOOKUP($A$3,'Roster LIMA'!$B$14187:$AU$15054,'Roster LIMA'!AQ$1,FALSE)),\"\",VLOOKUP($A$3,'Roster LIMA'!$B$14187:$AU$15054,'Roster LIMA'!AQ$1,FALSE)))","v":""},{"$f":"IF(COUNTBLANK($A$3)<>0,\"\",IF(ISERROR(VLOOKUP($A$3,'Roster LIMA'!$B$14187:$AU$15054,'Roster LIMA'!AR$1,FALSE)),\"\",VLOOKUP($A$3,'Roster LIMA'!$B$14187:$AU$15054,'Roster LIMA'!AR$1,FALSE)))","v":""},{"$f":"IF(COUNTBLANK($A$3)<>0,\"\",IF(ISERROR(VLOOKUP($A$3,'Roster LIMA'!$B$14187:$AU$15054,'Roster LIMA'!AS$1,FALSE)),\"\",VLOOKUP($A$3,'Roster LIMA'!$B$14187:$AU$15054,'Roster LIMA'!AS$1,FALSE)))","v":""},{"$f":"IF(COUNTBLANK($A$3)<>0,\"\",IF(ISERROR(VLOOKUP($A$3,'Roster LIMA'!$B$14187:$AU$15054,'Roster LIMA'!AT$1,FALSE)),\"\",VLOOKUP($A$3,'Roster LIMA'!$B$14187:$AU$15054,'Roster LIMA'!AT$1,FALSE)))","v":""},{"$f":"IF(COUNTBLANK($A$3)<>0,\"\",IF(ISERROR(VLOOKUP($A$3,'Roster LIMA'!$B$14187:$AU$15054,'Roster LIMA'!AU$1,FALSE)),\"\",VLOOKUP($A$3,'Roster LIMA'!$B$14187:$AU$15054,'Roster LIMA'!AU$1,FALSE)))","v":""}]
[{"$f":"+'Roster LIMA'!G15085","v":"2001-02"},{"$f":"IF(COUNTBLANK($A$3)<>0,\"\",IF(ISERROR(VLOOKUP($A$3,'Roster LIMA'!$B$15055:$AU$15085,'Roster LIMA'!H$1,FALSE)),\"\",IF(VLOOKUP($A$3,'Roster LIMA'!$B$15055:$AU$15085,'Roster LIMA'!H$1,FALSE)=0,\"\",VLOOKUP($A$3,'Roster LIMA'!$B$15055:$AU$15085,'Roster LIMA'!H$1,FALSE))))","v":""},{"$f":"IF(COUNTBLANK($A$3)<>0,\"\",IF(ISERROR(VLOOKUP($A$3,'Roster LIMA'!$B$15055:$AU$15085,'Roster LIMA'!I$1,FALSE)),\"\",IF(VLOOKUP($A$3,'Roster LIMA'!$B$15055:$AU$15085,'Roster LIMA'!I$1,FALSE)=0,\"\",VLOOKUP($A$3,'Roster LIMA'!$B$15055:$AU$15085,'Roster LIMA'!I$1,FALSE))))","v":""},{"$f":"IF(COUNTBLANK($A$3)<>0,\"\",IF(ISERROR(VLOOKUP($A$3,'Roster LIMA'!$B$15055:$AU$15085,'Roster LIMA'!J$1,FALSE)),\"\",IF(VLOOKUP($A$3,'Roster LIMA'!$B$15055:$AU$15085,'Roster LIMA'!J$1,FALSE)=0,\"\",VLOOKUP($A$3,'Roster LIMA'!$B$15055:$AU$15085,'Roster LIMA'!J$1,FALSE))))","v":""},{"$f":"IF(COUNTBLANK($A$3)<>0,\"\",IF(ISERROR(VLOOKUP($A$3,'Roster LIMA'!$B$15055:$AU$15085,'Roster LIMA'!K$1,FALSE)),\"\",IF(VLOOKUP($A$3,'Roster LIMA'!$B$15055:$AU$15085,'Roster LIMA'!K$1,FALSE)=0,\"\",VLOOKUP($A$3,'Roster LIMA'!$B$15055:$AU$15085,'Roster LIMA'!K$1,FALSE))))","v":""},{"$f":"IF(COUNTBLANK($A$3)<>0,\"\",IF(ISERROR(VLOOKUP($A$3,'Roster LIMA'!$B$15055:$AU$15085,'Roster LIMA'!F$1,FALSE)),\"\",IF(VLOOKUP($A$3,'Roster LIMA'!$B$15055:$AU$15085,'Roster LIMA'!F$1,FALSE)=0,\"\",VLOOKUP($A$3,'Roster LIMA'!$B$15055:$AU$15085,'Roster LIMA'!F$1,FALSE))))","v":""},{"$f":"IF(COUNTBLANK($A$3)<>0,\"\",IF(ISERROR(VLOOKUP($A$3,'Roster LIMA'!$B$15055:$AU$15085,'Roster LIMA'!E$1,FALSE)),\"\",IF(VLOOKUP($A$3,'Roster LIMA'!$B$15055:$AU$15085,'Roster LIMA'!E$1,FALSE)=0,\"\",VLOOKUP($A$3,'Roster LIMA'!$B$15055:$AU$15085,'Roster LIMA'!E$1,FALSE))))","v":""},{"$f":"IF(COUNTBLANK($A$3)<>0,\"\",IF(ISERROR(VLOOKUP($A$3,'Roster LIMA'!$B$15055:$AU$15085,'Roster LIMA'!B$1,FALSE)),\"N/A\",IF(VLOOKUP($A$3,'Roster LIMA'!$B$15055:$AU$15085,'Roster LIMA'!B$1,FALSE)=0,\"\",VLOOKUP($A$3,'Roster LIMA'!$B$15055:$AU$15085,'Roster LIMA'!B$1,FALSE))))","v":""},{"$f":"IF(COUNTBLANK($A$3)<>0,\"\",IF(ISERROR(VLOOKUP($A$3,'Roster LIMA'!$B$15055:$AU$15085,'Roster LIMA'!C$1,FALSE)),\"\",IF(VLOOKUP($A$3,'Roster LIMA'!$B$15055:$AU$15085,'Roster LIMA'!C$1,FALSE)=0,\"\",VLOOKUP($A$3,'Roster LIMA'!$B$15055:$AU$15085,'Roster LIMA'!C$1,FALSE))))","v":""},{"$f":"IF(COUNTBLANK($A$3)<>0,\"\",IF(ISERROR(VLOOKUP($A$3,'Roster LIMA'!$B$15055:$AU$15085,'Roster LIMA'!D$1,FALSE)),\"\",IF(VLOOKUP($A$3,'Roster LIMA'!$B$15055:$AU$15085,'Roster LIMA'!D$1,FALSE)=0,\"\",VLOOKUP($A$3,'Roster LIMA'!$B$15055:$AU$15085,'Roster LIMA'!D$1,FALSE))))","v":""},{"$f":"IF(COUNTBLANK($A$3)<>0,\"\",IF(ISERROR(VLOOKUP($A$3,'Roster LIMA'!$B$15055:$AU$15085,'Roster LIMA'!L$1,FALSE)),\"\",VLOOKUP($A$3,'Roster LIMA'!$B$15055:$AU$15085,'Roster LIMA'!L$1,FALSE)))","v":""},{"$f":"IF(COUNTBLANK($A$3)<>0,\"\",IF(ISERROR(VLOOKUP($A$3,'Roster LIMA'!$B$15055:$AU$15085,'Roster LIMA'!M$1,FALSE)),\"\",VLOOKUP($A$3,'Roster LIMA'!$B$15055:$AU$15085,'Roster LIMA'!M$1,FALSE)))","v":""},{"$f":"IF(COUNTBLANK($A$3)<>0,\"\",IF(ISERROR(VLOOKUP($A$3,'Roster LIMA'!$B$15055:$AU$15085,'Roster LIMA'!N$1,FALSE)),\"\",VLOOKUP($A$3,'Roster LIMA'!$B$15055:$AU$15085,'Roster LIMA'!N$1,FALSE)))","v":""},{"$f":"IF(COUNTBLANK($A$3)<>0,\"\",IF(ISERROR(VLOOKUP($A$3,'Roster LIMA'!$B$15055:$AU$15085,'Roster LIMA'!O$1,FALSE)),\"\",VLOOKUP($A$3,'Roster LIMA'!$B$15055:$AU$15085,'Roster LIMA'!O$1,FALSE)))","v":""},{"$f":"IF(COUNTBLANK($A$3)<>0,\"\",IF(ISERROR(VLOOKUP($A$3,'Roster LIMA'!$B$15055:$AU$15085,'Roster LIMA'!P$1,FALSE)),\"\",VLOOKUP($A$3,'Roster LIMA'!$B$15055:$AU$15085,'Roster LIMA'!P$1,FALSE)))","v":""},{"$f":"IF(COUNTBLANK($A$3)<>0,\"\",IF(ISERROR(VLOOKUP($A$3,'Roster LIMA'!$B$15055:$AU$15085,'Roster LIMA'!Q$1,FALSE)),\"\",VLOOKUP($A$3,'Roster LIMA'!$B$15055:$AU$15085,'Roster LIMA'!Q$1,FALSE)))","v":""},{"$f":"IF(COUNTBLANK($A$3)<>0,\"\",IF(ISERROR(VLOOKUP($A$3,'Roster LIMA'!$B$15055:$AU$15085,'Roster LIMA'!R$1,FALSE)),\"\",VLOOKUP($A$3,'Roster LIMA'!$B$15055:$AU$15085,'Roster LIMA'!R$1,FALSE)))","v":""},{"$f":"IF(COUNTBLANK($A$3)<>0,\"\",IF(ISERROR(VLOOKUP($A$3,'Roster LIMA'!$B$15055:$AU$15085,'Roster LIMA'!S$1,FALSE)),\"\",VLOOKUP($A$3,'Roster LIMA'!$B$15055:$AU$15085,'Roster LIMA'!S$1,FALSE)))","v":""},{"$f":"IF(COUNTBLANK($A$3)<>0,\"\",IF(ISERROR(VLOOKUP($A$3,'Roster LIMA'!$B$15055:$AU$15085,'Roster LIMA'!T$1,FALSE)),\"\",VLOOKUP($A$3,'Roster LIMA'!$B$15055:$AU$15085,'Roster LIMA'!T$1,FALSE)))","v":""},{"$f":"IF(COUNTBLANK($A$3)<>0,\"\",IF(ISERROR(VLOOKUP($A$3,'Roster LIMA'!$B$15055:$AU$15085,'Roster LIMA'!U$1,FALSE)),\"\",VLOOKUP($A$3,'Roster LIMA'!$B$15055:$AU$15085,'Roster LIMA'!U$1,FALSE)))","v":""},{"$f":"IF(COUNTBLANK($A$3)<>0,\"\",IF(ISERROR(VLOOKUP($A$3,'Roster LIMA'!$B$15055:$AU$15085,'Roster LIMA'!V$1,FALSE)),\"\",VLOOKUP($A$3,'Roster LIMA'!$B$15055:$AU$15085,'Roster LIMA'!V$1,FALSE)))","v":""},{"$f":"IF(COUNTBLANK($A$3)<>0,\"\",IF(ISERROR(VLOOKUP($A$3,'Roster LIMA'!$B$15055:$AU$15085,'Roster LIMA'!W$1,FALSE)),\"\",VLOOKUP($A$3,'Roster LIMA'!$B$15055:$AU$15085,'Roster LIMA'!W$1,FALSE)))","v":""},{"$f":"IF(COUNTBLANK($A$3)<>0,\"\",IF(ISERROR(VLOOKUP($A$3,'Roster LIMA'!$B$15055:$AU$15085,'Roster LIMA'!X$1,FALSE)),\"\",VLOOKUP($A$3,'Roster LIMA'!$B$15055:$AU$15085,'Roster LIMA'!X$1,FALSE)))","v":""},{"$f":"IF(COUNTBLANK($A$3)<>0,\"\",IF(ISERROR(VLOOKUP($A$3,'Roster LIMA'!$B$15055:$AU$15085,'Roster LIMA'!Y$1,FALSE)),\"\",VLOOKUP($A$3,'Roster LIMA'!$B$15055:$AU$15085,'Roster LIMA'!Y$1,FALSE)))","v":""},{"$f":"IF(COUNTBLANK($A$3)<>0,\"\",IF(ISERROR(VLOOKUP($A$3,'Roster LIMA'!$B$15055:$AU$15085,'Roster LIMA'!Z$1,FALSE)),\"\",VLOOKUP($A$3,'Roster LIMA'!$B$15055:$AU$15085,'Roster LIMA'!Z$1,FALSE)))","v":""},{"$f":"IF(COUNTBLANK($A$3)<>0,\"\",IF(ISERROR(VLOOKUP($A$3,'Roster LIMA'!$B$15055:$AU$15085,'Roster LIMA'!AA$1,FALSE)),\"\",VLOOKUP($A$3,'Roster LIMA'!$B$15055:$AU$15085,'Roster LIMA'!AA$1,FALSE)))","v":""},{"$f":"IF(COUNTBLANK($A$3)<>0,\"\",IF(ISERROR(VLOOKUP($A$3,'Roster LIMA'!$B$15055:$AU$15085,'Roster LIMA'!AB$1,FALSE)),\"\",VLOOKUP($A$3,'Roster LIMA'!$B$15055:$AU$15085,'Roster LIMA'!AB$1,FALSE)))","v":""},{"$f":"IF(COUNTBLANK($A$3)<>0,\"\",IF(ISERROR(VLOOKUP($A$3,'Roster LIMA'!$B$15055:$AU$15085,'Roster LIMA'!AC$1,FALSE)),\"\",VLOOKUP($A$3,'Roster LIMA'!$B$15055:$AU$15085,'Roster LIMA'!AC$1,FALSE)))","v":""},{"$f":"IF(COUNTBLANK($A$3)<>0,\"\",IF(ISERROR(VLOOKUP($A$3,'Roster LIMA'!$B$15055:$AU$15085,'Roster LIMA'!AD$1,FALSE)),\"\",VLOOKUP($A$3,'Roster LIMA'!$B$15055:$AU$15085,'Roster LIMA'!AD$1,FALSE)))","v":""},{"$f":"IF(COUNTBLANK($A$3)<>0,\"\",IF(ISERROR(VLOOKUP($A$3,'Roster LIMA'!$B$15055:$AU$15085,'Roster LIMA'!AE$1,FALSE)),\"\",VLOOKUP($A$3,'Roster LIMA'!$B$15055:$AU$15085,'Roster LIMA'!AE$1,FALSE)))","v":""},{"$f":"IF(COUNTBLANK($A$3)<>0,\"\",IF(ISERROR(VLOOKUP($A$3,'Roster LIMA'!$B$15055:$AU$15085,'Roster LIMA'!AF$1,FALSE)),\"\",VLOOKUP($A$3,'Roster LIMA'!$B$15055:$AU$15085,'Roster LIMA'!AF$1,FALSE)))","v":""},{"$f":"IF(COUNTBLANK($A$3)<>0,\"\",IF(ISERROR(VLOOKUP($A$3,'Roster LIMA'!$B$15055:$AU$15085,'Roster LIMA'!AG$1,FALSE)),\"\",VLOOKUP($A$3,'Roster LIMA'!$B$15055:$AU$15085,'Roster LIMA'!AG$1,FALSE)))","v":""},{"$f":"IF(COUNTBLANK($A$3)<>0,\"\",IF(ISERROR(VLOOKUP($A$3,'Roster LIMA'!$B$15055:$AU$15085,'Roster LIMA'!AH$1,FALSE)),\"\",VLOOKUP($A$3,'Roster LIMA'!$B$15055:$AU$15085,'Roster LIMA'!AH$1,FALSE)))","v":""},{"$f":"IF(COUNTBLANK($A$3)<>0,\"\",IF(ISERROR(VLOOKUP($A$3,'Roster LIMA'!$B$15055:$AU$15085,'Roster LIMA'!AI$1,FALSE)),\"\",VLOOKUP($A$3,'Roster LIMA'!$B$15055:$AU$15085,'Roster LIMA'!AI$1,FALSE)))","v":""},{"$f":"IF(COUNTBLANK($A$3)<>0,\"\",IF(ISERROR(VLOOKUP($A$3,'Roster LIMA'!$B$15055:$AU$15085,'Roster LIMA'!AJ$1,FALSE)),\"\",VLOOKUP($A$3,'Roster LIMA'!$B$15055:$AU$15085,'Roster LIMA'!AJ$1,FALSE)))","v":""},{"$f":"IF(COUNTBLANK($A$3)<>0,\"\",IF(ISERROR(VLOOKUP($A$3,'Roster LIMA'!$B$15055:$AU$15085,'Roster LIMA'!AK$1,FALSE)),\"\",VLOOKUP($A$3,'Roster LIMA'!$B$15055:$AU$15085,'Roster LIMA'!AK$1,FALSE)))","v":""},{"$f":"IF(COUNTBLANK($A$3)<>0,\"\",IF(ISERROR(VLOOKUP($A$3,'Roster LIMA'!$B$15055:$AU$15085,'Roster LIMA'!AL$1,FALSE)),\"\",VLOOKUP($A$3,'Roster LIMA'!$B$15055:$AU$15085,'Roster LIMA'!AL$1,FALSE)))","v":""},{"$f":"IF(COUNTBLANK($A$3)<>0,\"\",IF(ISERROR(VLOOKUP($A$3,'Roster LIMA'!$B$15055:$AU$15085,'Roster LIMA'!AM$1,FALSE)),\"\",VLOOKUP($A$3,'Roster LIMA'!$B$15055:$AU$15085,'Roster LIMA'!AM$1,FALSE)))","v":""},{"$f":"IF(COUNTBLANK($A$3)<>0,\"\",IF(ISERROR(VLOOKUP($A$3,'Roster LIMA'!$B$15055:$AU$15085,'Roster LIMA'!AN$1,FALSE)),\"\",VLOOKUP($A$3,'Roster LIMA'!$B$15055:$AU$15085,'Roster LIMA'!AN$1,FALSE)))","v":""},{"$f":"IF(COUNTBLANK($A$3)<>0,\"\",IF(ISERROR(VLOOKUP($A$3,'Roster LIMA'!$B$15055:$AU$15085,'Roster LIMA'!AO$1,FALSE)),\"\",VLOOKUP($A$3,'Roster LIMA'!$B$15055:$AU$15085,'Roster LIMA'!AO$1,FALSE)))","v":""},{"$f":"IF(COUNTBLANK($A$3)<>0,\"\",IF(ISERROR(VLOOKUP($A$3,'Roster LIMA'!$B$15055:$AU$15085,'Roster LIMA'!AP$1,FALSE)),\"\",VLOOKUP($A$3,'Roster LIMA'!$B$15055:$AU$15085,'Roster LIMA'!AP$1,FALSE)))","v":""},{"$f":"IF(COUNTBLANK($A$3)<>0,\"\",IF(ISERROR(VLOOKUP($A$3,'Roster LIMA'!$B$15055:$AU$15085,'Roster LIMA'!AQ$1,FALSE)),\"\",VLOOKUP($A$3,'Roster LIMA'!$B$15055:$AU$15085,'Roster LIMA'!AQ$1,FALSE)))","v":""},{"$f":"IF(COUNTBLANK($A$3)<>0,\"\",IF(ISERROR(VLOOKUP($A$3,'Roster LIMA'!$B$15055:$AU$15085,'Roster LIMA'!AR$1,FALSE)),\"\",VLOOKUP($A$3,'Roster LIMA'!$B$15055:$AU$15085,'Roster LIMA'!AR$1,FALSE)))","v":""},{"$f":"IF(COUNTBLANK($A$3)<>0,\"\",IF(ISERROR(VLOOKUP($A$3,'Roster LIMA'!$B$15055:$AU$15085,'Roster LIMA'!AS$1,FALSE)),\"\",VLOOKUP($A$3,'Roster LIMA'!$B$15055:$AU$15085,'Roster LIMA'!AS$1,FALSE)))","v":""},{"$f":"IF(COUNTBLANK($A$3)<>0,\"\",IF(ISERROR(VLOOKUP($A$3,'Roster LIMA'!$B$15055:$AU$15085,'Roster LIMA'!AT$1,FALSE)),\"\",VLOOKUP($A$3,'Roster LIMA'!$B$15055:$AU$15085,'Roster LIMA'!AT$1,FALSE)))","v":""},{"$f":"IF(COUNTBLANK($A$3)<>0,\"\",IF(ISERROR(VLOOKUP($A$3,'Roster LIMA'!$B$15055:$AU$15085,'Roster LIMA'!AU$1,FALSE)),\"\",VLOOKUP($A$3,'Roster LIMA'!$B$15055:$AU$15085,'Roster LIMA'!AU$1,FALSE)))","v":""}]
[{"$f":"+'Roster LIMA'!G15086","v":2002},{"$f":"IF(COUNTBLANK($A$3)<>0,\"\",IF(ISERROR(VLOOKUP($A$3,'Roster LIMA'!$B$15086:$AU$15137,'Roster LIMA'!H$1,FALSE)),\"\",IF(VLOOKUP($A$3,'Roster LIMA'!$B$15086:$AU$15137,'Roster LIMA'!H$1,FALSE)=0,\"\",VLOOKUP($A$3,'Roster LIMA'!$B$15086:$AU$15137,'Roster LIMA'!H$1,FALSE))))","v":""},{"$f":"IF(COUNTBLANK($A$3)<>0,\"\",IF(ISERROR(VLOOKUP($A$3,'Roster LIMA'!$B$15086:$AU$15137,'Roster LIMA'!I$1,FALSE)),\"\",IF(VLOOKUP($A$3,'Roster LIMA'!$B$15086:$AU$15137,'Roster LIMA'!I$1,FALSE)=0,\"\",VLOOKUP($A$3,'Roster LIMA'!$B$15086:$AU$15137,'Roster LIMA'!I$1,FALSE))))","v":""},{"$f":"IF(COUNTBLANK($A$3)<>0,\"\",IF(ISERROR(VLOOKUP($A$3,'Roster LIMA'!$B$15086:$AU$15137,'Roster LIMA'!J$1,FALSE)),\"\",IF(VLOOKUP($A$3,'Roster LIMA'!$B$15086:$AU$15137,'Roster LIMA'!J$1,FALSE)=0,\"\",VLOOKUP($A$3,'Roster LIMA'!$B$15086:$AU$15137,'Roster LIMA'!J$1,FALSE))))","v":""},{"$f":"IF(COUNTBLANK($A$3)<>0,\"\",IF(ISERROR(VLOOKUP($A$3,'Roster LIMA'!$B$15086:$AU$15137,'Roster LIMA'!K$1,FALSE)),\"\",IF(VLOOKUP($A$3,'Roster LIMA'!$B$15086:$AU$15137,'Roster LIMA'!K$1,FALSE)=0,\"\",VLOOKUP($A$3,'Roster LIMA'!$B$15086:$AU$15137,'Roster LIMA'!K$1,FALSE))))","v":""},{"$f":"IF(COUNTBLANK($A$3)<>0,\"\",IF(ISERROR(VLOOKUP($A$3,'Roster LIMA'!$B$15086:$AU$15137,'Roster LIMA'!F$1,FALSE)),\"\",IF(VLOOKUP($A$3,'Roster LIMA'!$B$15086:$AU$15137,'Roster LIMA'!F$1,FALSE)=0,\"\",VLOOKUP($A$3,'Roster LIMA'!$B$15086:$AU$15137,'Roster LIMA'!F$1,FALSE))))","v":""},{"$f":"IF(COUNTBLANK($A$3)<>0,\"\",IF(ISERROR(VLOOKUP($A$3,'Roster LIMA'!$B$15086:$AU$15137,'Roster LIMA'!E$1,FALSE)),\"\",IF(VLOOKUP($A$3,'Roster LIMA'!$B$15086:$AU$15137,'Roster LIMA'!E$1,FALSE)=0,\"\",VLOOKUP($A$3,'Roster LIMA'!$B$15086:$AU$15137,'Roster LIMA'!E$1,FALSE))))","v":""},{"$f":"IF(COUNTBLANK($A$3)<>0,\"\",IF(ISERROR(VLOOKUP($A$3,'Roster LIMA'!$B$15086:$AU$15137,'Roster LIMA'!B$1,FALSE)),\"N/A\",IF(VLOOKUP($A$3,'Roster LIMA'!$B$15086:$AU$15137,'Roster LIMA'!B$1,FALSE)=0,\"\",VLOOKUP($A$3,'Roster LIMA'!$B$15086:$AU$15137,'Roster LIMA'!B$1,FALSE))))","v":""},{"$f":"IF(COUNTBLANK($A$3)<>0,\"\",IF(ISERROR(VLOOKUP($A$3,'Roster LIMA'!$B$15086:$AU$15137,'Roster LIMA'!C$1,FALSE)),\"\",IF(VLOOKUP($A$3,'Roster LIMA'!$B$15086:$AU$15137,'Roster LIMA'!C$1,FALSE)=0,\"\",VLOOKUP($A$3,'Roster LIMA'!$B$15086:$AU$15137,'Roster LIMA'!C$1,FALSE))))","v":""},{"$f":"IF(COUNTBLANK($A$3)<>0,\"\",IF(ISERROR(VLOOKUP($A$3,'Roster LIMA'!$B$15086:$AU$15137,'Roster LIMA'!D$1,FALSE)),\"\",IF(VLOOKUP($A$3,'Roster LIMA'!$B$15086:$AU$15137,'Roster LIMA'!D$1,FALSE)=0,\"\",VLOOKUP($A$3,'Roster LIMA'!$B$15086:$AU$15137,'Roster LIMA'!D$1,FALSE))))","v":""},{"$f":"IF(COUNTBLANK($A$3)<>0,\"\",IF(ISERROR(VLOOKUP($A$3,'Roster LIMA'!$B$15086:$AU$15137,'Roster LIMA'!L$1,FALSE)),\"\",VLOOKUP($A$3,'Roster LIMA'!$B$15086:$AU$15137,'Roster LIMA'!L$1,FALSE)))","v":""},{"$f":"IF(COUNTBLANK($A$3)<>0,\"\",IF(ISERROR(VLOOKUP($A$3,'Roster LIMA'!$B$15086:$AU$15137,'Roster LIMA'!M$1,FALSE)),\"\",VLOOKUP($A$3,'Roster LIMA'!$B$15086:$AU$15137,'Roster LIMA'!M$1,FALSE)))","v":""},{"$f":"IF(COUNTBLANK($A$3)<>0,\"\",IF(ISERROR(VLOOKUP($A$3,'Roster LIMA'!$B$15086:$AU$15137,'Roster LIMA'!N$1,FALSE)),\"\",VLOOKUP($A$3,'Roster LIMA'!$B$15086:$AU$15137,'Roster LIMA'!N$1,FALSE)))","v":""},{"$f":"IF(COUNTBLANK($A$3)<>0,\"\",IF(ISERROR(VLOOKUP($A$3,'Roster LIMA'!$B$15086:$AU$15137,'Roster LIMA'!O$1,FALSE)),\"\",VLOOKUP($A$3,'Roster LIMA'!$B$15086:$AU$15137,'Roster LIMA'!O$1,FALSE)))","v":""},{"$f":"IF(COUNTBLANK($A$3)<>0,\"\",IF(ISERROR(VLOOKUP($A$3,'Roster LIMA'!$B$15086:$AU$15137,'Roster LIMA'!P$1,FALSE)),\"\",VLOOKUP($A$3,'Roster LIMA'!$B$15086:$AU$15137,'Roster LIMA'!P$1,FALSE)))","v":""},{"$f":"IF(COUNTBLANK($A$3)<>0,\"\",IF(ISERROR(VLOOKUP($A$3,'Roster LIMA'!$B$15086:$AU$15137,'Roster LIMA'!Q$1,FALSE)),\"\",VLOOKUP($A$3,'Roster LIMA'!$B$15086:$AU$15137,'Roster LIMA'!Q$1,FALSE)))","v":""},{"$f":"IF(COUNTBLANK($A$3)<>0,\"\",IF(ISERROR(VLOOKUP($A$3,'Roster LIMA'!$B$15086:$AU$15137,'Roster LIMA'!R$1,FALSE)),\"\",VLOOKUP($A$3,'Roster LIMA'!$B$15086:$AU$15137,'Roster LIMA'!R$1,FALSE)))","v":""},{"$f":"IF(COUNTBLANK($A$3)<>0,\"\",IF(ISERROR(VLOOKUP($A$3,'Roster LIMA'!$B$15086:$AU$15137,'Roster LIMA'!S$1,FALSE)),\"\",VLOOKUP($A$3,'Roster LIMA'!$B$15086:$AU$15137,'Roster LIMA'!S$1,FALSE)))","v":""},{"$f":"IF(COUNTBLANK($A$3)<>0,\"\",IF(ISERROR(VLOOKUP($A$3,'Roster LIMA'!$B$15086:$AU$15137,'Roster LIMA'!T$1,FALSE)),\"\",VLOOKUP($A$3,'Roster LIMA'!$B$15086:$AU$15137,'Roster LIMA'!T$1,FALSE)))","v":""},{"$f":"IF(COUNTBLANK($A$3)<>0,\"\",IF(ISERROR(VLOOKUP($A$3,'Roster LIMA'!$B$15086:$AU$15137,'Roster LIMA'!U$1,FALSE)),\"\",VLOOKUP($A$3,'Roster LIMA'!$B$15086:$AU$15137,'Roster LIMA'!U$1,FALSE)))","v":""},{"$f":"IF(COUNTBLANK($A$3)<>0,\"\",IF(ISERROR(VLOOKUP($A$3,'Roster LIMA'!$B$15086:$AU$15137,'Roster LIMA'!V$1,FALSE)),\"\",VLOOKUP($A$3,'Roster LIMA'!$B$15086:$AU$15137,'Roster LIMA'!V$1,FALSE)))","v":""},{"$f":"IF(COUNTBLANK($A$3)<>0,\"\",IF(ISERROR(VLOOKUP($A$3,'Roster LIMA'!$B$15086:$AU$15137,'Roster LIMA'!W$1,FALSE)),\"\",VLOOKUP($A$3,'Roster LIMA'!$B$15086:$AU$15137,'Roster LIMA'!W$1,FALSE)))","v":""},{"$f":"IF(COUNTBLANK($A$3)<>0,\"\",IF(ISERROR(VLOOKUP($A$3,'Roster LIMA'!$B$15086:$AU$15137,'Roster LIMA'!X$1,FALSE)),\"\",VLOOKUP($A$3,'Roster LIMA'!$B$15086:$AU$15137,'Roster LIMA'!X$1,FALSE)))","v":""},{"$f":"IF(COUNTBLANK($A$3)<>0,\"\",IF(ISERROR(VLOOKUP($A$3,'Roster LIMA'!$B$15086:$AU$15137,'Roster LIMA'!Y$1,FALSE)),\"\",VLOOKUP($A$3,'Roster LIMA'!$B$15086:$AU$15137,'Roster LIMA'!Y$1,FALSE)))","v":""},{"$f":"IF(COUNTBLANK($A$3)<>0,\"\",IF(ISERROR(VLOOKUP($A$3,'Roster LIMA'!$B$15086:$AU$15137,'Roster LIMA'!Z$1,FALSE)),\"\",VLOOKUP($A$3,'Roster LIMA'!$B$15086:$AU$15137,'Roster LIMA'!Z$1,FALSE)))","v":""},{"$f":"IF(COUNTBLANK($A$3)<>0,\"\",IF(ISERROR(VLOOKUP($A$3,'Roster LIMA'!$B$15086:$AU$15137,'Roster LIMA'!AA$1,FALSE)),\"\",VLOOKUP($A$3,'Roster LIMA'!$B$15086:$AU$15137,'Roster LIMA'!AA$1,FALSE)))","v":""},{"$f":"IF(COUNTBLANK($A$3)<>0,\"\",IF(ISERROR(VLOOKUP($A$3,'Roster LIMA'!$B$15086:$AU$15137,'Roster LIMA'!AB$1,FALSE)),\"\",VLOOKUP($A$3,'Roster LIMA'!$B$15086:$AU$15137,'Roster LIMA'!AB$1,FALSE)))","v":""},{"$f":"IF(COUNTBLANK($A$3)<>0,\"\",IF(ISERROR(VLOOKUP($A$3,'Roster LIMA'!$B$15086:$AU$15137,'Roster LIMA'!AC$1,FALSE)),\"\",VLOOKUP($A$3,'Roster LIMA'!$B$15086:$AU$15137,'Roster LIMA'!AC$1,FALSE)))","v":""},{"$f":"IF(COUNTBLANK($A$3)<>0,\"\",IF(ISERROR(VLOOKUP($A$3,'Roster LIMA'!$B$15086:$AU$15137,'Roster LIMA'!AD$1,FALSE)),\"\",VLOOKUP($A$3,'Roster LIMA'!$B$15086:$AU$15137,'Roster LIMA'!AD$1,FALSE)))","v":""},{"$f":"IF(COUNTBLANK($A$3)<>0,\"\",IF(ISERROR(VLOOKUP($A$3,'Roster LIMA'!$B$15086:$AU$15137,'Roster LIMA'!AE$1,FALSE)),\"\",VLOOKUP($A$3,'Roster LIMA'!$B$15086:$AU$15137,'Roster LIMA'!AE$1,FALSE)))","v":""},{"$f":"IF(COUNTBLANK($A$3)<>0,\"\",IF(ISERROR(VLOOKUP($A$3,'Roster LIMA'!$B$15086:$AU$15137,'Roster LIMA'!AF$1,FALSE)),\"\",VLOOKUP($A$3,'Roster LIMA'!$B$15086:$AU$15137,'Roster LIMA'!AF$1,FALSE)))","v":""},{"$f":"IF(COUNTBLANK($A$3)<>0,\"\",IF(ISERROR(VLOOKUP($A$3,'Roster LIMA'!$B$15086:$AU$15137,'Roster LIMA'!AG$1,FALSE)),\"\",VLOOKUP($A$3,'Roster LIMA'!$B$15086:$AU$15137,'Roster LIMA'!AG$1,FALSE)))","v":""},{"$f":"IF(COUNTBLANK($A$3)<>0,\"\",IF(ISERROR(VLOOKUP($A$3,'Roster LIMA'!$B$15086:$AU$15137,'Roster LIMA'!AH$1,FALSE)),\"\",VLOOKUP($A$3,'Roster LIMA'!$B$15086:$AU$15137,'Roster LIMA'!AH$1,FALSE)))","v":""},{"$f":"IF(COUNTBLANK($A$3)<>0,\"\",IF(ISERROR(VLOOKUP($A$3,'Roster LIMA'!$B$15086:$AU$15137,'Roster LIMA'!AI$1,FALSE)),\"\",VLOOKUP($A$3,'Roster LIMA'!$B$15086:$AU$15137,'Roster LIMA'!AI$1,FALSE)))","v":""},{"$f":"IF(COUNTBLANK($A$3)<>0,\"\",IF(ISERROR(VLOOKUP($A$3,'Roster LIMA'!$B$15086:$AU$15137,'Roster LIMA'!AJ$1,FALSE)),\"\",VLOOKUP($A$3,'Roster LIMA'!$B$15086:$AU$15137,'Roster LIMA'!AJ$1,FALSE)))","v":""},{"$f":"IF(COUNTBLANK($A$3)<>0,\"\",IF(ISERROR(VLOOKUP($A$3,'Roster LIMA'!$B$15086:$AU$15137,'Roster LIMA'!AK$1,FALSE)),\"\",VLOOKUP($A$3,'Roster LIMA'!$B$15086:$AU$15137,'Roster LIMA'!AK$1,FALSE)))","v":""},{"$f":"IF(COUNTBLANK($A$3)<>0,\"\",IF(ISERROR(VLOOKUP($A$3,'Roster LIMA'!$B$15086:$AU$15137,'Roster LIMA'!AL$1,FALSE)),\"\",VLOOKUP($A$3,'Roster LIMA'!$B$15086:$AU$15137,'Roster LIMA'!AL$1,FALSE)))","v":""},{"$f":"IF(COUNTBLANK($A$3)<>0,\"\",IF(ISERROR(VLOOKUP($A$3,'Roster LIMA'!$B$15086:$AU$15137,'Roster LIMA'!AM$1,FALSE)),\"\",VLOOKUP($A$3,'Roster LIMA'!$B$15086:$AU$15137,'Roster LIMA'!AM$1,FALSE)))","v":""},{"$f":"IF(COUNTBLANK($A$3)<>0,\"\",IF(ISERROR(VLOOKUP($A$3,'Roster LIMA'!$B$15086:$AU$15137,'Roster LIMA'!AN$1,FALSE)),\"\",VLOOKUP($A$3,'Roster LIMA'!$B$15086:$AU$15137,'Roster LIMA'!AN$1,FALSE)))","v":""},{"$f":"IF(COUNTBLANK($A$3)<>0,\"\",IF(ISERROR(VLOOKUP($A$3,'Roster LIMA'!$B$15086:$AU$15137,'Roster LIMA'!AO$1,FALSE)),\"\",VLOOKUP($A$3,'Roster LIMA'!$B$15086:$AU$15137,'Roster LIMA'!AO$1,FALSE)))","v":""},{"$f":"IF(COUNTBLANK($A$3)<>0,\"\",IF(ISERROR(VLOOKUP($A$3,'Roster LIMA'!$B$15086:$AU$15137,'Roster LIMA'!AP$1,FALSE)),\"\",VLOOKUP($A$3,'Roster LIMA'!$B$15086:$AU$15137,'Roster LIMA'!AP$1,FALSE)))","v":""},{"$f":"IF(COUNTBLANK($A$3)<>0,\"\",IF(ISERROR(VLOOKUP($A$3,'Roster LIMA'!$B$15086:$AU$15137,'Roster LIMA'!AQ$1,FALSE)),\"\",VLOOKUP($A$3,'Roster LIMA'!$B$15086:$AU$15137,'Roster LIMA'!AQ$1,FALSE)))","v":""},{"$f":"IF(COUNTBLANK($A$3)<>0,\"\",IF(ISERROR(VLOOKUP($A$3,'Roster LIMA'!$B$15086:$AU$15137,'Roster LIMA'!AR$1,FALSE)),\"\",VLOOKUP($A$3,'Roster LIMA'!$B$15086:$AU$15137,'Roster LIMA'!AR$1,FALSE)))","v":""},{"$f":"IF(COUNTBLANK($A$3)<>0,\"\",IF(ISERROR(VLOOKUP($A$3,'Roster LIMA'!$B$15086:$AU$15137,'Roster LIMA'!AS$1,FALSE)),\"\",VLOOKUP($A$3,'Roster LIMA'!$B$15086:$AU$15137,'Roster LIMA'!AS$1,FALSE)))","v":""},{"$f":"IF(COUNTBLANK($A$3)<>0,\"\",IF(ISERROR(VLOOKUP($A$3,'Roster LIMA'!$B$15086:$AU$15137,'Roster LIMA'!AT$1,FALSE)),\"\",VLOOKUP($A$3,'Roster LIMA'!$B$15086:$AU$15137,'Roster LIMA'!AT$1,FALSE)))","v":""},{"$f":"IF(COUNTBLANK($A$3)<>0,\"\",IF(ISERROR(VLOOKUP($A$3,'Roster LIMA'!$B$15086:$AU$15137,'Roster LIMA'!AU$1,FALSE)),\"\",VLOOKUP($A$3,'Roster LIMA'!$B$15086:$AU$15137,'Roster LIMA'!AU$1,FALSE)))","v":""}]
[{"$f":"+'Roster LIMA'!G15138","v":2003},{"$f":"IF(COUNTBLANK($A$3)<>0,\"\",IF(ISERROR(VLOOKUP($A$3,'Roster LIMA'!$B$15138:$AU$15467,'Roster LIMA'!H$1,FALSE)),\"\",IF(VLOOKUP($A$3,'Roster LIMA'!$B$15138:$AU$15467,'Roster LIMA'!H$1,FALSE)=0,\"\",VLOOKUP($A$3,'Roster LIMA'!$B$15138:$AU$15467,'Roster LIMA'!H$1,FALSE))))","v":""},{"$f":"IF(COUNTBLANK($A$3)<>0,\"\",IF(ISERROR(VLOOKUP($A$3,'Roster LIMA'!$B$15138:$AU$15467,'Roster LIMA'!I$1,FALSE)),\"\",IF(VLOOKUP($A$3,'Roster LIMA'!$B$15138:$AU$15467,'Roster LIMA'!I$1,FALSE)=0,\"\",VLOOKUP($A$3,'Roster LIMA'!$B$15138:$AU$15467,'Roster LIMA'!I$1,FALSE))))","v":""},{"$f":"IF(COUNTBLANK($A$3)<>0,\"\",IF(ISERROR(VLOOKUP($A$3,'Roster LIMA'!$B$15138:$AU$15467,'Roster LIMA'!J$1,FALSE)),\"\",IF(VLOOKUP($A$3,'Roster LIMA'!$B$15138:$AU$15467,'Roster LIMA'!J$1,FALSE)=0,\"\",VLOOKUP($A$3,'Roster LIMA'!$B$15138:$AU$15467,'Roster LIMA'!J$1,FALSE))))","v":""},{"$f":"IF(COUNTBLANK($A$3)<>0,\"\",IF(ISERROR(VLOOKUP($A$3,'Roster LIMA'!$B$15138:$AU$15467,'Roster LIMA'!K$1,FALSE)),\"\",IF(VLOOKUP($A$3,'Roster LIMA'!$B$15138:$AU$15467,'Roster LIMA'!K$1,FALSE)=0,\"\",VLOOKUP($A$3,'Roster LIMA'!$B$15138:$AU$15467,'Roster LIMA'!K$1,FALSE))))","v":""},{"$f":"IF(COUNTBLANK($A$3)<>0,\"\",IF(ISERROR(VLOOKUP($A$3,'Roster LIMA'!$B$15138:$AU$15467,'Roster LIMA'!F$1,FALSE)),\"\",IF(VLOOKUP($A$3,'Roster LIMA'!$B$15138:$AU$15467,'Roster LIMA'!F$1,FALSE)=0,\"\",VLOOKUP($A$3,'Roster LIMA'!$B$15138:$AU$15467,'Roster LIMA'!F$1,FALSE))))","v":""},{"$f":"IF(COUNTBLANK($A$3)<>0,\"\",IF(ISERROR(VLOOKUP($A$3,'Roster LIMA'!$B$15138:$AU$15467,'Roster LIMA'!E$1,FALSE)),\"\",IF(VLOOKUP($A$3,'Roster LIMA'!$B$15138:$AU$15467,'Roster LIMA'!E$1,FALSE)=0,\"\",VLOOKUP($A$3,'Roster LIMA'!$B$15138:$AU$15467,'Roster LIMA'!E$1,FALSE))))","v":""},{"$f":"IF(COUNTBLANK($A$3)<>0,\"\",IF(ISERROR(VLOOKUP($A$3,'Roster LIMA'!$B$15138:$AU$15467,'Roster LIMA'!B$1,FALSE)),\"N/A\",IF(VLOOKUP($A$3,'Roster LIMA'!$B$15138:$AU$15467,'Roster LIMA'!B$1,FALSE)=0,\"\",VLOOKUP($A$3,'Roster LIMA'!$B$15138:$AU$15467,'Roster LIMA'!B$1,FALSE))))","v":""},{"$f":"IF(COUNTBLANK($A$3)<>0,\"\",IF(ISERROR(VLOOKUP($A$3,'Roster LIMA'!$B$15138:$AU$15467,'Roster LIMA'!C$1,FALSE)),\"\",IF(VLOOKUP($A$3,'Roster LIMA'!$B$15138:$AU$15467,'Roster LIMA'!C$1,FALSE)=0,\"\",VLOOKUP($A$3,'Roster LIMA'!$B$15138:$AU$15467,'Roster LIMA'!C$1,FALSE))))","v":""},{"$f":"IF(COUNTBLANK($A$3)<>0,\"\",IF(ISERROR(VLOOKUP($A$3,'Roster LIMA'!$B$15138:$AU$15467,'Roster LIMA'!D$1,FALSE)),\"\",IF(VLOOKUP($A$3,'Roster LIMA'!$B$15138:$AU$15467,'Roster LIMA'!D$1,FALSE)=0,\"\",VLOOKUP($A$3,'Roster LIMA'!$B$15138:$AU$15467,'Roster LIMA'!D$1,FALSE))))","v":""},{"$f":"IF(COUNTBLANK($A$3)<>0,\"\",IF(ISERROR(VLOOKUP($A$3,'Roster LIMA'!$B$15138:$AU$15467,'Roster LIMA'!L$1,FALSE)),\"\",VLOOKUP($A$3,'Roster LIMA'!$B$15138:$AU$15467,'Roster LIMA'!L$1,FALSE)))","v":""},{"$f":"IF(COUNTBLANK($A$3)<>0,\"\",IF(ISERROR(VLOOKUP($A$3,'Roster LIMA'!$B$15138:$AU$15467,'Roster LIMA'!M$1,FALSE)),\"\",VLOOKUP($A$3,'Roster LIMA'!$B$15138:$AU$15467,'Roster LIMA'!M$1,FALSE)))","v":""},{"$f":"IF(COUNTBLANK($A$3)<>0,\"\",IF(ISERROR(VLOOKUP($A$3,'Roster LIMA'!$B$15138:$AU$15467,'Roster LIMA'!N$1,FALSE)),\"\",VLOOKUP($A$3,'Roster LIMA'!$B$15138:$AU$15467,'Roster LIMA'!N$1,FALSE)))","v":""},{"$f":"IF(COUNTBLANK($A$3)<>0,\"\",IF(ISERROR(VLOOKUP($A$3,'Roster LIMA'!$B$15138:$AU$15467,'Roster LIMA'!O$1,FALSE)),\"\",VLOOKUP($A$3,'Roster LIMA'!$B$15138:$AU$15467,'Roster LIMA'!O$1,FALSE)))","v":""},{"$f":"IF(COUNTBLANK($A$3)<>0,\"\",IF(ISERROR(VLOOKUP($A$3,'Roster LIMA'!$B$15138:$AU$15467,'Roster LIMA'!P$1,FALSE)),\"\",VLOOKUP($A$3,'Roster LIMA'!$B$15138:$AU$15467,'Roster LIMA'!P$1,FALSE)))","v":""},{"$f":"IF(COUNTBLANK($A$3)<>0,\"\",IF(ISERROR(VLOOKUP($A$3,'Roster LIMA'!$B$15138:$AU$15467,'Roster LIMA'!Q$1,FALSE)),\"\",VLOOKUP($A$3,'Roster LIMA'!$B$15138:$AU$15467,'Roster LIMA'!Q$1,FALSE)))","v":""},{"$f":"IF(COUNTBLANK($A$3)<>0,\"\",IF(ISERROR(VLOOKUP($A$3,'Roster LIMA'!$B$15138:$AU$15467,'Roster LIMA'!R$1,FALSE)),\"\",VLOOKUP($A$3,'Roster LIMA'!$B$15138:$AU$15467,'Roster LIMA'!R$1,FALSE)))","v":""},{"$f":"IF(COUNTBLANK($A$3)<>0,\"\",IF(ISERROR(VLOOKUP($A$3,'Roster LIMA'!$B$15138:$AU$15467,'Roster LIMA'!S$1,FALSE)),\"\",VLOOKUP($A$3,'Roster LIMA'!$B$15138:$AU$15467,'Roster LIMA'!S$1,FALSE)))","v":""},{"$f":"IF(COUNTBLANK($A$3)<>0,\"\",IF(ISERROR(VLOOKUP($A$3,'Roster LIMA'!$B$15138:$AU$15467,'Roster LIMA'!T$1,FALSE)),\"\",VLOOKUP($A$3,'Roster LIMA'!$B$15138:$AU$15467,'Roster LIMA'!T$1,FALSE)))","v":""},{"$f":"IF(COUNTBLANK($A$3)<>0,\"\",IF(ISERROR(VLOOKUP($A$3,'Roster LIMA'!$B$15138:$AU$15467,'Roster LIMA'!U$1,FALSE)),\"\",VLOOKUP($A$3,'Roster LIMA'!$B$15138:$AU$15467,'Roster LIMA'!U$1,FALSE)))","v":""},{"$f":"IF(COUNTBLANK($A$3)<>0,\"\",IF(ISERROR(VLOOKUP($A$3,'Roster LIMA'!$B$15138:$AU$15467,'Roster LIMA'!V$1,FALSE)),\"\",VLOOKUP($A$3,'Roster LIMA'!$B$15138:$AU$15467,'Roster LIMA'!V$1,FALSE)))","v":""},{"$f":"IF(COUNTBLANK($A$3)<>0,\"\",IF(ISERROR(VLOOKUP($A$3,'Roster LIMA'!$B$15138:$AU$15467,'Roster LIMA'!W$1,FALSE)),\"\",VLOOKUP($A$3,'Roster LIMA'!$B$15138:$AU$15467,'Roster LIMA'!W$1,FALSE)))","v":""},{"$f":"IF(COUNTBLANK($A$3)<>0,\"\",IF(ISERROR(VLOOKUP($A$3,'Roster LIMA'!$B$15138:$AU$15467,'Roster LIMA'!X$1,FALSE)),\"\",VLOOKUP($A$3,'Roster LIMA'!$B$15138:$AU$15467,'Roster LIMA'!X$1,FALSE)))","v":""},{"$f":"IF(COUNTBLANK($A$3)<>0,\"\",IF(ISERROR(VLOOKUP($A$3,'Roster LIMA'!$B$15138:$AU$15467,'Roster LIMA'!Y$1,FALSE)),\"\",VLOOKUP($A$3,'Roster LIMA'!$B$15138:$AU$15467,'Roster LIMA'!Y$1,FALSE)))","v":""},{"$f":"IF(COUNTBLANK($A$3)<>0,\"\",IF(ISERROR(VLOOKUP($A$3,'Roster LIMA'!$B$15138:$AU$15467,'Roster LIMA'!Z$1,FALSE)),\"\",VLOOKUP($A$3,'Roster LIMA'!$B$15138:$AU$15467,'Roster LIMA'!Z$1,FALSE)))","v":""},{"$f":"IF(COUNTBLANK($A$3)<>0,\"\",IF(ISERROR(VLOOKUP($A$3,'Roster LIMA'!$B$15138:$AU$15467,'Roster LIMA'!AA$1,FALSE)),\"\",VLOOKUP($A$3,'Roster LIMA'!$B$15138:$AU$15467,'Roster LIMA'!AA$1,FALSE)))","v":""},{"$f":"IF(COUNTBLANK($A$3)<>0,\"\",IF(ISERROR(VLOOKUP($A$3,'Roster LIMA'!$B$15138:$AU$15467,'Roster LIMA'!AB$1,FALSE)),\"\",VLOOKUP($A$3,'Roster LIMA'!$B$15138:$AU$15467,'Roster LIMA'!AB$1,FALSE)))","v":""},{"$f":"IF(COUNTBLANK($A$3)<>0,\"\",IF(ISERROR(VLOOKUP($A$3,'Roster LIMA'!$B$15138:$AU$15467,'Roster LIMA'!AC$1,FALSE)),\"\",VLOOKUP($A$3,'Roster LIMA'!$B$15138:$AU$15467,'Roster LIMA'!AC$1,FALSE)))","v":""},{"$f":"IF(COUNTBLANK($A$3)<>0,\"\",IF(ISERROR(VLOOKUP($A$3,'Roster LIMA'!$B$15138:$AU$15467,'Roster LIMA'!AD$1,FALSE)),\"\",VLOOKUP($A$3,'Roster LIMA'!$B$15138:$AU$15467,'Roster LIMA'!AD$1,FALSE)))","v":""},{"$f":"IF(COUNTBLANK($A$3)<>0,\"\",IF(ISERROR(VLOOKUP($A$3,'Roster LIMA'!$B$15138:$AU$15467,'Roster LIMA'!AE$1,FALSE)),\"\",VLOOKUP($A$3,'Roster LIMA'!$B$15138:$AU$15467,'Roster LIMA'!AE$1,FALSE)))","v":""},{"$f":"IF(COUNTBLANK($A$3)<>0,\"\",IF(ISERROR(VLOOKUP($A$3,'Roster LIMA'!$B$15138:$AU$15467,'Roster LIMA'!AF$1,FALSE)),\"\",VLOOKUP($A$3,'Roster LIMA'!$B$15138:$AU$15467,'Roster LIMA'!AF$1,FALSE)))","v":""},{"$f":"IF(COUNTBLANK($A$3)<>0,\"\",IF(ISERROR(VLOOKUP($A$3,'Roster LIMA'!$B$15138:$AU$15467,'Roster LIMA'!AG$1,FALSE)),\"\",VLOOKUP($A$3,'Roster LIMA'!$B$15138:$AU$15467,'Roster LIMA'!AG$1,FALSE)))","v":""},{"$f":"IF(COUNTBLANK($A$3)<>0,\"\",IF(ISERROR(VLOOKUP($A$3,'Roster LIMA'!$B$15138:$AU$15467,'Roster LIMA'!AH$1,FALSE)),\"\",VLOOKUP($A$3,'Roster LIMA'!$B$15138:$AU$15467,'Roster LIMA'!AH$1,FALSE)))","v":""},{"$f":"IF(COUNTBLANK($A$3)<>0,\"\",IF(ISERROR(VLOOKUP($A$3,'Roster LIMA'!$B$15138:$AU$15467,'Roster LIMA'!AI$1,FALSE)),\"\",VLOOKUP($A$3,'Roster LIMA'!$B$15138:$AU$15467,'Roster LIMA'!AI$1,FALSE)))","v":""},{"$f":"IF(COUNTBLANK($A$3)<>0,\"\",IF(ISERROR(VLOOKUP($A$3,'Roster LIMA'!$B$15138:$AU$15467,'Roster LIMA'!AJ$1,FALSE)),\"\",VLOOKUP($A$3,'Roster LIMA'!$B$15138:$AU$15467,'Roster LIMA'!AJ$1,FALSE)))","v":""},{"$f":"IF(COUNTBLANK($A$3)<>0,\"\",IF(ISERROR(VLOOKUP($A$3,'Roster LIMA'!$B$15138:$AU$15467,'Roster LIMA'!AK$1,FALSE)),\"\",VLOOKUP($A$3,'Roster LIMA'!$B$15138:$AU$15467,'Roster LIMA'!AK$1,FALSE)))","v":""},{"$f":"IF(COUNTBLANK($A$3)<>0,\"\",IF(ISERROR(VLOOKUP($A$3,'Roster LIMA'!$B$15138:$AU$15467,'Roster LIMA'!AL$1,FALSE)),\"\",VLOOKUP($A$3,'Roster LIMA'!$B$15138:$AU$15467,'Roster LIMA'!AL$1,FALSE)))","v":""},{"$f":"IF(COUNTBLANK($A$3)<>0,\"\",IF(ISERROR(VLOOKUP($A$3,'Roster LIMA'!$B$15138:$AU$15467,'Roster LIMA'!AM$1,FALSE)),\"\",VLOOKUP($A$3,'Roster LIMA'!$B$15138:$AU$15467,'Roster LIMA'!AM$1,FALSE)))","v":""},{"$f":"IF(COUNTBLANK($A$3)<>0,\"\",IF(ISERROR(VLOOKUP($A$3,'Roster LIMA'!$B$15138:$AU$15467,'Roster LIMA'!AN$1,FALSE)),\"\",VLOOKUP($A$3,'Roster LIMA'!$B$15138:$AU$15467,'Roster LIMA'!AN$1,FALSE)))","v":""},{"$f":"IF(COUNTBLANK($A$3)<>0,\"\",IF(ISERROR(VLOOKUP($A$3,'Roster LIMA'!$B$15138:$AU$15467,'Roster LIMA'!AO$1,FALSE)),\"\",VLOOKUP($A$3,'Roster LIMA'!$B$15138:$AU$15467,'Roster LIMA'!AO$1,FALSE)))","v":""},{"$f":"IF(COUNTBLANK($A$3)<>0,\"\",IF(ISERROR(VLOOKUP($A$3,'Roster LIMA'!$B$15138:$AU$15467,'Roster LIMA'!AP$1,FALSE)),\"\",VLOOKUP($A$3,'Roster LIMA'!$B$15138:$AU$15467,'Roster LIMA'!AP$1,FALSE)))","v":""},{"$f":"IF(COUNTBLANK($A$3)<>0,\"\",IF(ISERROR(VLOOKUP($A$3,'Roster LIMA'!$B$15138:$AU$15467,'Roster LIMA'!AQ$1,FALSE)),\"\",VLOOKUP($A$3,'Roster LIMA'!$B$15138:$AU$15467,'Roster LIMA'!AQ$1,FALSE)))","v":""},{"$f":"IF(COUNTBLANK($A$3)<>0,\"\",IF(ISERROR(VLOOKUP($A$3,'Roster LIMA'!$B$15138:$AU$15467,'Roster LIMA'!AR$1,FALSE)),\"\",VLOOKUP($A$3,'Roster LIMA'!$B$15138:$AU$15467,'Roster LIMA'!AR$1,FALSE)))","v":""},{"$f":"IF(COUNTBLANK($A$3)<>0,\"\",IF(ISERROR(VLOOKUP($A$3,'Roster LIMA'!$B$15138:$AU$15467,'Roster LIMA'!AS$1,FALSE)),\"\",VLOOKUP($A$3,'Roster LIMA'!$B$15138:$AU$15467,'Roster LIMA'!AS$1,FALSE)))","v":""},{"$f":"IF(COUNTBLANK($A$3)<>0,\"\",IF(ISERROR(VLOOKUP($A$3,'Roster LIMA'!$B$15138:$AU$15467,'Roster LIMA'!AT$1,FALSE)),\"\",VLOOKUP($A$3,'Roster LIMA'!$B$15138:$AU$15467,'Roster LIMA'!AT$1,FALSE)))","v":""},{"$f":"IF(COUNTBLANK($A$3)<>0,\"\",IF(ISERROR(VLOOKUP($A$3,'Roster LIMA'!$B$15138:$AU$15467,'Roster LIMA'!AU$1,FALSE)),\"\",VLOOKUP($A$3,'Roster LIMA'!$B$15138:$AU$15467,'Roster LIMA'!AU$1,FALSE)))","v":""}]
[{"$f":"+'Roster LIMA'!G15468","v":2004},{"$f":"IF(COUNTBLANK($A$3)<>0,\"\",IF(ISERROR(VLOOKUP($A$3,'Roster LIMA'!$B$15468:$AU$15736,'Roster LIMA'!H$1,FALSE)),\"\",IF(VLOOKUP($A$3,'Roster LIMA'!$B$15468:$AU$15736,'Roster LIMA'!H$1,FALSE)=0,\"\",VLOOKUP($A$3,'Roster LIMA'!$B$15468:$AU$15736,'Roster LIMA'!H$1,FALSE))))","v":""},{"$f":"IF(COUNTBLANK($A$3)<>0,\"\",IF(ISERROR(VLOOKUP($A$3,'Roster LIMA'!$B$15468:$AU$15736,'Roster LIMA'!I$1,FALSE)),\"\",IF(VLOOKUP($A$3,'Roster LIMA'!$B$15468:$AU$15736,'Roster LIMA'!I$1,FALSE)=0,\"\",VLOOKUP($A$3,'Roster LIMA'!$B$15468:$AU$15736,'Roster LIMA'!I$1,FALSE))))","v":""},{"$f":"IF(COUNTBLANK($A$3)<>0,\"\",IF(ISERROR(VLOOKUP($A$3,'Roster LIMA'!$B$15468:$AU$15736,'Roster LIMA'!J$1,FALSE)),\"\",IF(VLOOKUP($A$3,'Roster LIMA'!$B$15468:$AU$15736,'Roster LIMA'!J$1,FALSE)=0,\"\",VLOOKUP($A$3,'Roster LIMA'!$B$15468:$AU$15736,'Roster LIMA'!J$1,FALSE))))","v":""},{"$f":"IF(COUNTBLANK($A$3)<>0,\"\",IF(ISERROR(VLOOKUP($A$3,'Roster LIMA'!$B$15468:$AU$15736,'Roster LIMA'!K$1,FALSE)),\"\",IF(VLOOKUP($A$3,'Roster LIMA'!$B$15468:$AU$15736,'Roster LIMA'!K$1,FALSE)=0,\"\",VLOOKUP($A$3,'Roster LIMA'!$B$15468:$AU$15736,'Roster LIMA'!K$1,FALSE))))","v":""},{"$f":"IF(COUNTBLANK($A$3)<>0,\"\",IF(ISERROR(VLOOKUP($A$3,'Roster LIMA'!$B$15468:$AU$15736,'Roster LIMA'!F$1,FALSE)),\"\",IF(VLOOKUP($A$3,'Roster LIMA'!$B$15468:$AU$15736,'Roster LIMA'!F$1,FALSE)=0,\"\",VLOOKUP($A$3,'Roster LIMA'!$B$15468:$AU$15736,'Roster LIMA'!F$1,FALSE))))","v":""},{"$f":"IF(COUNTBLANK($A$3)<>0,\"\",IF(ISERROR(VLOOKUP($A$3,'Roster LIMA'!$B$15468:$AU$15736,'Roster LIMA'!E$1,FALSE)),\"\",IF(VLOOKUP($A$3,'Roster LIMA'!$B$15468:$AU$15736,'Roster LIMA'!E$1,FALSE)=0,\"\",VLOOKUP($A$3,'Roster LIMA'!$B$15468:$AU$15736,'Roster LIMA'!E$1,FALSE))))","v":""},{"$f":"IF(COUNTBLANK($A$3)<>0,\"\",IF(ISERROR(VLOOKUP($A$3,'Roster LIMA'!$B$15468:$AU$15736,'Roster LIMA'!B$1,FALSE)),\"N/A\",IF(VLOOKUP($A$3,'Roster LIMA'!$B$15468:$AU$15736,'Roster LIMA'!B$1,FALSE)=0,\"\",VLOOKUP($A$3,'Roster LIMA'!$B$15468:$AU$15736,'Roster LIMA'!B$1,FALSE))))","v":""},{"$f":"IF(COUNTBLANK($A$3)<>0,\"\",IF(ISERROR(VLOOKUP($A$3,'Roster LIMA'!$B$15468:$AU$15736,'Roster LIMA'!C$1,FALSE)),\"\",IF(VLOOKUP($A$3,'Roster LIMA'!$B$15468:$AU$15736,'Roster LIMA'!C$1,FALSE)=0,\"\",VLOOKUP($A$3,'Roster LIMA'!$B$15468:$AU$15736,'Roster LIMA'!C$1,FALSE))))","v":""},{"$f":"IF(COUNTBLANK($A$3)<>0,\"\",IF(ISERROR(VLOOKUP($A$3,'Roster LIMA'!$B$15468:$AU$15736,'Roster LIMA'!D$1,FALSE)),\"\",IF(VLOOKUP($A$3,'Roster LIMA'!$B$15468:$AU$15736,'Roster LIMA'!D$1,FALSE)=0,\"\",VLOOKUP($A$3,'Roster LIMA'!$B$15468:$AU$15736,'Roster LIMA'!D$1,FALSE))))","v":""},{"$f":"IF(COUNTBLANK($A$3)<>0,\"\",IF(ISERROR(VLOOKUP($A$3,'Roster LIMA'!$B$15468:$AU$15736,'Roster LIMA'!L$1,FALSE)),\"\",VLOOKUP($A$3,'Roster LIMA'!$B$15468:$AU$15736,'Roster LIMA'!L$1,FALSE)))","v":""},{"$f":"IF(COUNTBLANK($A$3)<>0,\"\",IF(ISERROR(VLOOKUP($A$3,'Roster LIMA'!$B$15468:$AU$15736,'Roster LIMA'!M$1,FALSE)),\"\",VLOOKUP($A$3,'Roster LIMA'!$B$15468:$AU$15736,'Roster LIMA'!M$1,FALSE)))","v":""},{"$f":"IF(COUNTBLANK($A$3)<>0,\"\",IF(ISERROR(VLOOKUP($A$3,'Roster LIMA'!$B$15468:$AU$15736,'Roster LIMA'!N$1,FALSE)),\"\",VLOOKUP($A$3,'Roster LIMA'!$B$15468:$AU$15736,'Roster LIMA'!N$1,FALSE)))","v":""},{"$f":"IF(COUNTBLANK($A$3)<>0,\"\",IF(ISERROR(VLOOKUP($A$3,'Roster LIMA'!$B$15468:$AU$15736,'Roster LIMA'!O$1,FALSE)),\"\",VLOOKUP($A$3,'Roster LIMA'!$B$15468:$AU$15736,'Roster LIMA'!O$1,FALSE)))","v":""},{"$f":"IF(COUNTBLANK($A$3)<>0,\"\",IF(ISERROR(VLOOKUP($A$3,'Roster LIMA'!$B$15468:$AU$15736,'Roster LIMA'!P$1,FALSE)),\"\",VLOOKUP($A$3,'Roster LIMA'!$B$15468:$AU$15736,'Roster LIMA'!P$1,FALSE)))","v":""},{"$f":"IF(COUNTBLANK($A$3)<>0,\"\",IF(ISERROR(VLOOKUP($A$3,'Roster LIMA'!$B$15468:$AU$15736,'Roster LIMA'!Q$1,FALSE)),\"\",VLOOKUP($A$3,'Roster LIMA'!$B$15468:$AU$15736,'Roster LIMA'!Q$1,FALSE)))","v":""},{"$f":"IF(COUNTBLANK($A$3)<>0,\"\",IF(ISERROR(VLOOKUP($A$3,'Roster LIMA'!$B$15468:$AU$15736,'Roster LIMA'!R$1,FALSE)),\"\",VLOOKUP($A$3,'Roster LIMA'!$B$15468:$AU$15736,'Roster LIMA'!R$1,FALSE)))","v":""},{"$f":"IF(COUNTBLANK($A$3)<>0,\"\",IF(ISERROR(VLOOKUP($A$3,'Roster LIMA'!$B$15468:$AU$15736,'Roster LIMA'!S$1,FALSE)),\"\",VLOOKUP($A$3,'Roster LIMA'!$B$15468:$AU$15736,'Roster LIMA'!S$1,FALSE)))","v":""},{"$f":"IF(COUNTBLANK($A$3)<>0,\"\",IF(ISERROR(VLOOKUP($A$3,'Roster LIMA'!$B$15468:$AU$15736,'Roster LIMA'!T$1,FALSE)),\"\",VLOOKUP($A$3,'Roster LIMA'!$B$15468:$AU$15736,'Roster LIMA'!T$1,FALSE)))","v":""},{"$f":"IF(COUNTBLANK($A$3)<>0,\"\",IF(ISERROR(VLOOKUP($A$3,'Roster LIMA'!$B$15468:$AU$15736,'Roster LIMA'!U$1,FALSE)),\"\",VLOOKUP($A$3,'Roster LIMA'!$B$15468:$AU$15736,'Roster LIMA'!U$1,FALSE)))","v":""},{"$f":"IF(COUNTBLANK($A$3)<>0,\"\",IF(ISERROR(VLOOKUP($A$3,'Roster LIMA'!$B$15468:$AU$15736,'Roster LIMA'!V$1,FALSE)),\"\",VLOOKUP($A$3,'Roster LIMA'!$B$15468:$AU$15736,'Roster LIMA'!V$1,FALSE)))","v":""},{"$f":"IF(COUNTBLANK($A$3)<>0,\"\",IF(ISERROR(VLOOKUP($A$3,'Roster LIMA'!$B$15468:$AU$15736,'Roster LIMA'!W$1,FALSE)),\"\",VLOOKUP($A$3,'Roster LIMA'!$B$15468:$AU$15736,'Roster LIMA'!W$1,FALSE)))","v":""},{"$f":"IF(COUNTBLANK($A$3)<>0,\"\",IF(ISERROR(VLOOKUP($A$3,'Roster LIMA'!$B$15468:$AU$15736,'Roster LIMA'!X$1,FALSE)),\"\",VLOOKUP($A$3,'Roster LIMA'!$B$15468:$AU$15736,'Roster LIMA'!X$1,FALSE)))","v":""},{"$f":"IF(COUNTBLANK($A$3)<>0,\"\",IF(ISERROR(VLOOKUP($A$3,'Roster LIMA'!$B$15468:$AU$15736,'Roster LIMA'!Y$1,FALSE)),\"\",VLOOKUP($A$3,'Roster LIMA'!$B$15468:$AU$15736,'Roster LIMA'!Y$1,FALSE)))","v":""},{"$f":"IF(COUNTBLANK($A$3)<>0,\"\",IF(ISERROR(VLOOKUP($A$3,'Roster LIMA'!$B$15468:$AU$15736,'Roster LIMA'!Z$1,FALSE)),\"\",VLOOKUP($A$3,'Roster LIMA'!$B$15468:$AU$15736,'Roster LIMA'!Z$1,FALSE)))","v":""},{"$f":"IF(COUNTBLANK($A$3)<>0,\"\",IF(ISERROR(VLOOKUP($A$3,'Roster LIMA'!$B$15468:$AU$15736,'Roster LIMA'!AA$1,FALSE)),\"\",VLOOKUP($A$3,'Roster LIMA'!$B$15468:$AU$15736,'Roster LIMA'!AA$1,FALSE)))","v":""},{"$f":"IF(COUNTBLANK($A$3)<>0,\"\",IF(ISERROR(VLOOKUP($A$3,'Roster LIMA'!$B$15468:$AU$15736,'Roster LIMA'!AB$1,FALSE)),\"\",VLOOKUP($A$3,'Roster LIMA'!$B$15468:$AU$15736,'Roster LIMA'!AB$1,FALSE)))","v":""},{"$f":"IF(COUNTBLANK($A$3)<>0,\"\",IF(ISERROR(VLOOKUP($A$3,'Roster LIMA'!$B$15468:$AU$15736,'Roster LIMA'!AC$1,FALSE)),\"\",VLOOKUP($A$3,'Roster LIMA'!$B$15468:$AU$15736,'Roster LIMA'!AC$1,FALSE)))","v":""},{"$f":"IF(COUNTBLANK($A$3)<>0,\"\",IF(ISERROR(VLOOKUP($A$3,'Roster LIMA'!$B$15468:$AU$15736,'Roster LIMA'!AD$1,FALSE)),\"\",VLOOKUP($A$3,'Roster LIMA'!$B$15468:$AU$15736,'Roster LIMA'!AD$1,FALSE)))","v":""},{"$f":"IF(COUNTBLANK($A$3)<>0,\"\",IF(ISERROR(VLOOKUP($A$3,'Roster LIMA'!$B$15468:$AU$15736,'Roster LIMA'!AE$1,FALSE)),\"\",VLOOKUP($A$3,'Roster LIMA'!$B$15468:$AU$15736,'Roster LIMA'!AE$1,FALSE)))","v":""},{"$f":"IF(COUNTBLANK($A$3)<>0,\"\",IF(ISERROR(VLOOKUP($A$3,'Roster LIMA'!$B$15468:$AU$15736,'Roster LIMA'!AF$1,FALSE)),\"\",VLOOKUP($A$3,'Roster LIMA'!$B$15468:$AU$15736,'Roster LIMA'!AF$1,FALSE)))","v":""},{"$f":"IF(COUNTBLANK($A$3)<>0,\"\",IF(ISERROR(VLOOKUP($A$3,'Roster LIMA'!$B$15468:$AU$15736,'Roster LIMA'!AG$1,FALSE)),\"\",VLOOKUP($A$3,'Roster LIMA'!$B$15468:$AU$15736,'Roster LIMA'!AG$1,FALSE)))","v":""},{"$f":"IF(COUNTBLANK($A$3)<>0,\"\",IF(ISERROR(VLOOKUP($A$3,'Roster LIMA'!$B$15468:$AU$15736,'Roster LIMA'!AH$1,FALSE)),\"\",VLOOKUP($A$3,'Roster LIMA'!$B$15468:$AU$15736,'Roster LIMA'!AH$1,FALSE)))","v":""},{"$f":"IF(COUNTBLANK($A$3)<>0,\"\",IF(ISERROR(VLOOKUP($A$3,'Roster LIMA'!$B$15468:$AU$15736,'Roster LIMA'!AI$1,FALSE)),\"\",VLOOKUP($A$3,'Roster LIMA'!$B$15468:$AU$15736,'Roster LIMA'!AI$1,FALSE)))","v":""},{"$f":"IF(COUNTBLANK($A$3)<>0,\"\",IF(ISERROR(VLOOKUP($A$3,'Roster LIMA'!$B$15468:$AU$15736,'Roster LIMA'!AJ$1,FALSE)),\"\",VLOOKUP($A$3,'Roster LIMA'!$B$15468:$AU$15736,'Roster LIMA'!AJ$1,FALSE)))","v":""},{"$f":"IF(COUNTBLANK($A$3)<>0,\"\",IF(ISERROR(VLOOKUP($A$3,'Roster LIMA'!$B$15468:$AU$15736,'Roster LIMA'!AK$1,FALSE)),\"\",VLOOKUP($A$3,'Roster LIMA'!$B$15468:$AU$15736,'Roster LIMA'!AK$1,FALSE)))","v":""},{"$f":"IF(COUNTBLANK($A$3)<>0,\"\",IF(ISERROR(VLOOKUP($A$3,'Roster LIMA'!$B$15468:$AU$15736,'Roster LIMA'!AL$1,FALSE)),\"\",VLOOKUP($A$3,'Roster LIMA'!$B$15468:$AU$15736,'Roster LIMA'!AL$1,FALSE)))","v":""},{"$f":"IF(COUNTBLANK($A$3)<>0,\"\",IF(ISERROR(VLOOKUP($A$3,'Roster LIMA'!$B$15468:$AU$15736,'Roster LIMA'!AM$1,FALSE)),\"\",VLOOKUP($A$3,'Roster LIMA'!$B$15468:$AU$15736,'Roster LIMA'!AM$1,FALSE)))","v":""},{"$f":"IF(COUNTBLANK($A$3)<>0,\"\",IF(ISERROR(VLOOKUP($A$3,'Roster LIMA'!$B$15468:$AU$15736,'Roster LIMA'!AN$1,FALSE)),\"\",VLOOKUP($A$3,'Roster LIMA'!$B$15468:$AU$15736,'Roster LIMA'!AN$1,FALSE)))","v":""},{"$f":"IF(COUNTBLANK($A$3)<>0,\"\",IF(ISERROR(VLOOKUP($A$3,'Roster LIMA'!$B$15468:$AU$15736,'Roster LIMA'!AO$1,FALSE)),\"\",VLOOKUP($A$3,'Roster LIMA'!$B$15468:$AU$15736,'Roster LIMA'!AO$1,FALSE)))","v":""},{"$f":"IF(COUNTBLANK($A$3)<>0,\"\",IF(ISERROR(VLOOKUP($A$3,'Roster LIMA'!$B$15468:$AU$15736,'Roster LIMA'!AP$1,FALSE)),\"\",VLOOKUP($A$3,'Roster LIMA'!$B$15468:$AU$15736,'Roster LIMA'!AP$1,FALSE)))","v":""},{"$f":"IF(COUNTBLANK($A$3)<>0,\"\",IF(ISERROR(VLOOKUP($A$3,'Roster LIMA'!$B$15468:$AU$15736,'Roster LIMA'!AQ$1,FALSE)),\"\",VLOOKUP($A$3,'Roster LIMA'!$B$15468:$AU$15736,'Roster LIMA'!AQ$1,FALSE)))","v":""},{"$f":"IF(COUNTBLANK($A$3)<>0,\"\",IF(ISERROR(VLOOKUP($A$3,'Roster LIMA'!$B$15468:$AU$15736,'Roster LIMA'!AR$1,FALSE)),\"\",VLOOKUP($A$3,'Roster LIMA'!$B$15468:$AU$15736,'Roster LIMA'!AR$1,FALSE)))","v":""},{"$f":"IF(COUNTBLANK($A$3)<>0,\"\",IF(ISERROR(VLOOKUP($A$3,'Roster LIMA'!$B$15468:$AU$15736,'Roster LIMA'!AS$1,FALSE)),\"\",VLOOKUP($A$3,'Roster LIMA'!$B$15468:$AU$15736,'Roster LIMA'!AS$1,FALSE)))","v":""},{"$f":"IF(COUNTBLANK($A$3)<>0,\"\",IF(ISERROR(VLOOKUP($A$3,'Roster LIMA'!$B$15468:$AU$15736,'Roster LIMA'!AT$1,FALSE)),\"\",VLOOKUP($A$3,'Roster LIMA'!$B$15468:$AU$15736,'Roster LIMA'!AT$1,FALSE)))","v":""},{"$f":"IF(COUNTBLANK($A$3)<>0,\"\",IF(ISERROR(VLOOKUP($A$3,'Roster LIMA'!$B$15468:$AU$15736,'Roster LIMA'!AU$1,FALSE)),\"\",VLOOKUP($A$3,'Roster LIMA'!$B$15468:$AU$15736,'Roster LIMA'!AU$1,FALSE)))","v":""}]
[{"$f":"+'Roster LIMA'!G15737","v":2006},{"$f":"IF(COUNTBLANK($A$3)<>0,\"\",IF(ISERROR(VLOOKUP($A$3,'Roster LIMA'!$B$15737:$AU$15780,'Roster LIMA'!H$1,FALSE)),\"\",IF(VLOOKUP($A$3,'Roster LIMA'!$B$15737:$AU$15780,'Roster LIMA'!H$1,FALSE)=0,\"\",VLOOKUP($A$3,'Roster LIMA'!$B$15737:$AU$15780,'Roster LIMA'!H$1,FALSE))))","v":""},{"$f":"IF(COUNTBLANK($A$3)<>0,\"\",IF(ISERROR(VLOOKUP($A$3,'Roster LIMA'!$B$15737:$AU$15780,'Roster LIMA'!I$1,FALSE)),\"\",IF(VLOOKUP($A$3,'Roster LIMA'!$B$15737:$AU$15780,'Roster LIMA'!I$1,FALSE)=0,\"\",VLOOKUP($A$3,'Roster LIMA'!$B$15737:$AU$15780,'Roster LIMA'!I$1,FALSE))))","v":""},{"$f":"IF(COUNTBLANK($A$3)<>0,\"\",IF(ISERROR(VLOOKUP($A$3,'Roster LIMA'!$B$15737:$AU$15780,'Roster LIMA'!J$1,FALSE)),\"\",IF(VLOOKUP($A$3,'Roster LIMA'!$B$15737:$AU$15780,'Roster LIMA'!J$1,FALSE)=0,\"\",VLOOKUP($A$3,'Roster LIMA'!$B$15737:$AU$15780,'Roster LIMA'!J$1,FALSE))))","v":""},{"$f":"IF(COUNTBLANK($A$3)<>0,\"\",IF(ISERROR(VLOOKUP($A$3,'Roster LIMA'!$B$15737:$AU$15780,'Roster LIMA'!K$1,FALSE)),\"\",IF(VLOOKUP($A$3,'Roster LIMA'!$B$15737:$AU$15780,'Roster LIMA'!K$1,FALSE)=0,\"\",VLOOKUP($A$3,'Roster LIMA'!$B$15737:$AU$15780,'Roster LIMA'!K$1,FALSE))))","v":""},{"$f":"IF(COUNTBLANK($A$3)<>0,\"\",IF(ISERROR(VLOOKUP($A$3,'Roster LIMA'!$B$15737:$AU$15780,'Roster LIMA'!F$1,FALSE)),\"\",IF(VLOOKUP($A$3,'Roster LIMA'!$B$15737:$AU$15780,'Roster LIMA'!F$1,FALSE)=0,\"\",VLOOKUP($A$3,'Roster LIMA'!$B$15737:$AU$15780,'Roster LIMA'!F$1,FALSE))))","v":""},{"$f":"IF(COUNTBLANK($A$3)<>0,\"\",IF(ISERROR(VLOOKUP($A$3,'Roster LIMA'!$B$15737:$AU$15780,'Roster LIMA'!E$1,FALSE)),\"\",IF(VLOOKUP($A$3,'Roster LIMA'!$B$15737:$AU$15780,'Roster LIMA'!E$1,FALSE)=0,\"\",VLOOKUP($A$3,'Roster LIMA'!$B$15737:$AU$15780,'Roster LIMA'!E$1,FALSE))))","v":""},{"$f":"IF(COUNTBLANK($A$3)<>0,\"\",IF(ISERROR(VLOOKUP($A$3,'Roster LIMA'!$B$15737:$AU$15780,'Roster LIMA'!B$1,FALSE)),\"N/A\",IF(VLOOKUP($A$3,'Roster LIMA'!$B$15737:$AU$15780,'Roster LIMA'!B$1,FALSE)=0,\"\",VLOOKUP($A$3,'Roster LIMA'!$B$15737:$AU$15780,'Roster LIMA'!B$1,FALSE))))","v":""},{"$f":"IF(COUNTBLANK($A$3)<>0,\"\",IF(ISERROR(VLOOKUP($A$3,'Roster LIMA'!$B$15737:$AU$15780,'Roster LIMA'!C$1,FALSE)),\"\",IF(VLOOKUP($A$3,'Roster LIMA'!$B$15737:$AU$15780,'Roster LIMA'!C$1,FALSE)=0,\"\",VLOOKUP($A$3,'Roster LIMA'!$B$15737:$AU$15780,'Roster LIMA'!C$1,FALSE))))","v":""},{"$f":"IF(COUNTBLANK($A$3)<>0,\"\",IF(ISERROR(VLOOKUP($A$3,'Roster LIMA'!$B$15737:$AU$15780,'Roster LIMA'!D$1,FALSE)),\"\",IF(VLOOKUP($A$3,'Roster LIMA'!$B$15737:$AU$15780,'Roster LIMA'!D$1,FALSE)=0,\"\",VLOOKUP($A$3,'Roster LIMA'!$B$15737:$AU$15780,'Roster LIMA'!D$1,FALSE))))","v":""},{"$f":"IF(COUNTBLANK($A$3)<>0,\"\",IF(ISERROR(VLOOKUP($A$3,'Roster LIMA'!$B$15737:$AU$15780,'Roster LIMA'!L$1,FALSE)),\"\",VLOOKUP($A$3,'Roster LIMA'!$B$15737:$AU$15780,'Roster LIMA'!L$1,FALSE)))","v":""},{"$f":"IF(COUNTBLANK($A$3)<>0,\"\",IF(ISERROR(VLOOKUP($A$3,'Roster LIMA'!$B$15737:$AU$15780,'Roster LIMA'!M$1,FALSE)),\"\",VLOOKUP($A$3,'Roster LIMA'!$B$15737:$AU$15780,'Roster LIMA'!M$1,FALSE)))","v":""},{"$f":"IF(COUNTBLANK($A$3)<>0,\"\",IF(ISERROR(VLOOKUP($A$3,'Roster LIMA'!$B$15737:$AU$15780,'Roster LIMA'!N$1,FALSE)),\"\",VLOOKUP($A$3,'Roster LIMA'!$B$15737:$AU$15780,'Roster LIMA'!N$1,FALSE)))","v":""},{"$f":"IF(COUNTBLANK($A$3)<>0,\"\",IF(ISERROR(VLOOKUP($A$3,'Roster LIMA'!$B$15737:$AU$15780,'Roster LIMA'!O$1,FALSE)),\"\",VLOOKUP($A$3,'Roster LIMA'!$B$15737:$AU$15780,'Roster LIMA'!O$1,FALSE)))","v":""},{"$f":"IF(COUNTBLANK($A$3)<>0,\"\",IF(ISERROR(VLOOKUP($A$3,'Roster LIMA'!$B$15737:$AU$15780,'Roster LIMA'!P$1,FALSE)),\"\",VLOOKUP($A$3,'Roster LIMA'!$B$15737:$AU$15780,'Roster LIMA'!P$1,FALSE)))","v":""},{"$f":"IF(COUNTBLANK($A$3)<>0,\"\",IF(ISERROR(VLOOKUP($A$3,'Roster LIMA'!$B$15737:$AU$15780,'Roster LIMA'!Q$1,FALSE)),\"\",VLOOKUP($A$3,'Roster LIMA'!$B$15737:$AU$15780,'Roster LIMA'!Q$1,FALSE)))","v":""},{"$f":"IF(COUNTBLANK($A$3)<>0,\"\",IF(ISERROR(VLOOKUP($A$3,'Roster LIMA'!$B$15737:$AU$15780,'Roster LIMA'!R$1,FALSE)),\"\",VLOOKUP($A$3,'Roster LIMA'!$B$15737:$AU$15780,'Roster LIMA'!R$1,FALSE)))","v":""},{"$f":"IF(COUNTBLANK($A$3)<>0,\"\",IF(ISERROR(VLOOKUP($A$3,'Roster LIMA'!$B$15737:$AU$15780,'Roster LIMA'!S$1,FALSE)),\"\",VLOOKUP($A$3,'Roster LIMA'!$B$15737:$AU$15780,'Roster LIMA'!S$1,FALSE)))","v":""},{"$f":"IF(COUNTBLANK($A$3)<>0,\"\",IF(ISERROR(VLOOKUP($A$3,'Roster LIMA'!$B$15737:$AU$15780,'Roster LIMA'!T$1,FALSE)),\"\",VLOOKUP($A$3,'Roster LIMA'!$B$15737:$AU$15780,'Roster LIMA'!T$1,FALSE)))","v":""},{"$f":"IF(COUNTBLANK($A$3)<>0,\"\",IF(ISERROR(VLOOKUP($A$3,'Roster LIMA'!$B$15737:$AU$15780,'Roster LIMA'!U$1,FALSE)),\"\",VLOOKUP($A$3,'Roster LIMA'!$B$15737:$AU$15780,'Roster LIMA'!U$1,FALSE)))","v":""},{"$f":"IF(COUNTBLANK($A$3)<>0,\"\",IF(ISERROR(VLOOKUP($A$3,'Roster LIMA'!$B$15737:$AU$15780,'Roster LIMA'!V$1,FALSE)),\"\",VLOOKUP($A$3,'Roster LIMA'!$B$15737:$AU$15780,'Roster LIMA'!V$1,FALSE)))","v":""},{"$f":"IF(COUNTBLANK($A$3)<>0,\"\",IF(ISERROR(VLOOKUP($A$3,'Roster LIMA'!$B$15737:$AU$15780,'Roster LIMA'!W$1,FALSE)),\"\",VLOOKUP($A$3,'Roster LIMA'!$B$15737:$AU$15780,'Roster LIMA'!W$1,FALSE)))","v":""},{"$f":"IF(COUNTBLANK($A$3)<>0,\"\",IF(ISERROR(VLOOKUP($A$3,'Roster LIMA'!$B$15737:$AU$15780,'Roster LIMA'!X$1,FALSE)),\"\",VLOOKUP($A$3,'Roster LIMA'!$B$15737:$AU$15780,'Roster LIMA'!X$1,FALSE)))","v":""},{"$f":"IF(COUNTBLANK($A$3)<>0,\"\",IF(ISERROR(VLOOKUP($A$3,'Roster LIMA'!$B$15737:$AU$15780,'Roster LIMA'!Y$1,FALSE)),\"\",VLOOKUP($A$3,'Roster LIMA'!$B$15737:$AU$15780,'Roster LIMA'!Y$1,FALSE)))","v":""},{"$f":"IF(COUNTBLANK($A$3)<>0,\"\",IF(ISERROR(VLOOKUP($A$3,'Roster LIMA'!$B$15737:$AU$15780,'Roster LIMA'!Z$1,FALSE)),\"\",VLOOKUP($A$3,'Roster LIMA'!$B$15737:$AU$15780,'Roster LIMA'!Z$1,FALSE)))","v":""},{"$f":"IF(COUNTBLANK($A$3)<>0,\"\",IF(ISERROR(VLOOKUP($A$3,'Roster LIMA'!$B$15737:$AU$15780,'Roster LIMA'!AA$1,FALSE)),\"\",VLOOKUP($A$3,'Roster LIMA'!$B$15737:$AU$15780,'Roster LIMA'!AA$1,FALSE)))","v":""},{"$f":"IF(COUNTBLANK($A$3)<>0,\"\",IF(ISERROR(VLOOKUP($A$3,'Roster LIMA'!$B$15737:$AU$15780,'Roster LIMA'!AB$1,FALSE)),\"\",VLOOKUP($A$3,'Roster LIMA'!$B$15737:$AU$15780,'Roster LIMA'!AB$1,FALSE)))","v":""},{"$f":"IF(COUNTBLANK($A$3)<>0,\"\",IF(ISERROR(VLOOKUP($A$3,'Roster LIMA'!$B$15737:$AU$15780,'Roster LIMA'!AC$1,FALSE)),\"\",VLOOKUP($A$3,'Roster LIMA'!$B$15737:$AU$15780,'Roster LIMA'!AC$1,FALSE)))","v":""},{"$f":"IF(COUNTBLANK($A$3)<>0,\"\",IF(ISERROR(VLOOKUP($A$3,'Roster LIMA'!$B$15737:$AU$15780,'Roster LIMA'!AD$1,FALSE)),\"\",VLOOKUP($A$3,'Roster LIMA'!$B$15737:$AU$15780,'Roster LIMA'!AD$1,FALSE)))","v":""},{"$f":"IF(COUNTBLANK($A$3)<>0,\"\",IF(ISERROR(VLOOKUP($A$3,'Roster LIMA'!$B$15737:$AU$15780,'Roster LIMA'!AE$1,FALSE)),\"\",VLOOKUP($A$3,'Roster LIMA'!$B$15737:$AU$15780,'Roster LIMA'!AE$1,FALSE)))","v":""},{"$f":"IF(COUNTBLANK($A$3)<>0,\"\",IF(ISERROR(VLOOKUP($A$3,'Roster LIMA'!$B$15737:$AU$15780,'Roster LIMA'!AF$1,FALSE)),\"\",VLOOKUP($A$3,'Roster LIMA'!$B$15737:$AU$15780,'Roster LIMA'!AF$1,FALSE)))","v":""},{"$f":"IF(COUNTBLANK($A$3)<>0,\"\",IF(ISERROR(VLOOKUP($A$3,'Roster LIMA'!$B$15737:$AU$15780,'Roster LIMA'!AG$1,FALSE)),\"\",VLOOKUP($A$3,'Roster LIMA'!$B$15737:$AU$15780,'Roster LIMA'!AG$1,FALSE)))","v":""},{"$f":"IF(COUNTBLANK($A$3)<>0,\"\",IF(ISERROR(VLOOKUP($A$3,'Roster LIMA'!$B$15737:$AU$15780,'Roster LIMA'!AH$1,FALSE)),\"\",VLOOKUP($A$3,'Roster LIMA'!$B$15737:$AU$15780,'Roster LIMA'!AH$1,FALSE)))","v":""},{"$f":"IF(COUNTBLANK($A$3)<>0,\"\",IF(ISERROR(VLOOKUP($A$3,'Roster LIMA'!$B$15737:$AU$15780,'Roster LIMA'!AI$1,FALSE)),\"\",VLOOKUP($A$3,'Roster LIMA'!$B$15737:$AU$15780,'Roster LIMA'!AI$1,FALSE)))","v":""},{"$f":"IF(COUNTBLANK($A$3)<>0,\"\",IF(ISERROR(VLOOKUP($A$3,'Roster LIMA'!$B$15737:$AU$15780,'Roster LIMA'!AJ$1,FALSE)),\"\",VLOOKUP($A$3,'Roster LIMA'!$B$15737:$AU$15780,'Roster LIMA'!AJ$1,FALSE)))","v":""},{"$f":"IF(COUNTBLANK($A$3)<>0,\"\",IF(ISERROR(VLOOKUP($A$3,'Roster LIMA'!$B$15737:$AU$15780,'Roster LIMA'!AK$1,FALSE)),\"\",VLOOKUP($A$3,'Roster LIMA'!$B$15737:$AU$15780,'Roster LIMA'!AK$1,FALSE)))","v":""},{"$f":"IF(COUNTBLANK($A$3)<>0,\"\",IF(ISERROR(VLOOKUP($A$3,'Roster LIMA'!$B$15737:$AU$15780,'Roster LIMA'!AL$1,FALSE)),\"\",VLOOKUP($A$3,'Roster LIMA'!$B$15737:$AU$15780,'Roster LIMA'!AL$1,FALSE)))","v":""},{"$f":"IF(COUNTBLANK($A$3)<>0,\"\",IF(ISERROR(VLOOKUP($A$3,'Roster LIMA'!$B$15737:$AU$15780,'Roster LIMA'!AM$1,FALSE)),\"\",VLOOKUP($A$3,'Roster LIMA'!$B$15737:$AU$15780,'Roster LIMA'!AM$1,FALSE)))","v":""},{"$f":"IF(COUNTBLANK($A$3)<>0,\"\",IF(ISERROR(VLOOKUP($A$3,'Roster LIMA'!$B$15737:$AU$15780,'Roster LIMA'!AN$1,FALSE)),\"\",VLOOKUP($A$3,'Roster LIMA'!$B$15737:$AU$15780,'Roster LIMA'!AN$1,FALSE)))","v":""},{"$f":"IF(COUNTBLANK($A$3)<>0,\"\",IF(ISERROR(VLOOKUP($A$3,'Roster LIMA'!$B$15737:$AU$15780,'Roster LIMA'!AO$1,FALSE)),\"\",VLOOKUP($A$3,'Roster LIMA'!$B$15737:$AU$15780,'Roster LIMA'!AO$1,FALSE)))","v":""},{"$f":"IF(COUNTBLANK($A$3)<>0,\"\",IF(ISERROR(VLOOKUP($A$3,'Roster LIMA'!$B$15737:$AU$15780,'Roster LIMA'!AP$1,FALSE)),\"\",VLOOKUP($A$3,'Roster LIMA'!$B$15737:$AU$15780,'Roster LIMA'!AP$1,FALSE)))","v":""},{"$f":"IF(COUNTBLANK($A$3)<>0,\"\",IF(ISERROR(VLOOKUP($A$3,'Roster LIMA'!$B$15737:$AU$15780,'Roster LIMA'!AQ$1,FALSE)),\"\",VLOOKUP($A$3,'Roster LIMA'!$B$15737:$AU$15780,'Roster LIMA'!AQ$1,FALSE)))","v":""},{"$f":"IF(COUNTBLANK($A$3)<>0,\"\",IF(ISERROR(VLOOKUP($A$3,'Roster LIMA'!$B$15737:$AU$15780,'Roster LIMA'!AR$1,FALSE)),\"\",VLOOKUP($A$3,'Roster LIMA'!$B$15737:$AU$15780,'Roster LIMA'!AR$1,FALSE)))","v":""},{"$f":"IF(COUNTBLANK($A$3)<>0,\"\",IF(ISERROR(VLOOKUP($A$3,'Roster LIMA'!$B$15737:$AU$15780,'Roster LIMA'!AS$1,FALSE)),\"\",VLOOKUP($A$3,'Roster LIMA'!$B$15737:$AU$15780,'Roster LIMA'!AS$1,FALSE)))","v":""},{"$f":"IF(COUNTBLANK($A$3)<>0,\"\",IF(ISERROR(VLOOKUP($A$3,'Roster LIMA'!$B$15737:$AU$15780,'Roster LIMA'!AT$1,FALSE)),\"\",VLOOKUP($A$3,'Roster LIMA'!$B$15737:$AU$15780,'Roster LIMA'!AT$1,FALSE)))","v":""},{"$f":"IF(COUNTBLANK($A$3)<>0,\"\",IF(ISERROR(VLOOKUP($A$3,'Roster LIMA'!$B$15737:$AU$15780,'Roster LIMA'!AU$1,FALSE)),\"\",VLOOKUP($A$3,'Roster LIMA'!$B$15737:$AU$15780,'Roster LIMA'!AU$1,FALSE)))","v":""}]
[{"$f":"+'Roster LIMA'!G15781","v":2008},{"$f":"IF(COUNTBLANK($A$3)<>0,\"\",IF(ISERROR(VLOOKUP($A$3,'Roster LIMA'!$B$15781:$AU$15859,'Roster LIMA'!H$1,FALSE)),\"\",IF(VLOOKUP($A$3,'Roster LIMA'!$B$15781:$AU$15859,'Roster LIMA'!H$1,FALSE)=0,\"\",VLOOKUP($A$3,'Roster LIMA'!$B$15781:$AU$15859,'Roster LIMA'!H$1,FALSE))))","v":""},{"$f":"IF(COUNTBLANK($A$3)<>0,\"\",IF(ISERROR(VLOOKUP($A$3,'Roster LIMA'!$B$15781:$AU$15859,'Roster LIMA'!I$1,FALSE)),\"\",IF(VLOOKUP($A$3,'Roster LIMA'!$B$15781:$AU$15859,'Roster LIMA'!I$1,FALSE)=0,\"\",VLOOKUP($A$3,'Roster LIMA'!$B$15781:$AU$15859,'Roster LIMA'!I$1,FALSE))))","v":""},{"$f":"IF(COUNTBLANK($A$3)<>0,\"\",IF(ISERROR(VLOOKUP($A$3,'Roster LIMA'!$B$15781:$AU$15859,'Roster LIMA'!J$1,FALSE)),\"\",IF(VLOOKUP($A$3,'Roster LIMA'!$B$15781:$AU$15859,'Roster LIMA'!J$1,FALSE)=0,\"\",VLOOKUP($A$3,'Roster LIMA'!$B$15781:$AU$15859,'Roster LIMA'!J$1,FALSE))))","v":""},{"$f":"IF(COUNTBLANK($A$3)<>0,\"\",IF(ISERROR(VLOOKUP($A$3,'Roster LIMA'!$B$15781:$AU$15859,'Roster LIMA'!K$1,FALSE)),\"\",IF(VLOOKUP($A$3,'Roster LIMA'!$B$15781:$AU$15859,'Roster LIMA'!K$1,FALSE)=0,\"\",VLOOKUP($A$3,'Roster LIMA'!$B$15781:$AU$15859,'Roster LIMA'!K$1,FALSE))))","v":""},{"$f":"IF(COUNTBLANK($A$3)<>0,\"\",IF(ISERROR(VLOOKUP($A$3,'Roster LIMA'!$B$15781:$AU$15859,'Roster LIMA'!F$1,FALSE)),\"\",IF(VLOOKUP($A$3,'Roster LIMA'!$B$15781:$AU$15859,'Roster LIMA'!F$1,FALSE)=0,\"\",VLOOKUP($A$3,'Roster LIMA'!$B$15781:$AU$15859,'Roster LIMA'!F$1,FALSE))))","v":""},{"$f":"IF(COUNTBLANK($A$3)<>0,\"\",IF(ISERROR(VLOOKUP($A$3,'Roster LIMA'!$B$15781:$AU$15859,'Roster LIMA'!E$1,FALSE)),\"\",IF(VLOOKUP($A$3,'Roster LIMA'!$B$15781:$AU$15859,'Roster LIMA'!E$1,FALSE)=0,\"\",VLOOKUP($A$3,'Roster LIMA'!$B$15781:$AU$15859,'Roster LIMA'!E$1,FALSE))))","v":""},{"$f":"IF(COUNTBLANK($A$3)<>0,\"\",IF(ISERROR(VLOOKUP($A$3,'Roster LIMA'!$B$15781:$AU$15859,'Roster LIMA'!B$1,FALSE)),\"N/A\",IF(VLOOKUP($A$3,'Roster LIMA'!$B$15781:$AU$15859,'Roster LIMA'!B$1,FALSE)=0,\"\",VLOOKUP($A$3,'Roster LIMA'!$B$15781:$AU$15859,'Roster LIMA'!B$1,FALSE))))","v":""},{"$f":"IF(COUNTBLANK($A$3)<>0,\"\",IF(ISERROR(VLOOKUP($A$3,'Roster LIMA'!$B$15781:$AU$15859,'Roster LIMA'!C$1,FALSE)),\"\",IF(VLOOKUP($A$3,'Roster LIMA'!$B$15781:$AU$15859,'Roster LIMA'!C$1,FALSE)=0,\"\",VLOOKUP($A$3,'Roster LIMA'!$B$15781:$AU$15859,'Roster LIMA'!C$1,FALSE))))","v":""},{"$f":"IF(COUNTBLANK($A$3)<>0,\"\",IF(ISERROR(VLOOKUP($A$3,'Roster LIMA'!$B$15781:$AU$15859,'Roster LIMA'!D$1,FALSE)),\"\",IF(VLOOKUP($A$3,'Roster LIMA'!$B$15781:$AU$15859,'Roster LIMA'!D$1,FALSE)=0,\"\",VLOOKUP($A$3,'Roster LIMA'!$B$15781:$AU$15859,'Roster LIMA'!D$1,FALSE))))","v":""},{"$f":"IF(COUNTBLANK($A$3)<>0,\"\",IF(ISERROR(VLOOKUP($A$3,'Roster LIMA'!$B$15781:$AU$15859,'Roster LIMA'!L$1,FALSE)),\"\",VLOOKUP($A$3,'Roster LIMA'!$B$15781:$AU$15859,'Roster LIMA'!L$1,FALSE)))","v":""},{"$f":"IF(COUNTBLANK($A$3)<>0,\"\",IF(ISERROR(VLOOKUP($A$3,'Roster LIMA'!$B$15781:$AU$15859,'Roster LIMA'!M$1,FALSE)),\"\",VLOOKUP($A$3,'Roster LIMA'!$B$15781:$AU$15859,'Roster LIMA'!M$1,FALSE)))","v":""},{"$f":"IF(COUNTBLANK($A$3)<>0,\"\",IF(ISERROR(VLOOKUP($A$3,'Roster LIMA'!$B$15781:$AU$15859,'Roster LIMA'!N$1,FALSE)),\"\",VLOOKUP($A$3,'Roster LIMA'!$B$15781:$AU$15859,'Roster LIMA'!N$1,FALSE)))","v":""},{"$f":"IF(COUNTBLANK($A$3)<>0,\"\",IF(ISERROR(VLOOKUP($A$3,'Roster LIMA'!$B$15781:$AU$15859,'Roster LIMA'!O$1,FALSE)),\"\",VLOOKUP($A$3,'Roster LIMA'!$B$15781:$AU$15859,'Roster LIMA'!O$1,FALSE)))","v":""},{"$f":"IF(COUNTBLANK($A$3)<>0,\"\",IF(ISERROR(VLOOKUP($A$3,'Roster LIMA'!$B$15781:$AU$15859,'Roster LIMA'!P$1,FALSE)),\"\",VLOOKUP($A$3,'Roster LIMA'!$B$15781:$AU$15859,'Roster LIMA'!P$1,FALSE)))","v":""},{"$f":"IF(COUNTBLANK($A$3)<>0,\"\",IF(ISERROR(VLOOKUP($A$3,'Roster LIMA'!$B$15781:$AU$15859,'Roster LIMA'!Q$1,FALSE)),\"\",VLOOKUP($A$3,'Roster LIMA'!$B$15781:$AU$15859,'Roster LIMA'!Q$1,FALSE)))","v":""},{"$f":"IF(COUNTBLANK($A$3)<>0,\"\",IF(ISERROR(VLOOKUP($A$3,'Roster LIMA'!$B$15781:$AU$15859,'Roster LIMA'!R$1,FALSE)),\"\",VLOOKUP($A$3,'Roster LIMA'!$B$15781:$AU$15859,'Roster LIMA'!R$1,FALSE)))","v":""},{"$f":"IF(COUNTBLANK($A$3)<>0,\"\",IF(ISERROR(VLOOKUP($A$3,'Roster LIMA'!$B$15781:$AU$15859,'Roster LIMA'!S$1,FALSE)),\"\",VLOOKUP($A$3,'Roster LIMA'!$B$15781:$AU$15859,'Roster LIMA'!S$1,FALSE)))","v":""},{"$f":"IF(COUNTBLANK($A$3)<>0,\"\",IF(ISERROR(VLOOKUP($A$3,'Roster LIMA'!$B$15781:$AU$15859,'Roster LIMA'!T$1,FALSE)),\"\",VLOOKUP($A$3,'Roster LIMA'!$B$15781:$AU$15859,'Roster LIMA'!T$1,FALSE)))","v":""},{"$f":"IF(COUNTBLANK($A$3)<>0,\"\",IF(ISERROR(VLOOKUP($A$3,'Roster LIMA'!$B$15781:$AU$15859,'Roster LIMA'!U$1,FALSE)),\"\",VLOOKUP($A$3,'Roster LIMA'!$B$15781:$AU$15859,'Roster LIMA'!U$1,FALSE)))","v":""},{"$f":"IF(COUNTBLANK($A$3)<>0,\"\",IF(ISERROR(VLOOKUP($A$3,'Roster LIMA'!$B$15781:$AU$15859,'Roster LIMA'!V$1,FALSE)),\"\",VLOOKUP($A$3,'Roster LIMA'!$B$15781:$AU$15859,'Roster LIMA'!V$1,FALSE)))","v":""},{"$f":"IF(COUNTBLANK($A$3)<>0,\"\",IF(ISERROR(VLOOKUP($A$3,'Roster LIMA'!$B$15781:$AU$15859,'Roster LIMA'!W$1,FALSE)),\"\",VLOOKUP($A$3,'Roster LIMA'!$B$15781:$AU$15859,'Roster LIMA'!W$1,FALSE)))","v":""},{"$f":"IF(COUNTBLANK($A$3)<>0,\"\",IF(ISERROR(VLOOKUP($A$3,'Roster LIMA'!$B$15781:$AU$15859,'Roster LIMA'!X$1,FALSE)),\"\",VLOOKUP($A$3,'Roster LIMA'!$B$15781:$AU$15859,'Roster LIMA'!X$1,FALSE)))","v":""},{"$f":"IF(COUNTBLANK($A$3)<>0,\"\",IF(ISERROR(VLOOKUP($A$3,'Roster LIMA'!$B$15781:$AU$15859,'Roster LIMA'!Y$1,FALSE)),\"\",VLOOKUP($A$3,'Roster LIMA'!$B$15781:$AU$15859,'Roster LIMA'!Y$1,FALSE)))","v":""},{"$f":"IF(COUNTBLANK($A$3)<>0,\"\",IF(ISERROR(VLOOKUP($A$3,'Roster LIMA'!$B$15781:$AU$15859,'Roster LIMA'!Z$1,FALSE)),\"\",VLOOKUP($A$3,'Roster LIMA'!$B$15781:$AU$15859,'Roster LIMA'!Z$1,FALSE)))","v":""},{"$f":"IF(COUNTBLANK($A$3)<>0,\"\",IF(ISERROR(VLOOKUP($A$3,'Roster LIMA'!$B$15781:$AU$15859,'Roster LIMA'!AA$1,FALSE)),\"\",VLOOKUP($A$3,'Roster LIMA'!$B$15781:$AU$15859,'Roster LIMA'!AA$1,FALSE)))","v":""},{"$f":"IF(COUNTBLANK($A$3)<>0,\"\",IF(ISERROR(VLOOKUP($A$3,'Roster LIMA'!$B$15781:$AU$15859,'Roster LIMA'!AB$1,FALSE)),\"\",VLOOKUP($A$3,'Roster LIMA'!$B$15781:$AU$15859,'Roster LIMA'!AB$1,FALSE)))","v":""},{"$f":"IF(COUNTBLANK($A$3)<>0,\"\",IF(ISERROR(VLOOKUP($A$3,'Roster LIMA'!$B$15781:$AU$15859,'Roster LIMA'!AC$1,FALSE)),\"\",VLOOKUP($A$3,'Roster LIMA'!$B$15781:$AU$15859,'Roster LIMA'!AC$1,FALSE)))","v":""},{"$f":"IF(COUNTBLANK($A$3)<>0,\"\",IF(ISERROR(VLOOKUP($A$3,'Roster LIMA'!$B$15781:$AU$15859,'Roster LIMA'!AD$1,FALSE)),\"\",VLOOKUP($A$3,'Roster LIMA'!$B$15781:$AU$15859,'Roster LIMA'!AD$1,FALSE)))","v":""},{"$f":"IF(COUNTBLANK($A$3)<>0,\"\",IF(ISERROR(VLOOKUP($A$3,'Roster LIMA'!$B$15781:$AU$15859,'Roster LIMA'!AE$1,FALSE)),\"\",VLOOKUP($A$3,'Roster LIMA'!$B$15781:$AU$15859,'Roster LIMA'!AE$1,FALSE)))","v":""},{"$f":"IF(COUNTBLANK($A$3)<>0,\"\",IF(ISERROR(VLOOKUP($A$3,'Roster LIMA'!$B$15781:$AU$15859,'Roster LIMA'!AF$1,FALSE)),\"\",VLOOKUP($A$3,'Roster LIMA'!$B$15781:$AU$15859,'Roster LIMA'!AF$1,FALSE)))","v":""},{"$f":"IF(COUNTBLANK($A$3)<>0,\"\",IF(ISERROR(VLOOKUP($A$3,'Roster LIMA'!$B$15781:$AU$15859,'Roster LIMA'!AG$1,FALSE)),\"\",VLOOKUP($A$3,'Roster LIMA'!$B$15781:$AU$15859,'Roster LIMA'!AG$1,FALSE)))","v":""},{"$f":"IF(COUNTBLANK($A$3)<>0,\"\",IF(ISERROR(VLOOKUP($A$3,'Roster LIMA'!$B$15781:$AU$15859,'Roster LIMA'!AH$1,FALSE)),\"\",VLOOKUP($A$3,'Roster LIMA'!$B$15781:$AU$15859,'Roster LIMA'!AH$1,FALSE)))","v":""},{"$f":"IF(COUNTBLANK($A$3)<>0,\"\",IF(ISERROR(VLOOKUP($A$3,'Roster LIMA'!$B$15781:$AU$15859,'Roster LIMA'!AI$1,FALSE)),\"\",VLOOKUP($A$3,'Roster LIMA'!$B$15781:$AU$15859,'Roster LIMA'!AI$1,FALSE)))","v":""},{"$f":"IF(COUNTBLANK($A$3)<>0,\"\",IF(ISERROR(VLOOKUP($A$3,'Roster LIMA'!$B$15781:$AU$15859,'Roster LIMA'!AJ$1,FALSE)),\"\",VLOOKUP($A$3,'Roster LIMA'!$B$15781:$AU$15859,'Roster LIMA'!AJ$1,FALSE)))","v":""},{"$f":"IF(COUNTBLANK($A$3)<>0,\"\",IF(ISERROR(VLOOKUP($A$3,'Roster LIMA'!$B$15781:$AU$15859,'Roster LIMA'!AK$1,FALSE)),\"\",VLOOKUP($A$3,'Roster LIMA'!$B$15781:$AU$15859,'Roster LIMA'!AK$1,FALSE)))","v":""},{"$f":"IF(COUNTBLANK($A$3)<>0,\"\",IF(ISERROR(VLOOKUP($A$3,'Roster LIMA'!$B$15781:$AU$15859,'Roster LIMA'!AL$1,FALSE)),\"\",VLOOKUP($A$3,'Roster LIMA'!$B$15781:$AU$15859,'Roster LIMA'!AL$1,FALSE)))","v":""},{"$f":"IF(COUNTBLANK($A$3)<>0,\"\",IF(ISERROR(VLOOKUP($A$3,'Roster LIMA'!$B$15781:$AU$15859,'Roster LIMA'!AM$1,FALSE)),\"\",VLOOKUP($A$3,'Roster LIMA'!$B$15781:$AU$15859,'Roster LIMA'!AM$1,FALSE)))","v":""},{"$f":"IF(COUNTBLANK($A$3)<>0,\"\",IF(ISERROR(VLOOKUP($A$3,'Roster LIMA'!$B$15781:$AU$15859,'Roster LIMA'!AN$1,FALSE)),\"\",VLOOKUP($A$3,'Roster LIMA'!$B$15781:$AU$15859,'Roster LIMA'!AN$1,FALSE)))","v":""},{"$f":"IF(COUNTBLANK($A$3)<>0,\"\",IF(ISERROR(VLOOKUP($A$3,'Roster LIMA'!$B$15781:$AU$15859,'Roster LIMA'!AO$1,FALSE)),\"\",VLOOKUP($A$3,'Roster LIMA'!$B$15781:$AU$15859,'Roster LIMA'!AO$1,FALSE)))","v":""},{"$f":"IF(COUNTBLANK($A$3)<>0,\"\",IF(ISERROR(VLOOKUP($A$3,'Roster LIMA'!$B$15781:$AU$15859,'Roster LIMA'!AP$1,FALSE)),\"\",VLOOKUP($A$3,'Roster LIMA'!$B$15781:$AU$15859,'Roster LIMA'!AP$1,FALSE)))","v":""},{"$f":"IF(COUNTBLANK($A$3)<>0,\"\",IF(ISERROR(VLOOKUP($A$3,'Roster LIMA'!$B$15781:$AU$15859,'Roster LIMA'!AQ$1,FALSE)),\"\",VLOOKUP($A$3,'Roster LIMA'!$B$15781:$AU$15859,'Roster LIMA'!AQ$1,FALSE)))","v":""},{"$f":"IF(COUNTBLANK($A$3)<>0,\"\",IF(ISERROR(VLOOKUP($A$3,'Roster LIMA'!$B$15781:$AU$15859,'Roster LIMA'!AR$1,FALSE)),\"\",VLOOKUP($A$3,'Roster LIMA'!$B$15781:$AU$15859,'Roster LIMA'!AR$1,FALSE)))","v":""},{"$f":"IF(COUNTBLANK($A$3)<>0,\"\",IF(ISERROR(VLOOKUP($A$3,'Roster LIMA'!$B$15781:$AU$15859,'Roster LIMA'!AS$1,FALSE)),\"\",VLOOKUP($A$3,'Roster LIMA'!$B$15781:$AU$15859,'Roster LIMA'!AS$1,FALSE)))","v":""},{"$f":"IF(COUNTBLANK($A$3)<>0,\"\",IF(ISERROR(VLOOKUP($A$3,'Roster LIMA'!$B$15781:$AU$15859,'Roster LIMA'!AT$1,FALSE)),\"\",VLOOKUP($A$3,'Roster LIMA'!$B$15781:$AU$15859,'Roster LIMA'!AT$1,FALSE)))","v":""},{"$f":"IF(COUNTBLANK($A$3)<>0,\"\",IF(ISERROR(VLOOKUP($A$3,'Roster LIMA'!$B$15781:$AU$15859,'Roster LIMA'!AU$1,FALSE)),\"\",VLOOKUP($A$3,'Roster LIMA'!$B$15781:$AU$15859,'Roster LIMA'!AU$1,FALSE)))","v":""}]
[{"$f":"+'Roster LIMA'!G15861","v":2009},{"$f":"IF(COUNTBLANK($A$3)<>0,\"\",IF(ISERROR(VLOOKUP($A$3,'Roster LIMA'!$B$15860:$AU$15929,'Roster LIMA'!H$1,FALSE)),\"\",IF(VLOOKUP($A$3,'Roster LIMA'!$B$15860:$AU$15929,'Roster LIMA'!H$1,FALSE)=0,\"\",VLOOKUP($A$3,'Roster LIMA'!$B$15860:$AU$15929,'Roster LIMA'!H$1,FALSE))))","v":""},{"$f":"IF(COUNTBLANK($A$3)<>0,\"\",IF(ISERROR(VLOOKUP($A$3,'Roster LIMA'!$B$15860:$AU$15929,'Roster LIMA'!I$1,FALSE)),\"\",IF(VLOOKUP($A$3,'Roster LIMA'!$B$15860:$AU$15929,'Roster LIMA'!I$1,FALSE)=0,\"\",VLOOKUP($A$3,'Roster LIMA'!$B$15860:$AU$15929,'Roster LIMA'!I$1,FALSE))))","v":""},{"$f":"IF(COUNTBLANK($A$3)<>0,\"\",IF(ISERROR(VLOOKUP($A$3,'Roster LIMA'!$B$15860:$AU$15929,'Roster LIMA'!J$1,FALSE)),\"\",IF(VLOOKUP($A$3,'Roster LIMA'!$B$15860:$AU$15929,'Roster LIMA'!J$1,FALSE)=0,\"\",VLOOKUP($A$3,'Roster LIMA'!$B$15860:$AU$15929,'Roster LIMA'!J$1,FALSE))))","v":""},{"$f":"IF(COUNTBLANK($A$3)<>0,\"\",IF(ISERROR(VLOOKUP($A$3,'Roster LIMA'!$B$15860:$AU$15929,'Roster LIMA'!K$1,FALSE)),\"\",IF(VLOOKUP($A$3,'Roster LIMA'!$B$15860:$AU$15929,'Roster LIMA'!K$1,FALSE)=0,\"\",VLOOKUP($A$3,'Roster LIMA'!$B$15860:$AU$15929,'Roster LIMA'!K$1,FALSE))))","v":""},{"$f":"IF(COUNTBLANK($A$3)<>0,\"\",IF(ISERROR(VLOOKUP($A$3,'Roster LIMA'!$B$15860:$AU$15929,'Roster LIMA'!F$1,FALSE)),\"\",IF(VLOOKUP($A$3,'Roster LIMA'!$B$15860:$AU$15929,'Roster LIMA'!F$1,FALSE)=0,\"\",VLOOKUP($A$3,'Roster LIMA'!$B$15860:$AU$15929,'Roster LIMA'!F$1,FALSE))))","v":""},{"$f":"IF(COUNTBLANK($A$3)<>0,\"\",IF(ISERROR(VLOOKUP($A$3,'Roster LIMA'!$B$15860:$AU$15929,'Roster LIMA'!E$1,FALSE)),\"\",IF(VLOOKUP($A$3,'Roster LIMA'!$B$15860:$AU$15929,'Roster LIMA'!E$1,FALSE)=0,\"\",VLOOKUP($A$3,'Roster LIMA'!$B$15860:$AU$15929,'Roster LIMA'!E$1,FALSE))))","v":""},{"$f":"IF(COUNTBLANK($A$3)<>0,\"\",IF(ISERROR(VLOOKUP($A$3,'Roster LIMA'!$B$15860:$AU$15929,'Roster LIMA'!B$1,FALSE)),\"N/A\",IF(VLOOKUP($A$3,'Roster LIMA'!$B$15860:$AU$15929,'Roster LIMA'!B$1,FALSE)=0,\"\",VLOOKUP($A$3,'Roster LIMA'!$B$15860:$AU$15929,'Roster LIMA'!B$1,FALSE))))","v":""},{"$f":"IF(COUNTBLANK($A$3)<>0,\"\",IF(ISERROR(VLOOKUP($A$3,'Roster LIMA'!$B$15860:$AU$15929,'Roster LIMA'!C$1,FALSE)),\"\",IF(VLOOKUP($A$3,'Roster LIMA'!$B$15860:$AU$15929,'Roster LIMA'!C$1,FALSE)=0,\"\",VLOOKUP($A$3,'Roster LIMA'!$B$15860:$AU$15929,'Roster LIMA'!C$1,FALSE))))","v":""},{"$f":"IF(COUNTBLANK($A$3)<>0,\"\",IF(ISERROR(VLOOKUP($A$3,'Roster LIMA'!$B$15860:$AU$15929,'Roster LIMA'!D$1,FALSE)),\"\",IF(VLOOKUP($A$3,'Roster LIMA'!$B$15860:$AU$15929,'Roster LIMA'!D$1,FALSE)=0,\"\",VLOOKUP($A$3,'Roster LIMA'!$B$15860:$AU$15929,'Roster LIMA'!D$1,FALSE))))","v":""},{"$f":"IF(COUNTBLANK($A$3)<>0,\"\",IF(ISERROR(VLOOKUP($A$3,'Roster LIMA'!$B$15860:$AU$15929,'Roster LIMA'!L$1,FALSE)),\"\",VLOOKUP($A$3,'Roster LIMA'!$B$15860:$AU$15929,'Roster LIMA'!L$1,FALSE)))","v":""},{"$f":"IF(COUNTBLANK($A$3)<>0,\"\",IF(ISERROR(VLOOKUP($A$3,'Roster LIMA'!$B$15860:$AU$15929,'Roster LIMA'!M$1,FALSE)),\"\",VLOOKUP($A$3,'Roster LIMA'!$B$15860:$AU$15929,'Roster LIMA'!M$1,FALSE)))","v":""},{"$f":"IF(COUNTBLANK($A$3)<>0,\"\",IF(ISERROR(VLOOKUP($A$3,'Roster LIMA'!$B$15860:$AU$15929,'Roster LIMA'!N$1,FALSE)),\"\",VLOOKUP($A$3,'Roster LIMA'!$B$15860:$AU$15929,'Roster LIMA'!N$1,FALSE)))","v":""},{"$f":"IF(COUNTBLANK($A$3)<>0,\"\",IF(ISERROR(VLOOKUP($A$3,'Roster LIMA'!$B$15860:$AU$15929,'Roster LIMA'!O$1,FALSE)),\"\",VLOOKUP($A$3,'Roster LIMA'!$B$15860:$AU$15929,'Roster LIMA'!O$1,FALSE)))","v":""},{"$f":"IF(COUNTBLANK($A$3)<>0,\"\",IF(ISERROR(VLOOKUP($A$3,'Roster LIMA'!$B$15860:$AU$15929,'Roster LIMA'!P$1,FALSE)),\"\",VLOOKUP($A$3,'Roster LIMA'!$B$15860:$AU$15929,'Roster LIMA'!P$1,FALSE)))","v":""},{"$f":"IF(COUNTBLANK($A$3)<>0,\"\",IF(ISERROR(VLOOKUP($A$3,'Roster LIMA'!$B$15860:$AU$15929,'Roster LIMA'!Q$1,FALSE)),\"\",VLOOKUP($A$3,'Roster LIMA'!$B$15860:$AU$15929,'Roster LIMA'!Q$1,FALSE)))","v":""},{"$f":"IF(COUNTBLANK($A$3)<>0,\"\",IF(ISERROR(VLOOKUP($A$3,'Roster LIMA'!$B$15860:$AU$15929,'Roster LIMA'!R$1,FALSE)),\"\",VLOOKUP($A$3,'Roster LIMA'!$B$15860:$AU$15929,'Roster LIMA'!R$1,FALSE)))","v":""},{"$f":"IF(COUNTBLANK($A$3)<>0,\"\",IF(ISERROR(VLOOKUP($A$3,'Roster LIMA'!$B$15860:$AU$15929,'Roster LIMA'!S$1,FALSE)),\"\",VLOOKUP($A$3,'Roster LIMA'!$B$15860:$AU$15929,'Roster LIMA'!S$1,FALSE)))","v":""},{"$f":"IF(COUNTBLANK($A$3)<>0,\"\",IF(ISERROR(VLOOKUP($A$3,'Roster LIMA'!$B$15860:$AU$15929,'Roster LIMA'!T$1,FALSE)),\"\",VLOOKUP($A$3,'Roster LIMA'!$B$15860:$AU$15929,'Roster LIMA'!T$1,FALSE)))","v":""},{"$f":"IF(COUNTBLANK($A$3)<>0,\"\",IF(ISERROR(VLOOKUP($A$3,'Roster LIMA'!$B$15860:$AU$15929,'Roster LIMA'!U$1,FALSE)),\"\",VLOOKUP($A$3,'Roster LIMA'!$B$15860:$AU$15929,'Roster LIMA'!U$1,FALSE)))","v":""},{"$f":"IF(COUNTBLANK($A$3)<>0,\"\",IF(ISERROR(VLOOKUP($A$3,'Roster LIMA'!$B$15860:$AU$15929,'Roster LIMA'!V$1,FALSE)),\"\",VLOOKUP($A$3,'Roster LIMA'!$B$15860:$AU$15929,'Roster LIMA'!V$1,FALSE)))","v":""},{"$f":"IF(COUNTBLANK($A$3)<>0,\"\",IF(ISERROR(VLOOKUP($A$3,'Roster LIMA'!$B$15860:$AU$15929,'Roster LIMA'!W$1,FALSE)),\"\",VLOOKUP($A$3,'Roster LIMA'!$B$15860:$AU$15929,'Roster LIMA'!W$1,FALSE)))","v":""},{"$f":"IF(COUNTBLANK($A$3)<>0,\"\",IF(ISERROR(VLOOKUP($A$3,'Roster LIMA'!$B$15860:$AU$15929,'Roster LIMA'!X$1,FALSE)),\"\",VLOOKUP($A$3,'Roster LIMA'!$B$15860:$AU$15929,'Roster LIMA'!X$1,FALSE)))","v":""},{"$f":"IF(COUNTBLANK($A$3)<>0,\"\",IF(ISERROR(VLOOKUP($A$3,'Roster LIMA'!$B$15860:$AU$15929,'Roster LIMA'!Y$1,FALSE)),\"\",VLOOKUP($A$3,'Roster LIMA'!$B$15860:$AU$15929,'Roster LIMA'!Y$1,FALSE)))","v":""},{"$f":"IF(COUNTBLANK($A$3)<>0,\"\",IF(ISERROR(VLOOKUP($A$3,'Roster LIMA'!$B$15860:$AU$15929,'Roster LIMA'!Z$1,FALSE)),\"\",VLOOKUP($A$3,'Roster LIMA'!$B$15860:$AU$15929,'Roster LIMA'!Z$1,FALSE)))","v":""},{"$f":"IF(COUNTBLANK($A$3)<>0,\"\",IF(ISERROR(VLOOKUP($A$3,'Roster LIMA'!$B$15860:$AU$15929,'Roster LIMA'!AA$1,FALSE)),\"\",VLOOKUP($A$3,'Roster LIMA'!$B$15860:$AU$15929,'Roster LIMA'!AA$1,FALSE)))","v":""},{"$f":"IF(COUNTBLANK($A$3)<>0,\"\",IF(ISERROR(VLOOKUP($A$3,'Roster LIMA'!$B$15860:$AU$15929,'Roster LIMA'!AB$1,FALSE)),\"\",VLOOKUP($A$3,'Roster LIMA'!$B$15860:$AU$15929,'Roster LIMA'!AB$1,FALSE)))","v":""},{"$f":"IF(COUNTBLANK($A$3)<>0,\"\",IF(ISERROR(VLOOKUP($A$3,'Roster LIMA'!$B$15860:$AU$15929,'Roster LIMA'!AC$1,FALSE)),\"\",VLOOKUP($A$3,'Roster LIMA'!$B$15860:$AU$15929,'Roster LIMA'!AC$1,FALSE)))","v":""},{"$f":"IF(COUNTBLANK($A$3)<>0,\"\",IF(ISERROR(VLOOKUP($A$3,'Roster LIMA'!$B$15860:$AU$15929,'Roster LIMA'!AD$1,FALSE)),\"\",VLOOKUP($A$3,'Roster LIMA'!$B$15860:$AU$15929,'Roster LIMA'!AD$1,FALSE)))","v":""},{"$f":"IF(COUNTBLANK($A$3)<>0,\"\",IF(ISERROR(VLOOKUP($A$3,'Roster LIMA'!$B$15860:$AU$15929,'Roster LIMA'!AE$1,FALSE)),\"\",VLOOKUP($A$3,'Roster LIMA'!$B$15860:$AU$15929,'Roster LIMA'!AE$1,FALSE)))","v":""},{"$f":"IF(COUNTBLANK($A$3)<>0,\"\",IF(ISERROR(VLOOKUP($A$3,'Roster LIMA'!$B$15860:$AU$15929,'Roster LIMA'!AF$1,FALSE)),\"\",VLOOKUP($A$3,'Roster LIMA'!$B$15860:$AU$15929,'Roster LIMA'!AF$1,FALSE)))","v":""},{"$f":"IF(COUNTBLANK($A$3)<>0,\"\",IF(ISERROR(VLOOKUP($A$3,'Roster LIMA'!$B$15860:$AU$15929,'Roster LIMA'!AG$1,FALSE)),\"\",VLOOKUP($A$3,'Roster LIMA'!$B$15860:$AU$15929,'Roster LIMA'!AG$1,FALSE)))","v":""},{"$f":"IF(COUNTBLANK($A$3)<>0,\"\",IF(ISERROR(VLOOKUP($A$3,'Roster LIMA'!$B$15860:$AU$15929,'Roster LIMA'!AH$1,FALSE)),\"\",VLOOKUP($A$3,'Roster LIMA'!$B$15860:$AU$15929,'Roster LIMA'!AH$1,FALSE)))","v":""},{"$f":"IF(COUNTBLANK($A$3)<>0,\"\",IF(ISERROR(VLOOKUP($A$3,'Roster LIMA'!$B$15860:$AU$15929,'Roster LIMA'!AI$1,FALSE)),\"\",VLOOKUP($A$3,'Roster LIMA'!$B$15860:$AU$15929,'Roster LIMA'!AI$1,FALSE)))","v":""},{"$f":"IF(COUNTBLANK($A$3)<>0,\"\",IF(ISERROR(VLOOKUP($A$3,'Roster LIMA'!$B$15860:$AU$15929,'Roster LIMA'!AJ$1,FALSE)),\"\",VLOOKUP($A$3,'Roster LIMA'!$B$15860:$AU$15929,'Roster LIMA'!AJ$1,FALSE)))","v":""},{"$f":"IF(COUNTBLANK($A$3)<>0,\"\",IF(ISERROR(VLOOKUP($A$3,'Roster LIMA'!$B$15860:$AU$15929,'Roster LIMA'!AK$1,FALSE)),\"\",VLOOKUP($A$3,'Roster LIMA'!$B$15860:$AU$15929,'Roster LIMA'!AK$1,FALSE)))","v":""},{"$f":"IF(COUNTBLANK($A$3)<>0,\"\",IF(ISERROR(VLOOKUP($A$3,'Roster LIMA'!$B$15860:$AU$15929,'Roster LIMA'!AL$1,FALSE)),\"\",VLOOKUP($A$3,'Roster LIMA'!$B$15860:$AU$15929,'Roster LIMA'!AL$1,FALSE)))","v":""},{"$f":"IF(COUNTBLANK($A$3)<>0,\"\",IF(ISERROR(VLOOKUP($A$3,'Roster LIMA'!$B$15860:$AU$15929,'Roster LIMA'!AM$1,FALSE)),\"\",VLOOKUP($A$3,'Roster LIMA'!$B$15860:$AU$15929,'Roster LIMA'!AM$1,FALSE)))","v":""},{"$f":"IF(COUNTBLANK($A$3)<>0,\"\",IF(ISERROR(VLOOKUP($A$3,'Roster LIMA'!$B$15860:$AU$15929,'Roster LIMA'!AN$1,FALSE)),\"\",VLOOKUP($A$3,'Roster LIMA'!$B$15860:$AU$15929,'Roster LIMA'!AN$1,FALSE)))","v":""},{"$f":"IF(COUNTBLANK($A$3)<>0,\"\",IF(ISERROR(VLOOKUP($A$3,'Roster LIMA'!$B$15860:$AU$15929,'Roster LIMA'!AO$1,FALSE)),\"\",VLOOKUP($A$3,'Roster LIMA'!$B$15860:$AU$15929,'Roster LIMA'!AO$1,FALSE)))","v":""},{"$f":"IF(COUNTBLANK($A$3)<>0,\"\",IF(ISERROR(VLOOKUP($A$3,'Roster LIMA'!$B$15860:$AU$15929,'Roster LIMA'!AP$1,FALSE)),\"\",VLOOKUP($A$3,'Roster LIMA'!$B$15860:$AU$15929,'Roster LIMA'!AP$1,FALSE)))","v":""},{"$f":"IF(COUNTBLANK($A$3)<>0,\"\",IF(ISERROR(VLOOKUP($A$3,'Roster LIMA'!$B$15860:$AU$15929,'Roster LIMA'!AQ$1,FALSE)),\"\",VLOOKUP($A$3,'Roster LIMA'!$B$15860:$AU$15929,'Roster LIMA'!AQ$1,FALSE)))","v":""},{"$f":"IF(COUNTBLANK($A$3)<>0,\"\",IF(ISERROR(VLOOKUP($A$3,'Roster LIMA'!$B$15860:$AU$15929,'Roster LIMA'!AR$1,FALSE)),\"\",VLOOKUP($A$3,'Roster LIMA'!$B$15860:$AU$15929,'Roster LIMA'!AR$1,FALSE)))","v":""},{"$f":"IF(COUNTBLANK($A$3)<>0,\"\",IF(ISERROR(VLOOKUP($A$3,'Roster LIMA'!$B$15860:$AU$15929,'Roster LIMA'!AS$1,FALSE)),\"\",VLOOKUP($A$3,'Roster LIMA'!$B$15860:$AU$15929,'Roster LIMA'!AS$1,FALSE)))","v":""},{"$f":"IF(COUNTBLANK($A$3)<>0,\"\",IF(ISERROR(VLOOKUP($A$3,'Roster LIMA'!$B$15860:$AU$15929,'Roster LIMA'!AT$1,FALSE)),\"\",VLOOKUP($A$3,'Roster LIMA'!$B$15860:$AU$15929,'Roster LIMA'!AT$1,FALSE)))","v":""},{"$f":"IF(COUNTBLANK($A$3)<>0,\"\",IF(ISERROR(VLOOKUP($A$3,'Roster LIMA'!$B$15860:$AU$15929,'Roster LIMA'!AU$1,FALSE)),\"\",VLOOKUP($A$3,'Roster LIMA'!$B$15860:$AU$15929,'Roster LIMA'!AU$1,FALSE)))","v":""}]
[]
[]
[]
[]
[]
[]
[]
[]
[]
[]
[]
[]
[]
[]
[]
[]
[]
[{"$f":"IF(AND(A81<>0,SUM(AQ85:AQ103)=0),\"Non-existent\",\"\")","v":""}]
["2014T",null,"Enter 4 digit item number, considering letters if so required"]
[null,null,"For instance: 2007B or 2103CR"]
[]
[{"$f":"+A1","v":"Year"},{"$f":"+B1","v":"Catalogue"},"Edition","Page","Available","# Hornby article","# Ancient article","# Article","Code","AC","Country","Operator","Multiple Unit","Type","Category","Sub-category","Wheel arrangement","Collection","Veridical","Commission","Withdrawal","Era","Series","Usual name","Alternative name","Number","Description","Legend","Service","Nick","Logo","Livery","Bodywork","Roof","Floor","Stripes","Doors","Box","Motor","Pantograph type","# Pantograph","Bogies","Axle","Scale","Length (mm)","Photo"]
[{"$f":"+A7","v":1959},{"$f":"IF(COUNTBLANK($A$81)<>0,\"\",IF(ISERROR(VLOOKUP($A$81,'Roster LIMA'!$E$3:$AU$16,4,FALSE)),\"\",IF(VLOOKUP($A$81,'Roster LIMA'!$E$3:$AU$16,4,FALSE)=0,\"\",VLOOKUP($A$81,'Roster LIMA'!$E$3:$AU$16,4,FALSE))))","v":"Yes"},{"$f":"IF(COUNTBLANK($A$81)<>0,\"\",IF(ISERROR(VLOOKUP($A$81,'Roster LIMA'!$E$3:$AU$16,5,FALSE)),\"\",IF(VLOOKUP($A$81,'Roster LIMA'!$E$3:$AU$16,5,FALSE)=0,\"\",VLOOKUP($A$81,'Roster LIMA'!$E$3:$AU$16,5,FALSE))))","v":"IT"},{"$f":"IF(COUNTBLANK($A$81)<>0,\"\",IF(ISERROR(VLOOKUP($A$81,'Roster LIMA'!$E$3:$AU$16,6,FALSE)),\"\",IF(VLOOKUP($A$81,'Roster LIMA'!$E$3:$AU$16,6,FALSE)=0,\"\",VLOOKUP($A$81,'Roster LIMA'!$E$3:$AU$16,6,FALSE))))","v":2},{"$f":"IF(COUNTBLANK($A$81)<>0,\"\",IF(ISERROR(VLOOKUP($A$81,'Roster LIMA'!$E$3:$AU$16,5,FALSE)),\"\",IF(VLOOKUP($A$81,'Roster LIMA'!$E$3:$AU$16,5,FALSE)=0,\"\",VLOOKUP($A$81,'Roster LIMA'!$E$3:$AU$16,5,FALSE))))","v":"IT"},null,{"$f":"IF(COUNTBLANK($A$81)<>0,\"\",IF(ISERROR(VLOOKUP($A$81,'Roster LIMA'!$E$3:$AU$16,1,FALSE)),\"N/A\",IF(VLOOKUP($A$81,'Roster LIMA'!$E$3:$AU$16,1,FALSE)=0,\"\",VLOOKUP($A$81,'Roster LIMA'!$E$3:$AU$16,1,FALSE))))","v":"2014T"},null,null,null,{"$f":"IF(COUNTBLANK($A$81)<>0,\"\",IF(ISERROR(VLOOKUP($A$81,'Roster LIMA'!$E$3:$AU$16,'Roster LIMA'!I$1,FALSE)),\"\",VLOOKUP($A$81,'Roster LIMA'!$E$3:$AU$16,'Roster LIMA'!I$1,FALSE)))","v":"Germany"},{"$f":"IF(COUNTBLANK($A$81)<>0,\"\",IF(ISERROR(VLOOKUP($A$81,'Roster LIMA'!$E$3:$AU$16,'Roster LIMA'!J$1,FALSE)),\"\",VLOOKUP($A$81,'Roster LIMA'!$E$3:$AU$16,'Roster LIMA'!J$1,FALSE)))","v":"DRG"},{"$f":"IF(COUNTBLANK($A$81)<>0,\"\",IF(ISERROR(VLOOKUP($A$81,'Roster LIMA'!$E$3:$AU$16,'Roster LIMA'!K$1,FALSE)),\"\",VLOOKUP($A$81,'Roster LIMA'!$E$3:$AU$16,'Roster LIMA'!K$1,FALSE)))","v":"No"},{"$f":"IF(COUNTBLANK($A$81)<>0,\"\",IF(ISERROR(VLOOKUP($A$81,'Roster LIMA'!$E$3:$AU$16,'Roster LIMA'!L$1,FALSE)),\"\",VLOOKUP($A$81,'Roster LIMA'!$E$3:$AU$16,'Roster LIMA'!L$1,FALSE)))","v":"Locomotive"},{"$f":"IF(COUNTBLANK($A$81)<>0,\"\",IF(ISERROR(VLOOKUP($A$81,'Roster LIMA'!$E$3:$AU$16,'Roster LIMA'!M$1,FALSE)),\"\",VLOOKUP($A$81,'Roster LIMA'!$E$3:$AU$16,'Roster LIMA'!M$1,FALSE)))","v":"Steam"},{"$f":"IF(COUNTBLANK($A$81)<>0,\"\",IF(ISERROR(VLOOKUP($A$81,'Roster LIMA'!$E$3:$AU$16,'Roster LIMA'!N$1,FALSE)),\"\",VLOOKUP($A$81,'Roster LIMA'!$E$3:$AU$16,'Roster LIMA'!N$1,FALSE)))","v":"Tender"},{"$f":"IF(COUNTBLANK($A$81)<>0,\"\",IF(ISERROR(VLOOKUP($A$81,'Roster LIMA'!$E$3:$AU$16,'Roster LIMA'!O$1,FALSE)),\"\",VLOOKUP($A$81,'Roster LIMA'!$E$3:$AU$16,'Roster LIMA'!O$1,FALSE)))","v":"/2-2"},{"$f":"IF(COUNTBLANK($A$81)<>0,\"\",IF(ISERROR(VLOOKUP($A$81,'Roster LIMA'!$E$3:$AU$16,'Roster LIMA'!P$1,FALSE)),\"\",VLOOKUP($A$81,'Roster LIMA'!$E$3:$AU$16,'Roster LIMA'!P$1,FALSE)))","v":"N/A"},{"$f":"IF(COUNTBLANK($A$81)<>0,\"\",IF(ISERROR(VLOOKUP($A$81,'Roster LIMA'!$E$3:$AU$16,'Roster LIMA'!Q$1,FALSE)),\"\",VLOOKUP($A$81,'Roster LIMA'!$E$3:$AU$16,'Roster LIMA'!Q$1,FALSE)))","v":"Yes"},{"$f":"IF(COUNTBLANK($A$81)<>0,\"\",IF(ISERROR(VLOOKUP($A$81,'Roster LIMA'!$E$3:$AU$16,'Roster LIMA'!R$1,FALSE)),\"\",VLOOKUP($A$81,'Roster LIMA'!$E$3:$AU$16,'Roster LIMA'!R$1,FALSE)))","v":1895},{"$f":"IF(COUNTBLANK($A$81)<>0,\"\",IF(ISERROR(VLOOKUP($A$81,'Roster LIMA'!$E$3:$AU$16,'Roster LIMA'!S$1,FALSE)),\"\",VLOOKUP($A$81,'Roster LIMA'!$E$3:$AU$16,'Roster LIMA'!S$1,FALSE)))","v":1936},{"$f":"IF(COUNTBLANK($A$81)<>0,\"\",IF(ISERROR(VLOOKUP($A$81,'Roster LIMA'!$E$3:$AU$16,'Roster LIMA'!T$1,FALSE)),\"\",VLOOKUP($A$81,'Roster LIMA'!$E$3:$AU$16,'Roster LIMA'!T$1,FALSE)))","v":"II"},{"$f":"IF(COUNTBLANK($A$81)<>0,\"\",IF(ISERROR(VLOOKUP($A$81,'Roster LIMA'!$E$3:$AU$16,'Roster LIMA'!U$1,FALSE)),\"\",VLOOKUP($A$81,'Roster LIMA'!$E$3:$AU$16,'Roster LIMA'!U$1,FALSE)))","v":"Preußische G 3"},{"$f":"IF(COUNTBLANK($A$81)<>0,\"\",IF(ISERROR(VLOOKUP($A$81,'Roster LIMA'!$E$3:$AU$16,'Roster LIMA'!V$1,FALSE)),\"\",VLOOKUP($A$81,'Roster LIMA'!$E$3:$AU$16,'Roster LIMA'!V$1,FALSE)))","v":"BR-053.70"},{"$f":"IF(COUNTBLANK($A$81)<>0,\"\",IF(ISERROR(VLOOKUP($A$81,'Roster LIMA'!$E$3:$AU$16,'Roster LIMA'!W$1,FALSE)),\"\",VLOOKUP($A$81,'Roster LIMA'!$E$3:$AU$16,'Roster LIMA'!W$1,FALSE)))","v":"DRG-53"},{"$f":"IF(COUNTBLANK($A$81)<>0,\"\",IF(ISERROR(VLOOKUP($A$81,'Roster LIMA'!$E$3:$AU$16,'Roster LIMA'!X$1,FALSE)),\"\",VLOOKUP($A$81,'Roster LIMA'!$E$3:$AU$16,'Roster LIMA'!X$1,FALSE)))","v":"N/A"},{"$f":"IF(COUNTBLANK($A$81)<>0,\"\",IF(ISERROR(VLOOKUP($A$81,'Roster LIMA'!$E$3:$AU$16,'Roster LIMA'!Y$1,FALSE)),\"\",VLOOKUP($A$81,'Roster LIMA'!$E$3:$AU$16,'Roster LIMA'!Y$1,FALSE)))","v":"Tender for locomotive #2001. May be available with 3 axle too"},{"$f":"IF(COUNTBLANK($A$81)<>0,\"\",IF(ISERROR(VLOOKUP($A$81,'Roster LIMA'!$E$3:$AU$16,'Roster LIMA'!Z$1,FALSE)),\"\",VLOOKUP($A$81,'Roster LIMA'!$E$3:$AU$16,'Roster LIMA'!Z$1,FALSE)))","v":"N/A"},{"$f":"IF(COUNTBLANK($A$81)<>0,\"\",IF(ISERROR(VLOOKUP($A$81,'Roster LIMA'!$E$3:$AU$16,'Roster LIMA'!AA$1,FALSE)),\"\",VLOOKUP($A$81,'Roster LIMA'!$E$3:$AU$16,'Roster LIMA'!AA$1,FALSE)))","v":"N/A"},{"$f":"IF(COUNTBLANK($A$81)<>0,\"\",IF(ISERROR(VLOOKUP($A$81,'Roster LIMA'!$E$3:$AU$16,'Roster LIMA'!AB$1,FALSE)),\"\",VLOOKUP($A$81,'Roster LIMA'!$E$3:$AU$16,'Roster LIMA'!AB$1,FALSE)))","v":"N/A"},{"$f":"IF(COUNTBLANK($A$81)<>0,\"\",IF(ISERROR(VLOOKUP($A$81,'Roster LIMA'!$E$3:$AU$16,'Roster LIMA'!AC$1,FALSE)),\"\",VLOOKUP($A$81,'Roster LIMA'!$E$3:$AU$16,'Roster LIMA'!AC$1,FALSE)))","v":"N/A"},{"$f":"IF(COUNTBLANK($A$81)<>0,\"\",IF(ISERROR(VLOOKUP($A$81,'Roster LIMA'!$E$3:$AU$16,'Roster LIMA'!AD$1,FALSE)),\"\",VLOOKUP($A$81,'Roster LIMA'!$E$3:$AU$16,'Roster LIMA'!AD$1,FALSE)))","v":"N/A"},{"$f":"IF(COUNTBLANK($A$81)<>0,\"\",IF(ISERROR(VLOOKUP($A$81,'Roster LIMA'!$E$3:$AU$16,'Roster LIMA'!AE$1,FALSE)),\"\",VLOOKUP($A$81,'Roster LIMA'!$E$3:$AU$16,'Roster LIMA'!AE$1,FALSE)))","v":"Black"},{"$f":"IF(COUNTBLANK($A$81)<>0,\"\",IF(ISERROR(VLOOKUP($A$81,'Roster LIMA'!$E$3:$AU$16,'Roster LIMA'!AF$1,FALSE)),\"\",VLOOKUP($A$81,'Roster LIMA'!$E$3:$AU$16,'Roster LIMA'!AF$1,FALSE)))","v":"Black"},{"$f":"IF(COUNTBLANK($A$81)<>0,\"\",IF(ISERROR(VLOOKUP($A$81,'Roster LIMA'!$E$3:$AU$16,'Roster LIMA'!AG$1,FALSE)),\"\",VLOOKUP($A$81,'Roster LIMA'!$E$3:$AU$16,'Roster LIMA'!AG$1,FALSE)))","v":"Black"},{"$f":"IF(COUNTBLANK($A$81)<>0,\"\",IF(ISERROR(VLOOKUP($A$81,'Roster LIMA'!$E$3:$AU$16,'Roster LIMA'!AH$1,FALSE)),\"\",VLOOKUP($A$81,'Roster LIMA'!$E$3:$AU$16,'Roster LIMA'!AH$1,FALSE)))","v":"N/A"},{"$f":"IF(COUNTBLANK($A$81)<>0,\"\",IF(ISERROR(VLOOKUP($A$81,'Roster LIMA'!$E$3:$AU$16,'Roster LIMA'!AI$1,FALSE)),\"\",VLOOKUP($A$81,'Roster LIMA'!$E$3:$AU$16,'Roster LIMA'!AI$1,FALSE)))","v":"N/A"},{"$f":"IF(COUNTBLANK($A$81)<>0,\"\",IF(ISERROR(VLOOKUP($A$81,'Roster LIMA'!$E$3:$AU$16,'Roster LIMA'!AJ$1,FALSE)),\"\",VLOOKUP($A$81,'Roster LIMA'!$E$3:$AU$16,'Roster LIMA'!AJ$1,FALSE)))","v":"White & Red"},{"$f":"IF(COUNTBLANK($A$81)<>0,\"\",IF(ISERROR(VLOOKUP($A$81,'Roster LIMA'!$E$3:$AU$16,'Roster LIMA'!AK$1,FALSE)),\"\",VLOOKUP($A$81,'Roster LIMA'!$E$3:$AU$16,'Roster LIMA'!AK$1,FALSE)))","v":"Pot motor"},{"$f":"IF(COUNTBLANK($A$81)<>0,\"\",IF(ISERROR(VLOOKUP($A$81,'Roster LIMA'!$E$3:$AU$16,'Roster LIMA'!AL$1,FALSE)),\"\",VLOOKUP($A$81,'Roster LIMA'!$E$3:$AU$16,'Roster LIMA'!AL$1,FALSE)))","v":"N/A"},{"$f":"IF(COUNTBLANK($A$81)<>0,\"\",IF(ISERROR(VLOOKUP($A$81,'Roster LIMA'!$E$3:$AU$16,'Roster LIMA'!AM$1,FALSE)),\"\",VLOOKUP($A$81,'Roster LIMA'!$E$3:$AU$16,'Roster LIMA'!AM$1,FALSE)))","v":0},{"$f":"IF(COUNTBLANK($A$81)<>0,\"\",IF(ISERROR(VLOOKUP($A$81,'Roster LIMA'!$E$3:$AU$16,'Roster LIMA'!AN$1,FALSE)),\"\",VLOOKUP($A$81,'Roster LIMA'!$E$3:$AU$16,'Roster LIMA'!AN$1,FALSE)))","v":0},{"$f":"IF(COUNTBLANK($A$81)<>0,\"\",IF(ISERROR(VLOOKUP($A$81,'Roster LIMA'!$E$3:$AU$16,'Roster LIMA'!AO$1,FALSE)),\"\",VLOOKUP($A$81,'Roster LIMA'!$E$3:$AU$16,'Roster LIMA'!AO$1,FALSE)))","v":2},{"$f":"IF(COUNTBLANK($A$81)<>0,\"\",IF(ISERROR(VLOOKUP($A$81,'Roster LIMA'!$E$3:$AU$16,'Roster LIMA'!AP$1,FALSE)),\"\",VLOOKUP($A$81,'Roster LIMA'!$E$3:$AU$16,'Roster LIMA'!AP$1,FALSE)))","v":1.3157894736842105E-2},{"$f":"IF(COUNTBLANK($A$81)<>0,\"\",IF(ISERROR(VLOOKUP($A$81,'Roster LIMA'!$E$3:$AU$16,'Roster LIMA'!AQ$1,FALSE)),\"\",VLOOKUP($A$81,'Roster LIMA'!$E$3:$AU$16,'Roster LIMA'!AQ$1,FALSE)))","v":77},{"$f":"IF(COUNTBLANK($A$81)<>0,\"\",IF(ISERROR(VLOOKUP($A$81,'Roster LIMA'!$E$3:$AU$16,'Roster LIMA'!AR$1,FALSE)),\"\",VLOOKUP($A$81,'Roster LIMA'!$E$3:$AU$16,'Roster LIMA'!AR$1,FALSE)))","v":"Yes"}]
[{"$f":"+A8","v":1960},{"$f":"IF(COUNTBLANK($A$81)<>0,\"\",IF(ISERROR(VLOOKUP($A$81,'Roster LIMA'!$E$17:$AU$54,4,FALSE)),\"\",IF(VLOOKUP($A$81,'Roster LIMA'!$E$17:$AU$54,4,FALSE)=0,\"\",VLOOKUP($A$81,'Roster LIMA'!$E$17:$AU$54,4,FALSE))))","v":"Yes"},{"$f":"IF(COUNTBLANK($A$81)<>0,\"\",IF(ISERROR(VLOOKUP($A$81,'Roster LIMA'!$E$17:$AU$54,5,FALSE)),\"\",IF(VLOOKUP($A$81,'Roster LIMA'!$E$17:$AU$54,5,FALSE)=0,\"\",VLOOKUP($A$81,'Roster LIMA'!$E$17:$AU$54,5,FALSE))))","v":"IT"},{"$f":"IF(COUNTBLANK($A$81)<>0,\"\",IF(ISERROR(VLOOKUP($A$81,'Roster LIMA'!$E$17:$AU$54,6,FALSE)),\"\",IF(VLOOKUP($A$81,'Roster LIMA'!$E$17:$AU$54,6,FALSE)=0,\"\",VLOOKUP($A$81,'Roster LIMA'!$E$17:$AU$54,6,FALSE))))","v":3},{"$f":"IF(COUNTBLANK($A$81)<>0,\"\",IF(ISERROR(VLOOKUP($A$81,'Roster LIMA'!$E$17:$AU$54,5,FALSE)),\"\",IF(VLOOKUP($A$81,'Roster LIMA'!$E$17:$AU$54,5,FALSE)=0,\"\",VLOOKUP($A$81,'Roster LIMA'!$E$17:$AU$54,5,FALSE))))","v":"IT"},null,{"$f":"IF(COUNTBLANK($A$81)<>0,\"\",IF(ISERROR(VLOOKUP($A$81,'Roster LIMA'!$E$17:$AU$54,1,FALSE)),\"N/A\",IF(VLOOKUP($A$81,'Roster LIMA'!$E$17:$AU$54,1,FALSE)=0,\"\",VLOOKUP($A$81,'Roster LIMA'!$E$17:$AU$54,1,FALSE))))","v":"2014T"},null,null,null,{"$f":"IF(COUNTBLANK($A$81)<>0,\"\",IF(ISERROR(VLOOKUP($A$81,'Roster LIMA'!$E$17:$AU$54,'Roster LIMA'!I$1,FALSE)),\"\",VLOOKUP($A$81,'Roster LIMA'!$E$17:$AU$54,'Roster LIMA'!I$1,FALSE)))","v":"Germany"},{"$f":"IF(COUNTBLANK($A$81)<>0,\"\",IF(ISERROR(VLOOKUP($A$81,'Roster LIMA'!$E$17:$AU$54,'Roster LIMA'!J$1,FALSE)),\"\",VLOOKUP($A$81,'Roster LIMA'!$E$17:$AU$54,'Roster LIMA'!J$1,FALSE)))","v":"DRG"},{"$f":"IF(COUNTBLANK($A$81)<>0,\"\",IF(ISERROR(VLOOKUP($A$81,'Roster LIMA'!$E$17:$AU$54,'Roster LIMA'!K$1,FALSE)),\"\",VLOOKUP($A$81,'Roster LIMA'!$E$17:$AU$54,'Roster LIMA'!K$1,FALSE)))","v":"No"},{"$f":"IF(COUNTBLANK($A$81)<>0,\"\",IF(ISERROR(VLOOKUP($A$81,'Roster LIMA'!$E$17:$AU$54,'Roster LIMA'!L$1,FALSE)),\"\",VLOOKUP($A$81,'Roster LIMA'!$E$17:$AU$54,'Roster LIMA'!L$1,FALSE)))","v":"Locomotive"},{"$f":"IF(COUNTBLANK($A$81)<>0,\"\",IF(ISERROR(VLOOKUP($A$81,'Roster LIMA'!$E$17:$AU$54,'Roster LIMA'!M$1,FALSE)),\"\",VLOOKUP($A$81,'Roster LIMA'!$E$17:$AU$54,'Roster LIMA'!M$1,FALSE)))","v":"Steam"},{"$f":"IF(COUNTBLANK($A$81)<>0,\"\",IF(ISERROR(VLOOKUP($A$81,'Roster LIMA'!$E$17:$AU$54,'Roster LIMA'!N$1,FALSE)),\"\",VLOOKUP($A$81,'Roster LIMA'!$E$17:$AU$54,'Roster LIMA'!N$1,FALSE)))","v":"Tender"},{"$f":"IF(COUNTBLANK($A$81)<>0,\"\",IF(ISERROR(VLOOKUP($A$81,'Roster LIMA'!$E$17:$AU$54,'Roster LIMA'!O$1,FALSE)),\"\",VLOOKUP($A$81,'Roster LIMA'!$E$17:$AU$54,'Roster LIMA'!O$1,FALSE)))","v":"/2-2"},{"$f":"IF(COUNTBLANK($A$81)<>0,\"\",IF(ISERROR(VLOOKUP($A$81,'Roster LIMA'!$E$17:$AU$54,'Roster LIMA'!P$1,FALSE)),\"\",VLOOKUP($A$81,'Roster LIMA'!$E$17:$AU$54,'Roster LIMA'!P$1,FALSE)))","v":"N/A"},{"$f":"IF(COUNTBLANK($A$81)<>0,\"\",IF(ISERROR(VLOOKUP($A$81,'Roster LIMA'!$E$17:$AU$54,'Roster LIMA'!Q$1,FALSE)),\"\",VLOOKUP($A$81,'Roster LIMA'!$E$17:$AU$54,'Roster LIMA'!Q$1,FALSE)))","v":"Yes"},{"$f":"IF(COUNTBLANK($A$81)<>0,\"\",IF(ISERROR(VLOOKUP($A$81,'Roster LIMA'!$E$17:$AU$54,'Roster LIMA'!R$1,FALSE)),\"\",VLOOKUP($A$81,'Roster LIMA'!$E$17:$AU$54,'Roster LIMA'!R$1,FALSE)))","v":1895},{"$f":"IF(COUNTBLANK($A$81)<>0,\"\",IF(ISERROR(VLOOKUP($A$81,'Roster LIMA'!$E$17:$AU$54,'Roster LIMA'!S$1,FALSE)),\"\",VLOOKUP($A$81,'Roster LIMA'!$E$17:$AU$54,'Roster LIMA'!S$1,FALSE)))","v":1936},{"$f":"IF(COUNTBLANK($A$81)<>0,\"\",IF(ISERROR(VLOOKUP($A$81,'Roster LIMA'!$E$17:$AU$54,'Roster LIMA'!T$1,FALSE)),\"\",VLOOKUP($A$81,'Roster LIMA'!$E$17:$AU$54,'Roster LIMA'!T$1,FALSE)))","v":"II"},{"$f":"IF(COUNTBLANK($A$81)<>0,\"\",IF(ISERROR(VLOOKUP($A$81,'Roster LIMA'!$E$17:$AU$54,'Roster LIMA'!U$1,FALSE)),\"\",VLOOKUP($A$81,'Roster LIMA'!$E$17:$AU$54,'Roster LIMA'!U$1,FALSE)))","v":"Preußische G 3"},{"$f":"IF(COUNTBLANK($A$81)<>0,\"\",IF(ISERROR(VLOOKUP($A$81,'Roster LIMA'!$E$17:$AU$54,'Roster LIMA'!V$1,FALSE)),\"\",VLOOKUP($A$81,'Roster LIMA'!$E$17:$AU$54,'Roster LIMA'!V$1,FALSE)))","v":"BR-053.70"},{"$f":"IF(COUNTBLANK($A$81)<>0,\"\",IF(ISERROR(VLOOKUP($A$81,'Roster LIMA'!$E$17:$AU$54,'Roster LIMA'!W$1,FALSE)),\"\",VLOOKUP($A$81,'Roster LIMA'!$E$17:$AU$54,'Roster LIMA'!W$1,FALSE)))","v":"DRG-53"},{"$f":"IF(COUNTBLANK($A$81)<>0,\"\",IF(ISERROR(VLOOKUP($A$81,'Roster LIMA'!$E$17:$AU$54,'Roster LIMA'!X$1,FALSE)),\"\",VLOOKUP($A$81,'Roster LIMA'!$E$17:$AU$54,'Roster LIMA'!X$1,FALSE)))","v":"N/A"},{"$f":"IF(COUNTBLANK($A$81)<>0,\"\",IF(ISERROR(VLOOKUP($A$81,'Roster LIMA'!$E$17:$AU$54,'Roster LIMA'!Y$1,FALSE)),\"\",VLOOKUP($A$81,'Roster LIMA'!$E$17:$AU$54,'Roster LIMA'!Y$1,FALSE)))","v":"Tender for locomotive #2001. May be available with 3 axle too"},{"$f":"IF(COUNTBLANK($A$81)<>0,\"\",IF(ISERROR(VLOOKUP($A$81,'Roster LIMA'!$E$17:$AU$54,'Roster LIMA'!Z$1,FALSE)),\"\",VLOOKUP($A$81,'Roster LIMA'!$E$17:$AU$54,'Roster LIMA'!Z$1,FALSE)))","v":"N/A"},{"$f":"IF(COUNTBLANK($A$81)<>0,\"\",IF(ISERROR(VLOOKUP($A$81,'Roster LIMA'!$E$17:$AU$54,'Roster LIMA'!AA$1,FALSE)),\"\",VLOOKUP($A$81,'Roster LIMA'!$E$17:$AU$54,'Roster LIMA'!AA$1,FALSE)))","v":"N/A"},{"$f":"IF(COUNTBLANK($A$81)<>0,\"\",IF(ISERROR(VLOOKUP($A$81,'Roster LIMA'!$E$17:$AU$54,'Roster LIMA'!AB$1,FALSE)),\"\",VLOOKUP($A$81,'Roster LIMA'!$E$17:$AU$54,'Roster LIMA'!AB$1,FALSE)))","v":"N/A"},{"$f":"IF(COUNTBLANK($A$81)<>0,\"\",IF(ISERROR(VLOOKUP($A$81,'Roster LIMA'!$E$17:$AU$54,'Roster LIMA'!AC$1,FALSE)),\"\",VLOOKUP($A$81,'Roster LIMA'!$E$17:$AU$54,'Roster LIMA'!AC$1,FALSE)))","v":"N/A"},{"$f":"IF(COUNTBLANK($A$81)<>0,\"\",IF(ISERROR(VLOOKUP($A$81,'Roster LIMA'!$E$17:$AU$54,'Roster LIMA'!AD$1,FALSE)),\"\",VLOOKUP($A$81,'Roster LIMA'!$E$17:$AU$54,'Roster LIMA'!AD$1,FALSE)))","v":"N/A"},{"$f":"IF(COUNTBLANK($A$81)<>0,\"\",IF(ISERROR(VLOOKUP($A$81,'Roster LIMA'!$E$17:$AU$54,'Roster LIMA'!AE$1,FALSE)),\"\",VLOOKUP($A$81,'Roster LIMA'!$E$17:$AU$54,'Roster LIMA'!AE$1,FALSE)))","v":"Black"},{"$f":"IF(COUNTBLANK($A$81)<>0,\"\",IF(ISERROR(VLOOKUP($A$81,'Roster LIMA'!$E$17:$AU$54,'Roster LIMA'!AF$1,FALSE)),\"\",VLOOKUP($A$81,'Roster LIMA'!$E$17:$AU$54,'Roster LIMA'!AF$1,FALSE)))","v":"Black"},{"$f":"IF(COUNTBLANK($A$81)<>0,\"\",IF(ISERROR(VLOOKUP($A$81,'Roster LIMA'!$E$17:$AU$54,'Roster LIMA'!AG$1,FALSE)),\"\",VLOOKUP($A$81,'Roster LIMA'!$E$17:$AU$54,'Roster LIMA'!AG$1,FALSE)))","v":"Black"},{"$f":"IF(COUNTBLANK($A$81)<>0,\"\",IF(ISERROR(VLOOKUP($A$81,'Roster LIMA'!$E$17:$AU$54,'Roster LIMA'!AH$1,FALSE)),\"\",VLOOKUP($A$81,'Roster LIMA'!$E$17:$AU$54,'Roster LIMA'!AH$1,FALSE)))","v":"N/A"},{"$f":"IF(COUNTBLANK($A$81)<>0,\"\",IF(ISERROR(VLOOKUP($A$81,'Roster LIMA'!$E$17:$AU$54,'Roster LIMA'!AI$1,FALSE)),\"\",VLOOKUP($A$81,'Roster LIMA'!$E$17:$AU$54,'Roster LIMA'!AI$1,FALSE)))","v":"N/A"},{"$f":"IF(COUNTBLANK($A$81)<>0,\"\",IF(ISERROR(VLOOKUP($A$81,'Roster LIMA'!$E$17:$AU$54,'Roster LIMA'!AJ$1,FALSE)),\"\",VLOOKUP($A$81,'Roster LIMA'!$E$17:$AU$54,'Roster LIMA'!AJ$1,FALSE)))","v":"White & Red"},{"$f":"IF(COUNTBLANK($A$81)<>0,\"\",IF(ISERROR(VLOOKUP($A$81,'Roster LIMA'!$E$17:$AU$54,'Roster LIMA'!AK$1,FALSE)),\"\",VLOOKUP($A$81,'Roster LIMA'!$E$17:$AU$54,'Roster LIMA'!AK$1,FALSE)))","v":"Pot motor"},{"$f":"IF(COUNTBLANK($A$81)<>0,\"\",IF(ISERROR(VLOOKUP($A$81,'Roster LIMA'!$E$17:$AU$54,'Roster LIMA'!AL$1,FALSE)),\"\",VLOOKUP($A$81,'Roster LIMA'!$E$17:$AU$54,'Roster LIMA'!AL$1,FALSE)))","v":"N/A"},{"$f":"IF(COUNTBLANK($A$81)<>0,\"\",IF(ISERROR(VLOOKUP($A$81,'Roster LIMA'!$E$17:$AU$54,'Roster LIMA'!AM$1,FALSE)),\"\",VLOOKUP($A$81,'Roster LIMA'!$E$17:$AU$54,'Roster LIMA'!AM$1,FALSE)))","v":0},{"$f":"IF(COUNTBLANK($A$81)<>0,\"\",IF(ISERROR(VLOOKUP($A$81,'Roster LIMA'!$E$17:$AU$54,'Roster LIMA'!AN$1,FALSE)),\"\",VLOOKUP($A$81,'Roster LIMA'!$E$17:$AU$54,'Roster LIMA'!AN$1,FALSE)))","v":0},{"$f":"IF(COUNTBLANK($A$81)<>0,\"\",IF(ISERROR(VLOOKUP($A$81,'Roster LIMA'!$E$17:$AU$54,'Roster LIMA'!AO$1,FALSE)),\"\",VLOOKUP($A$81,'Roster LIMA'!$E$17:$AU$54,'Roster LIMA'!AO$1,FALSE)))","v":2},{"$f":"IF(COUNTBLANK($A$81)<>0,\"\",IF(ISERROR(VLOOKUP($A$81,'Roster LIMA'!$E$17:$AU$54,'Roster LIMA'!AP$1,FALSE)),\"\",VLOOKUP($A$81,'Roster LIMA'!$E$17:$AU$54,'Roster LIMA'!AP$1,FALSE)))","v":1.3157894736842105E-2},{"$f":"IF(COUNTBLANK($A$81)<>0,\"\",IF(ISERROR(VLOOKUP($A$81,'Roster LIMA'!$E$17:$AU$54,'Roster LIMA'!AQ$1,FALSE)),\"\",VLOOKUP($A$81,'Roster LIMA'!$E$17:$AU$54,'Roster LIMA'!AQ$1,FALSE)))","v":77},{"$f":"IF(COUNTBLANK($A$81)<>0,\"\",IF(ISERROR(VLOOKUP($A$81,'Roster LIMA'!$E$17:$AU$54,'Roster LIMA'!AR$1,FALSE)),\"\",VLOOKUP($A$81,'Roster LIMA'!$E$17:$AU$54,'Roster LIMA'!AR$1,FALSE)))","v":"Yes"}]
[1961,{"$f":"IF(COUNTBLANK($A$81)<>0,\"\",IF(ISERROR(VLOOKUP($A$81,'Roster LIMA'!$E$55:$AU$100,4,FALSE)),\"\",IF(VLOOKUP($A$81,'Roster LIMA'!$E$55:$AU$100,4,FALSE)=0,\"\",VLOOKUP($A$81,'Roster LIMA'!$E$55:$AU$100,4,FALSE))))","v":"Yes"},{"$f":"IF(COUNTBLANK($A$81)<>0,\"\",IF(ISERROR(VLOOKUP($A$81,'Roster LIMA'!$E$55:$AU$100,5,FALSE)),\"\",IF(VLOOKUP($A$81,'Roster LIMA'!$E$55:$AU$100,5,FALSE)=0,\"\",VLOOKUP($A$81,'Roster LIMA'!$E$55:$AU$100,5,FALSE))))","v":"IT"},{"$f":"IF(COUNTBLANK($A$81)<>0,\"\",IF(ISERROR(VLOOKUP($A$81,'Roster LIMA'!$E$55:$AU$100,6,FALSE)),\"\",IF(VLOOKUP($A$81,'Roster LIMA'!$E$55:$AU$100,6,FALSE)=0,\"\",VLOOKUP($A$81,'Roster LIMA'!$E$55:$AU$100,6,FALSE))))","v":1},{"$f":"IF(COUNTBLANK($A$81)<>0,\"\",IF(ISERROR(VLOOKUP($A$81,'Roster LIMA'!$E$55:$AU$100,5,FALSE)),\"\",IF(VLOOKUP($A$81,'Roster LIMA'!$E$55:$AU$100,5,FALSE)=0,\"\",VLOOKUP($A$81,'Roster LIMA'!$E$55:$AU$100,5,FALSE))))","v":"IT"},null,{"$f":"IF(COUNTBLANK($A$81)<>0,\"\",IF(ISERROR(VLOOKUP($A$81,'Roster LIMA'!$E$55:$AU$100,1,FALSE)),\"N/A\",IF(VLOOKUP($A$81,'Roster LIMA'!$E$55:$AU$100,1,FALSE)=0,\"\",VLOOKUP($A$81,'Roster LIMA'!$E$55:$AU$100,1,FALSE))))","v":"2014T"},null,null,null,{"$f":"IF(COUNTBLANK($A$81)<>0,\"\",IF(ISERROR(VLOOKUP($A$81,'Roster LIMA'!$E$55:$AU$100,'Roster LIMA'!I$1,FALSE)),\"\",VLOOKUP($A$81,'Roster LIMA'!$E$55:$AU$100,'Roster LIMA'!I$1,FALSE)))","v":"Germany"},{"$f":"IF(COUNTBLANK($A$81)<>0,\"\",IF(ISERROR(VLOOKUP($A$81,'Roster LIMA'!$E$55:$AU$100,'Roster LIMA'!J$1,FALSE)),\"\",VLOOKUP($A$81,'Roster LIMA'!$E$55:$AU$100,'Roster LIMA'!J$1,FALSE)))","v":"DRG"},{"$f":"IF(COUNTBLANK($A$81)<>0,\"\",IF(ISERROR(VLOOKUP($A$81,'Roster LIMA'!$E$55:$AU$100,'Roster LIMA'!K$1,FALSE)),\"\",VLOOKUP($A$81,'Roster LIMA'!$E$55:$AU$100,'Roster LIMA'!K$1,FALSE)))","v":"No"},{"$f":"IF(COUNTBLANK($A$81)<>0,\"\",IF(ISERROR(VLOOKUP($A$81,'Roster LIMA'!$E$55:$AU$100,'Roster LIMA'!L$1,FALSE)),\"\",VLOOKUP($A$81,'Roster LIMA'!$E$55:$AU$100,'Roster LIMA'!L$1,FALSE)))","v":"Locomotive"},{"$f":"IF(COUNTBLANK($A$81)<>0,\"\",IF(ISERROR(VLOOKUP($A$81,'Roster LIMA'!$E$55:$AU$100,'Roster LIMA'!M$1,FALSE)),\"\",VLOOKUP($A$81,'Roster LIMA'!$E$55:$AU$100,'Roster LIMA'!M$1,FALSE)))","v":"Steam"},{"$f":"IF(COUNTBLANK($A$81)<>0,\"\",IF(ISERROR(VLOOKUP($A$81,'Roster LIMA'!$E$55:$AU$100,'Roster LIMA'!N$1,FALSE)),\"\",VLOOKUP($A$81,'Roster LIMA'!$E$55:$AU$100,'Roster LIMA'!N$1,FALSE)))","v":"Tender"},{"$f":"IF(COUNTBLANK($A$81)<>0,\"\",IF(ISERROR(VLOOKUP($A$81,'Roster LIMA'!$E$55:$AU$100,'Roster LIMA'!O$1,FALSE)),\"\",VLOOKUP($A$81,'Roster LIMA'!$E$55:$AU$100,'Roster LIMA'!O$1,FALSE)))","v":"/2-2"},{"$f":"IF(COUNTBLANK($A$81)<>0,\"\",IF(ISERROR(VLOOKUP($A$81,'Roster LIMA'!$E$55:$AU$100,'Roster LIMA'!P$1,FALSE)),\"\",VLOOKUP($A$81,'Roster LIMA'!$E$55:$AU$100,'Roster LIMA'!P$1,FALSE)))","v":"N/A"},{"$f":"IF(COUNTBLANK($A$81)<>0,\"\",IF(ISERROR(VLOOKUP($A$81,'Roster LIMA'!$E$55:$AU$100,'Roster LIMA'!Q$1,FALSE)),\"\",VLOOKUP($A$81,'Roster LIMA'!$E$55:$AU$100,'Roster LIMA'!Q$1,FALSE)))","v":"Yes"},{"$f":"IF(COUNTBLANK($A$81)<>0,\"\",IF(ISERROR(VLOOKUP($A$81,'Roster LIMA'!$E$55:$AU$100,'Roster LIMA'!R$1,FALSE)),\"\",VLOOKUP($A$81,'Roster LIMA'!$E$55:$AU$100,'Roster LIMA'!R$1,FALSE)))","v":1895},{"$f":"IF(COUNTBLANK($A$81)<>0,\"\",IF(ISERROR(VLOOKUP($A$81,'Roster LIMA'!$E$55:$AU$100,'Roster LIMA'!S$1,FALSE)),\"\",VLOOKUP($A$81,'Roster LIMA'!$E$55:$AU$100,'Roster LIMA'!S$1,FALSE)))","v":1936},{"$f":"IF(COUNTBLANK($A$81)<>0,\"\",IF(ISERROR(VLOOKUP($A$81,'Roster LIMA'!$E$55:$AU$100,'Roster LIMA'!T$1,FALSE)),\"\",VLOOKUP($A$81,'Roster LIMA'!$E$55:$AU$100,'Roster LIMA'!T$1,FALSE)))","v":"II"},{"$f":"IF(COUNTBLANK($A$81)<>0,\"\",IF(ISERROR(VLOOKUP($A$81,'Roster LIMA'!$E$55:$AU$100,'Roster LIMA'!U$1,FALSE)),\"\",VLOOKUP($A$81,'Roster LIMA'!$E$55:$AU$100,'Roster LIMA'!U$1,FALSE)))","v":"Preußische G 3"},{"$f":"IF(COUNTBLANK($A$81)<>0,\"\",IF(ISERROR(VLOOKUP($A$81,'Roster LIMA'!$E$55:$AU$100,'Roster LIMA'!V$1,FALSE)),\"\",VLOOKUP($A$81,'Roster LIMA'!$E$55:$AU$100,'Roster LIMA'!V$1,FALSE)))","v":"BR-053.70"},{"$f":"IF(COUNTBLANK($A$81)<>0,\"\",IF(ISERROR(VLOOKUP($A$81,'Roster LIMA'!$E$55:$AU$100,'Roster LIMA'!W$1,FALSE)),\"\",VLOOKUP($A$81,'Roster LIMA'!$E$55:$AU$100,'Roster LIMA'!W$1,FALSE)))","v":"DRG-53"},{"$f":"IF(COUNTBLANK($A$81)<>0,\"\",IF(ISERROR(VLOOKUP($A$81,'Roster LIMA'!$E$55:$AU$100,'Roster LIMA'!X$1,FALSE)),\"\",VLOOKUP($A$81,'Roster LIMA'!$E$55:$AU$100,'Roster LIMA'!X$1,FALSE)))","v":"N/A"},{"$f":"IF(COUNTBLANK($A$81)<>0,\"\",IF(ISERROR(VLOOKUP($A$81,'Roster LIMA'!$E$55:$AU$100,'Roster LIMA'!Y$1,FALSE)),\"\",VLOOKUP($A$81,'Roster LIMA'!$E$55:$AU$100,'Roster LIMA'!Y$1,FALSE)))","v":"Tender for locomotive #2001. May be available with 3 axle too"},{"$f":"IF(COUNTBLANK($A$81)<>0,\"\",IF(ISERROR(VLOOKUP($A$81,'Roster LIMA'!$E$55:$AU$100,'Roster LIMA'!Z$1,FALSE)),\"\",VLOOKUP($A$81,'Roster LIMA'!$E$55:$AU$100,'Roster LIMA'!Z$1,FALSE)))","v":"N/A"},{"$f":"IF(COUNTBLANK($A$81)<>0,\"\",IF(ISERROR(VLOOKUP($A$81,'Roster LIMA'!$E$55:$AU$100,'Roster LIMA'!AA$1,FALSE)),\"\",VLOOKUP($A$81,'Roster LIMA'!$E$55:$AU$100,'Roster LIMA'!AA$1,FALSE)))","v":"N/A"},{"$f":"IF(COUNTBLANK($A$81)<>0,\"\",IF(ISERROR(VLOOKUP($A$81,'Roster LIMA'!$E$55:$AU$100,'Roster LIMA'!AB$1,FALSE)),\"\",VLOOKUP($A$81,'Roster LIMA'!$E$55:$AU$100,'Roster LIMA'!AB$1,FALSE)))","v":"N/A"},{"$f":"IF(COUNTBLANK($A$81)<>0,\"\",IF(ISERROR(VLOOKUP($A$81,'Roster LIMA'!$E$55:$AU$100,'Roster LIMA'!AC$1,FALSE)),\"\",VLOOKUP($A$81,'Roster LIMA'!$E$55:$AU$100,'Roster LIMA'!AC$1,FALSE)))","v":"N/A"},{"$f":"IF(COUNTBLANK($A$81)<>0,\"\",IF(ISERROR(VLOOKUP($A$81,'Roster LIMA'!$E$55:$AU$100,'Roster LIMA'!AD$1,FALSE)),\"\",VLOOKUP($A$81,'Roster LIMA'!$E$55:$AU$100,'Roster LIMA'!AD$1,FALSE)))","v":"N/A"},{"$f":"IF(COUNTBLANK($A$81)<>0,\"\",IF(ISERROR(VLOOKUP($A$81,'Roster LIMA'!$E$55:$AU$100,'Roster LIMA'!AE$1,FALSE)),\"\",VLOOKUP($A$81,'Roster LIMA'!$E$55:$AU$100,'Roster LIMA'!AE$1,FALSE)))","v":"Black"},{"$f":"IF(COUNTBLANK($A$81)<>0,\"\",IF(ISERROR(VLOOKUP($A$81,'Roster LIMA'!$E$55:$AU$100,'Roster LIMA'!AF$1,FALSE)),\"\",VLOOKUP($A$81,'Roster LIMA'!$E$55:$AU$100,'Roster LIMA'!AF$1,FALSE)))","v":"Black"},{"$f":"IF(COUNTBLANK($A$81)<>0,\"\",IF(ISERROR(VLOOKUP($A$81,'Roster LIMA'!$E$55:$AU$100,'Roster LIMA'!AG$1,FALSE)),\"\",VLOOKUP($A$81,'Roster LIMA'!$E$55:$AU$100,'Roster LIMA'!AG$1,FALSE)))","v":"Black"},{"$f":"IF(COUNTBLANK($A$81)<>0,\"\",IF(ISERROR(VLOOKUP($A$81,'Roster LIMA'!$E$55:$AU$100,'Roster LIMA'!AH$1,FALSE)),\"\",VLOOKUP($A$81,'Roster LIMA'!$E$55:$AU$100,'Roster LIMA'!AH$1,FALSE)))","v":"N/A"},{"$f":"IF(COUNTBLANK($A$81)<>0,\"\",IF(ISERROR(VLOOKUP($A$81,'Roster LIMA'!$E$55:$AU$100,'Roster LIMA'!AI$1,FALSE)),\"\",VLOOKUP($A$81,'Roster LIMA'!$E$55:$AU$100,'Roster LIMA'!AI$1,FALSE)))","v":"N/A"},{"$f":"IF(COUNTBLANK($A$81)<>0,\"\",IF(ISERROR(VLOOKUP($A$81,'Roster LIMA'!$E$55:$AU$100,'Roster LIMA'!AJ$1,FALSE)),\"\",VLOOKUP($A$81,'Roster LIMA'!$E$55:$AU$100,'Roster LIMA'!AJ$1,FALSE)))","v":"White & Red"},{"$f":"IF(COUNTBLANK($A$81)<>0,\"\",IF(ISERROR(VLOOKUP($A$81,'Roster LIMA'!$E$55:$AU$100,'Roster LIMA'!AK$1,FALSE)),\"\",VLOOKUP($A$81,'Roster LIMA'!$E$55:$AU$100,'Roster LIMA'!AK$1,FALSE)))","v":"Pot motor"},{"$f":"IF(COUNTBLANK($A$81)<>0,\"\",IF(ISERROR(VLOOKUP($A$81,'Roster LIMA'!$E$55:$AU$100,'Roster LIMA'!AL$1,FALSE)),\"\",VLOOKUP($A$81,'Roster LIMA'!$E$55:$AU$100,'Roster LIMA'!AL$1,FALSE)))","v":"N/A"},{"$f":"IF(COUNTBLANK($A$81)<>0,\"\",IF(ISERROR(VLOOKUP($A$81,'Roster LIMA'!$E$55:$AU$100,'Roster LIMA'!AM$1,FALSE)),\"\",VLOOKUP($A$81,'Roster LIMA'!$E$55:$AU$100,'Roster LIMA'!AM$1,FALSE)))","v":0},{"$f":"IF(COUNTBLANK($A$81)<>0,\"\",IF(ISERROR(VLOOKUP($A$81,'Roster LIMA'!$E$55:$AU$100,'Roster LIMA'!AN$1,FALSE)),\"\",VLOOKUP($A$81,'Roster LIMA'!$E$55:$AU$100,'Roster LIMA'!AN$1,FALSE)))","v":0},{"$f":"IF(COUNTBLANK($A$81)<>0,\"\",IF(ISERROR(VLOOKUP($A$81,'Roster LIMA'!$E$55:$AU$100,'Roster LIMA'!AO$1,FALSE)),\"\",VLOOKUP($A$81,'Roster LIMA'!$E$55:$AU$100,'Roster LIMA'!AO$1,FALSE)))","v":2},{"$f":"IF(COUNTBLANK($A$81)<>0,\"\",IF(ISERROR(VLOOKUP($A$81,'Roster LIMA'!$E$55:$AU$100,'Roster LIMA'!AP$1,FALSE)),\"\",VLOOKUP($A$81,'Roster LIMA'!$E$55:$AU$100,'Roster LIMA'!AP$1,FALSE)))","v":1.3157894736842105E-2},{"$f":"IF(COUNTBLANK($A$81)<>0,\"\",IF(ISERROR(VLOOKUP($A$81,'Roster LIMA'!$E$55:$AU$100,'Roster LIMA'!AQ$1,FALSE)),\"\",VLOOKUP($A$81,'Roster LIMA'!$E$55:$AU$100,'Roster LIMA'!AQ$1,FALSE)))","v":77},{"$f":"IF(COUNTBLANK($A$81)<>0,\"\",IF(ISERROR(VLOOKUP($A$81,'Roster LIMA'!$E$55:$AU$100,'Roster LIMA'!AR$1,FALSE)),\"\",VLOOKUP($A$81,'Roster LIMA'!$E$55:$AU$100,'Roster LIMA'!AR$1,FALSE)))","v":"Yes"}]
[1962,{"$f":"IF(COUNTBLANK($A$81)<>0,\"\",IF(ISERROR(VLOOKUP($A$81,'Roster LIMA'!$E$101:$AU$160,4,FALSE)),\"\",IF(VLOOKUP($A$81,'Roster LIMA'!$E$101:$AU$160,4,FALSE)=0,\"\",VLOOKUP($A$81,'Roster LIMA'!$E$101:$AU$160,4,FALSE))))","v":""},{"$f":"IF(COUNTBLANK($A$81)<>0,\"\",IF(ISERROR(VLOOKUP($A$81,'Roster LIMA'!$E$101:$AU$160,5,FALSE)),\"\",IF(VLOOKUP($A$81,'Roster LIMA'!$E$101:$AU$160,5,FALSE)=0,\"\",VLOOKUP($A$81,'Roster LIMA'!$E$101:$AU$160,5,FALSE))))","v":""},{"$f":"IF(COUNTBLANK($A$81)<>0,\"\",IF(ISERROR(VLOOKUP($A$81,'Roster LIMA'!$E$101:$AU$160,6,FALSE)),\"\",IF(VLOOKUP($A$81,'Roster LIMA'!$E$101:$AU$160,6,FALSE)=0,\"\",VLOOKUP($A$81,'Roster LIMA'!$E$101:$AU$160,6,FALSE))))","v":""},{"$f":"IF(COUNTBLANK($A$81)<>0,\"\",IF(ISERROR(VLOOKUP($A$81,'Roster LIMA'!$E$101:$AU$160,5,FALSE)),\"\",IF(VLOOKUP($A$81,'Roster LIMA'!$E$101:$AU$160,5,FALSE)=0,\"\",VLOOKUP($A$81,'Roster LIMA'!$E$101:$AU$160,5,FALSE))))","v":""},null,{"$f":"IF(COUNTBLANK($A$81)<>0,\"\",IF(ISERROR(VLOOKUP($A$81,'Roster LIMA'!$E$101:$AU$160,1,FALSE)),\"N/A\",IF(VLOOKUP($A$81,'Roster LIMA'!$E$101:$AU$160,1,FALSE)=0,\"\",VLOOKUP($A$81,'Roster LIMA'!$E$101:$AU$160,1,FALSE))))","v":"N/A"},null,null,null,{"$f":"IF(COUNTBLANK($A$81)<>0,\"\",IF(ISERROR(VLOOKUP($A$81,'Roster LIMA'!$E$101:$AU$160,'Roster LIMA'!I$1,FALSE)),\"\",VLOOKUP($A$81,'Roster LIMA'!$E$101:$AU$160,'Roster LIMA'!I$1,FALSE)))","v":""},{"$f":"IF(COUNTBLANK($A$81)<>0,\"\",IF(ISERROR(VLOOKUP($A$81,'Roster LIMA'!$E$101:$AU$160,'Roster LIMA'!J$1,FALSE)),\"\",VLOOKUP($A$81,'Roster LIMA'!$E$101:$AU$160,'Roster LIMA'!J$1,FALSE)))","v":""},{"$f":"IF(COUNTBLANK($A$81)<>0,\"\",IF(ISERROR(VLOOKUP($A$81,'Roster LIMA'!$E$101:$AU$160,'Roster LIMA'!K$1,FALSE)),\"\",VLOOKUP($A$81,'Roster LIMA'!$E$101:$AU$160,'Roster LIMA'!K$1,FALSE)))","v":""},{"$f":"IF(COUNTBLANK($A$81)<>0,\"\",IF(ISERROR(VLOOKUP($A$81,'Roster LIMA'!$E$101:$AU$160,'Roster LIMA'!L$1,FALSE)),\"\",VLOOKUP($A$81,'Roster LIMA'!$E$101:$AU$160,'Roster LIMA'!L$1,FALSE)))","v":""},{"$f":"IF(COUNTBLANK($A$81)<>0,\"\",IF(ISERROR(VLOOKUP($A$81,'Roster LIMA'!$E$101:$AU$160,'Roster LIMA'!M$1,FALSE)),\"\",VLOOKUP($A$81,'Roster LIMA'!$E$101:$AU$160,'Roster LIMA'!M$1,FALSE)))","v":""},{"$f":"IF(COUNTBLANK($A$81)<>0,\"\",IF(ISERROR(VLOOKUP($A$81,'Roster LIMA'!$E$101:$AU$160,'Roster LIMA'!N$1,FALSE)),\"\",VLOOKUP($A$81,'Roster LIMA'!$E$101:$AU$160,'Roster LIMA'!N$1,FALSE)))","v":""},{"$f":"IF(COUNTBLANK($A$81)<>0,\"\",IF(ISERROR(VLOOKUP($A$81,'Roster LIMA'!$E$101:$AU$160,'Roster LIMA'!O$1,FALSE)),\"\",VLOOKUP($A$81,'Roster LIMA'!$E$101:$AU$160,'Roster LIMA'!O$1,FALSE)))","v":""},{"$f":"IF(COUNTBLANK($A$81)<>0,\"\",IF(ISERROR(VLOOKUP($A$81,'Roster LIMA'!$E$101:$AU$160,'Roster LIMA'!P$1,FALSE)),\"\",VLOOKUP($A$81,'Roster LIMA'!$E$101:$AU$160,'Roster LIMA'!P$1,FALSE)))","v":""},{"$f":"IF(COUNTBLANK($A$81)<>0,\"\",IF(ISERROR(VLOOKUP($A$81,'Roster LIMA'!$E$101:$AU$160,'Roster LIMA'!Q$1,FALSE)),\"\",VLOOKUP($A$81,'Roster LIMA'!$E$101:$AU$160,'Roster LIMA'!Q$1,FALSE)))","v":""},{"$f":"IF(COUNTBLANK($A$81)<>0,\"\",IF(ISERROR(VLOOKUP($A$81,'Roster LIMA'!$E$101:$AU$160,'Roster LIMA'!R$1,FALSE)),\"\",VLOOKUP($A$81,'Roster LIMA'!$E$101:$AU$160,'Roster LIMA'!R$1,FALSE)))","v":""},{"$f":"IF(COUNTBLANK($A$81)<>0,\"\",IF(ISERROR(VLOOKUP($A$81,'Roster LIMA'!$E$101:$AU$160,'Roster LIMA'!S$1,FALSE)),\"\",VLOOKUP($A$81,'Roster LIMA'!$E$101:$AU$160,'Roster LIMA'!S$1,FALSE)))","v":""},{"$f":"IF(COUNTBLANK($A$81)<>0,\"\",IF(ISERROR(VLOOKUP($A$81,'Roster LIMA'!$E$101:$AU$160,'Roster LIMA'!T$1,FALSE)),\"\",VLOOKUP($A$81,'Roster LIMA'!$E$101:$AU$160,'Roster LIMA'!T$1,FALSE)))","v":""},{"$f":"IF(COUNTBLANK($A$81)<>0,\"\",IF(ISERROR(VLOOKUP($A$81,'Roster LIMA'!$E$101:$AU$160,'Roster LIMA'!U$1,FALSE)),\"\",VLOOKUP($A$81,'Roster LIMA'!$E$101:$AU$160,'Roster LIMA'!U$1,FALSE)))","v":""},{"$f":"IF(COUNTBLANK($A$81)<>0,\"\",IF(ISERROR(VLOOKUP($A$81,'Roster LIMA'!$E$101:$AU$160,'Roster LIMA'!V$1,FALSE)),\"\",VLOOKUP($A$81,'Roster LIMA'!$E$101:$AU$160,'Roster LIMA'!V$1,FALSE)))","v":""},{"$f":"IF(COUNTBLANK($A$81)<>0,\"\",IF(ISERROR(VLOOKUP($A$81,'Roster LIMA'!$E$101:$AU$160,'Roster LIMA'!W$1,FALSE)),\"\",VLOOKUP($A$81,'Roster LIMA'!$E$101:$AU$160,'Roster LIMA'!W$1,FALSE)))","v":""},{"$f":"IF(COUNTBLANK($A$81)<>0,\"\",IF(ISERROR(VLOOKUP($A$81,'Roster LIMA'!$E$101:$AU$160,'Roster LIMA'!X$1,FALSE)),\"\",VLOOKUP($A$81,'Roster LIMA'!$E$101:$AU$160,'Roster LIMA'!X$1,FALSE)))","v":""},{"$f":"IF(COUNTBLANK($A$81)<>0,\"\",IF(ISERROR(VLOOKUP($A$81,'Roster LIMA'!$E$101:$AU$160,'Roster LIMA'!Y$1,FALSE)),\"\",VLOOKUP($A$81,'Roster LIMA'!$E$101:$AU$160,'Roster LIMA'!Y$1,FALSE)))","v":""},{"$f":"IF(COUNTBLANK($A$81)<>0,\"\",IF(ISERROR(VLOOKUP($A$81,'Roster LIMA'!$E$101:$AU$160,'Roster LIMA'!Z$1,FALSE)),\"\",VLOOKUP($A$81,'Roster LIMA'!$E$101:$AU$160,'Roster LIMA'!Z$1,FALSE)))","v":""},{"$f":"IF(COUNTBLANK($A$81)<>0,\"\",IF(ISERROR(VLOOKUP($A$81,'Roster LIMA'!$E$101:$AU$160,'Roster LIMA'!AA$1,FALSE)),\"\",VLOOKUP($A$81,'Roster LIMA'!$E$101:$AU$160,'Roster LIMA'!AA$1,FALSE)))","v":""},{"$f":"IF(COUNTBLANK($A$81)<>0,\"\",IF(ISERROR(VLOOKUP($A$81,'Roster LIMA'!$E$101:$AU$160,'Roster LIMA'!AB$1,FALSE)),\"\",VLOOKUP($A$81,'Roster LIMA'!$E$101:$AU$160,'Roster LIMA'!AB$1,FALSE)))","v":""},{"$f":"IF(COUNTBLANK($A$81)<>0,\"\",IF(ISERROR(VLOOKUP($A$81,'Roster LIMA'!$E$101:$AU$160,'Roster LIMA'!AC$1,FALSE)),\"\",VLOOKUP($A$81,'Roster LIMA'!$E$101:$AU$160,'Roster LIMA'!AC$1,FALSE)))","v":""},{"$f":"IF(COUNTBLANK($A$81)<>0,\"\",IF(ISERROR(VLOOKUP($A$81,'Roster LIMA'!$E$101:$AU$160,'Roster LIMA'!AD$1,FALSE)),\"\",VLOOKUP($A$81,'Roster LIMA'!$E$101:$AU$160,'Roster LIMA'!AD$1,FALSE)))","v":""},{"$f":"IF(COUNTBLANK($A$81)<>0,\"\",IF(ISERROR(VLOOKUP($A$81,'Roster LIMA'!$E$101:$AU$160,'Roster LIMA'!AE$1,FALSE)),\"\",VLOOKUP($A$81,'Roster LIMA'!$E$101:$AU$160,'Roster LIMA'!AE$1,FALSE)))","v":""},{"$f":"IF(COUNTBLANK($A$81)<>0,\"\",IF(ISERROR(VLOOKUP($A$81,'Roster LIMA'!$E$101:$AU$160,'Roster LIMA'!AF$1,FALSE)),\"\",VLOOKUP($A$81,'Roster LIMA'!$E$101:$AU$160,'Roster LIMA'!AF$1,FALSE)))","v":""},{"$f":"IF(COUNTBLANK($A$81)<>0,\"\",IF(ISERROR(VLOOKUP($A$81,'Roster LIMA'!$E$101:$AU$160,'Roster LIMA'!AG$1,FALSE)),\"\",VLOOKUP($A$81,'Roster LIMA'!$E$101:$AU$160,'Roster LIMA'!AG$1,FALSE)))","v":""},{"$f":"IF(COUNTBLANK($A$81)<>0,\"\",IF(ISERROR(VLOOKUP($A$81,'Roster LIMA'!$E$101:$AU$160,'Roster LIMA'!AH$1,FALSE)),\"\",VLOOKUP($A$81,'Roster LIMA'!$E$101:$AU$160,'Roster LIMA'!AH$1,FALSE)))","v":""},{"$f":"IF(COUNTBLANK($A$81)<>0,\"\",IF(ISERROR(VLOOKUP($A$81,'Roster LIMA'!$E$101:$AU$160,'Roster LIMA'!AI$1,FALSE)),\"\",VLOOKUP($A$81,'Roster LIMA'!$E$101:$AU$160,'Roster LIMA'!AI$1,FALSE)))","v":""},{"$f":"IF(COUNTBLANK($A$81)<>0,\"\",IF(ISERROR(VLOOKUP($A$81,'Roster LIMA'!$E$101:$AU$160,'Roster LIMA'!AJ$1,FALSE)),\"\",VLOOKUP($A$81,'Roster LIMA'!$E$101:$AU$160,'Roster LIMA'!AJ$1,FALSE)))","v":""},{"$f":"IF(COUNTBLANK($A$81)<>0,\"\",IF(ISERROR(VLOOKUP($A$81,'Roster LIMA'!$E$101:$AU$160,'Roster LIMA'!AK$1,FALSE)),\"\",VLOOKUP($A$81,'Roster LIMA'!$E$101:$AU$160,'Roster LIMA'!AK$1,FALSE)))","v":""},{"$f":"IF(COUNTBLANK($A$81)<>0,\"\",IF(ISERROR(VLOOKUP($A$81,'Roster LIMA'!$E$101:$AU$160,'Roster LIMA'!AL$1,FALSE)),\"\",VLOOKUP($A$81,'Roster LIMA'!$E$101:$AU$160,'Roster LIMA'!AL$1,FALSE)))","v":""},{"$f":"IF(COUNTBLANK($A$81)<>0,\"\",IF(ISERROR(VLOOKUP($A$81,'Roster LIMA'!$E$101:$AU$160,'Roster LIMA'!AM$1,FALSE)),\"\",VLOOKUP($A$81,'Roster LIMA'!$E$101:$AU$160,'Roster LIMA'!AM$1,FALSE)))","v":""},{"$f":"IF(COUNTBLANK($A$81)<>0,\"\",IF(ISERROR(VLOOKUP($A$81,'Roster LIMA'!$E$101:$AU$160,'Roster LIMA'!AN$1,FALSE)),\"\",VLOOKUP($A$81,'Roster LIMA'!$E$101:$AU$160,'Roster LIMA'!AN$1,FALSE)))","v":""},{"$f":"IF(COUNTBLANK($A$81)<>0,\"\",IF(ISERROR(VLOOKUP($A$81,'Roster LIMA'!$E$101:$AU$160,'Roster LIMA'!AO$1,FALSE)),\"\",VLOOKUP($A$81,'Roster LIMA'!$E$101:$AU$160,'Roster LIMA'!AO$1,FALSE)))","v":""},{"$f":"IF(COUNTBLANK($A$81)<>0,\"\",IF(ISERROR(VLOOKUP($A$81,'Roster LIMA'!$E$101:$AU$160,'Roster LIMA'!AP$1,FALSE)),\"\",VLOOKUP($A$81,'Roster LIMA'!$E$101:$AU$160,'Roster LIMA'!AP$1,FALSE)))","v":""},{"$f":"IF(COUNTBLANK($A$81)<>0,\"\",IF(ISERROR(VLOOKUP($A$81,'Roster LIMA'!$E$101:$AU$160,'Roster LIMA'!AQ$1,FALSE)),\"\",VLOOKUP($A$81,'Roster LIMA'!$E$101:$AU$160,'Roster LIMA'!AQ$1,FALSE)))","v":""},{"$f":"IF(COUNTBLANK($A$81)<>0,\"\",IF(ISERROR(VLOOKUP($A$81,'Roster LIMA'!$E$101:$AU$160,'Roster LIMA'!AR$1,FALSE)),\"\",VLOOKUP($A$81,'Roster LIMA'!$E$101:$AU$160,'Roster LIMA'!AR$1,FALSE)))","v":""}]
[1963,{"$f":"IF(COUNTBLANK($A$81)<>0,\"\",IF(ISERROR(VLOOKUP($A$81,'Roster LIMA'!$E$161:$AU$224,4,FALSE)),\"\",IF(VLOOKUP($A$81,'Roster LIMA'!$E$161:$AU$224,4,FALSE)=0,\"\",VLOOKUP($A$81,'Roster LIMA'!$E$161:$AU$224,4,FALSE))))","v":""},{"$f":"IF(COUNTBLANK($A$81)<>0,\"\",IF(ISERROR(VLOOKUP($A$81,'Roster LIMA'!$E$161:$AU$224,5,FALSE)),\"\",IF(VLOOKUP($A$81,'Roster LIMA'!$E$161:$AU$224,5,FALSE)=0,\"\",VLOOKUP($A$81,'Roster LIMA'!$E$161:$AU$224,5,FALSE))))","v":""},{"$f":"IF(COUNTBLANK($A$81)<>0,\"\",IF(ISERROR(VLOOKUP($A$81,'Roster LIMA'!$E$161:$AU$224,6,FALSE)),\"\",IF(VLOOKUP($A$81,'Roster LIMA'!$E$161:$AU$224,6,FALSE)=0,\"\",VLOOKUP($A$81,'Roster LIMA'!$E$161:$AU$224,6,FALSE))))","v":""},{"$f":"IF(COUNTBLANK($A$81)<>0,\"\",IF(ISERROR(VLOOKUP($A$81,'Roster LIMA'!$E$161:$AU$224,5,FALSE)),\"\",IF(VLOOKUP($A$81,'Roster LIMA'!$E$161:$AU$224,5,FALSE)=0,\"\",VLOOKUP($A$81,'Roster LIMA'!$E$161:$AU$224,5,FALSE))))","v":""},null,{"$f":"IF(COUNTBLANK($A$81)<>0,\"\",IF(ISERROR(VLOOKUP($A$81,'Roster LIMA'!$E$161:$AU$224,1,FALSE)),\"N/A\",IF(VLOOKUP($A$81,'Roster LIMA'!$E$161:$AU$224,1,FALSE)=0,\"\",VLOOKUP($A$81,'Roster LIMA'!$E$161:$AU$224,1,FALSE))))","v":"N/A"},null,null,null,{"$f":"IF(COUNTBLANK($A$81)<>0,\"\",IF(ISERROR(VLOOKUP($A$81,'Roster LIMA'!$E$161:$AU$224,'Roster LIMA'!I$1,FALSE)),\"\",VLOOKUP($A$81,'Roster LIMA'!$E$161:$AU$224,'Roster LIMA'!I$1,FALSE)))","v":""},{"$f":"IF(COUNTBLANK($A$81)<>0,\"\",IF(ISERROR(VLOOKUP($A$81,'Roster LIMA'!$E$161:$AU$224,'Roster LIMA'!J$1,FALSE)),\"\",VLOOKUP($A$81,'Roster LIMA'!$E$161:$AU$224,'Roster LIMA'!J$1,FALSE)))","v":""},{"$f":"IF(COUNTBLANK($A$81)<>0,\"\",IF(ISERROR(VLOOKUP($A$81,'Roster LIMA'!$E$161:$AU$224,'Roster LIMA'!K$1,FALSE)),\"\",VLOOKUP($A$81,'Roster LIMA'!$E$161:$AU$224,'Roster LIMA'!K$1,FALSE)))","v":""},{"$f":"IF(COUNTBLANK($A$81)<>0,\"\",IF(ISERROR(VLOOKUP($A$81,'Roster LIMA'!$E$161:$AU$224,'Roster LIMA'!L$1,FALSE)),\"\",VLOOKUP($A$81,'Roster LIMA'!$E$161:$AU$224,'Roster LIMA'!L$1,FALSE)))","v":""},{"$f":"IF(COUNTBLANK($A$81)<>0,\"\",IF(ISERROR(VLOOKUP($A$81,'Roster LIMA'!$E$161:$AU$224,'Roster LIMA'!M$1,FALSE)),\"\",VLOOKUP($A$81,'Roster LIMA'!$E$161:$AU$224,'Roster LIMA'!M$1,FALSE)))","v":""},{"$f":"IF(COUNTBLANK($A$81)<>0,\"\",IF(ISERROR(VLOOKUP($A$81,'Roster LIMA'!$E$161:$AU$224,'Roster LIMA'!N$1,FALSE)),\"\",VLOOKUP($A$81,'Roster LIMA'!$E$161:$AU$224,'Roster LIMA'!N$1,FALSE)))","v":""},{"$f":"IF(COUNTBLANK($A$81)<>0,\"\",IF(ISERROR(VLOOKUP($A$81,'Roster LIMA'!$E$161:$AU$224,'Roster LIMA'!O$1,FALSE)),\"\",VLOOKUP($A$81,'Roster LIMA'!$E$161:$AU$224,'Roster LIMA'!O$1,FALSE)))","v":""},{"$f":"IF(COUNTBLANK($A$81)<>0,\"\",IF(ISERROR(VLOOKUP($A$81,'Roster LIMA'!$E$161:$AU$224,'Roster LIMA'!P$1,FALSE)),\"\",VLOOKUP($A$81,'Roster LIMA'!$E$161:$AU$224,'Roster LIMA'!P$1,FALSE)))","v":""},{"$f":"IF(COUNTBLANK($A$81)<>0,\"\",IF(ISERROR(VLOOKUP($A$81,'Roster LIMA'!$E$161:$AU$224,'Roster LIMA'!Q$1,FALSE)),\"\",VLOOKUP($A$81,'Roster LIMA'!$E$161:$AU$224,'Roster LIMA'!Q$1,FALSE)))","v":""},{"$f":"IF(COUNTBLANK($A$81)<>0,\"\",IF(ISERROR(VLOOKUP($A$81,'Roster LIMA'!$E$161:$AU$224,'Roster LIMA'!R$1,FALSE)),\"\",VLOOKUP($A$81,'Roster LIMA'!$E$161:$AU$224,'Roster LIMA'!R$1,FALSE)))","v":""},{"$f":"IF(COUNTBLANK($A$81)<>0,\"\",IF(ISERROR(VLOOKUP($A$81,'Roster LIMA'!$E$161:$AU$224,'Roster LIMA'!S$1,FALSE)),\"\",VLOOKUP($A$81,'Roster LIMA'!$E$161:$AU$224,'Roster LIMA'!S$1,FALSE)))","v":""},{"$f":"IF(COUNTBLANK($A$81)<>0,\"\",IF(ISERROR(VLOOKUP($A$81,'Roster LIMA'!$E$161:$AU$224,'Roster LIMA'!T$1,FALSE)),\"\",VLOOKUP($A$81,'Roster LIMA'!$E$161:$AU$224,'Roster LIMA'!T$1,FALSE)))","v":""},{"$f":"IF(COUNTBLANK($A$81)<>0,\"\",IF(ISERROR(VLOOKUP($A$81,'Roster LIMA'!$E$161:$AU$224,'Roster LIMA'!U$1,FALSE)),\"\",VLOOKUP($A$81,'Roster LIMA'!$E$161:$AU$224,'Roster LIMA'!U$1,FALSE)))","v":""},{"$f":"IF(COUNTBLANK($A$81)<>0,\"\",IF(ISERROR(VLOOKUP($A$81,'Roster LIMA'!$E$161:$AU$224,'Roster LIMA'!V$1,FALSE)),\"\",VLOOKUP($A$81,'Roster LIMA'!$E$161:$AU$224,'Roster LIMA'!V$1,FALSE)))","v":""},{"$f":"IF(COUNTBLANK($A$81)<>0,\"\",IF(ISERROR(VLOOKUP($A$81,'Roster LIMA'!$E$161:$AU$224,'Roster LIMA'!W$1,FALSE)),\"\",VLOOKUP($A$81,'Roster LIMA'!$E$161:$AU$224,'Roster LIMA'!W$1,FALSE)))","v":""},{"$f":"IF(COUNTBLANK($A$81)<>0,\"\",IF(ISERROR(VLOOKUP($A$81,'Roster LIMA'!$E$161:$AU$224,'Roster LIMA'!X$1,FALSE)),\"\",VLOOKUP($A$81,'Roster LIMA'!$E$161:$AU$224,'Roster LIMA'!X$1,FALSE)))","v":""},{"$f":"IF(COUNTBLANK($A$81)<>0,\"\",IF(ISERROR(VLOOKUP($A$81,'Roster LIMA'!$E$161:$AU$224,'Roster LIMA'!Y$1,FALSE)),\"\",VLOOKUP($A$81,'Roster LIMA'!$E$161:$AU$224,'Roster LIMA'!Y$1,FALSE)))","v":""},{"$f":"IF(COUNTBLANK($A$81)<>0,\"\",IF(ISERROR(VLOOKUP($A$81,'Roster LIMA'!$E$161:$AU$224,'Roster LIMA'!Z$1,FALSE)),\"\",VLOOKUP($A$81,'Roster LIMA'!$E$161:$AU$224,'Roster LIMA'!Z$1,FALSE)))","v":""},{"$f":"IF(COUNTBLANK($A$81)<>0,\"\",IF(ISERROR(VLOOKUP($A$81,'Roster LIMA'!$E$161:$AU$224,'Roster LIMA'!AA$1,FALSE)),\"\",VLOOKUP($A$81,'Roster LIMA'!$E$161:$AU$224,'Roster LIMA'!AA$1,FALSE)))","v":""},{"$f":"IF(COUNTBLANK($A$81)<>0,\"\",IF(ISERROR(VLOOKUP($A$81,'Roster LIMA'!$E$161:$AU$224,'Roster LIMA'!AB$1,FALSE)),\"\",VLOOKUP($A$81,'Roster LIMA'!$E$161:$AU$224,'Roster LIMA'!AB$1,FALSE)))","v":""},{"$f":"IF(COUNTBLANK($A$81)<>0,\"\",IF(ISERROR(VLOOKUP($A$81,'Roster LIMA'!$E$161:$AU$224,'Roster LIMA'!AC$1,FALSE)),\"\",VLOOKUP($A$81,'Roster LIMA'!$E$161:$AU$224,'Roster LIMA'!AC$1,FALSE)))","v":""},{"$f":"IF(COUNTBLANK($A$81)<>0,\"\",IF(ISERROR(VLOOKUP($A$81,'Roster LIMA'!$E$161:$AU$224,'Roster LIMA'!AD$1,FALSE)),\"\",VLOOKUP($A$81,'Roster LIMA'!$E$161:$AU$224,'Roster LIMA'!AD$1,FALSE)))","v":""},{"$f":"IF(COUNTBLANK($A$81)<>0,\"\",IF(ISERROR(VLOOKUP($A$81,'Roster LIMA'!$E$161:$AU$224,'Roster LIMA'!AE$1,FALSE)),\"\",VLOOKUP($A$81,'Roster LIMA'!$E$161:$AU$224,'Roster LIMA'!AE$1,FALSE)))","v":""},{"$f":"IF(COUNTBLANK($A$81)<>0,\"\",IF(ISERROR(VLOOKUP($A$81,'Roster LIMA'!$E$161:$AU$224,'Roster LIMA'!AF$1,FALSE)),\"\",VLOOKUP($A$81,'Roster LIMA'!$E$161:$AU$224,'Roster LIMA'!AF$1,FALSE)))","v":""},{"$f":"IF(COUNTBLANK($A$81)<>0,\"\",IF(ISERROR(VLOOKUP($A$81,'Roster LIMA'!$E$161:$AU$224,'Roster LIMA'!AG$1,FALSE)),\"\",VLOOKUP($A$81,'Roster LIMA'!$E$161:$AU$224,'Roster LIMA'!AG$1,FALSE)))","v":""},{"$f":"IF(COUNTBLANK($A$81)<>0,\"\",IF(ISERROR(VLOOKUP($A$81,'Roster LIMA'!$E$161:$AU$224,'Roster LIMA'!AH$1,FALSE)),\"\",VLOOKUP($A$81,'Roster LIMA'!$E$161:$AU$224,'Roster LIMA'!AH$1,FALSE)))","v":""},{"$f":"IF(COUNTBLANK($A$81)<>0,\"\",IF(ISERROR(VLOOKUP($A$81,'Roster LIMA'!$E$161:$AU$224,'Roster LIMA'!AI$1,FALSE)),\"\",VLOOKUP($A$81,'Roster LIMA'!$E$161:$AU$224,'Roster LIMA'!AI$1,FALSE)))","v":""},{"$f":"IF(COUNTBLANK($A$81)<>0,\"\",IF(ISERROR(VLOOKUP($A$81,'Roster LIMA'!$E$161:$AU$224,'Roster LIMA'!AJ$1,FALSE)),\"\",VLOOKUP($A$81,'Roster LIMA'!$E$161:$AU$224,'Roster LIMA'!AJ$1,FALSE)))","v":""},{"$f":"IF(COUNTBLANK($A$81)<>0,\"\",IF(ISERROR(VLOOKUP($A$81,'Roster LIMA'!$E$161:$AU$224,'Roster LIMA'!AK$1,FALSE)),\"\",VLOOKUP($A$81,'Roster LIMA'!$E$161:$AU$224,'Roster LIMA'!AK$1,FALSE)))","v":""},{"$f":"IF(COUNTBLANK($A$81)<>0,\"\",IF(ISERROR(VLOOKUP($A$81,'Roster LIMA'!$E$161:$AU$224,'Roster LIMA'!AL$1,FALSE)),\"\",VLOOKUP($A$81,'Roster LIMA'!$E$161:$AU$224,'Roster LIMA'!AL$1,FALSE)))","v":""},{"$f":"IF(COUNTBLANK($A$81)<>0,\"\",IF(ISERROR(VLOOKUP($A$81,'Roster LIMA'!$E$161:$AU$224,'Roster LIMA'!AM$1,FALSE)),\"\",VLOOKUP($A$81,'Roster LIMA'!$E$161:$AU$224,'Roster LIMA'!AM$1,FALSE)))","v":""},{"$f":"IF(COUNTBLANK($A$81)<>0,\"\",IF(ISERROR(VLOOKUP($A$81,'Roster LIMA'!$E$161:$AU$224,'Roster LIMA'!AN$1,FALSE)),\"\",VLOOKUP($A$81,'Roster LIMA'!$E$161:$AU$224,'Roster LIMA'!AN$1,FALSE)))","v":""},{"$f":"IF(COUNTBLANK($A$81)<>0,\"\",IF(ISERROR(VLOOKUP($A$81,'Roster LIMA'!$E$161:$AU$224,'Roster LIMA'!AO$1,FALSE)),\"\",VLOOKUP($A$81,'Roster LIMA'!$E$161:$AU$224,'Roster LIMA'!AO$1,FALSE)))","v":""},{"$f":"IF(COUNTBLANK($A$81)<>0,\"\",IF(ISERROR(VLOOKUP($A$81,'Roster LIMA'!$E$161:$AU$224,'Roster LIMA'!AP$1,FALSE)),\"\",VLOOKUP($A$81,'Roster LIMA'!$E$161:$AU$224,'Roster LIMA'!AP$1,FALSE)))","v":""},{"$f":"IF(COUNTBLANK($A$81)<>0,\"\",IF(ISERROR(VLOOKUP($A$81,'Roster LIMA'!$E$161:$AU$224,'Roster LIMA'!AQ$1,FALSE)),\"\",VLOOKUP($A$81,'Roster LIMA'!$E$161:$AU$224,'Roster LIMA'!AQ$1,FALSE)))","v":""},{"$f":"IF(COUNTBLANK($A$81)<>0,\"\",IF(ISERROR(VLOOKUP($A$81,'Roster LIMA'!$E$161:$AU$224,'Roster LIMA'!AR$1,FALSE)),\"\",VLOOKUP($A$81,'Roster LIMA'!$E$161:$AU$224,'Roster LIMA'!AR$1,FALSE)))","v":""}]
["1964-65",{"$f":"IF(COUNTBLANK($A$81)<>0,\"\",IF(ISERROR(VLOOKUP($A$81,'Roster LIMA'!$E$225:$AU$303,4,FALSE)),\"\",IF(VLOOKUP($A$81,'Roster LIMA'!$E$225:$AU$303,4,FALSE)=0,\"\",VLOOKUP($A$81,'Roster LIMA'!$E$225:$AU$303,4,FALSE))))","v":""},{"$f":"IF(COUNTBLANK($A$81)<>0,\"\",IF(ISERROR(VLOOKUP($A$81,'Roster LIMA'!$E$225:$AU$303,5,FALSE)),\"\",IF(VLOOKUP($A$81,'Roster LIMA'!$E$225:$AU$303,5,FALSE)=0,\"\",VLOOKUP($A$81,'Roster LIMA'!$E$225:$AU$303,5,FALSE))))","v":""},{"$f":"IF(COUNTBLANK($A$81)<>0,\"\",IF(ISERROR(VLOOKUP($A$81,'Roster LIMA'!$E$225:$AU$303,6,FALSE)),\"\",IF(VLOOKUP($A$81,'Roster LIMA'!$E$225:$AU$303,6,FALSE)=0,\"\",VLOOKUP($A$81,'Roster LIMA'!$E$225:$AU$303,6,FALSE))))","v":""},{"$f":"IF(COUNTBLANK($A$81)<>0,\"\",IF(ISERROR(VLOOKUP($A$81,'Roster LIMA'!$E$225:$AU$303,5,FALSE)),\"\",IF(VLOOKUP($A$81,'Roster LIMA'!$E$225:$AU$303,5,FALSE)=0,\"\",VLOOKUP($A$81,'Roster LIMA'!$E$225:$AU$303,5,FALSE))))","v":""},null,{"$f":"IF(COUNTBLANK($A$81)<>0,\"\",IF(ISERROR(VLOOKUP($A$81,'Roster LIMA'!$E$225:$AU$303,1,FALSE)),\"N/A\",IF(VLOOKUP($A$81,'Roster LIMA'!$E$225:$AU$303,1,FALSE)=0,\"\",VLOOKUP($A$81,'Roster LIMA'!$E$225:$AU$303,1,FALSE))))","v":"N/A"},null,null,null,{"$f":"IF(COUNTBLANK($A$81)<>0,\"\",IF(ISERROR(VLOOKUP($A$81,'Roster LIMA'!$E$225:$AU$303,'Roster LIMA'!I$1,FALSE)),\"\",VLOOKUP($A$81,'Roster LIMA'!$E$225:$AU$303,'Roster LIMA'!I$1,FALSE)))","v":""},{"$f":"IF(COUNTBLANK($A$81)<>0,\"\",IF(ISERROR(VLOOKUP($A$81,'Roster LIMA'!$E$225:$AU$303,'Roster LIMA'!J$1,FALSE)),\"\",VLOOKUP($A$81,'Roster LIMA'!$E$225:$AU$303,'Roster LIMA'!J$1,FALSE)))","v":""},{"$f":"IF(COUNTBLANK($A$81)<>0,\"\",IF(ISERROR(VLOOKUP($A$81,'Roster LIMA'!$E$225:$AU$303,'Roster LIMA'!K$1,FALSE)),\"\",VLOOKUP($A$81,'Roster LIMA'!$E$225:$AU$303,'Roster LIMA'!K$1,FALSE)))","v":""},{"$f":"IF(COUNTBLANK($A$81)<>0,\"\",IF(ISERROR(VLOOKUP($A$81,'Roster LIMA'!$E$225:$AU$303,'Roster LIMA'!L$1,FALSE)),\"\",VLOOKUP($A$81,'Roster LIMA'!$E$225:$AU$303,'Roster LIMA'!L$1,FALSE)))","v":""},{"$f":"IF(COUNTBLANK($A$81)<>0,\"\",IF(ISERROR(VLOOKUP($A$81,'Roster LIMA'!$E$225:$AU$303,'Roster LIMA'!M$1,FALSE)),\"\",VLOOKUP($A$81,'Roster LIMA'!$E$225:$AU$303,'Roster LIMA'!M$1,FALSE)))","v":""},{"$f":"IF(COUNTBLANK($A$81)<>0,\"\",IF(ISERROR(VLOOKUP($A$81,'Roster LIMA'!$E$225:$AU$303,'Roster LIMA'!N$1,FALSE)),\"\",VLOOKUP($A$81,'Roster LIMA'!$E$225:$AU$303,'Roster LIMA'!N$1,FALSE)))","v":""},{"$f":"IF(COUNTBLANK($A$81)<>0,\"\",IF(ISERROR(VLOOKUP($A$81,'Roster LIMA'!$E$225:$AU$303,'Roster LIMA'!O$1,FALSE)),\"\",VLOOKUP($A$81,'Roster LIMA'!$E$225:$AU$303,'Roster LIMA'!O$1,FALSE)))","v":""},{"$f":"IF(COUNTBLANK($A$81)<>0,\"\",IF(ISERROR(VLOOKUP($A$81,'Roster LIMA'!$E$225:$AU$303,'Roster LIMA'!P$1,FALSE)),\"\",VLOOKUP($A$81,'Roster LIMA'!$E$225:$AU$303,'Roster LIMA'!P$1,FALSE)))","v":""},{"$f":"IF(COUNTBLANK($A$81)<>0,\"\",IF(ISERROR(VLOOKUP($A$81,'Roster LIMA'!$E$225:$AU$303,'Roster LIMA'!Q$1,FALSE)),\"\",VLOOKUP($A$81,'Roster LIMA'!$E$225:$AU$303,'Roster LIMA'!Q$1,FALSE)))","v":""},{"$f":"IF(COUNTBLANK($A$81)<>0,\"\",IF(ISERROR(VLOOKUP($A$81,'Roster LIMA'!$E$225:$AU$303,'Roster LIMA'!R$1,FALSE)),\"\",VLOOKUP($A$81,'Roster LIMA'!$E$225:$AU$303,'Roster LIMA'!R$1,FALSE)))","v":""},{"$f":"IF(COUNTBLANK($A$81)<>0,\"\",IF(ISERROR(VLOOKUP($A$81,'Roster LIMA'!$E$225:$AU$303,'Roster LIMA'!S$1,FALSE)),\"\",VLOOKUP($A$81,'Roster LIMA'!$E$225:$AU$303,'Roster LIMA'!S$1,FALSE)))","v":""},{"$f":"IF(COUNTBLANK($A$81)<>0,\"\",IF(ISERROR(VLOOKUP($A$81,'Roster LIMA'!$E$225:$AU$303,'Roster LIMA'!T$1,FALSE)),\"\",VLOOKUP($A$81,'Roster LIMA'!$E$225:$AU$303,'Roster LIMA'!T$1,FALSE)))","v":""},{"$f":"IF(COUNTBLANK($A$81)<>0,\"\",IF(ISERROR(VLOOKUP($A$81,'Roster LIMA'!$E$225:$AU$303,'Roster LIMA'!U$1,FALSE)),\"\",VLOOKUP($A$81,'Roster LIMA'!$E$225:$AU$303,'Roster LIMA'!U$1,FALSE)))","v":""},{"$f":"IF(COUNTBLANK($A$81)<>0,\"\",IF(ISERROR(VLOOKUP($A$81,'Roster LIMA'!$E$225:$AU$303,'Roster LIMA'!V$1,FALSE)),\"\",VLOOKUP($A$81,'Roster LIMA'!$E$225:$AU$303,'Roster LIMA'!V$1,FALSE)))","v":""},{"$f":"IF(COUNTBLANK($A$81)<>0,\"\",IF(ISERROR(VLOOKUP($A$81,'Roster LIMA'!$E$225:$AU$303,'Roster LIMA'!W$1,FALSE)),\"\",VLOOKUP($A$81,'Roster LIMA'!$E$225:$AU$303,'Roster LIMA'!W$1,FALSE)))","v":""},{"$f":"IF(COUNTBLANK($A$81)<>0,\"\",IF(ISERROR(VLOOKUP($A$81,'Roster LIMA'!$E$225:$AU$303,'Roster LIMA'!X$1,FALSE)),\"\",VLOOKUP($A$81,'Roster LIMA'!$E$225:$AU$303,'Roster LIMA'!X$1,FALSE)))","v":""},{"$f":"IF(COUNTBLANK($A$81)<>0,\"\",IF(ISERROR(VLOOKUP($A$81,'Roster LIMA'!$E$225:$AU$303,'Roster LIMA'!Y$1,FALSE)),\"\",VLOOKUP($A$81,'Roster LIMA'!$E$225:$AU$303,'Roster LIMA'!Y$1,FALSE)))","v":""},{"$f":"IF(COUNTBLANK($A$81)<>0,\"\",IF(ISERROR(VLOOKUP($A$81,'Roster LIMA'!$E$225:$AU$303,'Roster LIMA'!Z$1,FALSE)),\"\",VLOOKUP($A$81,'Roster LIMA'!$E$225:$AU$303,'Roster LIMA'!Z$1,FALSE)))","v":""},{"$f":"IF(COUNTBLANK($A$81)<>0,\"\",IF(ISERROR(VLOOKUP($A$81,'Roster LIMA'!$E$225:$AU$303,'Roster LIMA'!AA$1,FALSE)),\"\",VLOOKUP($A$81,'Roster LIMA'!$E$225:$AU$303,'Roster LIMA'!AA$1,FALSE)))","v":""},{"$f":"IF(COUNTBLANK($A$81)<>0,\"\",IF(ISERROR(VLOOKUP($A$81,'Roster LIMA'!$E$225:$AU$303,'Roster LIMA'!AB$1,FALSE)),\"\",VLOOKUP($A$81,'Roster LIMA'!$E$225:$AU$303,'Roster LIMA'!AB$1,FALSE)))","v":""},{"$f":"IF(COUNTBLANK($A$81)<>0,\"\",IF(ISERROR(VLOOKUP($A$81,'Roster LIMA'!$E$225:$AU$303,'Roster LIMA'!AC$1,FALSE)),\"\",VLOOKUP($A$81,'Roster LIMA'!$E$225:$AU$303,'Roster LIMA'!AC$1,FALSE)))","v":""},{"$f":"IF(COUNTBLANK($A$81)<>0,\"\",IF(ISERROR(VLOOKUP($A$81,'Roster LIMA'!$E$225:$AU$303,'Roster LIMA'!AD$1,FALSE)),\"\",VLOOKUP($A$81,'Roster LIMA'!$E$225:$AU$303,'Roster LIMA'!AD$1,FALSE)))","v":""},{"$f":"IF(COUNTBLANK($A$81)<>0,\"\",IF(ISERROR(VLOOKUP($A$81,'Roster LIMA'!$E$225:$AU$303,'Roster LIMA'!AE$1,FALSE)),\"\",VLOOKUP($A$81,'Roster LIMA'!$E$225:$AU$303,'Roster LIMA'!AE$1,FALSE)))","v":""},{"$f":"IF(COUNTBLANK($A$81)<>0,\"\",IF(ISERROR(VLOOKUP($A$81,'Roster LIMA'!$E$225:$AU$303,'Roster LIMA'!AF$1,FALSE)),\"\",VLOOKUP($A$81,'Roster LIMA'!$E$225:$AU$303,'Roster LIMA'!AF$1,FALSE)))","v":""},{"$f":"IF(COUNTBLANK($A$81)<>0,\"\",IF(ISERROR(VLOOKUP($A$81,'Roster LIMA'!$E$225:$AU$303,'Roster LIMA'!AG$1,FALSE)),\"\",VLOOKUP($A$81,'Roster LIMA'!$E$225:$AU$303,'Roster LIMA'!AG$1,FALSE)))","v":""},{"$f":"IF(COUNTBLANK($A$81)<>0,\"\",IF(ISERROR(VLOOKUP($A$81,'Roster LIMA'!$E$225:$AU$303,'Roster LIMA'!AH$1,FALSE)),\"\",VLOOKUP($A$81,'Roster LIMA'!$E$225:$AU$303,'Roster LIMA'!AH$1,FALSE)))","v":""},{"$f":"IF(COUNTBLANK($A$81)<>0,\"\",IF(ISERROR(VLOOKUP($A$81,'Roster LIMA'!$E$225:$AU$303,'Roster LIMA'!AI$1,FALSE)),\"\",VLOOKUP($A$81,'Roster LIMA'!$E$225:$AU$303,'Roster LIMA'!AI$1,FALSE)))","v":""},{"$f":"IF(COUNTBLANK($A$81)<>0,\"\",IF(ISERROR(VLOOKUP($A$81,'Roster LIMA'!$E$225:$AU$303,'Roster LIMA'!AJ$1,FALSE)),\"\",VLOOKUP($A$81,'Roster LIMA'!$E$225:$AU$303,'Roster LIMA'!AJ$1,FALSE)))","v":""},{"$f":"IF(COUNTBLANK($A$81)<>0,\"\",IF(ISERROR(VLOOKUP($A$81,'Roster LIMA'!$E$225:$AU$303,'Roster LIMA'!AK$1,FALSE)),\"\",VLOOKUP($A$81,'Roster LIMA'!$E$225:$AU$303,'Roster LIMA'!AK$1,FALSE)))","v":""},{"$f":"IF(COUNTBLANK($A$81)<>0,\"\",IF(ISERROR(VLOOKUP($A$81,'Roster LIMA'!$E$225:$AU$303,'Roster LIMA'!AL$1,FALSE)),\"\",VLOOKUP($A$81,'Roster LIMA'!$E$225:$AU$303,'Roster LIMA'!AL$1,FALSE)))","v":""},{"$f":"IF(COUNTBLANK($A$81)<>0,\"\",IF(ISERROR(VLOOKUP($A$81,'Roster LIMA'!$E$225:$AU$303,'Roster LIMA'!AM$1,FALSE)),\"\",VLOOKUP($A$81,'Roster LIMA'!$E$225:$AU$303,'Roster LIMA'!AM$1,FALSE)))","v":""},{"$f":"IF(COUNTBLANK($A$81)<>0,\"\",IF(ISERROR(VLOOKUP($A$81,'Roster LIMA'!$E$225:$AU$303,'Roster LIMA'!AN$1,FALSE)),\"\",VLOOKUP($A$81,'Roster LIMA'!$E$225:$AU$303,'Roster LIMA'!AN$1,FALSE)))","v":""},{"$f":"IF(COUNTBLANK($A$81)<>0,\"\",IF(ISERROR(VLOOKUP($A$81,'Roster LIMA'!$E$225:$AU$303,'Roster LIMA'!AO$1,FALSE)),\"\",VLOOKUP($A$81,'Roster LIMA'!$E$225:$AU$303,'Roster LIMA'!AO$1,FALSE)))","v":""},{"$f":"IF(COUNTBLANK($A$81)<>0,\"\",IF(ISERROR(VLOOKUP($A$81,'Roster LIMA'!$E$225:$AU$303,'Roster LIMA'!AP$1,FALSE)),\"\",VLOOKUP($A$81,'Roster LIMA'!$E$225:$AU$303,'Roster LIMA'!AP$1,FALSE)))","v":""},{"$f":"IF(COUNTBLANK($A$81)<>0,\"\",IF(ISERROR(VLOOKUP($A$81,'Roster LIMA'!$E$225:$AU$303,'Roster LIMA'!AQ$1,FALSE)),\"\",VLOOKUP($A$81,'Roster LIMA'!$E$225:$AU$303,'Roster LIMA'!AQ$1,FALSE)))","v":""},{"$f":"IF(COUNTBLANK($A$81)<>0,\"\",IF(ISERROR(VLOOKUP($A$81,'Roster LIMA'!$E$225:$AU$303,'Roster LIMA'!AR$1,FALSE)),\"\",VLOOKUP($A$81,'Roster LIMA'!$E$225:$AU$303,'Roster LIMA'!AR$1,FALSE)))","v":""}]
["1965-66",{"$f":"IF(COUNTBLANK($A$81)<>0,\"\",IF(ISERROR(VLOOKUP($A$81,'Roster LIMA'!$E$304:$AU$371,4,FALSE)),\"\",IF(VLOOKUP($A$81,'Roster LIMA'!$E$304:$AU$371,4,FALSE)=0,\"\",VLOOKUP($A$81,'Roster LIMA'!$E$304:$AU$371,4,FALSE))))","v":""},{"$f":"IF(COUNTBLANK($A$81)<>0,\"\",IF(ISERROR(VLOOKUP($A$81,'Roster LIMA'!$E$304:$AU$371,5,FALSE)),\"\",IF(VLOOKUP($A$81,'Roster LIMA'!$E$304:$AU$371,5,FALSE)=0,\"\",VLOOKUP($A$81,'Roster LIMA'!$E$304:$AU$371,5,FALSE))))","v":""},{"$f":"IF(COUNTBLANK($A$81)<>0,\"\",IF(ISERROR(VLOOKUP($A$81,'Roster LIMA'!$E$304:$AU$371,6,FALSE)),\"\",IF(VLOOKUP($A$81,'Roster LIMA'!$E$304:$AU$371,6,FALSE)=0,\"\",VLOOKUP($A$81,'Roster LIMA'!$E$304:$AU$371,6,FALSE))))","v":""},{"$f":"IF(COUNTBLANK($A$81)<>0,\"\",IF(ISERROR(VLOOKUP($A$81,'Roster LIMA'!$E$304:$AU$371,5,FALSE)),\"\",IF(VLOOKUP($A$81,'Roster LIMA'!$E$304:$AU$371,5,FALSE)=0,\"\",VLOOKUP($A$81,'Roster LIMA'!$E$304:$AU$371,5,FALSE))))","v":""},null,{"$f":"IF(COUNTBLANK($A$81)<>0,\"\",IF(ISERROR(VLOOKUP($A$81,'Roster LIMA'!$E$304:$AU$371,1,FALSE)),\"N/A\",IF(VLOOKUP($A$81,'Roster LIMA'!$E$304:$AU$371,1,FALSE)=0,\"\",VLOOKUP($A$81,'Roster LIMA'!$E$304:$AU$371,1,FALSE))))","v":"N/A"},null,null,null,{"$f":"IF(COUNTBLANK($A$81)<>0,\"\",IF(ISERROR(VLOOKUP($A$81,'Roster LIMA'!$E$304:$AU$371,'Roster LIMA'!I$1,FALSE)),\"\",VLOOKUP($A$81,'Roster LIMA'!$E$304:$AU$371,'Roster LIMA'!I$1,FALSE)))","v":""},{"$f":"IF(COUNTBLANK($A$81)<>0,\"\",IF(ISERROR(VLOOKUP($A$81,'Roster LIMA'!$E$304:$AU$371,'Roster LIMA'!J$1,FALSE)),\"\",VLOOKUP($A$81,'Roster LIMA'!$E$304:$AU$371,'Roster LIMA'!J$1,FALSE)))","v":""},{"$f":"IF(COUNTBLANK($A$81)<>0,\"\",IF(ISERROR(VLOOKUP($A$81,'Roster LIMA'!$E$304:$AU$371,'Roster LIMA'!K$1,FALSE)),\"\",VLOOKUP($A$81,'Roster LIMA'!$E$304:$AU$371,'Roster LIMA'!K$1,FALSE)))","v":""},{"$f":"IF(COUNTBLANK($A$81)<>0,\"\",IF(ISERROR(VLOOKUP($A$81,'Roster LIMA'!$E$304:$AU$371,'Roster LIMA'!L$1,FALSE)),\"\",VLOOKUP($A$81,'Roster LIMA'!$E$304:$AU$371,'Roster LIMA'!L$1,FALSE)))","v":""},{"$f":"IF(COUNTBLANK($A$81)<>0,\"\",IF(ISERROR(VLOOKUP($A$81,'Roster LIMA'!$E$304:$AU$371,'Roster LIMA'!M$1,FALSE)),\"\",VLOOKUP($A$81,'Roster LIMA'!$E$304:$AU$371,'Roster LIMA'!M$1,FALSE)))","v":""},{"$f":"IF(COUNTBLANK($A$81)<>0,\"\",IF(ISERROR(VLOOKUP($A$81,'Roster LIMA'!$E$304:$AU$371,'Roster LIMA'!N$1,FALSE)),\"\",VLOOKUP($A$81,'Roster LIMA'!$E$304:$AU$371,'Roster LIMA'!N$1,FALSE)))","v":""},{"$f":"IF(COUNTBLANK($A$81)<>0,\"\",IF(ISERROR(VLOOKUP($A$81,'Roster LIMA'!$E$304:$AU$371,'Roster LIMA'!O$1,FALSE)),\"\",VLOOKUP($A$81,'Roster LIMA'!$E$304:$AU$371,'Roster LIMA'!O$1,FALSE)))","v":""},{"$f":"IF(COUNTBLANK($A$81)<>0,\"\",IF(ISERROR(VLOOKUP($A$81,'Roster LIMA'!$E$304:$AU$371,'Roster LIMA'!P$1,FALSE)),\"\",VLOOKUP($A$81,'Roster LIMA'!$E$304:$AU$371,'Roster LIMA'!P$1,FALSE)))","v":""},{"$f":"IF(COUNTBLANK($A$81)<>0,\"\",IF(ISERROR(VLOOKUP($A$81,'Roster LIMA'!$E$304:$AU$371,'Roster LIMA'!Q$1,FALSE)),\"\",VLOOKUP($A$81,'Roster LIMA'!$E$304:$AU$371,'Roster LIMA'!Q$1,FALSE)))","v":""},{"$f":"IF(COUNTBLANK($A$81)<>0,\"\",IF(ISERROR(VLOOKUP($A$81,'Roster LIMA'!$E$304:$AU$371,'Roster LIMA'!R$1,FALSE)),\"\",VLOOKUP($A$81,'Roster LIMA'!$E$304:$AU$371,'Roster LIMA'!R$1,FALSE)))","v":""},{"$f":"IF(COUNTBLANK($A$81)<>0,\"\",IF(ISERROR(VLOOKUP($A$81,'Roster LIMA'!$E$304:$AU$371,'Roster LIMA'!S$1,FALSE)),\"\",VLOOKUP($A$81,'Roster LIMA'!$E$304:$AU$371,'Roster LIMA'!S$1,FALSE)))","v":""},{"$f":"IF(COUNTBLANK($A$81)<>0,\"\",IF(ISERROR(VLOOKUP($A$81,'Roster LIMA'!$E$304:$AU$371,'Roster LIMA'!T$1,FALSE)),\"\",VLOOKUP($A$81,'Roster LIMA'!$E$304:$AU$371,'Roster LIMA'!T$1,FALSE)))","v":""},{"$f":"IF(COUNTBLANK($A$81)<>0,\"\",IF(ISERROR(VLOOKUP($A$81,'Roster LIMA'!$E$304:$AU$371,'Roster LIMA'!U$1,FALSE)),\"\",VLOOKUP($A$81,'Roster LIMA'!$E$304:$AU$371,'Roster LIMA'!U$1,FALSE)))","v":""},{"$f":"IF(COUNTBLANK($A$81)<>0,\"\",IF(ISERROR(VLOOKUP($A$81,'Roster LIMA'!$E$304:$AU$371,'Roster LIMA'!V$1,FALSE)),\"\",VLOOKUP($A$81,'Roster LIMA'!$E$304:$AU$371,'Roster LIMA'!V$1,FALSE)))","v":""},{"$f":"IF(COUNTBLANK($A$81)<>0,\"\",IF(ISERROR(VLOOKUP($A$81,'Roster LIMA'!$E$304:$AU$371,'Roster LIMA'!W$1,FALSE)),\"\",VLOOKUP($A$81,'Roster LIMA'!$E$304:$AU$371,'Roster LIMA'!W$1,FALSE)))","v":""},{"$f":"IF(COUNTBLANK($A$81)<>0,\"\",IF(ISERROR(VLOOKUP($A$81,'Roster LIMA'!$E$304:$AU$371,'Roster LIMA'!X$1,FALSE)),\"\",VLOOKUP($A$81,'Roster LIMA'!$E$304:$AU$371,'Roster LIMA'!X$1,FALSE)))","v":""},{"$f":"IF(COUNTBLANK($A$81)<>0,\"\",IF(ISERROR(VLOOKUP($A$81,'Roster LIMA'!$E$304:$AU$371,'Roster LIMA'!Y$1,FALSE)),\"\",VLOOKUP($A$81,'Roster LIMA'!$E$304:$AU$371,'Roster LIMA'!Y$1,FALSE)))","v":""},{"$f":"IF(COUNTBLANK($A$81)<>0,\"\",IF(ISERROR(VLOOKUP($A$81,'Roster LIMA'!$E$304:$AU$371,'Roster LIMA'!Z$1,FALSE)),\"\",VLOOKUP($A$81,'Roster LIMA'!$E$304:$AU$371,'Roster LIMA'!Z$1,FALSE)))","v":""},{"$f":"IF(COUNTBLANK($A$81)<>0,\"\",IF(ISERROR(VLOOKUP($A$81,'Roster LIMA'!$E$304:$AU$371,'Roster LIMA'!AA$1,FALSE)),\"\",VLOOKUP($A$81,'Roster LIMA'!$E$304:$AU$371,'Roster LIMA'!AA$1,FALSE)))","v":""},{"$f":"IF(COUNTBLANK($A$81)<>0,\"\",IF(ISERROR(VLOOKUP($A$81,'Roster LIMA'!$E$304:$AU$371,'Roster LIMA'!AB$1,FALSE)),\"\",VLOOKUP($A$81,'Roster LIMA'!$E$304:$AU$371,'Roster LIMA'!AB$1,FALSE)))","v":""},{"$f":"IF(COUNTBLANK($A$81)<>0,\"\",IF(ISERROR(VLOOKUP($A$81,'Roster LIMA'!$E$304:$AU$371,'Roster LIMA'!AC$1,FALSE)),\"\",VLOOKUP($A$81,'Roster LIMA'!$E$304:$AU$371,'Roster LIMA'!AC$1,FALSE)))","v":""},{"$f":"IF(COUNTBLANK($A$81)<>0,\"\",IF(ISERROR(VLOOKUP($A$81,'Roster LIMA'!$E$304:$AU$371,'Roster LIMA'!AD$1,FALSE)),\"\",VLOOKUP($A$81,'Roster LIMA'!$E$304:$AU$371,'Roster LIMA'!AD$1,FALSE)))","v":""},{"$f":"IF(COUNTBLANK($A$81)<>0,\"\",IF(ISERROR(VLOOKUP($A$81,'Roster LIMA'!$E$304:$AU$371,'Roster LIMA'!AE$1,FALSE)),\"\",VLOOKUP($A$81,'Roster LIMA'!$E$304:$AU$371,'Roster LIMA'!AE$1,FALSE)))","v":""},{"$f":"IF(COUNTBLANK($A$81)<>0,\"\",IF(ISERROR(VLOOKUP($A$81,'Roster LIMA'!$E$304:$AU$371,'Roster LIMA'!AF$1,FALSE)),\"\",VLOOKUP($A$81,'Roster LIMA'!$E$304:$AU$371,'Roster LIMA'!AF$1,FALSE)))","v":""},{"$f":"IF(COUNTBLANK($A$81)<>0,\"\",IF(ISERROR(VLOOKUP($A$81,'Roster LIMA'!$E$304:$AU$371,'Roster LIMA'!AG$1,FALSE)),\"\",VLOOKUP($A$81,'Roster LIMA'!$E$304:$AU$371,'Roster LIMA'!AG$1,FALSE)))","v":""},{"$f":"IF(COUNTBLANK($A$81)<>0,\"\",IF(ISERROR(VLOOKUP($A$81,'Roster LIMA'!$E$304:$AU$371,'Roster LIMA'!AH$1,FALSE)),\"\",VLOOKUP($A$81,'Roster LIMA'!$E$304:$AU$371,'Roster LIMA'!AH$1,FALSE)))","v":""},{"$f":"IF(COUNTBLANK($A$81)<>0,\"\",IF(ISERROR(VLOOKUP($A$81,'Roster LIMA'!$E$304:$AU$371,'Roster LIMA'!AI$1,FALSE)),\"\",VLOOKUP($A$81,'Roster LIMA'!$E$304:$AU$371,'Roster LIMA'!AI$1,FALSE)))","v":""},{"$f":"IF(COUNTBLANK($A$81)<>0,\"\",IF(ISERROR(VLOOKUP($A$81,'Roster LIMA'!$E$304:$AU$371,'Roster LIMA'!AJ$1,FALSE)),\"\",VLOOKUP($A$81,'Roster LIMA'!$E$304:$AU$371,'Roster LIMA'!AJ$1,FALSE)))","v":""},{"$f":"IF(COUNTBLANK($A$81)<>0,\"\",IF(ISERROR(VLOOKUP($A$81,'Roster LIMA'!$E$304:$AU$371,'Roster LIMA'!AK$1,FALSE)),\"\",VLOOKUP($A$81,'Roster LIMA'!$E$304:$AU$371,'Roster LIMA'!AK$1,FALSE)))","v":""},{"$f":"IF(COUNTBLANK($A$81)<>0,\"\",IF(ISERROR(VLOOKUP($A$81,'Roster LIMA'!$E$304:$AU$371,'Roster LIMA'!AL$1,FALSE)),\"\",VLOOKUP($A$81,'Roster LIMA'!$E$304:$AU$371,'Roster LIMA'!AL$1,FALSE)))","v":""},{"$f":"IF(COUNTBLANK($A$81)<>0,\"\",IF(ISERROR(VLOOKUP($A$81,'Roster LIMA'!$E$304:$AU$371,'Roster LIMA'!AM$1,FALSE)),\"\",VLOOKUP($A$81,'Roster LIMA'!$E$304:$AU$371,'Roster LIMA'!AM$1,FALSE)))","v":""},{"$f":"IF(COUNTBLANK($A$81)<>0,\"\",IF(ISERROR(VLOOKUP($A$81,'Roster LIMA'!$E$304:$AU$371,'Roster LIMA'!AN$1,FALSE)),\"\",VLOOKUP($A$81,'Roster LIMA'!$E$304:$AU$371,'Roster LIMA'!AN$1,FALSE)))","v":""},{"$f":"IF(COUNTBLANK($A$81)<>0,\"\",IF(ISERROR(VLOOKUP($A$81,'Roster LIMA'!$E$304:$AU$371,'Roster LIMA'!AO$1,FALSE)),\"\",VLOOKUP($A$81,'Roster LIMA'!$E$304:$AU$371,'Roster LIMA'!AO$1,FALSE)))","v":""},{"$f":"IF(COUNTBLANK($A$81)<>0,\"\",IF(ISERROR(VLOOKUP($A$81,'Roster LIMA'!$E$304:$AU$371,'Roster LIMA'!AP$1,FALSE)),\"\",VLOOKUP($A$81,'Roster LIMA'!$E$304:$AU$371,'Roster LIMA'!AP$1,FALSE)))","v":""},{"$f":"IF(COUNTBLANK($A$81)<>0,\"\",IF(ISERROR(VLOOKUP($A$81,'Roster LIMA'!$E$304:$AU$371,'Roster LIMA'!AQ$1,FALSE)),\"\",VLOOKUP($A$81,'Roster LIMA'!$E$304:$AU$371,'Roster LIMA'!AQ$1,FALSE)))","v":""},{"$f":"IF(COUNTBLANK($A$81)<>0,\"\",IF(ISERROR(VLOOKUP($A$81,'Roster LIMA'!$E$304:$AU$371,'Roster LIMA'!AR$1,FALSE)),\"\",VLOOKUP($A$81,'Roster LIMA'!$E$304:$AU$371,'Roster LIMA'!AR$1,FALSE)))","v":""}]
["1966-67",{"$f":"IF(COUNTBLANK($A$81)<>0,\"\",IF(ISERROR(VLOOKUP($A$81,'Roster LIMA'!$E$372:$AU$444,4,FALSE)),\"\",IF(VLOOKUP($A$81,'Roster LIMA'!$E$372:$AU$444,4,FALSE)=0,\"\",VLOOKUP($A$81,'Roster LIMA'!$E$372:$AU$444,4,FALSE))))","v":""},{"$f":"IF(COUNTBLANK($A$81)<>0,\"\",IF(ISERROR(VLOOKUP($A$81,'Roster LIMA'!$E$372:$AU$444,5,FALSE)),\"\",IF(VLOOKUP($A$81,'Roster LIMA'!$E$372:$AU$444,5,FALSE)=0,\"\",VLOOKUP($A$81,'Roster LIMA'!$E$372:$AU$444,5,FALSE))))","v":""},{"$f":"IF(COUNTBLANK($A$81)<>0,\"\",IF(ISERROR(VLOOKUP($A$81,'Roster LIMA'!$E$372:$AU$444,6,FALSE)),\"\",IF(VLOOKUP($A$81,'Roster LIMA'!$E$372:$AU$444,6,FALSE)=0,\"\",VLOOKUP($A$81,'Roster LIMA'!$E$372:$AU$444,6,FALSE))))","v":""},{"$f":"IF(COUNTBLANK($A$81)<>0,\"\",IF(ISERROR(VLOOKUP($A$81,'Roster LIMA'!$E$372:$AU$444,5,FALSE)),\"\",IF(VLOOKUP($A$81,'Roster LIMA'!$E$372:$AU$444,5,FALSE)=0,\"\",VLOOKUP($A$81,'Roster LIMA'!$E$372:$AU$444,5,FALSE))))","v":""},null,{"$f":"IF(COUNTBLANK($A$81)<>0,\"\",IF(ISERROR(VLOOKUP($A$81,'Roster LIMA'!$E$372:$AU$444,1,FALSE)),\"N/A\",IF(VLOOKUP($A$81,'Roster LIMA'!$E$372:$AU$444,1,FALSE)=0,\"\",VLOOKUP($A$81,'Roster LIMA'!$E$372:$AU$444,1,FALSE))))","v":"N/A"},null,null,null,{"$f":"IF(COUNTBLANK($A$81)<>0,\"\",IF(ISERROR(VLOOKUP($A$81,'Roster LIMA'!$E$372:$AU$444,'Roster LIMA'!I$1,FALSE)),\"\",VLOOKUP($A$81,'Roster LIMA'!$E$372:$AU$444,'Roster LIMA'!I$1,FALSE)))","v":""},{"$f":"IF(COUNTBLANK($A$81)<>0,\"\",IF(ISERROR(VLOOKUP($A$81,'Roster LIMA'!$E$372:$AU$444,'Roster LIMA'!J$1,FALSE)),\"\",VLOOKUP($A$81,'Roster LIMA'!$E$372:$AU$444,'Roster LIMA'!J$1,FALSE)))","v":""},{"$f":"IF(COUNTBLANK($A$81)<>0,\"\",IF(ISERROR(VLOOKUP($A$81,'Roster LIMA'!$E$372:$AU$444,'Roster LIMA'!K$1,FALSE)),\"\",VLOOKUP($A$81,'Roster LIMA'!$E$372:$AU$444,'Roster LIMA'!K$1,FALSE)))","v":""},{"$f":"IF(COUNTBLANK($A$81)<>0,\"\",IF(ISERROR(VLOOKUP($A$81,'Roster LIMA'!$E$372:$AU$444,'Roster LIMA'!L$1,FALSE)),\"\",VLOOKUP($A$81,'Roster LIMA'!$E$372:$AU$444,'Roster LIMA'!L$1,FALSE)))","v":""},{"$f":"IF(COUNTBLANK($A$81)<>0,\"\",IF(ISERROR(VLOOKUP($A$81,'Roster LIMA'!$E$372:$AU$444,'Roster LIMA'!M$1,FALSE)),\"\",VLOOKUP($A$81,'Roster LIMA'!$E$372:$AU$444,'Roster LIMA'!M$1,FALSE)))","v":""},{"$f":"IF(COUNTBLANK($A$81)<>0,\"\",IF(ISERROR(VLOOKUP($A$81,'Roster LIMA'!$E$372:$AU$444,'Roster LIMA'!N$1,FALSE)),\"\",VLOOKUP($A$81,'Roster LIMA'!$E$372:$AU$444,'Roster LIMA'!N$1,FALSE)))","v":""},{"$f":"IF(COUNTBLANK($A$81)<>0,\"\",IF(ISERROR(VLOOKUP($A$81,'Roster LIMA'!$E$372:$AU$444,'Roster LIMA'!O$1,FALSE)),\"\",VLOOKUP($A$81,'Roster LIMA'!$E$372:$AU$444,'Roster LIMA'!O$1,FALSE)))","v":""},{"$f":"IF(COUNTBLANK($A$81)<>0,\"\",IF(ISERROR(VLOOKUP($A$81,'Roster LIMA'!$E$372:$AU$444,'Roster LIMA'!P$1,FALSE)),\"\",VLOOKUP($A$81,'Roster LIMA'!$E$372:$AU$444,'Roster LIMA'!P$1,FALSE)))","v":""},{"$f":"IF(COUNTBLANK($A$81)<>0,\"\",IF(ISERROR(VLOOKUP($A$81,'Roster LIMA'!$E$372:$AU$444,'Roster LIMA'!Q$1,FALSE)),\"\",VLOOKUP($A$81,'Roster LIMA'!$E$372:$AU$444,'Roster LIMA'!Q$1,FALSE)))","v":""},{"$f":"IF(COUNTBLANK($A$81)<>0,\"\",IF(ISERROR(VLOOKUP($A$81,'Roster LIMA'!$E$372:$AU$444,'Roster LIMA'!R$1,FALSE)),\"\",VLOOKUP($A$81,'Roster LIMA'!$E$372:$AU$444,'Roster LIMA'!R$1,FALSE)))","v":""},{"$f":"IF(COUNTBLANK($A$81)<>0,\"\",IF(ISERROR(VLOOKUP($A$81,'Roster LIMA'!$E$372:$AU$444,'Roster LIMA'!S$1,FALSE)),\"\",VLOOKUP($A$81,'Roster LIMA'!$E$372:$AU$444,'Roster LIMA'!S$1,FALSE)))","v":""},{"$f":"IF(COUNTBLANK($A$81)<>0,\"\",IF(ISERROR(VLOOKUP($A$81,'Roster LIMA'!$E$372:$AU$444,'Roster LIMA'!T$1,FALSE)),\"\",VLOOKUP($A$81,'Roster LIMA'!$E$372:$AU$444,'Roster LIMA'!T$1,FALSE)))","v":""},{"$f":"IF(COUNTBLANK($A$81)<>0,\"\",IF(ISERROR(VLOOKUP($A$81,'Roster LIMA'!$E$372:$AU$444,'Roster LIMA'!U$1,FALSE)),\"\",VLOOKUP($A$81,'Roster LIMA'!$E$372:$AU$444,'Roster LIMA'!U$1,FALSE)))","v":""},{"$f":"IF(COUNTBLANK($A$81)<>0,\"\",IF(ISERROR(VLOOKUP($A$81,'Roster LIMA'!$E$372:$AU$444,'Roster LIMA'!V$1,FALSE)),\"\",VLOOKUP($A$81,'Roster LIMA'!$E$372:$AU$444,'Roster LIMA'!V$1,FALSE)))","v":""},{"$f":"IF(COUNTBLANK($A$81)<>0,\"\",IF(ISERROR(VLOOKUP($A$81,'Roster LIMA'!$E$372:$AU$444,'Roster LIMA'!W$1,FALSE)),\"\",VLOOKUP($A$81,'Roster LIMA'!$E$372:$AU$444,'Roster LIMA'!W$1,FALSE)))","v":""},{"$f":"IF(COUNTBLANK($A$81)<>0,\"\",IF(ISERROR(VLOOKUP($A$81,'Roster LIMA'!$E$372:$AU$444,'Roster LIMA'!X$1,FALSE)),\"\",VLOOKUP($A$81,'Roster LIMA'!$E$372:$AU$444,'Roster LIMA'!X$1,FALSE)))","v":""},{"$f":"IF(COUNTBLANK($A$81)<>0,\"\",IF(ISERROR(VLOOKUP($A$81,'Roster LIMA'!$E$372:$AU$444,'Roster LIMA'!Y$1,FALSE)),\"\",VLOOKUP($A$81,'Roster LIMA'!$E$372:$AU$444,'Roster LIMA'!Y$1,FALSE)))","v":""},{"$f":"IF(COUNTBLANK($A$81)<>0,\"\",IF(ISERROR(VLOOKUP($A$81,'Roster LIMA'!$E$372:$AU$444,'Roster LIMA'!Z$1,FALSE)),\"\",VLOOKUP($A$81,'Roster LIMA'!$E$372:$AU$444,'Roster LIMA'!Z$1,FALSE)))","v":""},{"$f":"IF(COUNTBLANK($A$81)<>0,\"\",IF(ISERROR(VLOOKUP($A$81,'Roster LIMA'!$E$372:$AU$444,'Roster LIMA'!AA$1,FALSE)),\"\",VLOOKUP($A$81,'Roster LIMA'!$E$372:$AU$444,'Roster LIMA'!AA$1,FALSE)))","v":""},{"$f":"IF(COUNTBLANK($A$81)<>0,\"\",IF(ISERROR(VLOOKUP($A$81,'Roster LIMA'!$E$372:$AU$444,'Roster LIMA'!AB$1,FALSE)),\"\",VLOOKUP($A$81,'Roster LIMA'!$E$372:$AU$444,'Roster LIMA'!AB$1,FALSE)))","v":""},{"$f":"IF(COUNTBLANK($A$81)<>0,\"\",IF(ISERROR(VLOOKUP($A$81,'Roster LIMA'!$E$372:$AU$444,'Roster LIMA'!AC$1,FALSE)),\"\",VLOOKUP($A$81,'Roster LIMA'!$E$372:$AU$444,'Roster LIMA'!AC$1,FALSE)))","v":""},{"$f":"IF(COUNTBLANK($A$81)<>0,\"\",IF(ISERROR(VLOOKUP($A$81,'Roster LIMA'!$E$372:$AU$444,'Roster LIMA'!AD$1,FALSE)),\"\",VLOOKUP($A$81,'Roster LIMA'!$E$372:$AU$444,'Roster LIMA'!AD$1,FALSE)))","v":""},{"$f":"IF(COUNTBLANK($A$81)<>0,\"\",IF(ISERROR(VLOOKUP($A$81,'Roster LIMA'!$E$372:$AU$444,'Roster LIMA'!AE$1,FALSE)),\"\",VLOOKUP($A$81,'Roster LIMA'!$E$372:$AU$444,'Roster LIMA'!AE$1,FALSE)))","v":""},{"$f":"IF(COUNTBLANK($A$81)<>0,\"\",IF(ISERROR(VLOOKUP($A$81,'Roster LIMA'!$E$372:$AU$444,'Roster LIMA'!AF$1,FALSE)),\"\",VLOOKUP($A$81,'Roster LIMA'!$E$372:$AU$444,'Roster LIMA'!AF$1,FALSE)))","v":""},{"$f":"IF(COUNTBLANK($A$81)<>0,\"\",IF(ISERROR(VLOOKUP($A$81,'Roster LIMA'!$E$372:$AU$444,'Roster LIMA'!AG$1,FALSE)),\"\",VLOOKUP($A$81,'Roster LIMA'!$E$372:$AU$444,'Roster LIMA'!AG$1,FALSE)))","v":""},{"$f":"IF(COUNTBLANK($A$81)<>0,\"\",IF(ISERROR(VLOOKUP($A$81,'Roster LIMA'!$E$372:$AU$444,'Roster LIMA'!AH$1,FALSE)),\"\",VLOOKUP($A$81,'Roster LIMA'!$E$372:$AU$444,'Roster LIMA'!AH$1,FALSE)))","v":""},{"$f":"IF(COUNTBLANK($A$81)<>0,\"\",IF(ISERROR(VLOOKUP($A$81,'Roster LIMA'!$E$372:$AU$444,'Roster LIMA'!AI$1,FALSE)),\"\",VLOOKUP($A$81,'Roster LIMA'!$E$372:$AU$444,'Roster LIMA'!AI$1,FALSE)))","v":""},{"$f":"IF(COUNTBLANK($A$81)<>0,\"\",IF(ISERROR(VLOOKUP($A$81,'Roster LIMA'!$E$372:$AU$444,'Roster LIMA'!AJ$1,FALSE)),\"\",VLOOKUP($A$81,'Roster LIMA'!$E$372:$AU$444,'Roster LIMA'!AJ$1,FALSE)))","v":""},{"$f":"IF(COUNTBLANK($A$81)<>0,\"\",IF(ISERROR(VLOOKUP($A$81,'Roster LIMA'!$E$372:$AU$444,'Roster LIMA'!AK$1,FALSE)),\"\",VLOOKUP($A$81,'Roster LIMA'!$E$372:$AU$444,'Roster LIMA'!AK$1,FALSE)))","v":""},{"$f":"IF(COUNTBLANK($A$81)<>0,\"\",IF(ISERROR(VLOOKUP($A$81,'Roster LIMA'!$E$372:$AU$444,'Roster LIMA'!AL$1,FALSE)),\"\",VLOOKUP($A$81,'Roster LIMA'!$E$372:$AU$444,'Roster LIMA'!AL$1,FALSE)))","v":""},{"$f":"IF(COUNTBLANK($A$81)<>0,\"\",IF(ISERROR(VLOOKUP($A$81,'Roster LIMA'!$E$372:$AU$444,'Roster LIMA'!AM$1,FALSE)),\"\",VLOOKUP($A$81,'Roster LIMA'!$E$372:$AU$444,'Roster LIMA'!AM$1,FALSE)))","v":""},{"$f":"IF(COUNTBLANK($A$81)<>0,\"\",IF(ISERROR(VLOOKUP($A$81,'Roster LIMA'!$E$372:$AU$444,'Roster LIMA'!AN$1,FALSE)),\"\",VLOOKUP($A$81,'Roster LIMA'!$E$372:$AU$444,'Roster LIMA'!AN$1,FALSE)))","v":""},{"$f":"IF(COUNTBLANK($A$81)<>0,\"\",IF(ISERROR(VLOOKUP($A$81,'Roster LIMA'!$E$372:$AU$444,'Roster LIMA'!AO$1,FALSE)),\"\",VLOOKUP($A$81,'Roster LIMA'!$E$372:$AU$444,'Roster LIMA'!AO$1,FALSE)))","v":""},{"$f":"IF(COUNTBLANK($A$81)<>0,\"\",IF(ISERROR(VLOOKUP($A$81,'Roster LIMA'!$E$372:$AU$444,'Roster LIMA'!AP$1,FALSE)),\"\",VLOOKUP($A$81,'Roster LIMA'!$E$372:$AU$444,'Roster LIMA'!AP$1,FALSE)))","v":""},{"$f":"IF(COUNTBLANK($A$81)<>0,\"\",IF(ISERROR(VLOOKUP($A$81,'Roster LIMA'!$E$372:$AU$444,'Roster LIMA'!AQ$1,FALSE)),\"\",VLOOKUP($A$81,'Roster LIMA'!$E$372:$AU$444,'Roster LIMA'!AQ$1,FALSE)))","v":""},{"$f":"IF(COUNTBLANK($A$81)<>0,\"\",IF(ISERROR(VLOOKUP($A$81,'Roster LIMA'!$E$372:$AU$444,'Roster LIMA'!AR$1,FALSE)),\"\",VLOOKUP($A$81,'Roster LIMA'!$E$372:$AU$444,'Roster LIMA'!AR$1,FALSE)))","v":""}]
["1967-68",{"$f":"IF(COUNTBLANK($A$81)<>0,\"\",IF(ISERROR(VLOOKUP($A$81,'Roster LIMA'!$E$445:$AU$522,4,FALSE)),\"\",IF(VLOOKUP($A$81,'Roster LIMA'!$E$445:$AU$522,4,FALSE)=0,\"\",VLOOKUP($A$81,'Roster LIMA'!$E$445:$AU$522,4,FALSE))))","v":""},{"$f":"IF(COUNTBLANK($A$81)<>0,\"\",IF(ISERROR(VLOOKUP($A$81,'Roster LIMA'!$E$445:$AU$522,5,FALSE)),\"\",IF(VLOOKUP($A$81,'Roster LIMA'!$E$445:$AU$522,5,FALSE)=0,\"\",VLOOKUP($A$81,'Roster LIMA'!$E$445:$AU$522,5,FALSE))))","v":""},{"$f":"IF(COUNTBLANK($A$81)<>0,\"\",IF(ISERROR(VLOOKUP($A$81,'Roster LIMA'!$E$445:$AU$522,6,FALSE)),\"\",IF(VLOOKUP($A$81,'Roster LIMA'!$E$445:$AU$522,6,FALSE)=0,\"\",VLOOKUP($A$81,'Roster LIMA'!$E$445:$AU$522,6,FALSE))))","v":""},{"$f":"IF(COUNTBLANK($A$81)<>0,\"\",IF(ISERROR(VLOOKUP($A$81,'Roster LIMA'!$E$445:$AU$522,5,FALSE)),\"\",IF(VLOOKUP($A$81,'Roster LIMA'!$E$445:$AU$522,5,FALSE)=0,\"\",VLOOKUP($A$81,'Roster LIMA'!$E$445:$AU$522,5,FALSE))))","v":""},null,{"$f":"IF(COUNTBLANK($A$81)<>0,\"\",IF(ISERROR(VLOOKUP($A$81,'Roster LIMA'!$E$445:$AU$522,1,FALSE)),\"N/A\",IF(VLOOKUP($A$81,'Roster LIMA'!$E$445:$AU$522,1,FALSE)=0,\"\",VLOOKUP($A$81,'Roster LIMA'!$E$445:$AU$522,1,FALSE))))","v":"N/A"},null,null,null,{"$f":"IF(COUNTBLANK($A$81)<>0,\"\",IF(ISERROR(VLOOKUP($A$81,'Roster LIMA'!$E$445:$AU$522,'Roster LIMA'!I$1,FALSE)),\"\",VLOOKUP($A$81,'Roster LIMA'!$E$445:$AU$522,'Roster LIMA'!I$1,FALSE)))","v":""},{"$f":"IF(COUNTBLANK($A$81)<>0,\"\",IF(ISERROR(VLOOKUP($A$81,'Roster LIMA'!$E$445:$AU$522,'Roster LIMA'!J$1,FALSE)),\"\",VLOOKUP($A$81,'Roster LIMA'!$E$445:$AU$522,'Roster LIMA'!J$1,FALSE)))","v":""},{"$f":"IF(COUNTBLANK($A$81)<>0,\"\",IF(ISERROR(VLOOKUP($A$81,'Roster LIMA'!$E$445:$AU$522,'Roster LIMA'!K$1,FALSE)),\"\",VLOOKUP($A$81,'Roster LIMA'!$E$445:$AU$522,'Roster LIMA'!K$1,FALSE)))","v":""},{"$f":"IF(COUNTBLANK($A$81)<>0,\"\",IF(ISERROR(VLOOKUP($A$81,'Roster LIMA'!$E$445:$AU$522,'Roster LIMA'!L$1,FALSE)),\"\",VLOOKUP($A$81,'Roster LIMA'!$E$445:$AU$522,'Roster LIMA'!L$1,FALSE)))","v":""},{"$f":"IF(COUNTBLANK($A$81)<>0,\"\",IF(ISERROR(VLOOKUP($A$81,'Roster LIMA'!$E$445:$AU$522,'Roster LIMA'!M$1,FALSE)),\"\",VLOOKUP($A$81,'Roster LIMA'!$E$445:$AU$522,'Roster LIMA'!M$1,FALSE)))","v":""},{"$f":"IF(COUNTBLANK($A$81)<>0,\"\",IF(ISERROR(VLOOKUP($A$81,'Roster LIMA'!$E$445:$AU$522,'Roster LIMA'!N$1,FALSE)),\"\",VLOOKUP($A$81,'Roster LIMA'!$E$445:$AU$522,'Roster LIMA'!N$1,FALSE)))","v":""},{"$f":"IF(COUNTBLANK($A$81)<>0,\"\",IF(ISERROR(VLOOKUP($A$81,'Roster LIMA'!$E$445:$AU$522,'Roster LIMA'!O$1,FALSE)),\"\",VLOOKUP($A$81,'Roster LIMA'!$E$445:$AU$522,'Roster LIMA'!O$1,FALSE)))","v":""},{"$f":"IF(COUNTBLANK($A$81)<>0,\"\",IF(ISERROR(VLOOKUP($A$81,'Roster LIMA'!$E$445:$AU$522,'Roster LIMA'!P$1,FALSE)),\"\",VLOOKUP($A$81,'Roster LIMA'!$E$445:$AU$522,'Roster LIMA'!P$1,FALSE)))","v":""},{"$f":"IF(COUNTBLANK($A$81)<>0,\"\",IF(ISERROR(VLOOKUP($A$81,'Roster LIMA'!$E$445:$AU$522,'Roster LIMA'!Q$1,FALSE)),\"\",VLOOKUP($A$81,'Roster LIMA'!$E$445:$AU$522,'Roster LIMA'!Q$1,FALSE)))","v":""},{"$f":"IF(COUNTBLANK($A$81)<>0,\"\",IF(ISERROR(VLOOKUP($A$81,'Roster LIMA'!$E$445:$AU$522,'Roster LIMA'!R$1,FALSE)),\"\",VLOOKUP($A$81,'Roster LIMA'!$E$445:$AU$522,'Roster LIMA'!R$1,FALSE)))","v":""},{"$f":"IF(COUNTBLANK($A$81)<>0,\"\",IF(ISERROR(VLOOKUP($A$81,'Roster LIMA'!$E$445:$AU$522,'Roster LIMA'!S$1,FALSE)),\"\",VLOOKUP($A$81,'Roster LIMA'!$E$445:$AU$522,'Roster LIMA'!S$1,FALSE)))","v":""},{"$f":"IF(COUNTBLANK($A$81)<>0,\"\",IF(ISERROR(VLOOKUP($A$81,'Roster LIMA'!$E$445:$AU$522,'Roster LIMA'!T$1,FALSE)),\"\",VLOOKUP($A$81,'Roster LIMA'!$E$445:$AU$522,'Roster LIMA'!T$1,FALSE)))","v":""},{"$f":"IF(COUNTBLANK($A$81)<>0,\"\",IF(ISERROR(VLOOKUP($A$81,'Roster LIMA'!$E$445:$AU$522,'Roster LIMA'!U$1,FALSE)),\"\",VLOOKUP($A$81,'Roster LIMA'!$E$445:$AU$522,'Roster LIMA'!U$1,FALSE)))","v":""},{"$f":"IF(COUNTBLANK($A$81)<>0,\"\",IF(ISERROR(VLOOKUP($A$81,'Roster LIMA'!$E$445:$AU$522,'Roster LIMA'!V$1,FALSE)),\"\",VLOOKUP($A$81,'Roster LIMA'!$E$445:$AU$522,'Roster LIMA'!V$1,FALSE)))","v":""},{"$f":"IF(COUNTBLANK($A$81)<>0,\"\",IF(ISERROR(VLOOKUP($A$81,'Roster LIMA'!$E$445:$AU$522,'Roster LIMA'!W$1,FALSE)),\"\",VLOOKUP($A$81,'Roster LIMA'!$E$445:$AU$522,'Roster LIMA'!W$1,FALSE)))","v":""},{"$f":"IF(COUNTBLANK($A$81)<>0,\"\",IF(ISERROR(VLOOKUP($A$81,'Roster LIMA'!$E$445:$AU$522,'Roster LIMA'!X$1,FALSE)),\"\",VLOOKUP($A$81,'Roster LIMA'!$E$445:$AU$522,'Roster LIMA'!X$1,FALSE)))","v":""},{"$f":"IF(COUNTBLANK($A$81)<>0,\"\",IF(ISERROR(VLOOKUP($A$81,'Roster LIMA'!$E$445:$AU$522,'Roster LIMA'!Y$1,FALSE)),\"\",VLOOKUP($A$81,'Roster LIMA'!$E$445:$AU$522,'Roster LIMA'!Y$1,FALSE)))","v":""},{"$f":"IF(COUNTBLANK($A$81)<>0,\"\",IF(ISERROR(VLOOKUP($A$81,'Roster LIMA'!$E$445:$AU$522,'Roster LIMA'!Z$1,FALSE)),\"\",VLOOKUP($A$81,'Roster LIMA'!$E$445:$AU$522,'Roster LIMA'!Z$1,FALSE)))","v":""},{"$f":"IF(COUNTBLANK($A$81)<>0,\"\",IF(ISERROR(VLOOKUP($A$81,'Roster LIMA'!$E$445:$AU$522,'Roster LIMA'!AA$1,FALSE)),\"\",VLOOKUP($A$81,'Roster LIMA'!$E$445:$AU$522,'Roster LIMA'!AA$1,FALSE)))","v":""},{"$f":"IF(COUNTBLANK($A$81)<>0,\"\",IF(ISERROR(VLOOKUP($A$81,'Roster LIMA'!$E$445:$AU$522,'Roster LIMA'!AB$1,FALSE)),\"\",VLOOKUP($A$81,'Roster LIMA'!$E$445:$AU$522,'Roster LIMA'!AB$1,FALSE)))","v":""},{"$f":"IF(COUNTBLANK($A$81)<>0,\"\",IF(ISERROR(VLOOKUP($A$81,'Roster LIMA'!$E$445:$AU$522,'Roster LIMA'!AC$1,FALSE)),\"\",VLOOKUP($A$81,'Roster LIMA'!$E$445:$AU$522,'Roster LIMA'!AC$1,FALSE)))","v":""},{"$f":"IF(COUNTBLANK($A$81)<>0,\"\",IF(ISERROR(VLOOKUP($A$81,'Roster LIMA'!$E$445:$AU$522,'Roster LIMA'!AD$1,FALSE)),\"\",VLOOKUP($A$81,'Roster LIMA'!$E$445:$AU$522,'Roster LIMA'!AD$1,FALSE)))","v":""},{"$f":"IF(COUNTBLANK($A$81)<>0,\"\",IF(ISERROR(VLOOKUP($A$81,'Roster LIMA'!$E$445:$AU$522,'Roster LIMA'!AE$1,FALSE)),\"\",VLOOKUP($A$81,'Roster LIMA'!$E$445:$AU$522,'Roster LIMA'!AE$1,FALSE)))","v":""},{"$f":"IF(COUNTBLANK($A$81)<>0,\"\",IF(ISERROR(VLOOKUP($A$81,'Roster LIMA'!$E$445:$AU$522,'Roster LIMA'!AF$1,FALSE)),\"\",VLOOKUP($A$81,'Roster LIMA'!$E$445:$AU$522,'Roster LIMA'!AF$1,FALSE)))","v":""},{"$f":"IF(COUNTBLANK($A$81)<>0,\"\",IF(ISERROR(VLOOKUP($A$81,'Roster LIMA'!$E$445:$AU$522,'Roster LIMA'!AG$1,FALSE)),\"\",VLOOKUP($A$81,'Roster LIMA'!$E$445:$AU$522,'Roster LIMA'!AG$1,FALSE)))","v":""},{"$f":"IF(COUNTBLANK($A$81)<>0,\"\",IF(ISERROR(VLOOKUP($A$81,'Roster LIMA'!$E$445:$AU$522,'Roster LIMA'!AH$1,FALSE)),\"\",VLOOKUP($A$81,'Roster LIMA'!$E$445:$AU$522,'Roster LIMA'!AH$1,FALSE)))","v":""},{"$f":"IF(COUNTBLANK($A$81)<>0,\"\",IF(ISERROR(VLOOKUP($A$81,'Roster LIMA'!$E$445:$AU$522,'Roster LIMA'!AI$1,FALSE)),\"\",VLOOKUP($A$81,'Roster LIMA'!$E$445:$AU$522,'Roster LIMA'!AI$1,FALSE)))","v":""},{"$f":"IF(COUNTBLANK($A$81)<>0,\"\",IF(ISERROR(VLOOKUP($A$81,'Roster LIMA'!$E$445:$AU$522,'Roster LIMA'!AJ$1,FALSE)),\"\",VLOOKUP($A$81,'Roster LIMA'!$E$445:$AU$522,'Roster LIMA'!AJ$1,FALSE)))","v":""},{"$f":"IF(COUNTBLANK($A$81)<>0,\"\",IF(ISERROR(VLOOKUP($A$81,'Roster LIMA'!$E$445:$AU$522,'Roster LIMA'!AK$1,FALSE)),\"\",VLOOKUP($A$81,'Roster LIMA'!$E$445:$AU$522,'Roster LIMA'!AK$1,FALSE)))","v":""},{"$f":"IF(COUNTBLANK($A$81)<>0,\"\",IF(ISERROR(VLOOKUP($A$81,'Roster LIMA'!$E$445:$AU$522,'Roster LIMA'!AL$1,FALSE)),\"\",VLOOKUP($A$81,'Roster LIMA'!$E$445:$AU$522,'Roster LIMA'!AL$1,FALSE)))","v":""},{"$f":"IF(COUNTBLANK($A$81)<>0,\"\",IF(ISERROR(VLOOKUP($A$81,'Roster LIMA'!$E$445:$AU$522,'Roster LIMA'!AM$1,FALSE)),\"\",VLOOKUP($A$81,'Roster LIMA'!$E$445:$AU$522,'Roster LIMA'!AM$1,FALSE)))","v":""},{"$f":"IF(COUNTBLANK($A$81)<>0,\"\",IF(ISERROR(VLOOKUP($A$81,'Roster LIMA'!$E$445:$AU$522,'Roster LIMA'!AN$1,FALSE)),\"\",VLOOKUP($A$81,'Roster LIMA'!$E$445:$AU$522,'Roster LIMA'!AN$1,FALSE)))","v":""},{"$f":"IF(COUNTBLANK($A$81)<>0,\"\",IF(ISERROR(VLOOKUP($A$81,'Roster LIMA'!$E$445:$AU$522,'Roster LIMA'!AO$1,FALSE)),\"\",VLOOKUP($A$81,'Roster LIMA'!$E$445:$AU$522,'Roster LIMA'!AO$1,FALSE)))","v":""},{"$f":"IF(COUNTBLANK($A$81)<>0,\"\",IF(ISERROR(VLOOKUP($A$81,'Roster LIMA'!$E$445:$AU$522,'Roster LIMA'!AP$1,FALSE)),\"\",VLOOKUP($A$81,'Roster LIMA'!$E$445:$AU$522,'Roster LIMA'!AP$1,FALSE)))","v":""},{"$f":"IF(COUNTBLANK($A$81)<>0,\"\",IF(ISERROR(VLOOKUP($A$81,'Roster LIMA'!$E$445:$AU$522,'Roster LIMA'!AQ$1,FALSE)),\"\",VLOOKUP($A$81,'Roster LIMA'!$E$445:$AU$522,'Roster LIMA'!AQ$1,FALSE)))","v":""},{"$f":"IF(COUNTBLANK($A$81)<>0,\"\",IF(ISERROR(VLOOKUP($A$81,'Roster LIMA'!$E$445:$AU$522,'Roster LIMA'!AR$1,FALSE)),\"\",VLOOKUP($A$81,'Roster LIMA'!$E$445:$AU$522,'Roster LIMA'!AR$1,FALSE)))","v":""}]
["1968-69",{"$f":"IF(COUNTBLANK($A$81)<>0,\"\",IF(ISERROR(VLOOKUP($A$81,'Roster LIMA'!$E$523:$AU$613,4,FALSE)),\"\",IF(VLOOKUP($A$81,'Roster LIMA'!$E$523:$AU$613,4,FALSE)=0,\"\",VLOOKUP($A$81,'Roster LIMA'!$E$523:$AU$613,4,FALSE))))","v":""},{"$f":"IF(COUNTBLANK($A$81)<>0,\"\",IF(ISERROR(VLOOKUP($A$81,'Roster LIMA'!$E$523:$AU$613,5,FALSE)),\"\",IF(VLOOKUP($A$81,'Roster LIMA'!$E$523:$AU$613,5,FALSE)=0,\"\",VLOOKUP($A$81,'Roster LIMA'!$E$523:$AU$613,5,FALSE))))","v":""},{"$f":"IF(COUNTBLANK($A$81)<>0,\"\",IF(ISERROR(VLOOKUP($A$81,'Roster LIMA'!$E$523:$AU$613,6,FALSE)),\"\",IF(VLOOKUP($A$81,'Roster LIMA'!$E$523:$AU$613,6,FALSE)=0,\"\",VLOOKUP($A$81,'Roster LIMA'!$E$523:$AU$613,6,FALSE))))","v":""},{"$f":"IF(COUNTBLANK($A$81)<>0,\"\",IF(ISERROR(VLOOKUP($A$81,'Roster LIMA'!$E$523:$AU$613,5,FALSE)),\"\",IF(VLOOKUP($A$81,'Roster LIMA'!$E$523:$AU$613,5,FALSE)=0,\"\",VLOOKUP($A$81,'Roster LIMA'!$E$523:$AU$613,5,FALSE))))","v":""},null,{"$f":"IF(COUNTBLANK($A$81)<>0,\"\",IF(ISERROR(VLOOKUP($A$81,'Roster LIMA'!$E$523:$AU$613,1,FALSE)),\"N/A\",IF(VLOOKUP($A$81,'Roster LIMA'!$E$523:$AU$613,1,FALSE)=0,\"\",VLOOKUP($A$81,'Roster LIMA'!$E$523:$AU$613,1,FALSE))))","v":"N/A"},null,null,null,{"$f":"IF(COUNTBLANK($A$81)<>0,\"\",IF(ISERROR(VLOOKUP($A$81,'Roster LIMA'!$E$523:$AU$613,'Roster LIMA'!I$1,FALSE)),\"\",VLOOKUP($A$81,'Roster LIMA'!$E$523:$AU$613,'Roster LIMA'!I$1,FALSE)))","v":""},{"$f":"IF(COUNTBLANK($A$81)<>0,\"\",IF(ISERROR(VLOOKUP($A$81,'Roster LIMA'!$E$523:$AU$613,'Roster LIMA'!J$1,FALSE)),\"\",VLOOKUP($A$81,'Roster LIMA'!$E$523:$AU$613,'Roster LIMA'!J$1,FALSE)))","v":""},{"$f":"IF(COUNTBLANK($A$81)<>0,\"\",IF(ISERROR(VLOOKUP($A$81,'Roster LIMA'!$E$523:$AU$613,'Roster LIMA'!K$1,FALSE)),\"\",VLOOKUP($A$81,'Roster LIMA'!$E$523:$AU$613,'Roster LIMA'!K$1,FALSE)))","v":""},{"$f":"IF(COUNTBLANK($A$81)<>0,\"\",IF(ISERROR(VLOOKUP($A$81,'Roster LIMA'!$E$523:$AU$613,'Roster LIMA'!L$1,FALSE)),\"\",VLOOKUP($A$81,'Roster LIMA'!$E$523:$AU$613,'Roster LIMA'!L$1,FALSE)))","v":""},{"$f":"IF(COUNTBLANK($A$81)<>0,\"\",IF(ISERROR(VLOOKUP($A$81,'Roster LIMA'!$E$523:$AU$613,'Roster LIMA'!M$1,FALSE)),\"\",VLOOKUP($A$81,'Roster LIMA'!$E$523:$AU$613,'Roster LIMA'!M$1,FALSE)))","v":""},{"$f":"IF(COUNTBLANK($A$81)<>0,\"\",IF(ISERROR(VLOOKUP($A$81,'Roster LIMA'!$E$523:$AU$613,'Roster LIMA'!N$1,FALSE)),\"\",VLOOKUP($A$81,'Roster LIMA'!$E$523:$AU$613,'Roster LIMA'!N$1,FALSE)))","v":""},{"$f":"IF(COUNTBLANK($A$81)<>0,\"\",IF(ISERROR(VLOOKUP($A$81,'Roster LIMA'!$E$523:$AU$613,'Roster LIMA'!O$1,FALSE)),\"\",VLOOKUP($A$81,'Roster LIMA'!$E$523:$AU$613,'Roster LIMA'!O$1,FALSE)))","v":""},{"$f":"IF(COUNTBLANK($A$81)<>0,\"\",IF(ISERROR(VLOOKUP($A$81,'Roster LIMA'!$E$523:$AU$613,'Roster LIMA'!P$1,FALSE)),\"\",VLOOKUP($A$81,'Roster LIMA'!$E$523:$AU$613,'Roster LIMA'!P$1,FALSE)))","v":""},{"$f":"IF(COUNTBLANK($A$81)<>0,\"\",IF(ISERROR(VLOOKUP($A$81,'Roster LIMA'!$E$523:$AU$613,'Roster LIMA'!Q$1,FALSE)),\"\",VLOOKUP($A$81,'Roster LIMA'!$E$523:$AU$613,'Roster LIMA'!Q$1,FALSE)))","v":""},{"$f":"IF(COUNTBLANK($A$81)<>0,\"\",IF(ISERROR(VLOOKUP($A$81,'Roster LIMA'!$E$523:$AU$613,'Roster LIMA'!R$1,FALSE)),\"\",VLOOKUP($A$81,'Roster LIMA'!$E$523:$AU$613,'Roster LIMA'!R$1,FALSE)))","v":""},{"$f":"IF(COUNTBLANK($A$81)<>0,\"\",IF(ISERROR(VLOOKUP($A$81,'Roster LIMA'!$E$523:$AU$613,'Roster LIMA'!S$1,FALSE)),\"\",VLOOKUP($A$81,'Roster LIMA'!$E$523:$AU$613,'Roster LIMA'!S$1,FALSE)))","v":""},{"$f":"IF(COUNTBLANK($A$81)<>0,\"\",IF(ISERROR(VLOOKUP($A$81,'Roster LIMA'!$E$523:$AU$613,'Roster LIMA'!T$1,FALSE)),\"\",VLOOKUP($A$81,'Roster LIMA'!$E$523:$AU$613,'Roster LIMA'!T$1,FALSE)))","v":""},{"$f":"IF(COUNTBLANK($A$81)<>0,\"\",IF(ISERROR(VLOOKUP($A$81,'Roster LIMA'!$E$523:$AU$613,'Roster LIMA'!U$1,FALSE)),\"\",VLOOKUP($A$81,'Roster LIMA'!$E$523:$AU$613,'Roster LIMA'!U$1,FALSE)))","v":""},{"$f":"IF(COUNTBLANK($A$81)<>0,\"\",IF(ISERROR(VLOOKUP($A$81,'Roster LIMA'!$E$523:$AU$613,'Roster LIMA'!V$1,FALSE)),\"\",VLOOKUP($A$81,'Roster LIMA'!$E$523:$AU$613,'Roster LIMA'!V$1,FALSE)))","v":""},{"$f":"IF(COUNTBLANK($A$81)<>0,\"\",IF(ISERROR(VLOOKUP($A$81,'Roster LIMA'!$E$523:$AU$613,'Roster LIMA'!W$1,FALSE)),\"\",VLOOKUP($A$81,'Roster LIMA'!$E$523:$AU$613,'Roster LIMA'!W$1,FALSE)))","v":""},{"$f":"IF(COUNTBLANK($A$81)<>0,\"\",IF(ISERROR(VLOOKUP($A$81,'Roster LIMA'!$E$523:$AU$613,'Roster LIMA'!X$1,FALSE)),\"\",VLOOKUP($A$81,'Roster LIMA'!$E$523:$AU$613,'Roster LIMA'!X$1,FALSE)))","v":""},{"$f":"IF(COUNTBLANK($A$81)<>0,\"\",IF(ISERROR(VLOOKUP($A$81,'Roster LIMA'!$E$523:$AU$613,'Roster LIMA'!Y$1,FALSE)),\"\",VLOOKUP($A$81,'Roster LIMA'!$E$523:$AU$613,'Roster LIMA'!Y$1,FALSE)))","v":""},{"$f":"IF(COUNTBLANK($A$81)<>0,\"\",IF(ISERROR(VLOOKUP($A$81,'Roster LIMA'!$E$523:$AU$613,'Roster LIMA'!Z$1,FALSE)),\"\",VLOOKUP($A$81,'Roster LIMA'!$E$523:$AU$613,'Roster LIMA'!Z$1,FALSE)))","v":""},{"$f":"IF(COUNTBLANK($A$81)<>0,\"\",IF(ISERROR(VLOOKUP($A$81,'Roster LIMA'!$E$523:$AU$613,'Roster LIMA'!AA$1,FALSE)),\"\",VLOOKUP($A$81,'Roster LIMA'!$E$523:$AU$613,'Roster LIMA'!AA$1,FALSE)))","v":""},{"$f":"IF(COUNTBLANK($A$81)<>0,\"\",IF(ISERROR(VLOOKUP($A$81,'Roster LIMA'!$E$523:$AU$613,'Roster LIMA'!AB$1,FALSE)),\"\",VLOOKUP($A$81,'Roster LIMA'!$E$523:$AU$613,'Roster LIMA'!AB$1,FALSE)))","v":""},{"$f":"IF(COUNTBLANK($A$81)<>0,\"\",IF(ISERROR(VLOOKUP($A$81,'Roster LIMA'!$E$523:$AU$613,'Roster LIMA'!AC$1,FALSE)),\"\",VLOOKUP($A$81,'Roster LIMA'!$E$523:$AU$613,'Roster LIMA'!AC$1,FALSE)))","v":""},{"$f":"IF(COUNTBLANK($A$81)<>0,\"\",IF(ISERROR(VLOOKUP($A$81,'Roster LIMA'!$E$523:$AU$613,'Roster LIMA'!AD$1,FALSE)),\"\",VLOOKUP($A$81,'Roster LIMA'!$E$523:$AU$613,'Roster LIMA'!AD$1,FALSE)))","v":""},{"$f":"IF(COUNTBLANK($A$81)<>0,\"\",IF(ISERROR(VLOOKUP($A$81,'Roster LIMA'!$E$523:$AU$613,'Roster LIMA'!AE$1,FALSE)),\"\",VLOOKUP($A$81,'Roster LIMA'!$E$523:$AU$613,'Roster LIMA'!AE$1,FALSE)))","v":""},{"$f":"IF(COUNTBLANK($A$81)<>0,\"\",IF(ISERROR(VLOOKUP($A$81,'Roster LIMA'!$E$523:$AU$613,'Roster LIMA'!AF$1,FALSE)),\"\",VLOOKUP($A$81,'Roster LIMA'!$E$523:$AU$613,'Roster LIMA'!AF$1,FALSE)))","v":""},{"$f":"IF(COUNTBLANK($A$81)<>0,\"\",IF(ISERROR(VLOOKUP($A$81,'Roster LIMA'!$E$523:$AU$613,'Roster LIMA'!AG$1,FALSE)),\"\",VLOOKUP($A$81,'Roster LIMA'!$E$523:$AU$613,'Roster LIMA'!AG$1,FALSE)))","v":""},{"$f":"IF(COUNTBLANK($A$81)<>0,\"\",IF(ISERROR(VLOOKUP($A$81,'Roster LIMA'!$E$523:$AU$613,'Roster LIMA'!AH$1,FALSE)),\"\",VLOOKUP($A$81,'Roster LIMA'!$E$523:$AU$613,'Roster LIMA'!AH$1,FALSE)))","v":""},{"$f":"IF(COUNTBLANK($A$81)<>0,\"\",IF(ISERROR(VLOOKUP($A$81,'Roster LIMA'!$E$523:$AU$613,'Roster LIMA'!AI$1,FALSE)),\"\",VLOOKUP($A$81,'Roster LIMA'!$E$523:$AU$613,'Roster LIMA'!AI$1,FALSE)))","v":""},{"$f":"IF(COUNTBLANK($A$81)<>0,\"\",IF(ISERROR(VLOOKUP($A$81,'Roster LIMA'!$E$523:$AU$613,'Roster LIMA'!AJ$1,FALSE)),\"\",VLOOKUP($A$81,'Roster LIMA'!$E$523:$AU$613,'Roster LIMA'!AJ$1,FALSE)))","v":""},{"$f":"IF(COUNTBLANK($A$81)<>0,\"\",IF(ISERROR(VLOOKUP($A$81,'Roster LIMA'!$E$523:$AU$613,'Roster LIMA'!AK$1,FALSE)),\"\",VLOOKUP($A$81,'Roster LIMA'!$E$523:$AU$613,'Roster LIMA'!AK$1,FALSE)))","v":""},{"$f":"IF(COUNTBLANK($A$81)<>0,\"\",IF(ISERROR(VLOOKUP($A$81,'Roster LIMA'!$E$523:$AU$613,'Roster LIMA'!AL$1,FALSE)),\"\",VLOOKUP($A$81,'Roster LIMA'!$E$523:$AU$613,'Roster LIMA'!AL$1,FALSE)))","v":""},{"$f":"IF(COUNTBLANK($A$81)<>0,\"\",IF(ISERROR(VLOOKUP($A$81,'Roster LIMA'!$E$523:$AU$613,'Roster LIMA'!AM$1,FALSE)),\"\",VLOOKUP($A$81,'Roster LIMA'!$E$523:$AU$613,'Roster LIMA'!AM$1,FALSE)))","v":""},{"$f":"IF(COUNTBLANK($A$81)<>0,\"\",IF(ISERROR(VLOOKUP($A$81,'Roster LIMA'!$E$523:$AU$613,'Roster LIMA'!AN$1,FALSE)),\"\",VLOOKUP($A$81,'Roster LIMA'!$E$523:$AU$613,'Roster LIMA'!AN$1,FALSE)))","v":""},{"$f":"IF(COUNTBLANK($A$81)<>0,\"\",IF(ISERROR(VLOOKUP($A$81,'Roster LIMA'!$E$523:$AU$613,'Roster LIMA'!AO$1,FALSE)),\"\",VLOOKUP($A$81,'Roster LIMA'!$E$523:$AU$613,'Roster LIMA'!AO$1,FALSE)))","v":""},{"$f":"IF(COUNTBLANK($A$81)<>0,\"\",IF(ISERROR(VLOOKUP($A$81,'Roster LIMA'!$E$523:$AU$613,'Roster LIMA'!AP$1,FALSE)),\"\",VLOOKUP($A$81,'Roster LIMA'!$E$523:$AU$613,'Roster LIMA'!AP$1,FALSE)))","v":""},{"$f":"IF(COUNTBLANK($A$81)<>0,\"\",IF(ISERROR(VLOOKUP($A$81,'Roster LIMA'!$E$523:$AU$613,'Roster LIMA'!AQ$1,FALSE)),\"\",VLOOKUP($A$81,'Roster LIMA'!$E$523:$AU$613,'Roster LIMA'!AQ$1,FALSE)))","v":""},{"$f":"IF(COUNTBLANK($A$81)<>0,\"\",IF(ISERROR(VLOOKUP($A$81,'Roster LIMA'!$E$523:$AU$613,'Roster LIMA'!AR$1,FALSE)),\"\",VLOOKUP($A$81,'Roster LIMA'!$E$523:$AU$613,'Roster LIMA'!AR$1,FALSE)))","v":""}]
["1969-70",{"$f":"IF(COUNTBLANK($A$81)<>0,\"\",IF(ISERROR(VLOOKUP($A$81,'Roster LIMA'!$E$614:$AU$712,4,FALSE)),\"\",IF(VLOOKUP($A$81,'Roster LIMA'!$E$614:$AU$712,4,FALSE)=0,\"\",VLOOKUP($A$81,'Roster LIMA'!$E$614:$AU$712,4,FALSE))))","v":""},{"$f":"IF(COUNTBLANK($A$81)<>0,\"\",IF(ISERROR(VLOOKUP($A$81,'Roster LIMA'!$E$614:$AU$712,5,FALSE)),\"\",IF(VLOOKUP($A$81,'Roster LIMA'!$E$614:$AU$712,5,FALSE)=0,\"\",VLOOKUP($A$81,'Roster LIMA'!$E$614:$AU$712,5,FALSE))))","v":""},{"$f":"IF(COUNTBLANK($A$81)<>0,\"\",IF(ISERROR(VLOOKUP($A$81,'Roster LIMA'!$E$614:$AU$712,6,FALSE)),\"\",IF(VLOOKUP($A$81,'Roster LIMA'!$E$614:$AU$712,6,FALSE)=0,\"\",VLOOKUP($A$81,'Roster LIMA'!$E$614:$AU$712,6,FALSE))))","v":""},{"$f":"IF(COUNTBLANK($A$81)<>0,\"\",IF(ISERROR(VLOOKUP($A$81,'Roster LIMA'!$E$614:$AU$712,5,FALSE)),\"\",IF(VLOOKUP($A$81,'Roster LIMA'!$E$614:$AU$712,5,FALSE)=0,\"\",VLOOKUP($A$81,'Roster LIMA'!$E$614:$AU$712,5,FALSE))))","v":""},null,{"$f":"IF(COUNTBLANK($A$81)<>0,\"\",IF(ISERROR(VLOOKUP($A$81,'Roster LIMA'!$E$614:$AU$712,1,FALSE)),\"N/A\",IF(VLOOKUP($A$81,'Roster LIMA'!$E$614:$AU$712,1,FALSE)=0,\"\",VLOOKUP($A$81,'Roster LIMA'!$E$614:$AU$712,1,FALSE))))","v":"N/A"},null,null,null,{"$f":"IF(COUNTBLANK($A$81)<>0,\"\",IF(ISERROR(VLOOKUP($A$81,'Roster LIMA'!$E$614:$AU$712,'Roster LIMA'!I$1,FALSE)),\"\",VLOOKUP($A$81,'Roster LIMA'!$E$614:$AU$712,'Roster LIMA'!I$1,FALSE)))","v":""},{"$f":"IF(COUNTBLANK($A$81)<>0,\"\",IF(ISERROR(VLOOKUP($A$81,'Roster LIMA'!$E$614:$AU$712,'Roster LIMA'!J$1,FALSE)),\"\",VLOOKUP($A$81,'Roster LIMA'!$E$614:$AU$712,'Roster LIMA'!J$1,FALSE)))","v":""},{"$f":"IF(COUNTBLANK($A$81)<>0,\"\",IF(ISERROR(VLOOKUP($A$81,'Roster LIMA'!$E$614:$AU$712,'Roster LIMA'!K$1,FALSE)),\"\",VLOOKUP($A$81,'Roster LIMA'!$E$614:$AU$712,'Roster LIMA'!K$1,FALSE)))","v":""},{"$f":"IF(COUNTBLANK($A$81)<>0,\"\",IF(ISERROR(VLOOKUP($A$81,'Roster LIMA'!$E$614:$AU$712,'Roster LIMA'!L$1,FALSE)),\"\",VLOOKUP($A$81,'Roster LIMA'!$E$614:$AU$712,'Roster LIMA'!L$1,FALSE)))","v":""},{"$f":"IF(COUNTBLANK($A$81)<>0,\"\",IF(ISERROR(VLOOKUP($A$81,'Roster LIMA'!$E$614:$AU$712,'Roster LIMA'!M$1,FALSE)),\"\",VLOOKUP($A$81,'Roster LIMA'!$E$614:$AU$712,'Roster LIMA'!M$1,FALSE)))","v":""},{"$f":"IF(COUNTBLANK($A$81)<>0,\"\",IF(ISERROR(VLOOKUP($A$81,'Roster LIMA'!$E$614:$AU$712,'Roster LIMA'!N$1,FALSE)),\"\",VLOOKUP($A$81,'Roster LIMA'!$E$614:$AU$712,'Roster LIMA'!N$1,FALSE)))","v":""},{"$f":"IF(COUNTBLANK($A$81)<>0,\"\",IF(ISERROR(VLOOKUP($A$81,'Roster LIMA'!$E$614:$AU$712,'Roster LIMA'!O$1,FALSE)),\"\",VLOOKUP($A$81,'Roster LIMA'!$E$614:$AU$712,'Roster LIMA'!O$1,FALSE)))","v":""},{"$f":"IF(COUNTBLANK($A$81)<>0,\"\",IF(ISERROR(VLOOKUP($A$81,'Roster LIMA'!$E$614:$AU$712,'Roster LIMA'!P$1,FALSE)),\"\",VLOOKUP($A$81,'Roster LIMA'!$E$614:$AU$712,'Roster LIMA'!P$1,FALSE)))","v":""},{"$f":"IF(COUNTBLANK($A$81)<>0,\"\",IF(ISERROR(VLOOKUP($A$81,'Roster LIMA'!$E$614:$AU$712,'Roster LIMA'!Q$1,FALSE)),\"\",VLOOKUP($A$81,'Roster LIMA'!$E$614:$AU$712,'Roster LIMA'!Q$1,FALSE)))","v":""},{"$f":"IF(COUNTBLANK($A$81)<>0,\"\",IF(ISERROR(VLOOKUP($A$81,'Roster LIMA'!$E$614:$AU$712,'Roster LIMA'!R$1,FALSE)),\"\",VLOOKUP($A$81,'Roster LIMA'!$E$614:$AU$712,'Roster LIMA'!R$1,FALSE)))","v":""},{"$f":"IF(COUNTBLANK($A$81)<>0,\"\",IF(ISERROR(VLOOKUP($A$81,'Roster LIMA'!$E$614:$AU$712,'Roster LIMA'!S$1,FALSE)),\"\",VLOOKUP($A$81,'Roster LIMA'!$E$614:$AU$712,'Roster LIMA'!S$1,FALSE)))","v":""},{"$f":"IF(COUNTBLANK($A$81)<>0,\"\",IF(ISERROR(VLOOKUP($A$81,'Roster LIMA'!$E$614:$AU$712,'Roster LIMA'!T$1,FALSE)),\"\",VLOOKUP($A$81,'Roster LIMA'!$E$614:$AU$712,'Roster LIMA'!T$1,FALSE)))","v":""},{"$f":"IF(COUNTBLANK($A$81)<>0,\"\",IF(ISERROR(VLOOKUP($A$81,'Roster LIMA'!$E$614:$AU$712,'Roster LIMA'!U$1,FALSE)),\"\",VLOOKUP($A$81,'Roster LIMA'!$E$614:$AU$712,'Roster LIMA'!U$1,FALSE)))","v":""},{"$f":"IF(COUNTBLANK($A$81)<>0,\"\",IF(ISERROR(VLOOKUP($A$81,'Roster LIMA'!$E$614:$AU$712,'Roster LIMA'!V$1,FALSE)),\"\",VLOOKUP($A$81,'Roster LIMA'!$E$614:$AU$712,'Roster LIMA'!V$1,FALSE)))","v":""},{"$f":"IF(COUNTBLANK($A$81)<>0,\"\",IF(ISERROR(VLOOKUP($A$81,'Roster LIMA'!$E$614:$AU$712,'Roster LIMA'!W$1,FALSE)),\"\",VLOOKUP($A$81,'Roster LIMA'!$E$614:$AU$712,'Roster LIMA'!W$1,FALSE)))","v":""},{"$f":"IF(COUNTBLANK($A$81)<>0,\"\",IF(ISERROR(VLOOKUP($A$81,'Roster LIMA'!$E$614:$AU$712,'Roster LIMA'!X$1,FALSE)),\"\",VLOOKUP($A$81,'Roster LIMA'!$E$614:$AU$712,'Roster LIMA'!X$1,FALSE)))","v":""},{"$f":"IF(COUNTBLANK($A$81)<>0,\"\",IF(ISERROR(VLOOKUP($A$81,'Roster LIMA'!$E$614:$AU$712,'Roster LIMA'!Y$1,FALSE)),\"\",VLOOKUP($A$81,'Roster LIMA'!$E$614:$AU$712,'Roster LIMA'!Y$1,FALSE)))","v":""},{"$f":"IF(COUNTBLANK($A$81)<>0,\"\",IF(ISERROR(VLOOKUP($A$81,'Roster LIMA'!$E$614:$AU$712,'Roster LIMA'!Z$1,FALSE)),\"\",VLOOKUP($A$81,'Roster LIMA'!$E$614:$AU$712,'Roster LIMA'!Z$1,FALSE)))","v":""},{"$f":"IF(COUNTBLANK($A$81)<>0,\"\",IF(ISERROR(VLOOKUP($A$81,'Roster LIMA'!$E$614:$AU$712,'Roster LIMA'!AA$1,FALSE)),\"\",VLOOKUP($A$81,'Roster LIMA'!$E$614:$AU$712,'Roster LIMA'!AA$1,FALSE)))","v":""},{"$f":"IF(COUNTBLANK($A$81)<>0,\"\",IF(ISERROR(VLOOKUP($A$81,'Roster LIMA'!$E$614:$AU$712,'Roster LIMA'!AB$1,FALSE)),\"\",VLOOKUP($A$81,'Roster LIMA'!$E$614:$AU$712,'Roster LIMA'!AB$1,FALSE)))","v":""},{"$f":"IF(COUNTBLANK($A$81)<>0,\"\",IF(ISERROR(VLOOKUP($A$81,'Roster LIMA'!$E$614:$AU$712,'Roster LIMA'!AC$1,FALSE)),\"\",VLOOKUP($A$81,'Roster LIMA'!$E$614:$AU$712,'Roster LIMA'!AC$1,FALSE)))","v":""},{"$f":"IF(COUNTBLANK($A$81)<>0,\"\",IF(ISERROR(VLOOKUP($A$81,'Roster LIMA'!$E$614:$AU$712,'Roster LIMA'!AD$1,FALSE)),\"\",VLOOKUP($A$81,'Roster LIMA'!$E$614:$AU$712,'Roster LIMA'!AD$1,FALSE)))","v":""},{"$f":"IF(COUNTBLANK($A$81)<>0,\"\",IF(ISERROR(VLOOKUP($A$81,'Roster LIMA'!$E$614:$AU$712,'Roster LIMA'!AE$1,FALSE)),\"\",VLOOKUP($A$81,'Roster LIMA'!$E$614:$AU$712,'Roster LIMA'!AE$1,FALSE)))","v":""},{"$f":"IF(COUNTBLANK($A$81)<>0,\"\",IF(ISERROR(VLOOKUP($A$81,'Roster LIMA'!$E$614:$AU$712,'Roster LIMA'!AF$1,FALSE)),\"\",VLOOKUP($A$81,'Roster LIMA'!$E$614:$AU$712,'Roster LIMA'!AF$1,FALSE)))","v":""},{"$f":"IF(COUNTBLANK($A$81)<>0,\"\",IF(ISERROR(VLOOKUP($A$81,'Roster LIMA'!$E$614:$AU$712,'Roster LIMA'!AG$1,FALSE)),\"\",VLOOKUP($A$81,'Roster LIMA'!$E$614:$AU$712,'Roster LIMA'!AG$1,FALSE)))","v":""},{"$f":"IF(COUNTBLANK($A$81)<>0,\"\",IF(ISERROR(VLOOKUP($A$81,'Roster LIMA'!$E$614:$AU$712,'Roster LIMA'!AH$1,FALSE)),\"\",VLOOKUP($A$81,'Roster LIMA'!$E$614:$AU$712,'Roster LIMA'!AH$1,FALSE)))","v":""},{"$f":"IF(COUNTBLANK($A$81)<>0,\"\",IF(ISERROR(VLOOKUP($A$81,'Roster LIMA'!$E$614:$AU$712,'Roster LIMA'!AI$1,FALSE)),\"\",VLOOKUP($A$81,'Roster LIMA'!$E$614:$AU$712,'Roster LIMA'!AI$1,FALSE)))","v":""},{"$f":"IF(COUNTBLANK($A$81)<>0,\"\",IF(ISERROR(VLOOKUP($A$81,'Roster LIMA'!$E$614:$AU$712,'Roster LIMA'!AJ$1,FALSE)),\"\",VLOOKUP($A$81,'Roster LIMA'!$E$614:$AU$712,'Roster LIMA'!AJ$1,FALSE)))","v":""},{"$f":"IF(COUNTBLANK($A$81)<>0,\"\",IF(ISERROR(VLOOKUP($A$81,'Roster LIMA'!$E$614:$AU$712,'Roster LIMA'!AK$1,FALSE)),\"\",VLOOKUP($A$81,'Roster LIMA'!$E$614:$AU$712,'Roster LIMA'!AK$1,FALSE)))","v":""},{"$f":"IF(COUNTBLANK($A$81)<>0,\"\",IF(ISERROR(VLOOKUP($A$81,'Roster LIMA'!$E$614:$AU$712,'Roster LIMA'!AL$1,FALSE)),\"\",VLOOKUP($A$81,'Roster LIMA'!$E$614:$AU$712,'Roster LIMA'!AL$1,FALSE)))","v":""},{"$f":"IF(COUNTBLANK($A$81)<>0,\"\",IF(ISERROR(VLOOKUP($A$81,'Roster LIMA'!$E$614:$AU$712,'Roster LIMA'!AM$1,FALSE)),\"\",VLOOKUP($A$81,'Roster LIMA'!$E$614:$AU$712,'Roster LIMA'!AM$1,FALSE)))","v":""},{"$f":"IF(COUNTBLANK($A$81)<>0,\"\",IF(ISERROR(VLOOKUP($A$81,'Roster LIMA'!$E$614:$AU$712,'Roster LIMA'!AN$1,FALSE)),\"\",VLOOKUP($A$81,'Roster LIMA'!$E$614:$AU$712,'Roster LIMA'!AN$1,FALSE)))","v":""},{"$f":"IF(COUNTBLANK($A$81)<>0,\"\",IF(ISERROR(VLOOKUP($A$81,'Roster LIMA'!$E$614:$AU$712,'Roster LIMA'!AO$1,FALSE)),\"\",VLOOKUP($A$81,'Roster LIMA'!$E$614:$AU$712,'Roster LIMA'!AO$1,FALSE)))","v":""},{"$f":"IF(COUNTBLANK($A$81)<>0,\"\",IF(ISERROR(VLOOKUP($A$81,'Roster LIMA'!$E$614:$AU$712,'Roster LIMA'!AP$1,FALSE)),\"\",VLOOKUP($A$81,'Roster LIMA'!$E$614:$AU$712,'Roster LIMA'!AP$1,FALSE)))","v":""},{"$f":"IF(COUNTBLANK($A$81)<>0,\"\",IF(ISERROR(VLOOKUP($A$81,'Roster LIMA'!$E$614:$AU$712,'Roster LIMA'!AQ$1,FALSE)),\"\",VLOOKUP($A$81,'Roster LIMA'!$E$614:$AU$712,'Roster LIMA'!AQ$1,FALSE)))","v":""},{"$f":"IF(COUNTBLANK($A$81)<>0,\"\",IF(ISERROR(VLOOKUP($A$81,'Roster LIMA'!$E$614:$AU$712,'Roster LIMA'!AR$1,FALSE)),\"\",VLOOKUP($A$81,'Roster LIMA'!$E$614:$AU$712,'Roster LIMA'!AR$1,FALSE)))","v":""}]
["1970-71",{"$f":"IF(COUNTBLANK($A$81)<>0,\"\",IF(ISERROR(VLOOKUP($A$81,'Roster LIMA'!$E$713:$AU$853,4,FALSE)),\"\",IF(VLOOKUP($A$81,'Roster LIMA'!$E$713:$AU$853,4,FALSE)=0,\"\",VLOOKUP($A$81,'Roster LIMA'!$E$713:$AU$853,4,FALSE))))","v":""},{"$f":"IF(COUNTBLANK($A$81)<>0,\"\",IF(ISERROR(VLOOKUP($A$81,'Roster LIMA'!$E$713:$AU$853,5,FALSE)),\"\",IF(VLOOKUP($A$81,'Roster LIMA'!$E$713:$AU$853,5,FALSE)=0,\"\",VLOOKUP($A$81,'Roster LIMA'!$E$713:$AU$853,5,FALSE))))","v":""},{"$f":"IF(COUNTBLANK($A$81)<>0,\"\",IF(ISERROR(VLOOKUP($A$81,'Roster LIMA'!$E$713:$AU$853,6,FALSE)),\"\",IF(VLOOKUP($A$81,'Roster LIMA'!$E$713:$AU$853,6,FALSE)=0,\"\",VLOOKUP($A$81,'Roster LIMA'!$E$713:$AU$853,6,FALSE))))","v":""},{"$f":"IF(COUNTBLANK($A$81)<>0,\"\",IF(ISERROR(VLOOKUP($A$81,'Roster LIMA'!$E$713:$AU$853,5,FALSE)),\"\",IF(VLOOKUP($A$81,'Roster LIMA'!$E$713:$AU$853,5,FALSE)=0,\"\",VLOOKUP($A$81,'Roster LIMA'!$E$713:$AU$853,5,FALSE))))","v":""},null,{"$f":"IF(COUNTBLANK($A$81)<>0,\"\",IF(ISERROR(VLOOKUP($A$81,'Roster LIMA'!$E$713:$AU$853,1,FALSE)),\"N/A\",IF(VLOOKUP($A$81,'Roster LIMA'!$E$713:$AU$853,1,FALSE)=0,\"\",VLOOKUP($A$81,'Roster LIMA'!$E$713:$AU$853,1,FALSE))))","v":"N/A"},null,null,null,{"$f":"IF(COUNTBLANK($A$81)<>0,\"\",IF(ISERROR(VLOOKUP($A$81,'Roster LIMA'!$E$713:$AU$853,'Roster LIMA'!I$1,FALSE)),\"\",VLOOKUP($A$81,'Roster LIMA'!$E$713:$AU$853,'Roster LIMA'!I$1,FALSE)))","v":""},{"$f":"IF(COUNTBLANK($A$81)<>0,\"\",IF(ISERROR(VLOOKUP($A$81,'Roster LIMA'!$E$713:$AU$853,'Roster LIMA'!J$1,FALSE)),\"\",VLOOKUP($A$81,'Roster LIMA'!$E$713:$AU$853,'Roster LIMA'!J$1,FALSE)))","v":""},{"$f":"IF(COUNTBLANK($A$81)<>0,\"\",IF(ISERROR(VLOOKUP($A$81,'Roster LIMA'!$E$713:$AU$853,'Roster LIMA'!K$1,FALSE)),\"\",VLOOKUP($A$81,'Roster LIMA'!$E$713:$AU$853,'Roster LIMA'!K$1,FALSE)))","v":""},{"$f":"IF(COUNTBLANK($A$81)<>0,\"\",IF(ISERROR(VLOOKUP($A$81,'Roster LIMA'!$E$713:$AU$853,'Roster LIMA'!L$1,FALSE)),\"\",VLOOKUP($A$81,'Roster LIMA'!$E$713:$AU$853,'Roster LIMA'!L$1,FALSE)))","v":""},{"$f":"IF(COUNTBLANK($A$81)<>0,\"\",IF(ISERROR(VLOOKUP($A$81,'Roster LIMA'!$E$713:$AU$853,'Roster LIMA'!M$1,FALSE)),\"\",VLOOKUP($A$81,'Roster LIMA'!$E$713:$AU$853,'Roster LIMA'!M$1,FALSE)))","v":""},{"$f":"IF(COUNTBLANK($A$81)<>0,\"\",IF(ISERROR(VLOOKUP($A$81,'Roster LIMA'!$E$713:$AU$853,'Roster LIMA'!N$1,FALSE)),\"\",VLOOKUP($A$81,'Roster LIMA'!$E$713:$AU$853,'Roster LIMA'!N$1,FALSE)))","v":""},{"$f":"IF(COUNTBLANK($A$81)<>0,\"\",IF(ISERROR(VLOOKUP($A$81,'Roster LIMA'!$E$713:$AU$853,'Roster LIMA'!O$1,FALSE)),\"\",VLOOKUP($A$81,'Roster LIMA'!$E$713:$AU$853,'Roster LIMA'!O$1,FALSE)))","v":""},{"$f":"IF(COUNTBLANK($A$81)<>0,\"\",IF(ISERROR(VLOOKUP($A$81,'Roster LIMA'!$E$713:$AU$853,'Roster LIMA'!P$1,FALSE)),\"\",VLOOKUP($A$81,'Roster LIMA'!$E$713:$AU$853,'Roster LIMA'!P$1,FALSE)))","v":""},{"$f":"IF(COUNTBLANK($A$81)<>0,\"\",IF(ISERROR(VLOOKUP($A$81,'Roster LIMA'!$E$713:$AU$853,'Roster LIMA'!Q$1,FALSE)),\"\",VLOOKUP($A$81,'Roster LIMA'!$E$713:$AU$853,'Roster LIMA'!Q$1,FALSE)))","v":""},{"$f":"IF(COUNTBLANK($A$81)<>0,\"\",IF(ISERROR(VLOOKUP($A$81,'Roster LIMA'!$E$713:$AU$853,'Roster LIMA'!R$1,FALSE)),\"\",VLOOKUP($A$81,'Roster LIMA'!$E$713:$AU$853,'Roster LIMA'!R$1,FALSE)))","v":""},{"$f":"IF(COUNTBLANK($A$81)<>0,\"\",IF(ISERROR(VLOOKUP($A$81,'Roster LIMA'!$E$713:$AU$853,'Roster LIMA'!S$1,FALSE)),\"\",VLOOKUP($A$81,'Roster LIMA'!$E$713:$AU$853,'Roster LIMA'!S$1,FALSE)))","v":""},{"$f":"IF(COUNTBLANK($A$81)<>0,\"\",IF(ISERROR(VLOOKUP($A$81,'Roster LIMA'!$E$713:$AU$853,'Roster LIMA'!T$1,FALSE)),\"\",VLOOKUP($A$81,'Roster LIMA'!$E$713:$AU$853,'Roster LIMA'!T$1,FALSE)))","v":""},{"$f":"IF(COUNTBLANK($A$81)<>0,\"\",IF(ISERROR(VLOOKUP($A$81,'Roster LIMA'!$E$713:$AU$853,'Roster LIMA'!U$1,FALSE)),\"\",VLOOKUP($A$81,'Roster LIMA'!$E$713:$AU$853,'Roster LIMA'!U$1,FALSE)))","v":""},{"$f":"IF(COUNTBLANK($A$81)<>0,\"\",IF(ISERROR(VLOOKUP($A$81,'Roster LIMA'!$E$713:$AU$853,'Roster LIMA'!V$1,FALSE)),\"\",VLOOKUP($A$81,'Roster LIMA'!$E$713:$AU$853,'Roster LIMA'!V$1,FALSE)))","v":""},{"$f":"IF(COUNTBLANK($A$81)<>0,\"\",IF(ISERROR(VLOOKUP($A$81,'Roster LIMA'!$E$713:$AU$853,'Roster LIMA'!W$1,FALSE)),\"\",VLOOKUP($A$81,'Roster LIMA'!$E$713:$AU$853,'Roster LIMA'!W$1,FALSE)))","v":""},{"$f":"IF(COUNTBLANK($A$81)<>0,\"\",IF(ISERROR(VLOOKUP($A$81,'Roster LIMA'!$E$713:$AU$853,'Roster LIMA'!X$1,FALSE)),\"\",VLOOKUP($A$81,'Roster LIMA'!$E$713:$AU$853,'Roster LIMA'!X$1,FALSE)))","v":""},{"$f":"IF(COUNTBLANK($A$81)<>0,\"\",IF(ISERROR(VLOOKUP($A$81,'Roster LIMA'!$E$713:$AU$853,'Roster LIMA'!Y$1,FALSE)),\"\",VLOOKUP($A$81,'Roster LIMA'!$E$713:$AU$853,'Roster LIMA'!Y$1,FALSE)))","v":""},{"$f":"IF(COUNTBLANK($A$81)<>0,\"\",IF(ISERROR(VLOOKUP($A$81,'Roster LIMA'!$E$713:$AU$853,'Roster LIMA'!Z$1,FALSE)),\"\",VLOOKUP($A$81,'Roster LIMA'!$E$713:$AU$853,'Roster LIMA'!Z$1,FALSE)))","v":""},{"$f":"IF(COUNTBLANK($A$81)<>0,\"\",IF(ISERROR(VLOOKUP($A$81,'Roster LIMA'!$E$713:$AU$853,'Roster LIMA'!AA$1,FALSE)),\"\",VLOOKUP($A$81,'Roster LIMA'!$E$713:$AU$853,'Roster LIMA'!AA$1,FALSE)))","v":""},{"$f":"IF(COUNTBLANK($A$81)<>0,\"\",IF(ISERROR(VLOOKUP($A$81,'Roster LIMA'!$E$713:$AU$853,'Roster LIMA'!AB$1,FALSE)),\"\",VLOOKUP($A$81,'Roster LIMA'!$E$713:$AU$853,'Roster LIMA'!AB$1,FALSE)))","v":""},{"$f":"IF(COUNTBLANK($A$81)<>0,\"\",IF(ISERROR(VLOOKUP($A$81,'Roster LIMA'!$E$713:$AU$853,'Roster LIMA'!AC$1,FALSE)),\"\",VLOOKUP($A$81,'Roster LIMA'!$E$713:$AU$853,'Roster LIMA'!AC$1,FALSE)))","v":""},{"$f":"IF(COUNTBLANK($A$81)<>0,\"\",IF(ISERROR(VLOOKUP($A$81,'Roster LIMA'!$E$713:$AU$853,'Roster LIMA'!AD$1,FALSE)),\"\",VLOOKUP($A$81,'Roster LIMA'!$E$713:$AU$853,'Roster LIMA'!AD$1,FALSE)))","v":""},{"$f":"IF(COUNTBLANK($A$81)<>0,\"\",IF(ISERROR(VLOOKUP($A$81,'Roster LIMA'!$E$713:$AU$853,'Roster LIMA'!AE$1,FALSE)),\"\",VLOOKUP($A$81,'Roster LIMA'!$E$713:$AU$853,'Roster LIMA'!AE$1,FALSE)))","v":""},{"$f":"IF(COUNTBLANK($A$81)<>0,\"\",IF(ISERROR(VLOOKUP($A$81,'Roster LIMA'!$E$713:$AU$853,'Roster LIMA'!AF$1,FALSE)),\"\",VLOOKUP($A$81,'Roster LIMA'!$E$713:$AU$853,'Roster LIMA'!AF$1,FALSE)))","v":""},{"$f":"IF(COUNTBLANK($A$81)<>0,\"\",IF(ISERROR(VLOOKUP($A$81,'Roster LIMA'!$E$713:$AU$853,'Roster LIMA'!AG$1,FALSE)),\"\",VLOOKUP($A$81,'Roster LIMA'!$E$713:$AU$853,'Roster LIMA'!AG$1,FALSE)))","v":""},{"$f":"IF(COUNTBLANK($A$81)<>0,\"\",IF(ISERROR(VLOOKUP($A$81,'Roster LIMA'!$E$713:$AU$853,'Roster LIMA'!AH$1,FALSE)),\"\",VLOOKUP($A$81,'Roster LIMA'!$E$713:$AU$853,'Roster LIMA'!AH$1,FALSE)))","v":""},{"$f":"IF(COUNTBLANK($A$81)<>0,\"\",IF(ISERROR(VLOOKUP($A$81,'Roster LIMA'!$E$713:$AU$853,'Roster LIMA'!AI$1,FALSE)),\"\",VLOOKUP($A$81,'Roster LIMA'!$E$713:$AU$853,'Roster LIMA'!AI$1,FALSE)))","v":""},{"$f":"IF(COUNTBLANK($A$81)<>0,\"\",IF(ISERROR(VLOOKUP($A$81,'Roster LIMA'!$E$713:$AU$853,'Roster LIMA'!AJ$1,FALSE)),\"\",VLOOKUP($A$81,'Roster LIMA'!$E$713:$AU$853,'Roster LIMA'!AJ$1,FALSE)))","v":""},{"$f":"IF(COUNTBLANK($A$81)<>0,\"\",IF(ISERROR(VLOOKUP($A$81,'Roster LIMA'!$E$713:$AU$853,'Roster LIMA'!AK$1,FALSE)),\"\",VLOOKUP($A$81,'Roster LIMA'!$E$713:$AU$853,'Roster LIMA'!AK$1,FALSE)))","v":""},{"$f":"IF(COUNTBLANK($A$81)<>0,\"\",IF(ISERROR(VLOOKUP($A$81,'Roster LIMA'!$E$713:$AU$853,'Roster LIMA'!AL$1,FALSE)),\"\",VLOOKUP($A$81,'Roster LIMA'!$E$713:$AU$853,'Roster LIMA'!AL$1,FALSE)))","v":""},{"$f":"IF(COUNTBLANK($A$81)<>0,\"\",IF(ISERROR(VLOOKUP($A$81,'Roster LIMA'!$E$713:$AU$853,'Roster LIMA'!AM$1,FALSE)),\"\",VLOOKUP($A$81,'Roster LIMA'!$E$713:$AU$853,'Roster LIMA'!AM$1,FALSE)))","v":""},{"$f":"IF(COUNTBLANK($A$81)<>0,\"\",IF(ISERROR(VLOOKUP($A$81,'Roster LIMA'!$E$713:$AU$853,'Roster LIMA'!AN$1,FALSE)),\"\",VLOOKUP($A$81,'Roster LIMA'!$E$713:$AU$853,'Roster LIMA'!AN$1,FALSE)))","v":""},{"$f":"IF(COUNTBLANK($A$81)<>0,\"\",IF(ISERROR(VLOOKUP($A$81,'Roster LIMA'!$E$713:$AU$853,'Roster LIMA'!AO$1,FALSE)),\"\",VLOOKUP($A$81,'Roster LIMA'!$E$713:$AU$853,'Roster LIMA'!AO$1,FALSE)))","v":""},{"$f":"IF(COUNTBLANK($A$81)<>0,\"\",IF(ISERROR(VLOOKUP($A$81,'Roster LIMA'!$E$713:$AU$853,'Roster LIMA'!AP$1,FALSE)),\"\",VLOOKUP($A$81,'Roster LIMA'!$E$713:$AU$853,'Roster LIMA'!AP$1,FALSE)))","v":""},{"$f":"IF(COUNTBLANK($A$81)<>0,\"\",IF(ISERROR(VLOOKUP($A$81,'Roster LIMA'!$E$713:$AU$853,'Roster LIMA'!AQ$1,FALSE)),\"\",VLOOKUP($A$81,'Roster LIMA'!$E$713:$AU$853,'Roster LIMA'!AQ$1,FALSE)))","v":""},{"$f":"IF(COUNTBLANK($A$81)<>0,\"\",IF(ISERROR(VLOOKUP($A$81,'Roster LIMA'!$E$713:$AU$853,'Roster LIMA'!AR$1,FALSE)),\"\",VLOOKUP($A$81,'Roster LIMA'!$E$713:$AU$853,'Roster LIMA'!AR$1,FALSE)))","v":""}]
["1971-72",{"$f":"IF(COUNTBLANK($A$81)<>0,\"\",IF(ISERROR(VLOOKUP($A$81,'Roster LIMA'!$E$854:$AU$994,4,FALSE)),\"\",IF(VLOOKUP($A$81,'Roster LIMA'!$E$854:$AU$994,4,FALSE)=0,\"\",VLOOKUP($A$81,'Roster LIMA'!$E$854:$AU$994,4,FALSE))))","v":""},{"$f":"IF(COUNTBLANK($A$81)<>0,\"\",IF(ISERROR(VLOOKUP($A$81,'Roster LIMA'!$E$854:$AU$994,5,FALSE)),\"\",IF(VLOOKUP($A$81,'Roster LIMA'!$E$854:$AU$994,5,FALSE)=0,\"\",VLOOKUP($A$81,'Roster LIMA'!$E$854:$AU$994,5,FALSE))))","v":""},{"$f":"IF(COUNTBLANK($A$81)<>0,\"\",IF(ISERROR(VLOOKUP($A$81,'Roster LIMA'!$E$854:$AU$994,6,FALSE)),\"\",IF(VLOOKUP($A$81,'Roster LIMA'!$E$854:$AU$994,6,FALSE)=0,\"\",VLOOKUP($A$81,'Roster LIMA'!$E$854:$AU$994,6,FALSE))))","v":""},{"$f":"IF(COUNTBLANK($A$81)<>0,\"\",IF(ISERROR(VLOOKUP($A$81,'Roster LIMA'!$E$854:$AU$994,5,FALSE)),\"\",IF(VLOOKUP($A$81,'Roster LIMA'!$E$854:$AU$994,5,FALSE)=0,\"\",VLOOKUP($A$81,'Roster LIMA'!$E$854:$AU$994,5,FALSE))))","v":""},null,{"$f":"IF(COUNTBLANK($A$81)<>0,\"\",IF(ISERROR(VLOOKUP($A$81,'Roster LIMA'!$E$854:$AU$994,1,FALSE)),\"N/A\",IF(VLOOKUP($A$81,'Roster LIMA'!$E$854:$AU$994,1,FALSE)=0,\"\",VLOOKUP($A$81,'Roster LIMA'!$E$854:$AU$994,1,FALSE))))","v":"N/A"},null,null,null,{"$f":"IF(COUNTBLANK($A$81)<>0,\"\",IF(ISERROR(VLOOKUP($A$81,'Roster LIMA'!$E$854:$AU$994,'Roster LIMA'!I$1,FALSE)),\"\",VLOOKUP($A$81,'Roster LIMA'!$E$854:$AU$994,'Roster LIMA'!I$1,FALSE)))","v":""},{"$f":"IF(COUNTBLANK($A$81)<>0,\"\",IF(ISERROR(VLOOKUP($A$81,'Roster LIMA'!$E$854:$AU$994,'Roster LIMA'!J$1,FALSE)),\"\",VLOOKUP($A$81,'Roster LIMA'!$E$854:$AU$994,'Roster LIMA'!J$1,FALSE)))","v":""},{"$f":"IF(COUNTBLANK($A$81)<>0,\"\",IF(ISERROR(VLOOKUP($A$81,'Roster LIMA'!$E$854:$AU$994,'Roster LIMA'!K$1,FALSE)),\"\",VLOOKUP($A$81,'Roster LIMA'!$E$854:$AU$994,'Roster LIMA'!K$1,FALSE)))","v":""},{"$f":"IF(COUNTBLANK($A$81)<>0,\"\",IF(ISERROR(VLOOKUP($A$81,'Roster LIMA'!$E$854:$AU$994,'Roster LIMA'!L$1,FALSE)),\"\",VLOOKUP($A$81,'Roster LIMA'!$E$854:$AU$994,'Roster LIMA'!L$1,FALSE)))","v":""},{"$f":"IF(COUNTBLANK($A$81)<>0,\"\",IF(ISERROR(VLOOKUP($A$81,'Roster LIMA'!$E$854:$AU$994,'Roster LIMA'!M$1,FALSE)),\"\",VLOOKUP($A$81,'Roster LIMA'!$E$854:$AU$994,'Roster LIMA'!M$1,FALSE)))","v":""},{"$f":"IF(COUNTBLANK($A$81)<>0,\"\",IF(ISERROR(VLOOKUP($A$81,'Roster LIMA'!$E$854:$AU$994,'Roster LIMA'!N$1,FALSE)),\"\",VLOOKUP($A$81,'Roster LIMA'!$E$854:$AU$994,'Roster LIMA'!N$1,FALSE)))","v":""},{"$f":"IF(COUNTBLANK($A$81)<>0,\"\",IF(ISERROR(VLOOKUP($A$81,'Roster LIMA'!$E$854:$AU$994,'Roster LIMA'!O$1,FALSE)),\"\",VLOOKUP($A$81,'Roster LIMA'!$E$854:$AU$994,'Roster LIMA'!O$1,FALSE)))","v":""},{"$f":"IF(COUNTBLANK($A$81)<>0,\"\",IF(ISERROR(VLOOKUP($A$81,'Roster LIMA'!$E$854:$AU$994,'Roster LIMA'!P$1,FALSE)),\"\",VLOOKUP($A$81,'Roster LIMA'!$E$854:$AU$994,'Roster LIMA'!P$1,FALSE)))","v":""},{"$f":"IF(COUNTBLANK($A$81)<>0,\"\",IF(ISERROR(VLOOKUP($A$81,'Roster LIMA'!$E$854:$AU$994,'Roster LIMA'!Q$1,FALSE)),\"\",VLOOKUP($A$81,'Roster LIMA'!$E$854:$AU$994,'Roster LIMA'!Q$1,FALSE)))","v":""},{"$f":"IF(COUNTBLANK($A$81)<>0,\"\",IF(ISERROR(VLOOKUP($A$81,'Roster LIMA'!$E$854:$AU$994,'Roster LIMA'!R$1,FALSE)),\"\",VLOOKUP($A$81,'Roster LIMA'!$E$854:$AU$994,'Roster LIMA'!R$1,FALSE)))","v":""},{"$f":"IF(COUNTBLANK($A$81)<>0,\"\",IF(ISERROR(VLOOKUP($A$81,'Roster LIMA'!$E$854:$AU$994,'Roster LIMA'!S$1,FALSE)),\"\",VLOOKUP($A$81,'Roster LIMA'!$E$854:$AU$994,'Roster LIMA'!S$1,FALSE)))","v":""},{"$f":"IF(COUNTBLANK($A$81)<>0,\"\",IF(ISERROR(VLOOKUP($A$81,'Roster LIMA'!$E$854:$AU$994,'Roster LIMA'!T$1,FALSE)),\"\",VLOOKUP($A$81,'Roster LIMA'!$E$854:$AU$994,'Roster LIMA'!T$1,FALSE)))","v":""},{"$f":"IF(COUNTBLANK($A$81)<>0,\"\",IF(ISERROR(VLOOKUP($A$81,'Roster LIMA'!$E$854:$AU$994,'Roster LIMA'!U$1,FALSE)),\"\",VLOOKUP($A$81,'Roster LIMA'!$E$854:$AU$994,'Roster LIMA'!U$1,FALSE)))","v":""},{"$f":"IF(COUNTBLANK($A$81)<>0,\"\",IF(ISERROR(VLOOKUP($A$81,'Roster LIMA'!$E$854:$AU$994,'Roster LIMA'!V$1,FALSE)),\"\",VLOOKUP($A$81,'Roster LIMA'!$E$854:$AU$994,'Roster LIMA'!V$1,FALSE)))","v":""},{"$f":"IF(COUNTBLANK($A$81)<>0,\"\",IF(ISERROR(VLOOKUP($A$81,'Roster LIMA'!$E$854:$AU$994,'Roster LIMA'!W$1,FALSE)),\"\",VLOOKUP($A$81,'Roster LIMA'!$E$854:$AU$994,'Roster LIMA'!W$1,FALSE)))","v":""},{"$f":"IF(COUNTBLANK($A$81)<>0,\"\",IF(ISERROR(VLOOKUP($A$81,'Roster LIMA'!$E$854:$AU$994,'Roster LIMA'!X$1,FALSE)),\"\",VLOOKUP($A$81,'Roster LIMA'!$E$854:$AU$994,'Roster LIMA'!X$1,FALSE)))","v":""},{"$f":"IF(COUNTBLANK($A$81)<>0,\"\",IF(ISERROR(VLOOKUP($A$81,'Roster LIMA'!$E$854:$AU$994,'Roster LIMA'!Y$1,FALSE)),\"\",VLOOKUP($A$81,'Roster LIMA'!$E$854:$AU$994,'Roster LIMA'!Y$1,FALSE)))","v":""},{"$f":"IF(COUNTBLANK($A$81)<>0,\"\",IF(ISERROR(VLOOKUP($A$81,'Roster LIMA'!$E$854:$AU$994,'Roster LIMA'!Z$1,FALSE)),\"\",VLOOKUP($A$81,'Roster LIMA'!$E$854:$AU$994,'Roster LIMA'!Z$1,FALSE)))","v":""},{"$f":"IF(COUNTBLANK($A$81)<>0,\"\",IF(ISERROR(VLOOKUP($A$81,'Roster LIMA'!$E$854:$AU$994,'Roster LIMA'!AA$1,FALSE)),\"\",VLOOKUP($A$81,'Roster LIMA'!$E$854:$AU$994,'Roster LIMA'!AA$1,FALSE)))","v":""},{"$f":"IF(COUNTBLANK($A$81)<>0,\"\",IF(ISERROR(VLOOKUP($A$81,'Roster LIMA'!$E$854:$AU$994,'Roster LIMA'!AB$1,FALSE)),\"\",VLOOKUP($A$81,'Roster LIMA'!$E$854:$AU$994,'Roster LIMA'!AB$1,FALSE)))","v":""},{"$f":"IF(COUNTBLANK($A$81)<>0,\"\",IF(ISERROR(VLOOKUP($A$81,'Roster LIMA'!$E$854:$AU$994,'Roster LIMA'!AC$1,FALSE)),\"\",VLOOKUP($A$81,'Roster LIMA'!$E$854:$AU$994,'Roster LIMA'!AC$1,FALSE)))","v":""},{"$f":"IF(COUNTBLANK($A$81)<>0,\"\",IF(ISERROR(VLOOKUP($A$81,'Roster LIMA'!$E$854:$AU$994,'Roster LIMA'!AD$1,FALSE)),\"\",VLOOKUP($A$81,'Roster LIMA'!$E$854:$AU$994,'Roster LIMA'!AD$1,FALSE)))","v":""},{"$f":"IF(COUNTBLANK($A$81)<>0,\"\",IF(ISERROR(VLOOKUP($A$81,'Roster LIMA'!$E$854:$AU$994,'Roster LIMA'!AE$1,FALSE)),\"\",VLOOKUP($A$81,'Roster LIMA'!$E$854:$AU$994,'Roster LIMA'!AE$1,FALSE)))","v":""},{"$f":"IF(COUNTBLANK($A$81)<>0,\"\",IF(ISERROR(VLOOKUP($A$81,'Roster LIMA'!$E$854:$AU$994,'Roster LIMA'!AF$1,FALSE)),\"\",VLOOKUP($A$81,'Roster LIMA'!$E$854:$AU$994,'Roster LIMA'!AF$1,FALSE)))","v":""},{"$f":"IF(COUNTBLANK($A$81)<>0,\"\",IF(ISERROR(VLOOKUP($A$81,'Roster LIMA'!$E$854:$AU$994,'Roster LIMA'!AG$1,FALSE)),\"\",VLOOKUP($A$81,'Roster LIMA'!$E$854:$AU$994,'Roster LIMA'!AG$1,FALSE)))","v":""},{"$f":"IF(COUNTBLANK($A$81)<>0,\"\",IF(ISERROR(VLOOKUP($A$81,'Roster LIMA'!$E$854:$AU$994,'Roster LIMA'!AH$1,FALSE)),\"\",VLOOKUP($A$81,'Roster LIMA'!$E$854:$AU$994,'Roster LIMA'!AH$1,FALSE)))","v":""},{"$f":"IF(COUNTBLANK($A$81)<>0,\"\",IF(ISERROR(VLOOKUP($A$81,'Roster LIMA'!$E$854:$AU$994,'Roster LIMA'!AI$1,FALSE)),\"\",VLOOKUP($A$81,'Roster LIMA'!$E$854:$AU$994,'Roster LIMA'!AI$1,FALSE)))","v":""},{"$f":"IF(COUNTBLANK($A$81)<>0,\"\",IF(ISERROR(VLOOKUP($A$81,'Roster LIMA'!$E$854:$AU$994,'Roster LIMA'!AJ$1,FALSE)),\"\",VLOOKUP($A$81,'Roster LIMA'!$E$854:$AU$994,'Roster LIMA'!AJ$1,FALSE)))","v":""},{"$f":"IF(COUNTBLANK($A$81)<>0,\"\",IF(ISERROR(VLOOKUP($A$81,'Roster LIMA'!$E$854:$AU$994,'Roster LIMA'!AK$1,FALSE)),\"\",VLOOKUP($A$81,'Roster LIMA'!$E$854:$AU$994,'Roster LIMA'!AK$1,FALSE)))","v":""},{"$f":"IF(COUNTBLANK($A$81)<>0,\"\",IF(ISERROR(VLOOKUP($A$81,'Roster LIMA'!$E$854:$AU$994,'Roster LIMA'!AL$1,FALSE)),\"\",VLOOKUP($A$81,'Roster LIMA'!$E$854:$AU$994,'Roster LIMA'!AL$1,FALSE)))","v":""},{"$f":"IF(COUNTBLANK($A$81)<>0,\"\",IF(ISERROR(VLOOKUP($A$81,'Roster LIMA'!$E$854:$AU$994,'Roster LIMA'!AM$1,FALSE)),\"\",VLOOKUP($A$81,'Roster LIMA'!$E$854:$AU$994,'Roster LIMA'!AM$1,FALSE)))","v":""},{"$f":"IF(COUNTBLANK($A$81)<>0,\"\",IF(ISERROR(VLOOKUP($A$81,'Roster LIMA'!$E$854:$AU$994,'Roster LIMA'!AN$1,FALSE)),\"\",VLOOKUP($A$81,'Roster LIMA'!$E$854:$AU$994,'Roster LIMA'!AN$1,FALSE)))","v":""},{"$f":"IF(COUNTBLANK($A$81)<>0,\"\",IF(ISERROR(VLOOKUP($A$81,'Roster LIMA'!$E$854:$AU$994,'Roster LIMA'!AO$1,FALSE)),\"\",VLOOKUP($A$81,'Roster LIMA'!$E$854:$AU$994,'Roster LIMA'!AO$1,FALSE)))","v":""},{"$f":"IF(COUNTBLANK($A$81)<>0,\"\",IF(ISERROR(VLOOKUP($A$81,'Roster LIMA'!$E$854:$AU$994,'Roster LIMA'!AP$1,FALSE)),\"\",VLOOKUP($A$81,'Roster LIMA'!$E$854:$AU$994,'Roster LIMA'!AP$1,FALSE)))","v":""},{"$f":"IF(COUNTBLANK($A$81)<>0,\"\",IF(ISERROR(VLOOKUP($A$81,'Roster LIMA'!$E$854:$AU$994,'Roster LIMA'!AQ$1,FALSE)),\"\",VLOOKUP($A$81,'Roster LIMA'!$E$854:$AU$994,'Roster LIMA'!AQ$1,FALSE)))","v":""},{"$f":"IF(COUNTBLANK($A$81)<>0,\"\",IF(ISERROR(VLOOKUP($A$81,'Roster LIMA'!$E$854:$AU$994,'Roster LIMA'!AR$1,FALSE)),\"\",VLOOKUP($A$81,'Roster LIMA'!$E$854:$AU$994,'Roster LIMA'!AR$1,FALSE)))","v":""}]
["1972-73",{"$f":"IF(COUNTBLANK($A$81)<>0,\"\",IF(ISERROR(VLOOKUP($A$81,'Roster LIMA'!$E$995:$AU$1138,4,FALSE)),\"\",IF(VLOOKUP($A$81,'Roster LIMA'!$E$995:$AU$1138,4,FALSE)=0,\"\",VLOOKUP($A$81,'Roster LIMA'!$E$995:$AU$1138,4,FALSE))))","v":""},{"$f":"IF(COUNTBLANK($A$81)<>0,\"\",IF(ISERROR(VLOOKUP($A$81,'Roster LIMA'!$E$995:$AU$1138,5,FALSE)),\"\",IF(VLOOKUP($A$81,'Roster LIMA'!$E$995:$AU$1138,5,FALSE)=0,\"\",VLOOKUP($A$81,'Roster LIMA'!$E$995:$AU$1138,5,FALSE))))","v":""},{"$f":"IF(COUNTBLANK($A$81)<>0,\"\",IF(ISERROR(VLOOKUP($A$81,'Roster LIMA'!$E$995:$AU$1138,6,FALSE)),\"\",IF(VLOOKUP($A$81,'Roster LIMA'!$E$995:$AU$1138,6,FALSE)=0,\"\",VLOOKUP($A$81,'Roster LIMA'!$E$995:$AU$1138,6,FALSE))))","v":""},{"$f":"IF(COUNTBLANK($A$81)<>0,\"\",IF(ISERROR(VLOOKUP($A$81,'Roster LIMA'!$E$995:$AU$1138,5,FALSE)),\"\",IF(VLOOKUP($A$81,'Roster LIMA'!$E$995:$AU$1138,5,FALSE)=0,\"\",VLOOKUP($A$81,'Roster LIMA'!$E$995:$AU$1138,5,FALSE))))","v":""},null,{"$f":"IF(COUNTBLANK($A$81)<>0,\"\",IF(ISERROR(VLOOKUP($A$81,'Roster LIMA'!$E$995:$AU$1138,1,FALSE)),\"N/A\",IF(VLOOKUP($A$81,'Roster LIMA'!$E$995:$AU$1138,1,FALSE)=0,\"\",VLOOKUP($A$81,'Roster LIMA'!$E$995:$AU$1138,1,FALSE))))","v":"N/A"},null,null,null,{"$f":"IF(COUNTBLANK($A$81)<>0,\"\",IF(ISERROR(VLOOKUP($A$81,'Roster LIMA'!$E$995:$AU$1138,'Roster LIMA'!I$1,FALSE)),\"\",VLOOKUP($A$81,'Roster LIMA'!$E$995:$AU$1138,'Roster LIMA'!I$1,FALSE)))","v":""},{"$f":"IF(COUNTBLANK($A$81)<>0,\"\",IF(ISERROR(VLOOKUP($A$81,'Roster LIMA'!$E$995:$AU$1138,'Roster LIMA'!J$1,FALSE)),\"\",VLOOKUP($A$81,'Roster LIMA'!$E$995:$AU$1138,'Roster LIMA'!J$1,FALSE)))","v":""},{"$f":"IF(COUNTBLANK($A$81)<>0,\"\",IF(ISERROR(VLOOKUP($A$81,'Roster LIMA'!$E$995:$AU$1138,'Roster LIMA'!K$1,FALSE)),\"\",VLOOKUP($A$81,'Roster LIMA'!$E$995:$AU$1138,'Roster LIMA'!K$1,FALSE)))","v":""},{"$f":"IF(COUNTBLANK($A$81)<>0,\"\",IF(ISERROR(VLOOKUP($A$81,'Roster LIMA'!$E$995:$AU$1138,'Roster LIMA'!L$1,FALSE)),\"\",VLOOKUP($A$81,'Roster LIMA'!$E$995:$AU$1138,'Roster LIMA'!L$1,FALSE)))","v":""},{"$f":"IF(COUNTBLANK($A$81)<>0,\"\",IF(ISERROR(VLOOKUP($A$81,'Roster LIMA'!$E$995:$AU$1138,'Roster LIMA'!M$1,FALSE)),\"\",VLOOKUP($A$81,'Roster LIMA'!$E$995:$AU$1138,'Roster LIMA'!M$1,FALSE)))","v":""},{"$f":"IF(COUNTBLANK($A$81)<>0,\"\",IF(ISERROR(VLOOKUP($A$81,'Roster LIMA'!$E$995:$AU$1138,'Roster LIMA'!N$1,FALSE)),\"\",VLOOKUP($A$81,'Roster LIMA'!$E$995:$AU$1138,'Roster LIMA'!N$1,FALSE)))","v":""},{"$f":"IF(COUNTBLANK($A$81)<>0,\"\",IF(ISERROR(VLOOKUP($A$81,'Roster LIMA'!$E$995:$AU$1138,'Roster LIMA'!O$1,FALSE)),\"\",VLOOKUP($A$81,'Roster LIMA'!$E$995:$AU$1138,'Roster LIMA'!O$1,FALSE)))","v":""},{"$f":"IF(COUNTBLANK($A$81)<>0,\"\",IF(ISERROR(VLOOKUP($A$81,'Roster LIMA'!$E$995:$AU$1138,'Roster LIMA'!P$1,FALSE)),\"\",VLOOKUP($A$81,'Roster LIMA'!$E$995:$AU$1138,'Roster LIMA'!P$1,FALSE)))","v":""},{"$f":"IF(COUNTBLANK($A$81)<>0,\"\",IF(ISERROR(VLOOKUP($A$81,'Roster LIMA'!$E$995:$AU$1138,'Roster LIMA'!Q$1,FALSE)),\"\",VLOOKUP($A$81,'Roster LIMA'!$E$995:$AU$1138,'Roster LIMA'!Q$1,FALSE)))","v":""},{"$f":"IF(COUNTBLANK($A$81)<>0,\"\",IF(ISERROR(VLOOKUP($A$81,'Roster LIMA'!$E$995:$AU$1138,'Roster LIMA'!R$1,FALSE)),\"\",VLOOKUP($A$81,'Roster LIMA'!$E$995:$AU$1138,'Roster LIMA'!R$1,FALSE)))","v":""},{"$f":"IF(COUNTBLANK($A$81)<>0,\"\",IF(ISERROR(VLOOKUP($A$81,'Roster LIMA'!$E$995:$AU$1138,'Roster LIMA'!S$1,FALSE)),\"\",VLOOKUP($A$81,'Roster LIMA'!$E$995:$AU$1138,'Roster LIMA'!S$1,FALSE)))","v":""},{"$f":"IF(COUNTBLANK($A$81)<>0,\"\",IF(ISERROR(VLOOKUP($A$81,'Roster LIMA'!$E$995:$AU$1138,'Roster LIMA'!T$1,FALSE)),\"\",VLOOKUP($A$81,'Roster LIMA'!$E$995:$AU$1138,'Roster LIMA'!T$1,FALSE)))","v":""},{"$f":"IF(COUNTBLANK($A$81)<>0,\"\",IF(ISERROR(VLOOKUP($A$81,'Roster LIMA'!$E$995:$AU$1138,'Roster LIMA'!U$1,FALSE)),\"\",VLOOKUP($A$81,'Roster LIMA'!$E$995:$AU$1138,'Roster LIMA'!U$1,FALSE)))","v":""},{"$f":"IF(COUNTBLANK($A$81)<>0,\"\",IF(ISERROR(VLOOKUP($A$81,'Roster LIMA'!$E$995:$AU$1138,'Roster LIMA'!V$1,FALSE)),\"\",VLOOKUP($A$81,'Roster LIMA'!$E$995:$AU$1138,'Roster LIMA'!V$1,FALSE)))","v":""},{"$f":"IF(COUNTBLANK($A$81)<>0,\"\",IF(ISERROR(VLOOKUP($A$81,'Roster LIMA'!$E$995:$AU$1138,'Roster LIMA'!W$1,FALSE)),\"\",VLOOKUP($A$81,'Roster LIMA'!$E$995:$AU$1138,'Roster LIMA'!W$1,FALSE)))","v":""},{"$f":"IF(COUNTBLANK($A$81)<>0,\"\",IF(ISERROR(VLOOKUP($A$81,'Roster LIMA'!$E$995:$AU$1138,'Roster LIMA'!X$1,FALSE)),\"\",VLOOKUP($A$81,'Roster LIMA'!$E$995:$AU$1138,'Roster LIMA'!X$1,FALSE)))","v":""},{"$f":"IF(COUNTBLANK($A$81)<>0,\"\",IF(ISERROR(VLOOKUP($A$81,'Roster LIMA'!$E$995:$AU$1138,'Roster LIMA'!Y$1,FALSE)),\"\",VLOOKUP($A$81,'Roster LIMA'!$E$995:$AU$1138,'Roster LIMA'!Y$1,FALSE)))","v":""},{"$f":"IF(COUNTBLANK($A$81)<>0,\"\",IF(ISERROR(VLOOKUP($A$81,'Roster LIMA'!$E$995:$AU$1138,'Roster LIMA'!Z$1,FALSE)),\"\",VLOOKUP($A$81,'Roster LIMA'!$E$995:$AU$1138,'Roster LIMA'!Z$1,FALSE)))","v":""},{"$f":"IF(COUNTBLANK($A$81)<>0,\"\",IF(ISERROR(VLOOKUP($A$81,'Roster LIMA'!$E$995:$AU$1138,'Roster LIMA'!AA$1,FALSE)),\"\",VLOOKUP($A$81,'Roster LIMA'!$E$995:$AU$1138,'Roster LIMA'!AA$1,FALSE)))","v":""},{"$f":"IF(COUNTBLANK($A$81)<>0,\"\",IF(ISERROR(VLOOKUP($A$81,'Roster LIMA'!$E$995:$AU$1138,'Roster LIMA'!AB$1,FALSE)),\"\",VLOOKUP($A$81,'Roster LIMA'!$E$995:$AU$1138,'Roster LIMA'!AB$1,FALSE)))","v":""},{"$f":"IF(COUNTBLANK($A$81)<>0,\"\",IF(ISERROR(VLOOKUP($A$81,'Roster LIMA'!$E$995:$AU$1138,'Roster LIMA'!AC$1,FALSE)),\"\",VLOOKUP($A$81,'Roster LIMA'!$E$995:$AU$1138,'Roster LIMA'!AC$1,FALSE)))","v":""},{"$f":"IF(COUNTBLANK($A$81)<>0,\"\",IF(ISERROR(VLOOKUP($A$81,'Roster LIMA'!$E$995:$AU$1138,'Roster LIMA'!AD$1,FALSE)),\"\",VLOOKUP($A$81,'Roster LIMA'!$E$995:$AU$1138,'Roster LIMA'!AD$1,FALSE)))","v":""},{"$f":"IF(COUNTBLANK($A$81)<>0,\"\",IF(ISERROR(VLOOKUP($A$81,'Roster LIMA'!$E$995:$AU$1138,'Roster LIMA'!AE$1,FALSE)),\"\",VLOOKUP($A$81,'Roster LIMA'!$E$995:$AU$1138,'Roster LIMA'!AE$1,FALSE)))","v":""},{"$f":"IF(COUNTBLANK($A$81)<>0,\"\",IF(ISERROR(VLOOKUP($A$81,'Roster LIMA'!$E$995:$AU$1138,'Roster LIMA'!AF$1,FALSE)),\"\",VLOOKUP($A$81,'Roster LIMA'!$E$995:$AU$1138,'Roster LIMA'!AF$1,FALSE)))","v":""},{"$f":"IF(COUNTBLANK($A$81)<>0,\"\",IF(ISERROR(VLOOKUP($A$81,'Roster LIMA'!$E$995:$AU$1138,'Roster LIMA'!AG$1,FALSE)),\"\",VLOOKUP($A$81,'Roster LIMA'!$E$995:$AU$1138,'Roster LIMA'!AG$1,FALSE)))","v":""},{"$f":"IF(COUNTBLANK($A$81)<>0,\"\",IF(ISERROR(VLOOKUP($A$81,'Roster LIMA'!$E$995:$AU$1138,'Roster LIMA'!AH$1,FALSE)),\"\",VLOOKUP($A$81,'Roster LIMA'!$E$995:$AU$1138,'Roster LIMA'!AH$1,FALSE)))","v":""},{"$f":"IF(COUNTBLANK($A$81)<>0,\"\",IF(ISERROR(VLOOKUP($A$81,'Roster LIMA'!$E$995:$AU$1138,'Roster LIMA'!AI$1,FALSE)),\"\",VLOOKUP($A$81,'Roster LIMA'!$E$995:$AU$1138,'Roster LIMA'!AI$1,FALSE)))","v":""},{"$f":"IF(COUNTBLANK($A$81)<>0,\"\",IF(ISERROR(VLOOKUP($A$81,'Roster LIMA'!$E$995:$AU$1138,'Roster LIMA'!AJ$1,FALSE)),\"\",VLOOKUP($A$81,'Roster LIMA'!$E$995:$AU$1138,'Roster LIMA'!AJ$1,FALSE)))","v":""},{"$f":"IF(COUNTBLANK($A$81)<>0,\"\",IF(ISERROR(VLOOKUP($A$81,'Roster LIMA'!$E$995:$AU$1138,'Roster LIMA'!AK$1,FALSE)),\"\",VLOOKUP($A$81,'Roster LIMA'!$E$995:$AU$1138,'Roster LIMA'!AK$1,FALSE)))","v":""},{"$f":"IF(COUNTBLANK($A$81)<>0,\"\",IF(ISERROR(VLOOKUP($A$81,'Roster LIMA'!$E$995:$AU$1138,'Roster LIMA'!AL$1,FALSE)),\"\",VLOOKUP($A$81,'Roster LIMA'!$E$995:$AU$1138,'Roster LIMA'!AL$1,FALSE)))","v":""},{"$f":"IF(COUNTBLANK($A$81)<>0,\"\",IF(ISERROR(VLOOKUP($A$81,'Roster LIMA'!$E$995:$AU$1138,'Roster LIMA'!AM$1,FALSE)),\"\",VLOOKUP($A$81,'Roster LIMA'!$E$995:$AU$1138,'Roster LIMA'!AM$1,FALSE)))","v":""},{"$f":"IF(COUNTBLANK($A$81)<>0,\"\",IF(ISERROR(VLOOKUP($A$81,'Roster LIMA'!$E$995:$AU$1138,'Roster LIMA'!AN$1,FALSE)),\"\",VLOOKUP($A$81,'Roster LIMA'!$E$995:$AU$1138,'Roster LIMA'!AN$1,FALSE)))","v":""},{"$f":"IF(COUNTBLANK($A$81)<>0,\"\",IF(ISERROR(VLOOKUP($A$81,'Roster LIMA'!$E$995:$AU$1138,'Roster LIMA'!AO$1,FALSE)),\"\",VLOOKUP($A$81,'Roster LIMA'!$E$995:$AU$1138,'Roster LIMA'!AO$1,FALSE)))","v":""},{"$f":"IF(COUNTBLANK($A$81)<>0,\"\",IF(ISERROR(VLOOKUP($A$81,'Roster LIMA'!$E$995:$AU$1138,'Roster LIMA'!AP$1,FALSE)),\"\",VLOOKUP($A$81,'Roster LIMA'!$E$995:$AU$1138,'Roster LIMA'!AP$1,FALSE)))","v":""},{"$f":"IF(COUNTBLANK($A$81)<>0,\"\",IF(ISERROR(VLOOKUP($A$81,'Roster LIMA'!$E$995:$AU$1138,'Roster LIMA'!AQ$1,FALSE)),\"\",VLOOKUP($A$81,'Roster LIMA'!$E$995:$AU$1138,'Roster LIMA'!AQ$1,FALSE)))","v":""},{"$f":"IF(COUNTBLANK($A$81)<>0,\"\",IF(ISERROR(VLOOKUP($A$81,'Roster LIMA'!$E$995:$AU$1138,'Roster LIMA'!AR$1,FALSE)),\"\",VLOOKUP($A$81,'Roster LIMA'!$E$995:$AU$1138,'Roster LIMA'!AR$1,FALSE)))","v":""}]
["1973-74",{"$f":"IF(COUNTBLANK($A$81)<>0,\"\",IF(ISERROR(VLOOKUP($A$81,'Roster LIMA'!$E$1139:$AU$1342,4,FALSE)),\"\",IF(VLOOKUP($A$81,'Roster LIMA'!$E$1139:$AU$1342,4,FALSE)=0,\"\",VLOOKUP($A$81,'Roster LIMA'!$E$1139:$AU$1342,4,FALSE))))","v":""},{"$f":"IF(COUNTBLANK($A$81)<>0,\"\",IF(ISERROR(VLOOKUP($A$81,'Roster LIMA'!$E$1139:$AU$1342,5,FALSE)),\"\",IF(VLOOKUP($A$81,'Roster LIMA'!$E$1139:$AU$1342,5,FALSE)=0,\"\",VLOOKUP($A$81,'Roster LIMA'!$E$1139:$AU$1342,5,FALSE))))","v":""},{"$f":"IF(COUNTBLANK($A$81)<>0,\"\",IF(ISERROR(VLOOKUP($A$81,'Roster LIMA'!$E$1139:$AU$1342,6,FALSE)),\"\",IF(VLOOKUP($A$81,'Roster LIMA'!$E$1139:$AU$1342,6,FALSE)=0,\"\",VLOOKUP($A$81,'Roster LIMA'!$E$1139:$AU$1342,6,FALSE))))","v":""},{"$f":"IF(COUNTBLANK($A$81)<>0,\"\",IF(ISERROR(VLOOKUP($A$81,'Roster LIMA'!$E$1139:$AU$1342,5,FALSE)),\"\",IF(VLOOKUP($A$81,'Roster LIMA'!$E$1139:$AU$1342,5,FALSE)=0,\"\",VLOOKUP($A$81,'Roster LIMA'!$E$1139:$AU$1342,5,FALSE))))","v":""},null,{"$f":"IF(COUNTBLANK($A$81)<>0,\"\",IF(ISERROR(VLOOKUP($A$81,'Roster LIMA'!$E$1139:$AU$1342,1,FALSE)),\"N/A\",IF(VLOOKUP($A$81,'Roster LIMA'!$E$1139:$AU$1342,1,FALSE)=0,\"\",VLOOKUP($A$81,'Roster LIMA'!$E$1139:$AU$1342,1,FALSE))))","v":"N/A"},null,null,null,{"$f":"IF(COUNTBLANK($A$81)<>0,\"\",IF(ISERROR(VLOOKUP($A$81,'Roster LIMA'!$E$1139:$AU$1342,'Roster LIMA'!I$1,FALSE)),\"\",VLOOKUP($A$81,'Roster LIMA'!$E$1139:$AU$1342,'Roster LIMA'!I$1,FALSE)))","v":""},{"$f":"IF(COUNTBLANK($A$81)<>0,\"\",IF(ISERROR(VLOOKUP($A$81,'Roster LIMA'!$E$1139:$AU$1342,'Roster LIMA'!J$1,FALSE)),\"\",VLOOKUP($A$81,'Roster LIMA'!$E$1139:$AU$1342,'Roster LIMA'!J$1,FALSE)))","v":""},{"$f":"IF(COUNTBLANK($A$81)<>0,\"\",IF(ISERROR(VLOOKUP($A$81,'Roster LIMA'!$E$1139:$AU$1342,'Roster LIMA'!K$1,FALSE)),\"\",VLOOKUP($A$81,'Roster LIMA'!$E$1139:$AU$1342,'Roster LIMA'!K$1,FALSE)))","v":""},{"$f":"IF(COUNTBLANK($A$81)<>0,\"\",IF(ISERROR(VLOOKUP($A$81,'Roster LIMA'!$E$1139:$AU$1342,'Roster LIMA'!L$1,FALSE)),\"\",VLOOKUP($A$81,'Roster LIMA'!$E$1139:$AU$1342,'Roster LIMA'!L$1,FALSE)))","v":""},{"$f":"IF(COUNTBLANK($A$81)<>0,\"\",IF(ISERROR(VLOOKUP($A$81,'Roster LIMA'!$E$1139:$AU$1342,'Roster LIMA'!M$1,FALSE)),\"\",VLOOKUP($A$81,'Roster LIMA'!$E$1139:$AU$1342,'Roster LIMA'!M$1,FALSE)))","v":""},{"$f":"IF(COUNTBLANK($A$81)<>0,\"\",IF(ISERROR(VLOOKUP($A$81,'Roster LIMA'!$E$1139:$AU$1342,'Roster LIMA'!N$1,FALSE)),\"\",VLOOKUP($A$81,'Roster LIMA'!$E$1139:$AU$1342,'Roster LIMA'!N$1,FALSE)))","v":""},{"$f":"IF(COUNTBLANK($A$81)<>0,\"\",IF(ISERROR(VLOOKUP($A$81,'Roster LIMA'!$E$1139:$AU$1342,'Roster LIMA'!O$1,FALSE)),\"\",VLOOKUP($A$81,'Roster LIMA'!$E$1139:$AU$1342,'Roster LIMA'!O$1,FALSE)))","v":""},{"$f":"IF(COUNTBLANK($A$81)<>0,\"\",IF(ISERROR(VLOOKUP($A$81,'Roster LIMA'!$E$1139:$AU$1342,'Roster LIMA'!P$1,FALSE)),\"\",VLOOKUP($A$81,'Roster LIMA'!$E$1139:$AU$1342,'Roster LIMA'!P$1,FALSE)))","v":""},{"$f":"IF(COUNTBLANK($A$81)<>0,\"\",IF(ISERROR(VLOOKUP($A$81,'Roster LIMA'!$E$1139:$AU$1342,'Roster LIMA'!Q$1,FALSE)),\"\",VLOOKUP($A$81,'Roster LIMA'!$E$1139:$AU$1342,'Roster LIMA'!Q$1,FALSE)))","v":""},{"$f":"IF(COUNTBLANK($A$81)<>0,\"\",IF(ISERROR(VLOOKUP($A$81,'Roster LIMA'!$E$1139:$AU$1342,'Roster LIMA'!R$1,FALSE)),\"\",VLOOKUP($A$81,'Roster LIMA'!$E$1139:$AU$1342,'Roster LIMA'!R$1,FALSE)))","v":""},{"$f":"IF(COUNTBLANK($A$81)<>0,\"\",IF(ISERROR(VLOOKUP($A$81,'Roster LIMA'!$E$1139:$AU$1342,'Roster LIMA'!S$1,FALSE)),\"\",VLOOKUP($A$81,'Roster LIMA'!$E$1139:$AU$1342,'Roster LIMA'!S$1,FALSE)))","v":""},{"$f":"IF(COUNTBLANK($A$81)<>0,\"\",IF(ISERROR(VLOOKUP($A$81,'Roster LIMA'!$E$1139:$AU$1342,'Roster LIMA'!T$1,FALSE)),\"\",VLOOKUP($A$81,'Roster LIMA'!$E$1139:$AU$1342,'Roster LIMA'!T$1,FALSE)))","v":""},{"$f":"IF(COUNTBLANK($A$81)<>0,\"\",IF(ISERROR(VLOOKUP($A$81,'Roster LIMA'!$E$1139:$AU$1342,'Roster LIMA'!U$1,FALSE)),\"\",VLOOKUP($A$81,'Roster LIMA'!$E$1139:$AU$1342,'Roster LIMA'!U$1,FALSE)))","v":""},{"$f":"IF(COUNTBLANK($A$81)<>0,\"\",IF(ISERROR(VLOOKUP($A$81,'Roster LIMA'!$E$1139:$AU$1342,'Roster LIMA'!V$1,FALSE)),\"\",VLOOKUP($A$81,'Roster LIMA'!$E$1139:$AU$1342,'Roster LIMA'!V$1,FALSE)))","v":""},{"$f":"IF(COUNTBLANK($A$81)<>0,\"\",IF(ISERROR(VLOOKUP($A$81,'Roster LIMA'!$E$1139:$AU$1342,'Roster LIMA'!W$1,FALSE)),\"\",VLOOKUP($A$81,'Roster LIMA'!$E$1139:$AU$1342,'Roster LIMA'!W$1,FALSE)))","v":""},{"$f":"IF(COUNTBLANK($A$81)<>0,\"\",IF(ISERROR(VLOOKUP($A$81,'Roster LIMA'!$E$1139:$AU$1342,'Roster LIMA'!X$1,FALSE)),\"\",VLOOKUP($A$81,'Roster LIMA'!$E$1139:$AU$1342,'Roster LIMA'!X$1,FALSE)))","v":""},{"$f":"IF(COUNTBLANK($A$81)<>0,\"\",IF(ISERROR(VLOOKUP($A$81,'Roster LIMA'!$E$1139:$AU$1342,'Roster LIMA'!Y$1,FALSE)),\"\",VLOOKUP($A$81,'Roster LIMA'!$E$1139:$AU$1342,'Roster LIMA'!Y$1,FALSE)))","v":""},{"$f":"IF(COUNTBLANK($A$81)<>0,\"\",IF(ISERROR(VLOOKUP($A$81,'Roster LIMA'!$E$1139:$AU$1342,'Roster LIMA'!Z$1,FALSE)),\"\",VLOOKUP($A$81,'Roster LIMA'!$E$1139:$AU$1342,'Roster LIMA'!Z$1,FALSE)))","v":""},{"$f":"IF(COUNTBLANK($A$81)<>0,\"\",IF(ISERROR(VLOOKUP($A$81,'Roster LIMA'!$E$1139:$AU$1342,'Roster LIMA'!AA$1,FALSE)),\"\",VLOOKUP($A$81,'Roster LIMA'!$E$1139:$AU$1342,'Roster LIMA'!AA$1,FALSE)))","v":""},{"$f":"IF(COUNTBLANK($A$81)<>0,\"\",IF(ISERROR(VLOOKUP($A$81,'Roster LIMA'!$E$1139:$AU$1342,'Roster LIMA'!AB$1,FALSE)),\"\",VLOOKUP($A$81,'Roster LIMA'!$E$1139:$AU$1342,'Roster LIMA'!AB$1,FALSE)))","v":""},{"$f":"IF(COUNTBLANK($A$81)<>0,\"\",IF(ISERROR(VLOOKUP($A$81,'Roster LIMA'!$E$1139:$AU$1342,'Roster LIMA'!AC$1,FALSE)),\"\",VLOOKUP($A$81,'Roster LIMA'!$E$1139:$AU$1342,'Roster LIMA'!AC$1,FALSE)))","v":""},{"$f":"IF(COUNTBLANK($A$81)<>0,\"\",IF(ISERROR(VLOOKUP($A$81,'Roster LIMA'!$E$1139:$AU$1342,'Roster LIMA'!AD$1,FALSE)),\"\",VLOOKUP($A$81,'Roster LIMA'!$E$1139:$AU$1342,'Roster LIMA'!AD$1,FALSE)))","v":""},{"$f":"IF(COUNTBLANK($A$81)<>0,\"\",IF(ISERROR(VLOOKUP($A$81,'Roster LIMA'!$E$1139:$AU$1342,'Roster LIMA'!AE$1,FALSE)),\"\",VLOOKUP($A$81,'Roster LIMA'!$E$1139:$AU$1342,'Roster LIMA'!AE$1,FALSE)))","v":""},{"$f":"IF(COUNTBLANK($A$81)<>0,\"\",IF(ISERROR(VLOOKUP($A$81,'Roster LIMA'!$E$1139:$AU$1342,'Roster LIMA'!AF$1,FALSE)),\"\",VLOOKUP($A$81,'Roster LIMA'!$E$1139:$AU$1342,'Roster LIMA'!AF$1,FALSE)))","v":""},{"$f":"IF(COUNTBLANK($A$81)<>0,\"\",IF(ISERROR(VLOOKUP($A$81,'Roster LIMA'!$E$1139:$AU$1342,'Roster LIMA'!AG$1,FALSE)),\"\",VLOOKUP($A$81,'Roster LIMA'!$E$1139:$AU$1342,'Roster LIMA'!AG$1,FALSE)))","v":""},{"$f":"IF(COUNTBLANK($A$81)<>0,\"\",IF(ISERROR(VLOOKUP($A$81,'Roster LIMA'!$E$1139:$AU$1342,'Roster LIMA'!AH$1,FALSE)),\"\",VLOOKUP($A$81,'Roster LIMA'!$E$1139:$AU$1342,'Roster LIMA'!AH$1,FALSE)))","v":""},{"$f":"IF(COUNTBLANK($A$81)<>0,\"\",IF(ISERROR(VLOOKUP($A$81,'Roster LIMA'!$E$1139:$AU$1342,'Roster LIMA'!AI$1,FALSE)),\"\",VLOOKUP($A$81,'Roster LIMA'!$E$1139:$AU$1342,'Roster LIMA'!AI$1,FALSE)))","v":""},{"$f":"IF(COUNTBLANK($A$81)<>0,\"\",IF(ISERROR(VLOOKUP($A$81,'Roster LIMA'!$E$1139:$AU$1342,'Roster LIMA'!AJ$1,FALSE)),\"\",VLOOKUP($A$81,'Roster LIMA'!$E$1139:$AU$1342,'Roster LIMA'!AJ$1,FALSE)))","v":""},{"$f":"IF(COUNTBLANK($A$81)<>0,\"\",IF(ISERROR(VLOOKUP($A$81,'Roster LIMA'!$E$1139:$AU$1342,'Roster LIMA'!AK$1,FALSE)),\"\",VLOOKUP($A$81,'Roster LIMA'!$E$1139:$AU$1342,'Roster LIMA'!AK$1,FALSE)))","v":""},{"$f":"IF(COUNTBLANK($A$81)<>0,\"\",IF(ISERROR(VLOOKUP($A$81,'Roster LIMA'!$E$1139:$AU$1342,'Roster LIMA'!AL$1,FALSE)),\"\",VLOOKUP($A$81,'Roster LIMA'!$E$1139:$AU$1342,'Roster LIMA'!AL$1,FALSE)))","v":""},{"$f":"IF(COUNTBLANK($A$81)<>0,\"\",IF(ISERROR(VLOOKUP($A$81,'Roster LIMA'!$E$1139:$AU$1342,'Roster LIMA'!AM$1,FALSE)),\"\",VLOOKUP($A$81,'Roster LIMA'!$E$1139:$AU$1342,'Roster LIMA'!AM$1,FALSE)))","v":""},{"$f":"IF(COUNTBLANK($A$81)<>0,\"\",IF(ISERROR(VLOOKUP($A$81,'Roster LIMA'!$E$1139:$AU$1342,'Roster LIMA'!AN$1,FALSE)),\"\",VLOOKUP($A$81,'Roster LIMA'!$E$1139:$AU$1342,'Roster LIMA'!AN$1,FALSE)))","v":""},{"$f":"IF(COUNTBLANK($A$81)<>0,\"\",IF(ISERROR(VLOOKUP($A$81,'Roster LIMA'!$E$1139:$AU$1342,'Roster LIMA'!AO$1,FALSE)),\"\",VLOOKUP($A$81,'Roster LIMA'!$E$1139:$AU$1342,'Roster LIMA'!AO$1,FALSE)))","v":""},{"$f":"IF(COUNTBLANK($A$81)<>0,\"\",IF(ISERROR(VLOOKUP($A$81,'Roster LIMA'!$E$1139:$AU$1342,'Roster LIMA'!AP$1,FALSE)),\"\",VLOOKUP($A$81,'Roster LIMA'!$E$1139:$AU$1342,'Roster LIMA'!AP$1,FALSE)))","v":""},{"$f":"IF(COUNTBLANK($A$81)<>0,\"\",IF(ISERROR(VLOOKUP($A$81,'Roster LIMA'!$E$1139:$AU$1342,'Roster LIMA'!AQ$1,FALSE)),\"\",VLOOKUP($A$81,'Roster LIMA'!$E$1139:$AU$1342,'Roster LIMA'!AQ$1,FALSE)))","v":""},{"$f":"IF(COUNTBLANK($A$81)<>0,\"\",IF(ISERROR(VLOOKUP($A$81,'Roster LIMA'!$E$1139:$AU$1342,'Roster LIMA'!AR$1,FALSE)),\"\",VLOOKUP($A$81,'Roster LIMA'!$E$1139:$AU$1342,'Roster LIMA'!AR$1,FALSE)))","v":""}]
["1974-75",{"$f":"IF(COUNTBLANK($A$81)<>0,\"\",IF(ISERROR(VLOOKUP($A$81,'Roster LIMA'!$E$1343:$AU$1535,4,FALSE)),\"\",IF(VLOOKUP($A$81,'Roster LIMA'!$E$1343:$AU$1535,4,FALSE)=0,\"\",VLOOKUP($A$81,'Roster LIMA'!$E$1343:$AU$1535,4,FALSE))))","v":""},{"$f":"IF(COUNTBLANK($A$81)<>0,\"\",IF(ISERROR(VLOOKUP($A$81,'Roster LIMA'!$E$1343:$AU$1535,5,FALSE)),\"\",IF(VLOOKUP($A$81,'Roster LIMA'!$E$1343:$AU$1535,5,FALSE)=0,\"\",VLOOKUP($A$81,'Roster LIMA'!$E$1343:$AU$1535,5,FALSE))))","v":""},{"$f":"IF(COUNTBLANK($A$81)<>0,\"\",IF(ISERROR(VLOOKUP($A$81,'Roster LIMA'!$E$1343:$AU$1535,6,FALSE)),\"\",IF(VLOOKUP($A$81,'Roster LIMA'!$E$1343:$AU$1535,6,FALSE)=0,\"\",VLOOKUP($A$81,'Roster LIMA'!$E$1343:$AU$1535,6,FALSE))))","v":""},{"$f":"IF(COUNTBLANK($A$81)<>0,\"\",IF(ISERROR(VLOOKUP($A$81,'Roster LIMA'!$E$1343:$AU$1535,5,FALSE)),\"\",IF(VLOOKUP($A$81,'Roster LIMA'!$E$1343:$AU$1535,5,FALSE)=0,\"\",VLOOKUP($A$81,'Roster LIMA'!$E$1343:$AU$1535,5,FALSE))))","v":""},null,{"$f":"IF(COUNTBLANK($A$81)<>0,\"\",IF(ISERROR(VLOOKUP($A$81,'Roster LIMA'!$E$1343:$AU$1535,1,FALSE)),\"N/A\",IF(VLOOKUP($A$81,'Roster LIMA'!$E$1343:$AU$1535,1,FALSE)=0,\"\",VLOOKUP($A$81,'Roster LIMA'!$E$1343:$AU$1535,1,FALSE))))","v":"N/A"},null,null,null,{"$f":"IF(COUNTBLANK($A$81)<>0,\"\",IF(ISERROR(VLOOKUP($A$81,'Roster LIMA'!$E$1343:$AU$1535,'Roster LIMA'!I$1,FALSE)),\"\",VLOOKUP($A$81,'Roster LIMA'!$E$1343:$AU$1535,'Roster LIMA'!I$1,FALSE)))","v":""},{"$f":"IF(COUNTBLANK($A$81)<>0,\"\",IF(ISERROR(VLOOKUP($A$81,'Roster LIMA'!$E$1343:$AU$1535,'Roster LIMA'!J$1,FALSE)),\"\",VLOOKUP($A$81,'Roster LIMA'!$E$1343:$AU$1535,'Roster LIMA'!J$1,FALSE)))","v":""},{"$f":"IF(COUNTBLANK($A$81)<>0,\"\",IF(ISERROR(VLOOKUP($A$81,'Roster LIMA'!$E$1343:$AU$1535,'Roster LIMA'!K$1,FALSE)),\"\",VLOOKUP($A$81,'Roster LIMA'!$E$1343:$AU$1535,'Roster LIMA'!K$1,FALSE)))","v":""},{"$f":"IF(COUNTBLANK($A$81)<>0,\"\",IF(ISERROR(VLOOKUP($A$81,'Roster LIMA'!$E$1343:$AU$1535,'Roster LIMA'!L$1,FALSE)),\"\",VLOOKUP($A$81,'Roster LIMA'!$E$1343:$AU$1535,'Roster LIMA'!L$1,FALSE)))","v":""},{"$f":"IF(COUNTBLANK($A$81)<>0,\"\",IF(ISERROR(VLOOKUP($A$81,'Roster LIMA'!$E$1343:$AU$1535,'Roster LIMA'!M$1,FALSE)),\"\",VLOOKUP($A$81,'Roster LIMA'!$E$1343:$AU$1535,'Roster LIMA'!M$1,FALSE)))","v":""},{"$f":"IF(COUNTBLANK($A$81)<>0,\"\",IF(ISERROR(VLOOKUP($A$81,'Roster LIMA'!$E$1343:$AU$1535,'Roster LIMA'!N$1,FALSE)),\"\",VLOOKUP($A$81,'Roster LIMA'!$E$1343:$AU$1535,'Roster LIMA'!N$1,FALSE)))","v":""},{"$f":"IF(COUNTBLANK($A$81)<>0,\"\",IF(ISERROR(VLOOKUP($A$81,'Roster LIMA'!$E$1343:$AU$1535,'Roster LIMA'!O$1,FALSE)),\"\",VLOOKUP($A$81,'Roster LIMA'!$E$1343:$AU$1535,'Roster LIMA'!O$1,FALSE)))","v":""},{"$f":"IF(COUNTBLANK($A$81)<>0,\"\",IF(ISERROR(VLOOKUP($A$81,'Roster LIMA'!$E$1343:$AU$1535,'Roster LIMA'!P$1,FALSE)),\"\",VLOOKUP($A$81,'Roster LIMA'!$E$1343:$AU$1535,'Roster LIMA'!P$1,FALSE)))","v":""},{"$f":"IF(COUNTBLANK($A$81)<>0,\"\",IF(ISERROR(VLOOKUP($A$81,'Roster LIMA'!$E$1343:$AU$1535,'Roster LIMA'!Q$1,FALSE)),\"\",VLOOKUP($A$81,'Roster LIMA'!$E$1343:$AU$1535,'Roster LIMA'!Q$1,FALSE)))","v":""},{"$f":"IF(COUNTBLANK($A$81)<>0,\"\",IF(ISERROR(VLOOKUP($A$81,'Roster LIMA'!$E$1343:$AU$1535,'Roster LIMA'!R$1,FALSE)),\"\",VLOOKUP($A$81,'Roster LIMA'!$E$1343:$AU$1535,'Roster LIMA'!R$1,FALSE)))","v":""},{"$f":"IF(COUNTBLANK($A$81)<>0,\"\",IF(ISERROR(VLOOKUP($A$81,'Roster LIMA'!$E$1343:$AU$1535,'Roster LIMA'!S$1,FALSE)),\"\",VLOOKUP($A$81,'Roster LIMA'!$E$1343:$AU$1535,'Roster LIMA'!S$1,FALSE)))","v":""},{"$f":"IF(COUNTBLANK($A$81)<>0,\"\",IF(ISERROR(VLOOKUP($A$81,'Roster LIMA'!$E$1343:$AU$1535,'Roster LIMA'!T$1,FALSE)),\"\",VLOOKUP($A$81,'Roster LIMA'!$E$1343:$AU$1535,'Roster LIMA'!T$1,FALSE)))","v":""},{"$f":"IF(COUNTBLANK($A$81)<>0,\"\",IF(ISERROR(VLOOKUP($A$81,'Roster LIMA'!$E$1343:$AU$1535,'Roster LIMA'!U$1,FALSE)),\"\",VLOOKUP($A$81,'Roster LIMA'!$E$1343:$AU$1535,'Roster LIMA'!U$1,FALSE)))","v":""},{"$f":"IF(COUNTBLANK($A$81)<>0,\"\",IF(ISERROR(VLOOKUP($A$81,'Roster LIMA'!$E$1343:$AU$1535,'Roster LIMA'!V$1,FALSE)),\"\",VLOOKUP($A$81,'Roster LIMA'!$E$1343:$AU$1535,'Roster LIMA'!V$1,FALSE)))","v":""},{"$f":"IF(COUNTBLANK($A$81)<>0,\"\",IF(ISERROR(VLOOKUP($A$81,'Roster LIMA'!$E$1343:$AU$1535,'Roster LIMA'!W$1,FALSE)),\"\",VLOOKUP($A$81,'Roster LIMA'!$E$1343:$AU$1535,'Roster LIMA'!W$1,FALSE)))","v":""},{"$f":"IF(COUNTBLANK($A$81)<>0,\"\",IF(ISERROR(VLOOKUP($A$81,'Roster LIMA'!$E$1343:$AU$1535,'Roster LIMA'!X$1,FALSE)),\"\",VLOOKUP($A$81,'Roster LIMA'!$E$1343:$AU$1535,'Roster LIMA'!X$1,FALSE)))","v":""},{"$f":"IF(COUNTBLANK($A$81)<>0,\"\",IF(ISERROR(VLOOKUP($A$81,'Roster LIMA'!$E$1343:$AU$1535,'Roster LIMA'!Y$1,FALSE)),\"\",VLOOKUP($A$81,'Roster LIMA'!$E$1343:$AU$1535,'Roster LIMA'!Y$1,FALSE)))","v":""},{"$f":"IF(COUNTBLANK($A$81)<>0,\"\",IF(ISERROR(VLOOKUP($A$81,'Roster LIMA'!$E$1343:$AU$1535,'Roster LIMA'!Z$1,FALSE)),\"\",VLOOKUP($A$81,'Roster LIMA'!$E$1343:$AU$1535,'Roster LIMA'!Z$1,FALSE)))","v":""},{"$f":"IF(COUNTBLANK($A$81)<>0,\"\",IF(ISERROR(VLOOKUP($A$81,'Roster LIMA'!$E$1343:$AU$1535,'Roster LIMA'!AA$1,FALSE)),\"\",VLOOKUP($A$81,'Roster LIMA'!$E$1343:$AU$1535,'Roster LIMA'!AA$1,FALSE)))","v":""},{"$f":"IF(COUNTBLANK($A$81)<>0,\"\",IF(ISERROR(VLOOKUP($A$81,'Roster LIMA'!$E$1343:$AU$1535,'Roster LIMA'!AB$1,FALSE)),\"\",VLOOKUP($A$81,'Roster LIMA'!$E$1343:$AU$1535,'Roster LIMA'!AB$1,FALSE)))","v":""},{"$f":"IF(COUNTBLANK($A$81)<>0,\"\",IF(ISERROR(VLOOKUP($A$81,'Roster LIMA'!$E$1343:$AU$1535,'Roster LIMA'!AC$1,FALSE)),\"\",VLOOKUP($A$81,'Roster LIMA'!$E$1343:$AU$1535,'Roster LIMA'!AC$1,FALSE)))","v":""},{"$f":"IF(COUNTBLANK($A$81)<>0,\"\",IF(ISERROR(VLOOKUP($A$81,'Roster LIMA'!$E$1343:$AU$1535,'Roster LIMA'!AD$1,FALSE)),\"\",VLOOKUP($A$81,'Roster LIMA'!$E$1343:$AU$1535,'Roster LIMA'!AD$1,FALSE)))","v":""},{"$f":"IF(COUNTBLANK($A$81)<>0,\"\",IF(ISERROR(VLOOKUP($A$81,'Roster LIMA'!$E$1343:$AU$1535,'Roster LIMA'!AE$1,FALSE)),\"\",VLOOKUP($A$81,'Roster LIMA'!$E$1343:$AU$1535,'Roster LIMA'!AE$1,FALSE)))","v":""},{"$f":"IF(COUNTBLANK($A$81)<>0,\"\",IF(ISERROR(VLOOKUP($A$81,'Roster LIMA'!$E$1343:$AU$1535,'Roster LIMA'!AF$1,FALSE)),\"\",VLOOKUP($A$81,'Roster LIMA'!$E$1343:$AU$1535,'Roster LIMA'!AF$1,FALSE)))","v":""},{"$f":"IF(COUNTBLANK($A$81)<>0,\"\",IF(ISERROR(VLOOKUP($A$81,'Roster LIMA'!$E$1343:$AU$1535,'Roster LIMA'!AG$1,FALSE)),\"\",VLOOKUP($A$81,'Roster LIMA'!$E$1343:$AU$1535,'Roster LIMA'!AG$1,FALSE)))","v":""},{"$f":"IF(COUNTBLANK($A$81)<>0,\"\",IF(ISERROR(VLOOKUP($A$81,'Roster LIMA'!$E$1343:$AU$1535,'Roster LIMA'!AH$1,FALSE)),\"\",VLOOKUP($A$81,'Roster LIMA'!$E$1343:$AU$1535,'Roster LIMA'!AH$1,FALSE)))","v":""},{"$f":"IF(COUNTBLANK($A$81)<>0,\"\",IF(ISERROR(VLOOKUP($A$81,'Roster LIMA'!$E$1343:$AU$1535,'Roster LIMA'!AI$1,FALSE)),\"\",VLOOKUP($A$81,'Roster LIMA'!$E$1343:$AU$1535,'Roster LIMA'!AI$1,FALSE)))","v":""},{"$f":"IF(COUNTBLANK($A$81)<>0,\"\",IF(ISERROR(VLOOKUP($A$81,'Roster LIMA'!$E$1343:$AU$1535,'Roster LIMA'!AJ$1,FALSE)),\"\",VLOOKUP($A$81,'Roster LIMA'!$E$1343:$AU$1535,'Roster LIMA'!AJ$1,FALSE)))","v":""},{"$f":"IF(COUNTBLANK($A$81)<>0,\"\",IF(ISERROR(VLOOKUP($A$81,'Roster LIMA'!$E$1343:$AU$1535,'Roster LIMA'!AK$1,FALSE)),\"\",VLOOKUP($A$81,'Roster LIMA'!$E$1343:$AU$1535,'Roster LIMA'!AK$1,FALSE)))","v":""},{"$f":"IF(COUNTBLANK($A$81)<>0,\"\",IF(ISERROR(VLOOKUP($A$81,'Roster LIMA'!$E$1343:$AU$1535,'Roster LIMA'!AL$1,FALSE)),\"\",VLOOKUP($A$81,'Roster LIMA'!$E$1343:$AU$1535,'Roster LIMA'!AL$1,FALSE)))","v":""},{"$f":"IF(COUNTBLANK($A$81)<>0,\"\",IF(ISERROR(VLOOKUP($A$81,'Roster LIMA'!$E$1343:$AU$1535,'Roster LIMA'!AM$1,FALSE)),\"\",VLOOKUP($A$81,'Roster LIMA'!$E$1343:$AU$1535,'Roster LIMA'!AM$1,FALSE)))","v":""},{"$f":"IF(COUNTBLANK($A$81)<>0,\"\",IF(ISERROR(VLOOKUP($A$81,'Roster LIMA'!$E$1343:$AU$1535,'Roster LIMA'!AN$1,FALSE)),\"\",VLOOKUP($A$81,'Roster LIMA'!$E$1343:$AU$1535,'Roster LIMA'!AN$1,FALSE)))","v":""},{"$f":"IF(COUNTBLANK($A$81)<>0,\"\",IF(ISERROR(VLOOKUP($A$81,'Roster LIMA'!$E$1343:$AU$1535,'Roster LIMA'!AO$1,FALSE)),\"\",VLOOKUP($A$81,'Roster LIMA'!$E$1343:$AU$1535,'Roster LIMA'!AO$1,FALSE)))","v":""},{"$f":"IF(COUNTBLANK($A$81)<>0,\"\",IF(ISERROR(VLOOKUP($A$81,'Roster LIMA'!$E$1343:$AU$1535,'Roster LIMA'!AP$1,FALSE)),\"\",VLOOKUP($A$81,'Roster LIMA'!$E$1343:$AU$1535,'Roster LIMA'!AP$1,FALSE)))","v":""},{"$f":"IF(COUNTBLANK($A$81)<>0,\"\",IF(ISERROR(VLOOKUP($A$81,'Roster LIMA'!$E$1343:$AU$1535,'Roster LIMA'!AQ$1,FALSE)),\"\",VLOOKUP($A$81,'Roster LIMA'!$E$1343:$AU$1535,'Roster LIMA'!AQ$1,FALSE)))","v":""},{"$f":"IF(COUNTBLANK($A$81)<>0,\"\",IF(ISERROR(VLOOKUP($A$81,'Roster LIMA'!$E$1343:$AU$1535,'Roster LIMA'!AR$1,FALSE)),\"\",VLOOKUP($A$81,'Roster LIMA'!$E$1343:$AU$1535,'Roster LIMA'!AR$1,FALSE)))","v":""}]
[1975,{"$f":"IF(COUNTBLANK($A$81)<>0,\"\",IF(ISERROR(VLOOKUP($A$81,'Roster LIMA'!$E$1536:$AU$1918,4,FALSE)),\"\",IF(VLOOKUP($A$81,'Roster LIMA'!$E$1536:$AU$1918,4,FALSE)=0,\"\",VLOOKUP($A$81,'Roster LIMA'!$E$1536:$AU$1918,4,FALSE))))","v":""},{"$f":"IF(COUNTBLANK($A$81)<>0,\"\",IF(ISERROR(VLOOKUP($A$81,'Roster LIMA'!$E$1536:$AU$1918,5,FALSE)),\"\",IF(VLOOKUP($A$81,'Roster LIMA'!$E$1536:$AU$1918,5,FALSE)=0,\"\",VLOOKUP($A$81,'Roster LIMA'!$E$1536:$AU$1918,5,FALSE))))","v":""},{"$f":"IF(COUNTBLANK($A$81)<>0,\"\",IF(ISERROR(VLOOKUP($A$81,'Roster LIMA'!$E$1536:$AU$1918,6,FALSE)),\"\",IF(VLOOKUP($A$81,'Roster LIMA'!$E$1536:$AU$1918,6,FALSE)=0,\"\",VLOOKUP($A$81,'Roster LIMA'!$E$1536:$AU$1918,6,FALSE))))","v":""},{"$f":"IF(COUNTBLANK($A$81)<>0,\"\",IF(ISERROR(VLOOKUP($A$81,'Roster LIMA'!$E$1536:$AU$1918,5,FALSE)),\"\",IF(VLOOKUP($A$81,'Roster LIMA'!$E$1536:$AU$1918,5,FALSE)=0,\"\",VLOOKUP($A$81,'Roster LIMA'!$E$1536:$AU$1918,5,FALSE))))","v":""},null,{"$f":"IF(COUNTBLANK($A$81)<>0,\"\",IF(ISERROR(VLOOKUP($A$81,'Roster LIMA'!$E$1536:$AU$1918,1,FALSE)),\"N/A\",IF(VLOOKUP($A$81,'Roster LIMA'!$E$1536:$AU$1918,1,FALSE)=0,\"\",VLOOKUP($A$81,'Roster LIMA'!$E$1536:$AU$1918,1,FALSE))))","v":"N/A"},null,null,null,{"$f":"IF(COUNTBLANK($A$81)<>0,\"\",IF(ISERROR(VLOOKUP($A$81,'Roster LIMA'!$E$1536:$AU$1918,'Roster LIMA'!I$1,FALSE)),\"\",VLOOKUP($A$81,'Roster LIMA'!$E$1536:$AU$1918,'Roster LIMA'!I$1,FALSE)))","v":""},{"$f":"IF(COUNTBLANK($A$81)<>0,\"\",IF(ISERROR(VLOOKUP($A$81,'Roster LIMA'!$E$1536:$AU$1918,'Roster LIMA'!J$1,FALSE)),\"\",VLOOKUP($A$81,'Roster LIMA'!$E$1536:$AU$1918,'Roster LIMA'!J$1,FALSE)))","v":""},{"$f":"IF(COUNTBLANK($A$81)<>0,\"\",IF(ISERROR(VLOOKUP($A$81,'Roster LIMA'!$E$1536:$AU$1918,'Roster LIMA'!K$1,FALSE)),\"\",VLOOKUP($A$81,'Roster LIMA'!$E$1536:$AU$1918,'Roster LIMA'!K$1,FALSE)))","v":""},{"$f":"IF(COUNTBLANK($A$81)<>0,\"\",IF(ISERROR(VLOOKUP($A$81,'Roster LIMA'!$E$1536:$AU$1918,'Roster LIMA'!L$1,FALSE)),\"\",VLOOKUP($A$81,'Roster LIMA'!$E$1536:$AU$1918,'Roster LIMA'!L$1,FALSE)))","v":""},{"$f":"IF(COUNTBLANK($A$81)<>0,\"\",IF(ISERROR(VLOOKUP($A$81,'Roster LIMA'!$E$1536:$AU$1918,'Roster LIMA'!M$1,FALSE)),\"\",VLOOKUP($A$81,'Roster LIMA'!$E$1536:$AU$1918,'Roster LIMA'!M$1,FALSE)))","v":""},{"$f":"IF(COUNTBLANK($A$81)<>0,\"\",IF(ISERROR(VLOOKUP($A$81,'Roster LIMA'!$E$1536:$AU$1918,'Roster LIMA'!N$1,FALSE)),\"\",VLOOKUP($A$81,'Roster LIMA'!$E$1536:$AU$1918,'Roster LIMA'!N$1,FALSE)))","v":""},{"$f":"IF(COUNTBLANK($A$81)<>0,\"\",IF(ISERROR(VLOOKUP($A$81,'Roster LIMA'!$E$1536:$AU$1918,'Roster LIMA'!O$1,FALSE)),\"\",VLOOKUP($A$81,'Roster LIMA'!$E$1536:$AU$1918,'Roster LIMA'!O$1,FALSE)))","v":""},{"$f":"IF(COUNTBLANK($A$81)<>0,\"\",IF(ISERROR(VLOOKUP($A$81,'Roster LIMA'!$E$1536:$AU$1918,'Roster LIMA'!P$1,FALSE)),\"\",VLOOKUP($A$81,'Roster LIMA'!$E$1536:$AU$1918,'Roster LIMA'!P$1,FALSE)))","v":""},{"$f":"IF(COUNTBLANK($A$81)<>0,\"\",IF(ISERROR(VLOOKUP($A$81,'Roster LIMA'!$E$1536:$AU$1918,'Roster LIMA'!Q$1,FALSE)),\"\",VLOOKUP($A$81,'Roster LIMA'!$E$1536:$AU$1918,'Roster LIMA'!Q$1,FALSE)))","v":""},{"$f":"IF(COUNTBLANK($A$81)<>0,\"\",IF(ISERROR(VLOOKUP($A$81,'Roster LIMA'!$E$1536:$AU$1918,'Roster LIMA'!R$1,FALSE)),\"\",VLOOKUP($A$81,'Roster LIMA'!$E$1536:$AU$1918,'Roster LIMA'!R$1,FALSE)))","v":""},{"$f":"IF(COUNTBLANK($A$81)<>0,\"\",IF(ISERROR(VLOOKUP($A$81,'Roster LIMA'!$E$1536:$AU$1918,'Roster LIMA'!S$1,FALSE)),\"\",VLOOKUP($A$81,'Roster LIMA'!$E$1536:$AU$1918,'Roster LIMA'!S$1,FALSE)))","v":""},{"$f":"IF(COUNTBLANK($A$81)<>0,\"\",IF(ISERROR(VLOOKUP($A$81,'Roster LIMA'!$E$1536:$AU$1918,'Roster LIMA'!T$1,FALSE)),\"\",VLOOKUP($A$81,'Roster LIMA'!$E$1536:$AU$1918,'Roster LIMA'!T$1,FALSE)))","v":""},{"$f":"IF(COUNTBLANK($A$81)<>0,\"\",IF(ISERROR(VLOOKUP($A$81,'Roster LIMA'!$E$1536:$AU$1918,'Roster LIMA'!U$1,FALSE)),\"\",VLOOKUP($A$81,'Roster LIMA'!$E$1536:$AU$1918,'Roster LIMA'!U$1,FALSE)))","v":""},{"$f":"IF(COUNTBLANK($A$81)<>0,\"\",IF(ISERROR(VLOOKUP($A$81,'Roster LIMA'!$E$1536:$AU$1918,'Roster LIMA'!V$1,FALSE)),\"\",VLOOKUP($A$81,'Roster LIMA'!$E$1536:$AU$1918,'Roster LIMA'!V$1,FALSE)))","v":""},{"$f":"IF(COUNTBLANK($A$81)<>0,\"\",IF(ISERROR(VLOOKUP($A$81,'Roster LIMA'!$E$1536:$AU$1918,'Roster LIMA'!W$1,FALSE)),\"\",VLOOKUP($A$81,'Roster LIMA'!$E$1536:$AU$1918,'Roster LIMA'!W$1,FALSE)))","v":""},{"$f":"IF(COUNTBLANK($A$81)<>0,\"\",IF(ISERROR(VLOOKUP($A$81,'Roster LIMA'!$E$1536:$AU$1918,'Roster LIMA'!X$1,FALSE)),\"\",VLOOKUP($A$81,'Roster LIMA'!$E$1536:$AU$1918,'Roster LIMA'!X$1,FALSE)))","v":""},{"$f":"IF(COUNTBLANK($A$81)<>0,\"\",IF(ISERROR(VLOOKUP($A$81,'Roster LIMA'!$E$1536:$AU$1918,'Roster LIMA'!Y$1,FALSE)),\"\",VLOOKUP($A$81,'Roster LIMA'!$E$1536:$AU$1918,'Roster LIMA'!Y$1,FALSE)))","v":""},{"$f":"IF(COUNTBLANK($A$81)<>0,\"\",IF(ISERROR(VLOOKUP($A$81,'Roster LIMA'!$E$1536:$AU$1918,'Roster LIMA'!Z$1,FALSE)),\"\",VLOOKUP($A$81,'Roster LIMA'!$E$1536:$AU$1918,'Roster LIMA'!Z$1,FALSE)))","v":""},{"$f":"IF(COUNTBLANK($A$81)<>0,\"\",IF(ISERROR(VLOOKUP($A$81,'Roster LIMA'!$E$1536:$AU$1918,'Roster LIMA'!AA$1,FALSE)),\"\",VLOOKUP($A$81,'Roster LIMA'!$E$1536:$AU$1918,'Roster LIMA'!AA$1,FALSE)))","v":""},{"$f":"IF(COUNTBLANK($A$81)<>0,\"\",IF(ISERROR(VLOOKUP($A$81,'Roster LIMA'!$E$1536:$AU$1918,'Roster LIMA'!AB$1,FALSE)),\"\",VLOOKUP($A$81,'Roster LIMA'!$E$1536:$AU$1918,'Roster LIMA'!AB$1,FALSE)))","v":""},{"$f":"IF(COUNTBLANK($A$81)<>0,\"\",IF(ISERROR(VLOOKUP($A$81,'Roster LIMA'!$E$1536:$AU$1918,'Roster LIMA'!AC$1,FALSE)),\"\",VLOOKUP($A$81,'Roster LIMA'!$E$1536:$AU$1918,'Roster LIMA'!AC$1,FALSE)))","v":""},{"$f":"IF(COUNTBLANK($A$81)<>0,\"\",IF(ISERROR(VLOOKUP($A$81,'Roster LIMA'!$E$1536:$AU$1918,'Roster LIMA'!AD$1,FALSE)),\"\",VLOOKUP($A$81,'Roster LIMA'!$E$1536:$AU$1918,'Roster LIMA'!AD$1,FALSE)))","v":""},{"$f":"IF(COUNTBLANK($A$81)<>0,\"\",IF(ISERROR(VLOOKUP($A$81,'Roster LIMA'!$E$1536:$AU$1918,'Roster LIMA'!AE$1,FALSE)),\"\",VLOOKUP($A$81,'Roster LIMA'!$E$1536:$AU$1918,'Roster LIMA'!AE$1,FALSE)))","v":""},{"$f":"IF(COUNTBLANK($A$81)<>0,\"\",IF(ISERROR(VLOOKUP($A$81,'Roster LIMA'!$E$1536:$AU$1918,'Roster LIMA'!AF$1,FALSE)),\"\",VLOOKUP($A$81,'Roster LIMA'!$E$1536:$AU$1918,'Roster LIMA'!AF$1,FALSE)))","v":""},{"$f":"IF(COUNTBLANK($A$81)<>0,\"\",IF(ISERROR(VLOOKUP($A$81,'Roster LIMA'!$E$1536:$AU$1918,'Roster LIMA'!AG$1,FALSE)),\"\",VLOOKUP($A$81,'Roster LIMA'!$E$1536:$AU$1918,'Roster LIMA'!AG$1,FALSE)))","v":""},{"$f":"IF(COUNTBLANK($A$81)<>0,\"\",IF(ISERROR(VLOOKUP($A$81,'Roster LIMA'!$E$1536:$AU$1918,'Roster LIMA'!AH$1,FALSE)),\"\",VLOOKUP($A$81,'Roster LIMA'!$E$1536:$AU$1918,'Roster LIMA'!AH$1,FALSE)))","v":""},{"$f":"IF(COUNTBLANK($A$81)<>0,\"\",IF(ISERROR(VLOOKUP($A$81,'Roster LIMA'!$E$1536:$AU$1918,'Roster LIMA'!AI$1,FALSE)),\"\",VLOOKUP($A$81,'Roster LIMA'!$E$1536:$AU$1918,'Roster LIMA'!AI$1,FALSE)))","v":""},{"$f":"IF(COUNTBLANK($A$81)<>0,\"\",IF(ISERROR(VLOOKUP($A$81,'Roster LIMA'!$E$1536:$AU$1918,'Roster LIMA'!AJ$1,FALSE)),\"\",VLOOKUP($A$81,'Roster LIMA'!$E$1536:$AU$1918,'Roster LIMA'!AJ$1,FALSE)))","v":""},{"$f":"IF(COUNTBLANK($A$81)<>0,\"\",IF(ISERROR(VLOOKUP($A$81,'Roster LIMA'!$E$1536:$AU$1918,'Roster LIMA'!AK$1,FALSE)),\"\",VLOOKUP($A$81,'Roster LIMA'!$E$1536:$AU$1918,'Roster LIMA'!AK$1,FALSE)))","v":""},{"$f":"IF(COUNTBLANK($A$81)<>0,\"\",IF(ISERROR(VLOOKUP($A$81,'Roster LIMA'!$E$1536:$AU$1918,'Roster LIMA'!AL$1,FALSE)),\"\",VLOOKUP($A$81,'Roster LIMA'!$E$1536:$AU$1918,'Roster LIMA'!AL$1,FALSE)))","v":""},{"$f":"IF(COUNTBLANK($A$81)<>0,\"\",IF(ISERROR(VLOOKUP($A$81,'Roster LIMA'!$E$1536:$AU$1918,'Roster LIMA'!AM$1,FALSE)),\"\",VLOOKUP($A$81,'Roster LIMA'!$E$1536:$AU$1918,'Roster LIMA'!AM$1,FALSE)))","v":""},{"$f":"IF(COUNTBLANK($A$81)<>0,\"\",IF(ISERROR(VLOOKUP($A$81,'Roster LIMA'!$E$1536:$AU$1918,'Roster LIMA'!AN$1,FALSE)),\"\",VLOOKUP($A$81,'Roster LIMA'!$E$1536:$AU$1918,'Roster LIMA'!AN$1,FALSE)))","v":""},{"$f":"IF(COUNTBLANK($A$81)<>0,\"\",IF(ISERROR(VLOOKUP($A$81,'Roster LIMA'!$E$1536:$AU$1918,'Roster LIMA'!AO$1,FALSE)),\"\",VLOOKUP($A$81,'Roster LIMA'!$E$1536:$AU$1918,'Roster LIMA'!AO$1,FALSE)))","v":""},{"$f":"IF(COUNTBLANK($A$81)<>0,\"\",IF(ISERROR(VLOOKUP($A$81,'Roster LIMA'!$E$1536:$AU$1918,'Roster LIMA'!AP$1,FALSE)),\"\",VLOOKUP($A$81,'Roster LIMA'!$E$1536:$AU$1918,'Roster LIMA'!AP$1,FALSE)))","v":""},{"$f":"IF(COUNTBLANK($A$81)<>0,\"\",IF(ISERROR(VLOOKUP($A$81,'Roster LIMA'!$E$1536:$AU$1918,'Roster LIMA'!AQ$1,FALSE)),\"\",VLOOKUP($A$81,'Roster LIMA'!$E$1536:$AU$1918,'Roster LIMA'!AQ$1,FALSE)))","v":""},{"$f":"IF(COUNTBLANK($A$81)<>0,\"\",IF(ISERROR(VLOOKUP($A$81,'Roster LIMA'!$E$1536:$AU$1918,'Roster LIMA'!AR$1,FALSE)),\"\",VLOOKUP($A$81,'Roster LIMA'!$E$1536:$AU$1918,'Roster LIMA'!AR$1,FALSE)))","v":""}]
[1976,{"$f":"IF(COUNTBLANK($A$81)<>0,\"\",IF(ISERROR(VLOOKUP($A$81,'Roster LIMA'!$E$1919:$AU$2359,4,FALSE)),\"\",IF(VLOOKUP($A$81,'Roster LIMA'!$E$1919:$AU$2359,4,FALSE)=0,\"\",VLOOKUP($A$81,'Roster LIMA'!$E$1919:$AU$2359,4,FALSE))))","v":""},{"$f":"IF(COUNTBLANK($A$81)<>0,\"\",IF(ISERROR(VLOOKUP($A$81,'Roster LIMA'!$E$1919:$AU$2359,5,FALSE)),\"\",IF(VLOOKUP($A$81,'Roster LIMA'!$E$1919:$AU$2359,5,FALSE)=0,\"\",VLOOKUP($A$81,'Roster LIMA'!$E$1919:$AU$2359,5,FALSE))))","v":""},{"$f":"IF(COUNTBLANK($A$81)<>0,\"\",IF(ISERROR(VLOOKUP($A$81,'Roster LIMA'!$E$1919:$AU$2359,6,FALSE)),\"\",IF(VLOOKUP($A$81,'Roster LIMA'!$E$1919:$AU$2359,6,FALSE)=0,\"\",VLOOKUP($A$81,'Roster LIMA'!$E$1919:$AU$2359,6,FALSE))))","v":""},{"$f":"IF(COUNTBLANK($A$81)<>0,\"\",IF(ISERROR(VLOOKUP($A$81,'Roster LIMA'!$E$1919:$AU$2359,5,FALSE)),\"\",IF(VLOOKUP($A$81,'Roster LIMA'!$E$1919:$AU$2359,5,FALSE)=0,\"\",VLOOKUP($A$81,'Roster LIMA'!$E$1919:$AU$2359,5,FALSE))))","v":""},null,{"$f":"IF(COUNTBLANK($A$81)<>0,\"\",IF(ISERROR(VLOOKUP($A$81,'Roster LIMA'!$E$1919:$AU$2359,1,FALSE)),\"N/A\",IF(VLOOKUP($A$81,'Roster LIMA'!$E$1919:$AU$2359,1,FALSE)=0,\"\",VLOOKUP($A$81,'Roster LIMA'!$E$1919:$AU$2359,1,FALSE))))","v":"N/A"},null,null,null,{"$f":"IF(COUNTBLANK($A$81)<>0,\"\",IF(ISERROR(VLOOKUP($A$81,'Roster LIMA'!$E$1919:$AU$2359,'Roster LIMA'!I$1,FALSE)),\"\",VLOOKUP($A$81,'Roster LIMA'!$E$1919:$AU$2359,'Roster LIMA'!I$1,FALSE)))","v":""},{"$f":"IF(COUNTBLANK($A$81)<>0,\"\",IF(ISERROR(VLOOKUP($A$81,'Roster LIMA'!$E$1919:$AU$2359,'Roster LIMA'!J$1,FALSE)),\"\",VLOOKUP($A$81,'Roster LIMA'!$E$1919:$AU$2359,'Roster LIMA'!J$1,FALSE)))","v":""},{"$f":"IF(COUNTBLANK($A$81)<>0,\"\",IF(ISERROR(VLOOKUP($A$81,'Roster LIMA'!$E$1919:$AU$2359,'Roster LIMA'!K$1,FALSE)),\"\",VLOOKUP($A$81,'Roster LIMA'!$E$1919:$AU$2359,'Roster LIMA'!K$1,FALSE)))","v":""},{"$f":"IF(COUNTBLANK($A$81)<>0,\"\",IF(ISERROR(VLOOKUP($A$81,'Roster LIMA'!$E$1919:$AU$2359,'Roster LIMA'!L$1,FALSE)),\"\",VLOOKUP($A$81,'Roster LIMA'!$E$1919:$AU$2359,'Roster LIMA'!L$1,FALSE)))","v":""},{"$f":"IF(COUNTBLANK($A$81)<>0,\"\",IF(ISERROR(VLOOKUP($A$81,'Roster LIMA'!$E$1919:$AU$2359,'Roster LIMA'!M$1,FALSE)),\"\",VLOOKUP($A$81,'Roster LIMA'!$E$1919:$AU$2359,'Roster LIMA'!M$1,FALSE)))","v":""},{"$f":"IF(COUNTBLANK($A$81)<>0,\"\",IF(ISERROR(VLOOKUP($A$81,'Roster LIMA'!$E$1919:$AU$2359,'Roster LIMA'!N$1,FALSE)),\"\",VLOOKUP($A$81,'Roster LIMA'!$E$1919:$AU$2359,'Roster LIMA'!N$1,FALSE)))","v":""},{"$f":"IF(COUNTBLANK($A$81)<>0,\"\",IF(ISERROR(VLOOKUP($A$81,'Roster LIMA'!$E$1919:$AU$2359,'Roster LIMA'!O$1,FALSE)),\"\",VLOOKUP($A$81,'Roster LIMA'!$E$1919:$AU$2359,'Roster LIMA'!O$1,FALSE)))","v":""},{"$f":"IF(COUNTBLANK($A$81)<>0,\"\",IF(ISERROR(VLOOKUP($A$81,'Roster LIMA'!$E$1919:$AU$2359,'Roster LIMA'!P$1,FALSE)),\"\",VLOOKUP($A$81,'Roster LIMA'!$E$1919:$AU$2359,'Roster LIMA'!P$1,FALSE)))","v":""},{"$f":"IF(COUNTBLANK($A$81)<>0,\"\",IF(ISERROR(VLOOKUP($A$81,'Roster LIMA'!$E$1919:$AU$2359,'Roster LIMA'!Q$1,FALSE)),\"\",VLOOKUP($A$81,'Roster LIMA'!$E$1919:$AU$2359,'Roster LIMA'!Q$1,FALSE)))","v":""},{"$f":"IF(COUNTBLANK($A$81)<>0,\"\",IF(ISERROR(VLOOKUP($A$81,'Roster LIMA'!$E$1919:$AU$2359,'Roster LIMA'!R$1,FALSE)),\"\",VLOOKUP($A$81,'Roster LIMA'!$E$1919:$AU$2359,'Roster LIMA'!R$1,FALSE)))","v":""},{"$f":"IF(COUNTBLANK($A$81)<>0,\"\",IF(ISERROR(VLOOKUP($A$81,'Roster LIMA'!$E$1919:$AU$2359,'Roster LIMA'!S$1,FALSE)),\"\",VLOOKUP($A$81,'Roster LIMA'!$E$1919:$AU$2359,'Roster LIMA'!S$1,FALSE)))","v":""},{"$f":"IF(COUNTBLANK($A$81)<>0,\"\",IF(ISERROR(VLOOKUP($A$81,'Roster LIMA'!$E$1919:$AU$2359,'Roster LIMA'!T$1,FALSE)),\"\",VLOOKUP($A$81,'Roster LIMA'!$E$1919:$AU$2359,'Roster LIMA'!T$1,FALSE)))","v":""},{"$f":"IF(COUNTBLANK($A$81)<>0,\"\",IF(ISERROR(VLOOKUP($A$81,'Roster LIMA'!$E$1919:$AU$2359,'Roster LIMA'!U$1,FALSE)),\"\",VLOOKUP($A$81,'Roster LIMA'!$E$1919:$AU$2359,'Roster LIMA'!U$1,FALSE)))","v":""},{"$f":"IF(COUNTBLANK($A$81)<>0,\"\",IF(ISERROR(VLOOKUP($A$81,'Roster LIMA'!$E$1919:$AU$2359,'Roster LIMA'!V$1,FALSE)),\"\",VLOOKUP($A$81,'Roster LIMA'!$E$1919:$AU$2359,'Roster LIMA'!V$1,FALSE)))","v":""},{"$f":"IF(COUNTBLANK($A$81)<>0,\"\",IF(ISERROR(VLOOKUP($A$81,'Roster LIMA'!$E$1919:$AU$2359,'Roster LIMA'!W$1,FALSE)),\"\",VLOOKUP($A$81,'Roster LIMA'!$E$1919:$AU$2359,'Roster LIMA'!W$1,FALSE)))","v":""},{"$f":"IF(COUNTBLANK($A$81)<>0,\"\",IF(ISERROR(VLOOKUP($A$81,'Roster LIMA'!$E$1919:$AU$2359,'Roster LIMA'!X$1,FALSE)),\"\",VLOOKUP($A$81,'Roster LIMA'!$E$1919:$AU$2359,'Roster LIMA'!X$1,FALSE)))","v":""},{"$f":"IF(COUNTBLANK($A$81)<>0,\"\",IF(ISERROR(VLOOKUP($A$81,'Roster LIMA'!$E$1919:$AU$2359,'Roster LIMA'!Y$1,FALSE)),\"\",VLOOKUP($A$81,'Roster LIMA'!$E$1919:$AU$2359,'Roster LIMA'!Y$1,FALSE)))","v":""},{"$f":"IF(COUNTBLANK($A$81)<>0,\"\",IF(ISERROR(VLOOKUP($A$81,'Roster LIMA'!$E$1919:$AU$2359,'Roster LIMA'!Z$1,FALSE)),\"\",VLOOKUP($A$81,'Roster LIMA'!$E$1919:$AU$2359,'Roster LIMA'!Z$1,FALSE)))","v":""},{"$f":"IF(COUNTBLANK($A$81)<>0,\"\",IF(ISERROR(VLOOKUP($A$81,'Roster LIMA'!$E$1919:$AU$2359,'Roster LIMA'!AA$1,FALSE)),\"\",VLOOKUP($A$81,'Roster LIMA'!$E$1919:$AU$2359,'Roster LIMA'!AA$1,FALSE)))","v":""},{"$f":"IF(COUNTBLANK($A$81)<>0,\"\",IF(ISERROR(VLOOKUP($A$81,'Roster LIMA'!$E$1919:$AU$2359,'Roster LIMA'!AB$1,FALSE)),\"\",VLOOKUP($A$81,'Roster LIMA'!$E$1919:$AU$2359,'Roster LIMA'!AB$1,FALSE)))","v":""},{"$f":"IF(COUNTBLANK($A$81)<>0,\"\",IF(ISERROR(VLOOKUP($A$81,'Roster LIMA'!$E$1919:$AU$2359,'Roster LIMA'!AC$1,FALSE)),\"\",VLOOKUP($A$81,'Roster LIMA'!$E$1919:$AU$2359,'Roster LIMA'!AC$1,FALSE)))","v":""},{"$f":"IF(COUNTBLANK($A$81)<>0,\"\",IF(ISERROR(VLOOKUP($A$81,'Roster LIMA'!$E$1919:$AU$2359,'Roster LIMA'!AD$1,FALSE)),\"\",VLOOKUP($A$81,'Roster LIMA'!$E$1919:$AU$2359,'Roster LIMA'!AD$1,FALSE)))","v":""},{"$f":"IF(COUNTBLANK($A$81)<>0,\"\",IF(ISERROR(VLOOKUP($A$81,'Roster LIMA'!$E$1919:$AU$2359,'Roster LIMA'!AE$1,FALSE)),\"\",VLOOKUP($A$81,'Roster LIMA'!$E$1919:$AU$2359,'Roster LIMA'!AE$1,FALSE)))","v":""},{"$f":"IF(COUNTBLANK($A$81)<>0,\"\",IF(ISERROR(VLOOKUP($A$81,'Roster LIMA'!$E$1919:$AU$2359,'Roster LIMA'!AF$1,FALSE)),\"\",VLOOKUP($A$81,'Roster LIMA'!$E$1919:$AU$2359,'Roster LIMA'!AF$1,FALSE)))","v":""},{"$f":"IF(COUNTBLANK($A$81)<>0,\"\",IF(ISERROR(VLOOKUP($A$81,'Roster LIMA'!$E$1919:$AU$2359,'Roster LIMA'!AG$1,FALSE)),\"\",VLOOKUP($A$81,'Roster LIMA'!$E$1919:$AU$2359,'Roster LIMA'!AG$1,FALSE)))","v":""},{"$f":"IF(COUNTBLANK($A$81)<>0,\"\",IF(ISERROR(VLOOKUP($A$81,'Roster LIMA'!$E$1919:$AU$2359,'Roster LIMA'!AH$1,FALSE)),\"\",VLOOKUP($A$81,'Roster LIMA'!$E$1919:$AU$2359,'Roster LIMA'!AH$1,FALSE)))","v":""},{"$f":"IF(COUNTBLANK($A$81)<>0,\"\",IF(ISERROR(VLOOKUP($A$81,'Roster LIMA'!$E$1919:$AU$2359,'Roster LIMA'!AI$1,FALSE)),\"\",VLOOKUP($A$81,'Roster LIMA'!$E$1919:$AU$2359,'Roster LIMA'!AI$1,FALSE)))","v":""},{"$f":"IF(COUNTBLANK($A$81)<>0,\"\",IF(ISERROR(VLOOKUP($A$81,'Roster LIMA'!$E$1919:$AU$2359,'Roster LIMA'!AJ$1,FALSE)),\"\",VLOOKUP($A$81,'Roster LIMA'!$E$1919:$AU$2359,'Roster LIMA'!AJ$1,FALSE)))","v":""},{"$f":"IF(COUNTBLANK($A$81)<>0,\"\",IF(ISERROR(VLOOKUP($A$81,'Roster LIMA'!$E$1919:$AU$2359,'Roster LIMA'!AK$1,FALSE)),\"\",VLOOKUP($A$81,'Roster LIMA'!$E$1919:$AU$2359,'Roster LIMA'!AK$1,FALSE)))","v":""},{"$f":"IF(COUNTBLANK($A$81)<>0,\"\",IF(ISERROR(VLOOKUP($A$81,'Roster LIMA'!$E$1919:$AU$2359,'Roster LIMA'!AL$1,FALSE)),\"\",VLOOKUP($A$81,'Roster LIMA'!$E$1919:$AU$2359,'Roster LIMA'!AL$1,FALSE)))","v":""},{"$f":"IF(COUNTBLANK($A$81)<>0,\"\",IF(ISERROR(VLOOKUP($A$81,'Roster LIMA'!$E$1919:$AU$2359,'Roster LIMA'!AM$1,FALSE)),\"\",VLOOKUP($A$81,'Roster LIMA'!$E$1919:$AU$2359,'Roster LIMA'!AM$1,FALSE)))","v":""},{"$f":"IF(COUNTBLANK($A$81)<>0,\"\",IF(ISERROR(VLOOKUP($A$81,'Roster LIMA'!$E$1919:$AU$2359,'Roster LIMA'!AN$1,FALSE)),\"\",VLOOKUP($A$81,'Roster LIMA'!$E$1919:$AU$2359,'Roster LIMA'!AN$1,FALSE)))","v":""},{"$f":"IF(COUNTBLANK($A$81)<>0,\"\",IF(ISERROR(VLOOKUP($A$81,'Roster LIMA'!$E$1919:$AU$2359,'Roster LIMA'!AO$1,FALSE)),\"\",VLOOKUP($A$81,'Roster LIMA'!$E$1919:$AU$2359,'Roster LIMA'!AO$1,FALSE)))","v":""},{"$f":"IF(COUNTBLANK($A$81)<>0,\"\",IF(ISERROR(VLOOKUP($A$81,'Roster LIMA'!$E$1919:$AU$2359,'Roster LIMA'!AP$1,FALSE)),\"\",VLOOKUP($A$81,'Roster LIMA'!$E$1919:$AU$2359,'Roster LIMA'!AP$1,FALSE)))","v":""},{"$f":"IF(COUNTBLANK($A$81)<>0,\"\",IF(ISERROR(VLOOKUP($A$81,'Roster LIMA'!$E$1919:$AU$2359,'Roster LIMA'!AQ$1,FALSE)),\"\",VLOOKUP($A$81,'Roster LIMA'!$E$1919:$AU$2359,'Roster LIMA'!AQ$1,FALSE)))","v":""},{"$f":"IF(COUNTBLANK($A$81)<>0,\"\",IF(ISERROR(VLOOKUP($A$81,'Roster LIMA'!$E$1919:$AU$2359,'Roster LIMA'!AR$1,FALSE)),\"\",VLOOKUP($A$81,'Roster LIMA'!$E$1919:$AU$2359,'Roster LIMA'!AR$1,FALSE)))","v":""}]
["1977-78",{"$f":"IF(COUNTBLANK($A$81)<>0,\"\",IF(ISERROR(VLOOKUP($A$81,'Roster LIMA'!$E$2360:$AU$2794,4,FALSE)),\"\",IF(VLOOKUP($A$81,'Roster LIMA'!$E$2360:$AU$2794,4,FALSE)=0,\"\",VLOOKUP($A$81,'Roster LIMA'!$E$2360:$AU$2794,4,FALSE))))","v":""},{"$f":"IF(COUNTBLANK($A$81)<>0,\"\",IF(ISERROR(VLOOKUP($A$81,'Roster LIMA'!$E$2360:$AU$2794,5,FALSE)),\"\",IF(VLOOKUP($A$81,'Roster LIMA'!$E$2360:$AU$2794,5,FALSE)=0,\"\",VLOOKUP($A$81,'Roster LIMA'!$E$2360:$AU$2794,5,FALSE))))","v":""},{"$f":"IF(COUNTBLANK($A$81)<>0,\"\",IF(ISERROR(VLOOKUP($A$81,'Roster LIMA'!$E$2360:$AU$2794,6,FALSE)),\"\",IF(VLOOKUP($A$81,'Roster LIMA'!$E$2360:$AU$2794,6,FALSE)=0,\"\",VLOOKUP($A$81,'Roster LIMA'!$E$2360:$AU$2794,6,FALSE))))","v":""},{"$f":"IF(COUNTBLANK($A$81)<>0,\"\",IF(ISERROR(VLOOKUP($A$81,'Roster LIMA'!$E$2360:$AU$2794,5,FALSE)),\"\",IF(VLOOKUP($A$81,'Roster LIMA'!$E$2360:$AU$2794,5,FALSE)=0,\"\",VLOOKUP($A$81,'Roster LIMA'!$E$2360:$AU$2794,5,FALSE))))","v":""},null,{"$f":"IF(COUNTBLANK($A$81)<>0,\"\",IF(ISERROR(VLOOKUP($A$81,'Roster LIMA'!$E$2360:$AU$2794,1,FALSE)),\"N/A\",IF(VLOOKUP($A$81,'Roster LIMA'!$E$2360:$AU$2794,1,FALSE)=0,\"\",VLOOKUP($A$81,'Roster LIMA'!$E$2360:$AU$2794,1,FALSE))))","v":"N/A"},null,null,null,{"$f":"IF(COUNTBLANK($A$81)<>0,\"\",IF(ISERROR(VLOOKUP($A$81,'Roster LIMA'!$E$2360:$AU$2794,'Roster LIMA'!I$1,FALSE)),\"\",VLOOKUP($A$81,'Roster LIMA'!$E$2360:$AU$2794,'Roster LIMA'!I$1,FALSE)))","v":""},{"$f":"IF(COUNTBLANK($A$81)<>0,\"\",IF(ISERROR(VLOOKUP($A$81,'Roster LIMA'!$E$2360:$AU$2794,'Roster LIMA'!J$1,FALSE)),\"\",VLOOKUP($A$81,'Roster LIMA'!$E$2360:$AU$2794,'Roster LIMA'!J$1,FALSE)))","v":""},{"$f":"IF(COUNTBLANK($A$81)<>0,\"\",IF(ISERROR(VLOOKUP($A$81,'Roster LIMA'!$E$2360:$AU$2794,'Roster LIMA'!K$1,FALSE)),\"\",VLOOKUP($A$81,'Roster LIMA'!$E$2360:$AU$2794,'Roster LIMA'!K$1,FALSE)))","v":""},{"$f":"IF(COUNTBLANK($A$81)<>0,\"\",IF(ISERROR(VLOOKUP($A$81,'Roster LIMA'!$E$2360:$AU$2794,'Roster LIMA'!L$1,FALSE)),\"\",VLOOKUP($A$81,'Roster LIMA'!$E$2360:$AU$2794,'Roster LIMA'!L$1,FALSE)))","v":""},{"$f":"IF(COUNTBLANK($A$81)<>0,\"\",IF(ISERROR(VLOOKUP($A$81,'Roster LIMA'!$E$2360:$AU$2794,'Roster LIMA'!M$1,FALSE)),\"\",VLOOKUP($A$81,'Roster LIMA'!$E$2360:$AU$2794,'Roster LIMA'!M$1,FALSE)))","v":""},{"$f":"IF(COUNTBLANK($A$81)<>0,\"\",IF(ISERROR(VLOOKUP($A$81,'Roster LIMA'!$E$2360:$AU$2794,'Roster LIMA'!N$1,FALSE)),\"\",VLOOKUP($A$81,'Roster LIMA'!$E$2360:$AU$2794,'Roster LIMA'!N$1,FALSE)))","v":""},{"$f":"IF(COUNTBLANK($A$81)<>0,\"\",IF(ISERROR(VLOOKUP($A$81,'Roster LIMA'!$E$2360:$AU$2794,'Roster LIMA'!O$1,FALSE)),\"\",VLOOKUP($A$81,'Roster LIMA'!$E$2360:$AU$2794,'Roster LIMA'!O$1,FALSE)))","v":""},{"$f":"IF(COUNTBLANK($A$81)<>0,\"\",IF(ISERROR(VLOOKUP($A$81,'Roster LIMA'!$E$2360:$AU$2794,'Roster LIMA'!P$1,FALSE)),\"\",VLOOKUP($A$81,'Roster LIMA'!$E$2360:$AU$2794,'Roster LIMA'!P$1,FALSE)))","v":""},{"$f":"IF(COUNTBLANK($A$81)<>0,\"\",IF(ISERROR(VLOOKUP($A$81,'Roster LIMA'!$E$2360:$AU$2794,'Roster LIMA'!Q$1,FALSE)),\"\",VLOOKUP($A$81,'Roster LIMA'!$E$2360:$AU$2794,'Roster LIMA'!Q$1,FALSE)))","v":""},{"$f":"IF(COUNTBLANK($A$81)<>0,\"\",IF(ISERROR(VLOOKUP($A$81,'Roster LIMA'!$E$2360:$AU$2794,'Roster LIMA'!R$1,FALSE)),\"\",VLOOKUP($A$81,'Roster LIMA'!$E$2360:$AU$2794,'Roster LIMA'!R$1,FALSE)))","v":""},{"$f":"IF(COUNTBLANK($A$81)<>0,\"\",IF(ISERROR(VLOOKUP($A$81,'Roster LIMA'!$E$2360:$AU$2794,'Roster LIMA'!S$1,FALSE)),\"\",VLOOKUP($A$81,'Roster LIMA'!$E$2360:$AU$2794,'Roster LIMA'!S$1,FALSE)))","v":""},{"$f":"IF(COUNTBLANK($A$81)<>0,\"\",IF(ISERROR(VLOOKUP($A$81,'Roster LIMA'!$E$2360:$AU$2794,'Roster LIMA'!T$1,FALSE)),\"\",VLOOKUP($A$81,'Roster LIMA'!$E$2360:$AU$2794,'Roster LIMA'!T$1,FALSE)))","v":""},{"$f":"IF(COUNTBLANK($A$81)<>0,\"\",IF(ISERROR(VLOOKUP($A$81,'Roster LIMA'!$E$2360:$AU$2794,'Roster LIMA'!U$1,FALSE)),\"\",VLOOKUP($A$81,'Roster LIMA'!$E$2360:$AU$2794,'Roster LIMA'!U$1,FALSE)))","v":""},{"$f":"IF(COUNTBLANK($A$81)<>0,\"\",IF(ISERROR(VLOOKUP($A$81,'Roster LIMA'!$E$2360:$AU$2794,'Roster LIMA'!V$1,FALSE)),\"\",VLOOKUP($A$81,'Roster LIMA'!$E$2360:$AU$2794,'Roster LIMA'!V$1,FALSE)))","v":""},{"$f":"IF(COUNTBLANK($A$81)<>0,\"\",IF(ISERROR(VLOOKUP($A$81,'Roster LIMA'!$E$2360:$AU$2794,'Roster LIMA'!W$1,FALSE)),\"\",VLOOKUP($A$81,'Roster LIMA'!$E$2360:$AU$2794,'Roster LIMA'!W$1,FALSE)))","v":""},{"$f":"IF(COUNTBLANK($A$81)<>0,\"\",IF(ISERROR(VLOOKUP($A$81,'Roster LIMA'!$E$2360:$AU$2794,'Roster LIMA'!X$1,FALSE)),\"\",VLOOKUP($A$81,'Roster LIMA'!$E$2360:$AU$2794,'Roster LIMA'!X$1,FALSE)))","v":""},{"$f":"IF(COUNTBLANK($A$81)<>0,\"\",IF(ISERROR(VLOOKUP($A$81,'Roster LIMA'!$E$2360:$AU$2794,'Roster LIMA'!Y$1,FALSE)),\"\",VLOOKUP($A$81,'Roster LIMA'!$E$2360:$AU$2794,'Roster LIMA'!Y$1,FALSE)))","v":""},{"$f":"IF(COUNTBLANK($A$81)<>0,\"\",IF(ISERROR(VLOOKUP($A$81,'Roster LIMA'!$E$2360:$AU$2794,'Roster LIMA'!Z$1,FALSE)),\"\",VLOOKUP($A$81,'Roster LIMA'!$E$2360:$AU$2794,'Roster LIMA'!Z$1,FALSE)))","v":""},{"$f":"IF(COUNTBLANK($A$81)<>0,\"\",IF(ISERROR(VLOOKUP($A$81,'Roster LIMA'!$E$2360:$AU$2794,'Roster LIMA'!AA$1,FALSE)),\"\",VLOOKUP($A$81,'Roster LIMA'!$E$2360:$AU$2794,'Roster LIMA'!AA$1,FALSE)))","v":""},{"$f":"IF(COUNTBLANK($A$81)<>0,\"\",IF(ISERROR(VLOOKUP($A$81,'Roster LIMA'!$E$2360:$AU$2794,'Roster LIMA'!AB$1,FALSE)),\"\",VLOOKUP($A$81,'Roster LIMA'!$E$2360:$AU$2794,'Roster LIMA'!AB$1,FALSE)))","v":""},{"$f":"IF(COUNTBLANK($A$81)<>0,\"\",IF(ISERROR(VLOOKUP($A$81,'Roster LIMA'!$E$2360:$AU$2794,'Roster LIMA'!AC$1,FALSE)),\"\",VLOOKUP($A$81,'Roster LIMA'!$E$2360:$AU$2794,'Roster LIMA'!AC$1,FALSE)))","v":""},{"$f":"IF(COUNTBLANK($A$81)<>0,\"\",IF(ISERROR(VLOOKUP($A$81,'Roster LIMA'!$E$2360:$AU$2794,'Roster LIMA'!AD$1,FALSE)),\"\",VLOOKUP($A$81,'Roster LIMA'!$E$2360:$AU$2794,'Roster LIMA'!AD$1,FALSE)))","v":""},{"$f":"IF(COUNTBLANK($A$81)<>0,\"\",IF(ISERROR(VLOOKUP($A$81,'Roster LIMA'!$E$2360:$AU$2794,'Roster LIMA'!AE$1,FALSE)),\"\",VLOOKUP($A$81,'Roster LIMA'!$E$2360:$AU$2794,'Roster LIMA'!AE$1,FALSE)))","v":""},{"$f":"IF(COUNTBLANK($A$81)<>0,\"\",IF(ISERROR(VLOOKUP($A$81,'Roster LIMA'!$E$2360:$AU$2794,'Roster LIMA'!AF$1,FALSE)),\"\",VLOOKUP($A$81,'Roster LIMA'!$E$2360:$AU$2794,'Roster LIMA'!AF$1,FALSE)))","v":""},{"$f":"IF(COUNTBLANK($A$81)<>0,\"\",IF(ISERROR(VLOOKUP($A$81,'Roster LIMA'!$E$2360:$AU$2794,'Roster LIMA'!AG$1,FALSE)),\"\",VLOOKUP($A$81,'Roster LIMA'!$E$2360:$AU$2794,'Roster LIMA'!AG$1,FALSE)))","v":""},{"$f":"IF(COUNTBLANK($A$81)<>0,\"\",IF(ISERROR(VLOOKUP($A$81,'Roster LIMA'!$E$2360:$AU$2794,'Roster LIMA'!AH$1,FALSE)),\"\",VLOOKUP($A$81,'Roster LIMA'!$E$2360:$AU$2794,'Roster LIMA'!AH$1,FALSE)))","v":""},{"$f":"IF(COUNTBLANK($A$81)<>0,\"\",IF(ISERROR(VLOOKUP($A$81,'Roster LIMA'!$E$2360:$AU$2794,'Roster LIMA'!AI$1,FALSE)),\"\",VLOOKUP($A$81,'Roster LIMA'!$E$2360:$AU$2794,'Roster LIMA'!AI$1,FALSE)))","v":""},{"$f":"IF(COUNTBLANK($A$81)<>0,\"\",IF(ISERROR(VLOOKUP($A$81,'Roster LIMA'!$E$2360:$AU$2794,'Roster LIMA'!AJ$1,FALSE)),\"\",VLOOKUP($A$81,'Roster LIMA'!$E$2360:$AU$2794,'Roster LIMA'!AJ$1,FALSE)))","v":""},{"$f":"IF(COUNTBLANK($A$81)<>0,\"\",IF(ISERROR(VLOOKUP($A$81,'Roster LIMA'!$E$2360:$AU$2794,'Roster LIMA'!AK$1,FALSE)),\"\",VLOOKUP($A$81,'Roster LIMA'!$E$2360:$AU$2794,'Roster LIMA'!AK$1,FALSE)))","v":""},{"$f":"IF(COUNTBLANK($A$81)<>0,\"\",IF(ISERROR(VLOOKUP($A$81,'Roster LIMA'!$E$2360:$AU$2794,'Roster LIMA'!AL$1,FALSE)),\"\",VLOOKUP($A$81,'Roster LIMA'!$E$2360:$AU$2794,'Roster LIMA'!AL$1,FALSE)))","v":""},{"$f":"IF(COUNTBLANK($A$81)<>0,\"\",IF(ISERROR(VLOOKUP($A$81,'Roster LIMA'!$E$2360:$AU$2794,'Roster LIMA'!AM$1,FALSE)),\"\",VLOOKUP($A$81,'Roster LIMA'!$E$2360:$AU$2794,'Roster LIMA'!AM$1,FALSE)))","v":""},{"$f":"IF(COUNTBLANK($A$81)<>0,\"\",IF(ISERROR(VLOOKUP($A$81,'Roster LIMA'!$E$2360:$AU$2794,'Roster LIMA'!AN$1,FALSE)),\"\",VLOOKUP($A$81,'Roster LIMA'!$E$2360:$AU$2794,'Roster LIMA'!AN$1,FALSE)))","v":""},{"$f":"IF(COUNTBLANK($A$81)<>0,\"\",IF(ISERROR(VLOOKUP($A$81,'Roster LIMA'!$E$2360:$AU$2794,'Roster LIMA'!AO$1,FALSE)),\"\",VLOOKUP($A$81,'Roster LIMA'!$E$2360:$AU$2794,'Roster LIMA'!AO$1,FALSE)))","v":""},{"$f":"IF(COUNTBLANK($A$81)<>0,\"\",IF(ISERROR(VLOOKUP($A$81,'Roster LIMA'!$E$2360:$AU$2794,'Roster LIMA'!AP$1,FALSE)),\"\",VLOOKUP($A$81,'Roster LIMA'!$E$2360:$AU$2794,'Roster LIMA'!AP$1,FALSE)))","v":""},{"$f":"IF(COUNTBLANK($A$81)<>0,\"\",IF(ISERROR(VLOOKUP($A$81,'Roster LIMA'!$E$2360:$AU$2794,'Roster LIMA'!AQ$1,FALSE)),\"\",VLOOKUP($A$81,'Roster LIMA'!$E$2360:$AU$2794,'Roster LIMA'!AQ$1,FALSE)))","v":""},{"$f":"IF(COUNTBLANK($A$81)<>0,\"\",IF(ISERROR(VLOOKUP($A$81,'Roster LIMA'!$E$2360:$AU$2794,'Roster LIMA'!AR$1,FALSE)),\"\",VLOOKUP($A$81,'Roster LIMA'!$E$2360:$AU$2794,'Roster LIMA'!AR$1,FALSE)))","v":""}]
[]
[]
[]
[]
[]
[]
[]
[]
[]
[]
[]
[]
[]
[]
[]
[{"$f":"IF(AND(A120<>0,SUM(AQ124:AQ126)=0),\"Non-existent\",\"\")","v":""}]
["HL6037",null,"Enter alphanumerical item number, leaving no spaces and including prefix HL"]
[null,null,"For instance: HL1004 or HL2006"]
[]
[{"$f":"+A1","v":"Year"},{"$f":"+B1","v":"Catalogue"},"Edition","Page","Available","# Hornby article","# Ancient article","# Article","Code","AC","Country","Operator","Multiple Unit","Type","Category","Sub-category","Wheel arrangement","Collection","Veridical","Commission","Withdrawal","Era","Series","Usual name","Alternative name","Number","Description","Legend","Service","Nick","Logo","Livery","Bodywork","Roof","Floor","Stripes","Doors","Box","Motor","Pantograph type","# Pantograph","Bogies","Axle","Scale","Length (mm)","Photo"]
[{"$f":"+A60","v":2006},{"$f":"IF(COUNTBLANK($A$120)<>0,\"\",IF(ISERROR(VLOOKUP($A$120,'Roster Hornby'!$A$3:$AT$44,'Roster Hornby'!C$1,FALSE)),\"\",IF(VLOOKUP($A$120,'Roster Hornby'!$A$3:$AT$44,'Roster Hornby'!C$1,FALSE)=0,\"\",VLOOKUP($A$120,'Roster Hornby'!$A$3:$AT$44,'Roster Hornby'!C$1,FALSE))))","v":""},{"$f":"IF(COUNTBLANK($A$120)<>0,\"\",IF(ISERROR(VLOOKUP($A$120,'Roster Hornby'!$A$3:$AT$44,'Roster Hornby'!D$1,FALSE)),\"\",IF(VLOOKUP($A$120,'Roster Hornby'!$A$3:$AT$44,'Roster Hornby'!D$1,FALSE)=0,\"\",VLOOKUP($A$120,'Roster Hornby'!$A$3:$AT$44,'Roster Hornby'!D$1,FALSE))))","v":""},{"$f":"IF(COUNTBLANK($A$120)<>0,\"\",IF(ISERROR(VLOOKUP($A$120,'Roster Hornby'!$A$3:$AT$44,'Roster Hornby'!E$1,FALSE)),\"\",IF(VLOOKUP($A$120,'Roster Hornby'!$A$3:$AT$44,'Roster Hornby'!E$1,FALSE)=0,\"\",VLOOKUP($A$120,'Roster Hornby'!$A$3:$AT$44,'Roster Hornby'!E$1,FALSE))))","v":""},{"$f":"IF(COUNTBLANK($A$120)<>0,\"\",IF(ISERROR(VLOOKUP($A$120,'Roster Hornby'!$A$3:$AT$44,'Roster Hornby'!F$1,FALSE)),\"\",IF(VLOOKUP($A$120,'Roster Hornby'!$A$3:$AT$44,'Roster Hornby'!F$1,FALSE)=0,\"\",VLOOKUP($A$120,'Roster Hornby'!$A$3:$AT$44,'Roster Hornby'!F$1,FALSE))))","v":""},{"$f":"IF(COUNTBLANK($A$120)<>0,\"\",IF(ISERROR(VLOOKUP($A$120,'Roster Hornby'!$A$3:$AT$44,'Roster Hornby'!A$1,FALSE)),\"N/A\",IF(VLOOKUP($A$120,'Roster Hornby'!$A$3:$AT$44,'Roster Hornby'!A$1,FALSE)=0,\"\",VLOOKUP($A$120,'Roster Hornby'!$A$3:$AT$44,'Roster Hornby'!A$1,FALSE))))","v":"N/A"},{"$f":"IF(COUNTBLANK($A$120)<>0,\"\",IF(ISERROR(VLOOKUP($A$120,'Roster Hornby'!$A$3:$AT$44,'Roster Hornby'!G$1,FALSE)),\"\",IF(VLOOKUP($A$120,'Roster Hornby'!$A$3:$AT$44,'Roster Hornby'!G$1,FALSE)=0,\"\",VLOOKUP($A$120,'Roster Hornby'!$A$3:$AT$44,'Roster Hornby'!G$1,FALSE))))","v":""},{"$f":"IF(COUNTBLANK($A$120)<>0,\"\",IF(ISERROR(VLOOKUP($A$120,'Roster Hornby'!$A$3:$AT$44,'Roster Hornby'!H$1,FALSE)),\"\",IF(VLOOKUP($A$120,'Roster Hornby'!$A$3:$AT$44,'Roster Hornby'!H$1,FALSE)=0,\"\",VLOOKUP($A$120,'Roster Hornby'!$A$3:$AT$44,'Roster Hornby'!H$1,FALSE))))","v":""},{"$f":"IF(COUNTBLANK($A$120)<>0,\"\",IF(ISERROR(VLOOKUP($A$120,'Roster Hornby'!$A$3:$AT$44,'Roster Hornby'!I$1,FALSE)),\"\",IF(VLOOKUP($A$120,'Roster Hornby'!$A$3:$AT$44,'Roster Hornby'!I$1,FALSE)=0,\"\",VLOOKUP($A$120,'Roster Hornby'!$A$3:$AT$44,'Roster Hornby'!I$1,FALSE))))","v":""},{"$f":"IF(COUNTBLANK($A$120)<>0,\"\",IF(ISERROR(VLOOKUP($A$120,'Roster Hornby'!$A$3:$AT$44,'Roster Hornby'!J$1,FALSE)),\"\",IF(VLOOKUP($A$120,'Roster Hornby'!$A$3:$AT$44,'Roster Hornby'!J$1,FALSE)=0,\"\",VLOOKUP($A$120,'Roster Hornby'!$A$3:$AT$44,'Roster Hornby'!J$1,FALSE))))","v":""},{"$f":"IF(COUNTBLANK($A$120)<>0,\"\",IF(ISERROR(VLOOKUP($A$120,'Roster Hornby'!$A$3:$AT$44,'Roster Hornby'!K$1,FALSE)),\"\",IF(VLOOKUP($A$120,'Roster Hornby'!$A$3:$AT$44,'Roster Hornby'!K$1,FALSE)=0,\"\",VLOOKUP($A$120,'Roster Hornby'!$A$3:$AT$44,'Roster Hornby'!K$1,FALSE))))","v":""},{"$f":"IF(COUNTBLANK($A$120)<>0,\"\",IF(ISERROR(VLOOKUP($A$120,'Roster Hornby'!$A$3:$AT$44,'Roster Hornby'!L$1,FALSE)),\"\",IF(VLOOKUP($A$120,'Roster Hornby'!$A$3:$AT$44,'Roster Hornby'!L$1,FALSE)=0,\"\",VLOOKUP($A$120,'Roster Hornby'!$A$3:$AT$44,'Roster Hornby'!L$1,FALSE))))","v":""},{"$f":"IF(COUNTBLANK($A$120)<>0,\"\",IF(ISERROR(VLOOKUP($A$120,'Roster Hornby'!$A$3:$AT$44,'Roster Hornby'!M$1,FALSE)),\"\",IF(VLOOKUP($A$120,'Roster Hornby'!$A$3:$AT$44,'Roster Hornby'!M$1,FALSE)=0,\"\",VLOOKUP($A$120,'Roster Hornby'!$A$3:$AT$44,'Roster Hornby'!M$1,FALSE))))","v":""},{"$f":"IF(COUNTBLANK($A$120)<>0,\"\",IF(ISERROR(VLOOKUP($A$120,'Roster Hornby'!$A$3:$AT$44,'Roster Hornby'!N$1,FALSE)),\"\",IF(VLOOKUP($A$120,'Roster Hornby'!$A$3:$AT$44,'Roster Hornby'!N$1,FALSE)=0,\"\",VLOOKUP($A$120,'Roster Hornby'!$A$3:$AT$44,'Roster Hornby'!N$1,FALSE))))","v":""},{"$f":"IF(COUNTBLANK($A$120)<>0,\"\",IF(ISERROR(VLOOKUP($A$120,'Roster Hornby'!$A$3:$AT$44,'Roster Hornby'!O$1,FALSE)),\"\",IF(VLOOKUP($A$120,'Roster Hornby'!$A$3:$AT$44,'Roster Hornby'!O$1,FALSE)=0,\"\",VLOOKUP($A$120,'Roster Hornby'!$A$3:$AT$44,'Roster Hornby'!O$1,FALSE))))","v":""},{"$f":"IF(COUNTBLANK($A$120)<>0,\"\",IF(ISERROR(VLOOKUP($A$120,'Roster Hornby'!$A$3:$AT$44,'Roster Hornby'!P$1,FALSE)),\"\",IF(VLOOKUP($A$120,'Roster Hornby'!$A$3:$AT$44,'Roster Hornby'!P$1,FALSE)=0,\"\",VLOOKUP($A$120,'Roster Hornby'!$A$3:$AT$44,'Roster Hornby'!P$1,FALSE))))","v":""},{"$f":"IF(COUNTBLANK($A$120)<>0,\"\",IF(ISERROR(VLOOKUP($A$120,'Roster Hornby'!$A$3:$AT$44,'Roster Hornby'!Q$1,FALSE)),\"\",IF(VLOOKUP($A$120,'Roster Hornby'!$A$3:$AT$44,'Roster Hornby'!Q$1,FALSE)=0,\"\",VLOOKUP($A$120,'Roster Hornby'!$A$3:$AT$44,'Roster Hornby'!Q$1,FALSE))))","v":""},{"$f":"IF(COUNTBLANK($A$120)<>0,\"\",IF(ISERROR(VLOOKUP($A$120,'Roster Hornby'!$A$3:$AT$44,'Roster Hornby'!R$1,FALSE)),\"\",IF(VLOOKUP($A$120,'Roster Hornby'!$A$3:$AT$44,'Roster Hornby'!R$1,FALSE)=0,\"\",VLOOKUP($A$120,'Roster Hornby'!$A$3:$AT$44,'Roster Hornby'!R$1,FALSE))))","v":""},{"$f":"IF(COUNTBLANK($A$120)<>0,\"\",IF(ISERROR(VLOOKUP($A$120,'Roster Hornby'!$A$3:$AT$44,'Roster Hornby'!S$1,FALSE)),\"\",IF(VLOOKUP($A$120,'Roster Hornby'!$A$3:$AT$44,'Roster Hornby'!S$1,FALSE)=0,\"\",VLOOKUP($A$120,'Roster Hornby'!$A$3:$AT$44,'Roster Hornby'!S$1,FALSE))))","v":""},{"$f":"IF(COUNTBLANK($A$120)<>0,\"\",IF(ISERROR(VLOOKUP($A$120,'Roster Hornby'!$A$3:$AT$44,'Roster Hornby'!T$1,FALSE)),\"\",IF(VLOOKUP($A$120,'Roster Hornby'!$A$3:$AT$44,'Roster Hornby'!T$1,FALSE)=0,\"\",VLOOKUP($A$120,'Roster Hornby'!$A$3:$AT$44,'Roster Hornby'!T$1,FALSE))))","v":""},{"$f":"IF(COUNTBLANK($A$120)<>0,\"\",IF(ISERROR(VLOOKUP($A$120,'Roster Hornby'!$A$3:$AT$44,'Roster Hornby'!U$1,FALSE)),\"\",IF(VLOOKUP($A$120,'Roster Hornby'!$A$3:$AT$44,'Roster Hornby'!U$1,FALSE)=0,\"\",VLOOKUP($A$120,'Roster Hornby'!$A$3:$AT$44,'Roster Hornby'!U$1,FALSE))))","v":""},{"$f":"IF(COUNTBLANK($A$120)<>0,\"\",IF(ISERROR(VLOOKUP($A$120,'Roster Hornby'!$A$3:$AT$44,'Roster Hornby'!V$1,FALSE)),\"\",IF(VLOOKUP($A$120,'Roster Hornby'!$A$3:$AT$44,'Roster Hornby'!V$1,FALSE)=0,\"\",VLOOKUP($A$120,'Roster Hornby'!$A$3:$AT$44,'Roster Hornby'!V$1,FALSE))))","v":""},{"$f":"IF(COUNTBLANK($A$120)<>0,\"\",IF(ISERROR(VLOOKUP($A$120,'Roster Hornby'!$A$3:$AT$44,'Roster Hornby'!W$1,FALSE)),\"\",IF(VLOOKUP($A$120,'Roster Hornby'!$A$3:$AT$44,'Roster Hornby'!W$1,FALSE)=0,\"\",VLOOKUP($A$120,'Roster Hornby'!$A$3:$AT$44,'Roster Hornby'!W$1,FALSE))))","v":""},{"$f":"IF(COUNTBLANK($A$120)<>0,\"\",IF(ISERROR(VLOOKUP($A$120,'Roster Hornby'!$A$3:$AT$44,'Roster Hornby'!X$1,FALSE)),\"\",IF(VLOOKUP($A$120,'Roster Hornby'!$A$3:$AT$44,'Roster Hornby'!X$1,FALSE)=0,\"\",VLOOKUP($A$120,'Roster Hornby'!$A$3:$AT$44,'Roster Hornby'!X$1,FALSE))))","v":""},{"$f":"IF(COUNTBLANK($A$120)<>0,\"\",IF(ISERROR(VLOOKUP($A$120,'Roster Hornby'!$A$3:$AT$44,'Roster Hornby'!Y$1,FALSE)),\"\",IF(VLOOKUP($A$120,'Roster Hornby'!$A$3:$AT$44,'Roster Hornby'!Y$1,FALSE)=0,\"\",VLOOKUP($A$120,'Roster Hornby'!$A$3:$AT$44,'Roster Hornby'!Y$1,FALSE))))","v":""},{"$f":"IF(COUNTBLANK($A$120)<>0,\"\",IF(ISERROR(VLOOKUP($A$120,'Roster Hornby'!$A$3:$AT$44,'Roster Hornby'!Z$1,FALSE)),\"\",IF(VLOOKUP($A$120,'Roster Hornby'!$A$3:$AT$44,'Roster Hornby'!Z$1,FALSE)=0,\"\",VLOOKUP($A$120,'Roster Hornby'!$A$3:$AT$44,'Roster Hornby'!Z$1,FALSE))))","v":""},{"$f":"IF(COUNTBLANK($A$120)<>0,\"\",IF(ISERROR(VLOOKUP($A$120,'Roster Hornby'!$A$3:$AT$44,'Roster Hornby'!AA$1,FALSE)),\"\",IF(VLOOKUP($A$120,'Roster Hornby'!$A$3:$AT$44,'Roster Hornby'!AA$1,FALSE)=0,\"\",VLOOKUP($A$120,'Roster Hornby'!$A$3:$AT$44,'Roster Hornby'!AA$1,FALSE))))","v":""},{"$f":"IF(COUNTBLANK($A$120)<>0,\"\",IF(ISERROR(VLOOKUP($A$120,'Roster Hornby'!$A$3:$AT$44,'Roster Hornby'!AB$1,FALSE)),\"\",IF(VLOOKUP($A$120,'Roster Hornby'!$A$3:$AT$44,'Roster Hornby'!AB$1,FALSE)=0,\"\",VLOOKUP($A$120,'Roster Hornby'!$A$3:$AT$44,'Roster Hornby'!AB$1,FALSE))))","v":""},{"$f":"IF(COUNTBLANK($A$120)<>0,\"\",IF(ISERROR(VLOOKUP($A$120,'Roster Hornby'!$A$3:$AT$44,'Roster Hornby'!AC$1,FALSE)),\"\",IF(VLOOKUP($A$120,'Roster Hornby'!$A$3:$AT$44,'Roster Hornby'!AC$1,FALSE)=0,\"\",VLOOKUP($A$120,'Roster Hornby'!$A$3:$AT$44,'Roster Hornby'!AC$1,FALSE))))","v":""},{"$f":"IF(COUNTBLANK($A$120)<>0,\"\",IF(ISERROR(VLOOKUP($A$120,'Roster Hornby'!$A$3:$AT$44,'Roster Hornby'!AD$1,FALSE)),\"\",IF(VLOOKUP($A$120,'Roster Hornby'!$A$3:$AT$44,'Roster Hornby'!AD$1,FALSE)=0,\"\",VLOOKUP($A$120,'Roster Hornby'!$A$3:$AT$44,'Roster Hornby'!AD$1,FALSE))))","v":""},{"$f":"IF(COUNTBLANK($A$120)<>0,\"\",IF(ISERROR(VLOOKUP($A$120,'Roster Hornby'!$A$3:$AT$44,'Roster Hornby'!AE$1,FALSE)),\"\",IF(VLOOKUP($A$120,'Roster Hornby'!$A$3:$AT$44,'Roster Hornby'!AE$1,FALSE)=0,\"\",VLOOKUP($A$120,'Roster Hornby'!$A$3:$AT$44,'Roster Hornby'!AE$1,FALSE))))","v":""},{"$f":"IF(COUNTBLANK($A$120)<>0,\"\",IF(ISERROR(VLOOKUP($A$120,'Roster Hornby'!$A$3:$AT$44,'Roster Hornby'!AF$1,FALSE)),\"\",IF(VLOOKUP($A$120,'Roster Hornby'!$A$3:$AT$44,'Roster Hornby'!AF$1,FALSE)=0,\"\",VLOOKUP($A$120,'Roster Hornby'!$A$3:$AT$44,'Roster Hornby'!AF$1,FALSE))))","v":""},{"$f":"IF(COUNTBLANK($A$120)<>0,\"\",IF(ISERROR(VLOOKUP($A$120,'Roster Hornby'!$A$3:$AT$44,'Roster Hornby'!AG$1,FALSE)),\"\",IF(VLOOKUP($A$120,'Roster Hornby'!$A$3:$AT$44,'Roster Hornby'!AG$1,FALSE)=0,\"\",VLOOKUP($A$120,'Roster Hornby'!$A$3:$AT$44,'Roster Hornby'!AG$1,FALSE))))","v":""},{"$f":"IF(COUNTBLANK($A$120)<>0,\"\",IF(ISERROR(VLOOKUP($A$120,'Roster Hornby'!$A$3:$AT$44,'Roster Hornby'!AH$1,FALSE)),\"\",IF(VLOOKUP($A$120,'Roster Hornby'!$A$3:$AT$44,'Roster Hornby'!AH$1,FALSE)=0,\"\",VLOOKUP($A$120,'Roster Hornby'!$A$3:$AT$44,'Roster Hornby'!AH$1,FALSE))))","v":""},{"$f":"IF(COUNTBLANK($A$120)<>0,\"\",IF(ISERROR(VLOOKUP($A$120,'Roster Hornby'!$A$3:$AT$44,'Roster Hornby'!AI$1,FALSE)),\"\",IF(VLOOKUP($A$120,'Roster Hornby'!$A$3:$AT$44,'Roster Hornby'!AI$1,FALSE)=0,\"\",VLOOKUP($A$120,'Roster Hornby'!$A$3:$AT$44,'Roster Hornby'!AI$1,FALSE))))","v":""},{"$f":"IF(COUNTBLANK($A$120)<>0,\"\",IF(ISERROR(VLOOKUP($A$120,'Roster Hornby'!$A$3:$AT$44,'Roster Hornby'!AJ$1,FALSE)),\"\",IF(VLOOKUP($A$120,'Roster Hornby'!$A$3:$AT$44,'Roster Hornby'!AJ$1,FALSE)=0,\"\",VLOOKUP($A$120,'Roster Hornby'!$A$3:$AT$44,'Roster Hornby'!AJ$1,FALSE))))","v":""},{"$f":"IF(COUNTBLANK($A$120)<>0,\"\",IF(ISERROR(VLOOKUP($A$120,'Roster Hornby'!$A$3:$AT$44,'Roster Hornby'!AK$1,FALSE)),\"\",IF(VLOOKUP($A$120,'Roster Hornby'!$A$3:$AT$44,'Roster Hornby'!AK$1,FALSE)=0,\"\",VLOOKUP($A$120,'Roster Hornby'!$A$3:$AT$44,'Roster Hornby'!AK$1,FALSE))))","v":""},{"$f":"IF(COUNTBLANK($A$120)<>0,\"\",IF(ISERROR(VLOOKUP($A$120,'Roster Hornby'!$A$3:$AT$44,'Roster Hornby'!AL$1,FALSE)),\"\",IF(VLOOKUP($A$120,'Roster Hornby'!$A$3:$AT$44,'Roster Hornby'!AL$1,FALSE)=0,\"\",VLOOKUP($A$120,'Roster Hornby'!$A$3:$AT$44,'Roster Hornby'!AL$1,FALSE))))","v":""},{"$f":"IF(COUNTBLANK($A$120)<>0,\"\",IF(ISERROR(VLOOKUP($A$120,'Roster Hornby'!$A$3:$AT$44,'Roster Hornby'!AM$1,FALSE)),\"\",IF(VLOOKUP($A$120,'Roster Hornby'!$A$3:$AT$44,'Roster Hornby'!AM$1,FALSE)=0,\"\",VLOOKUP($A$120,'Roster Hornby'!$A$3:$AT$44,'Roster Hornby'!AM$1,FALSE))))","v":""},{"$f":"IF(COUNTBLANK($A$120)<>0,\"\",IF(ISERROR(VLOOKUP($A$120,'Roster Hornby'!$A$3:$AT$44,'Roster Hornby'!AN$1,FALSE)),\"\",IF(VLOOKUP($A$120,'Roster Hornby'!$A$3:$AT$44,'Roster Hornby'!AN$1,FALSE)=0,\"\",VLOOKUP($A$120,'Roster Hornby'!$A$3:$AT$44,'Roster Hornby'!AN$1,FALSE))))","v":""},{"$f":"IF(COUNTBLANK($A$120)<>0,\"\",IF(ISERROR(VLOOKUP($A$120,'Roster Hornby'!$A$3:$AT$44,'Roster Hornby'!AO$1,FALSE)),\"\",IF(VLOOKUP($A$120,'Roster Hornby'!$A$3:$AT$44,'Roster Hornby'!AO$1,FALSE)=0,\"\",VLOOKUP($A$120,'Roster Hornby'!$A$3:$AT$44,'Roster Hornby'!AO$1,FALSE))))","v":""},{"$f":"IF(COUNTBLANK($A$120)<>0,\"\",IF(ISERROR(VLOOKUP($A$120,'Roster Hornby'!$A$3:$AT$44,'Roster Hornby'!AP$1,FALSE)),\"\",IF(VLOOKUP($A$120,'Roster Hornby'!$A$3:$AT$44,'Roster Hornby'!AP$1,FALSE)=0,\"\",VLOOKUP($A$120,'Roster Hornby'!$A$3:$AT$44,'Roster Hornby'!AP$1,FALSE))))","v":""},{"$f":"IF(COUNTBLANK($A$120)<>0,\"\",IF(ISERROR(VLOOKUP($A$120,'Roster Hornby'!$A$3:$AT$44,'Roster Hornby'!AQ$1,FALSE)),\"\",IF(VLOOKUP($A$120,'Roster Hornby'!$A$3:$AT$44,'Roster Hornby'!AQ$1,FALSE)=0,\"\",VLOOKUP($A$120,'Roster Hornby'!$A$3:$AT$44,'Roster Hornby'!AQ$1,FALSE))))","v":""},{"$f":"IF(COUNTBLANK($A$120)<>0,\"\",IF(ISERROR(VLOOKUP($A$120,'Roster Hornby'!$A$3:$AT$44,'Roster Hornby'!AR$1,FALSE)),\"\",IF(VLOOKUP($A$120,'Roster Hornby'!$A$3:$AT$44,'Roster Hornby'!AR$1,FALSE)=0,\"\",VLOOKUP($A$120,'Roster Hornby'!$A$3:$AT$44,'Roster Hornby'!AR$1,FALSE))))","v":""},{"$f":"IF(COUNTBLANK($A$120)<>0,\"\",IF(ISERROR(VLOOKUP($A$120,'Roster Hornby'!$A$3:$AT$44,'Roster Hornby'!AS$1,FALSE)),\"\",IF(VLOOKUP($A$120,'Roster Hornby'!$A$3:$AT$44,'Roster Hornby'!AS$1,FALSE)=0,\"\",VLOOKUP($A$120,'Roster Hornby'!$A$3:$AT$44,'Roster Hornby'!AS$1,FALSE))))","v":""},{"$f":"IF(COUNTBLANK($A$120)<>0,\"\",IF(ISERROR(VLOOKUP($A$120,'Roster Hornby'!$A$3:$AT$44,'Roster Hornby'!AT$1,FALSE)),\"\",IF(VLOOKUP($A$120,'Roster Hornby'!$A$3:$AT$44,'Roster Hornby'!AT$1,FALSE)=0,\"\",VLOOKUP($A$120,'Roster Hornby'!$A$3:$AT$44,'Roster Hornby'!AT$1,FALSE))))","v":""}]
[{"$f":"+A61","v":2008},{"$f":"IF(COUNTBLANK($A$120)<>0,\"\",IF(ISERROR(VLOOKUP($A$120,'Roster Hornby'!$A$45:$AT$124,'Roster Hornby'!C$1,FALSE)),\"\",IF(VLOOKUP($A$120,'Roster Hornby'!$A$45:$AT$124,'Roster Hornby'!C$1,FALSE)=0,\"\",VLOOKUP($A$120,'Roster Hornby'!$A$45:$AT$124,'Roster Hornby'!C$1,FALSE))))","v":"Yes"},{"$f":"IF(COUNTBLANK($A$120)<>0,\"\",IF(ISERROR(VLOOKUP($A$120,'Roster Hornby'!$A$45:$AT$124,'Roster Hornby'!D$1,FALSE)),\"\",IF(VLOOKUP($A$120,'Roster Hornby'!$A$45:$AT$124,'Roster Hornby'!D$1,FALSE)=0,\"\",VLOOKUP($A$120,'Roster Hornby'!$A$45:$AT$124,'Roster Hornby'!D$1,FALSE))))","v":"ML"},{"$f":"IF(COUNTBLANK($A$120)<>0,\"\",IF(ISERROR(VLOOKUP($A$120,'Roster Hornby'!$A$45:$AT$124,'Roster Hornby'!E$1,FALSE)),\"\",IF(VLOOKUP($A$120,'Roster Hornby'!$A$45:$AT$124,'Roster Hornby'!E$1,FALSE)=0,\"\",VLOOKUP($A$120,'Roster Hornby'!$A$45:$AT$124,'Roster Hornby'!E$1,FALSE))))","v":92},{"$f":"IF(COUNTBLANK($A$120)<>0,\"\",IF(ISERROR(VLOOKUP($A$120,'Roster Hornby'!$A$45:$AT$124,'Roster Hornby'!F$1,FALSE)),\"\",IF(VLOOKUP($A$120,'Roster Hornby'!$A$45:$AT$124,'Roster Hornby'!F$1,FALSE)=0,\"\",VLOOKUP($A$120,'Roster Hornby'!$A$45:$AT$124,'Roster Hornby'!F$1,FALSE))))","v":"x"},{"$f":"IF(COUNTBLANK($A$120)<>0,\"\",IF(ISERROR(VLOOKUP($A$120,'Roster Hornby'!$A$45:$AT$124,'Roster Hornby'!A$1,FALSE)),\"N/A\",IF(VLOOKUP($A$120,'Roster Hornby'!$A$45:$AT$124,'Roster Hornby'!A$1,FALSE)=0,\"\",VLOOKUP($A$120,'Roster Hornby'!$A$45:$AT$124,'Roster Hornby'!A$1,FALSE))))","v":"HL6037"},{"$f":"IF(COUNTBLANK($A$120)<>0,\"\",IF(ISERROR(VLOOKUP($A$120,'Roster Hornby'!$A$45:$AT$124,'Roster Hornby'!G$1,FALSE)),\"\",IF(VLOOKUP($A$120,'Roster Hornby'!$A$45:$AT$124,'Roster Hornby'!G$1,FALSE)=0,\"\",VLOOKUP($A$120,'Roster Hornby'!$A$45:$AT$124,'Roster Hornby'!G$1,FALSE))))","v":""},{"$f":"IF(COUNTBLANK($A$120)<>0,\"\",IF(ISERROR(VLOOKUP($A$120,'Roster Hornby'!$A$45:$AT$124,'Roster Hornby'!H$1,FALSE)),\"\",IF(VLOOKUP($A$120,'Roster Hornby'!$A$45:$AT$124,'Roster Hornby'!H$1,FALSE)=0,\"\",VLOOKUP($A$120,'Roster Hornby'!$A$45:$AT$124,'Roster Hornby'!H$1,FALSE))))","v":302846},{"$f":"IF(COUNTBLANK($A$120)<>0,\"\",IF(ISERROR(VLOOKUP($A$120,'Roster Hornby'!$A$45:$AT$124,'Roster Hornby'!I$1,FALSE)),\"\",IF(VLOOKUP($A$120,'Roster Hornby'!$A$45:$AT$124,'Roster Hornby'!I$1,FALSE)=0,\"\",VLOOKUP($A$120,'Roster Hornby'!$A$45:$AT$124,'Roster Hornby'!I$1,FALSE))))","v":"K"},{"$f":"IF(COUNTBLANK($A$120)<>0,\"\",IF(ISERROR(VLOOKUP($A$120,'Roster Hornby'!$A$45:$AT$124,'Roster Hornby'!J$1,FALSE)),\"\",IF(VLOOKUP($A$120,'Roster Hornby'!$A$45:$AT$124,'Roster Hornby'!J$1,FALSE)=0,\"\",VLOOKUP($A$120,'Roster Hornby'!$A$45:$AT$124,'Roster Hornby'!J$1,FALSE))))","v":""},{"$f":"IF(COUNTBLANK($A$120)<>0,\"\",IF(ISERROR(VLOOKUP($A$120,'Roster Hornby'!$A$45:$AT$124,'Roster Hornby'!K$1,FALSE)),\"\",IF(VLOOKUP($A$120,'Roster Hornby'!$A$45:$AT$124,'Roster Hornby'!K$1,FALSE)=0,\"\",VLOOKUP($A$120,'Roster Hornby'!$A$45:$AT$124,'Roster Hornby'!K$1,FALSE))))","v":"Germany"},{"$f":"IF(COUNTBLANK($A$120)<>0,\"\",IF(ISERROR(VLOOKUP($A$120,'Roster Hornby'!$A$45:$AT$124,'Roster Hornby'!L$1,FALSE)),\"\",IF(VLOOKUP($A$120,'Roster Hornby'!$A$45:$AT$124,'Roster Hornby'!L$1,FALSE)=0,\"\",VLOOKUP($A$120,'Roster Hornby'!$A$45:$AT$124,'Roster Hornby'!L$1,FALSE))))","v":"DB"},{"$f":"IF(COUNTBLANK($A$120)<>0,\"\",IF(ISERROR(VLOOKUP($A$120,'Roster Hornby'!$A$45:$AT$124,'Roster Hornby'!M$1,FALSE)),\"\",IF(VLOOKUP($A$120,'Roster Hornby'!$A$45:$AT$124,'Roster Hornby'!M$1,FALSE)=0,\"\",VLOOKUP($A$120,'Roster Hornby'!$A$45:$AT$124,'Roster Hornby'!M$1,FALSE))))","v":"No"},{"$f":"IF(COUNTBLANK($A$120)<>0,\"\",IF(ISERROR(VLOOKUP($A$120,'Roster Hornby'!$A$45:$AT$124,'Roster Hornby'!N$1,FALSE)),\"\",IF(VLOOKUP($A$120,'Roster Hornby'!$A$45:$AT$124,'Roster Hornby'!N$1,FALSE)=0,\"\",VLOOKUP($A$120,'Roster Hornby'!$A$45:$AT$124,'Roster Hornby'!N$1,FALSE))))","v":"Freight"},{"$f":"IF(COUNTBLANK($A$120)<>0,\"\",IF(ISERROR(VLOOKUP($A$120,'Roster Hornby'!$A$45:$AT$124,'Roster Hornby'!O$1,FALSE)),\"\",IF(VLOOKUP($A$120,'Roster Hornby'!$A$45:$AT$124,'Roster Hornby'!O$1,FALSE)=0,\"\",VLOOKUP($A$120,'Roster Hornby'!$A$45:$AT$124,'Roster Hornby'!O$1,FALSE))))","v":"Flat"},{"$f":"IF(COUNTBLANK($A$120)<>0,\"\",IF(ISERROR(VLOOKUP($A$120,'Roster Hornby'!$A$45:$AT$124,'Roster Hornby'!P$1,FALSE)),\"\",IF(VLOOKUP($A$120,'Roster Hornby'!$A$45:$AT$124,'Roster Hornby'!P$1,FALSE)=0,\"\",VLOOKUP($A$120,'Roster Hornby'!$A$45:$AT$124,'Roster Hornby'!P$1,FALSE))))","v":"With 2 containers"},{"$f":"IF(COUNTBLANK($A$120)<>0,\"\",IF(ISERROR(VLOOKUP($A$120,'Roster Hornby'!$A$45:$AT$124,'Roster Hornby'!Q$1,FALSE)),\"\",IF(VLOOKUP($A$120,'Roster Hornby'!$A$45:$AT$124,'Roster Hornby'!Q$1,FALSE)=0,\"\",VLOOKUP($A$120,'Roster Hornby'!$A$45:$AT$124,'Roster Hornby'!Q$1,FALSE))))","v":2},{"$f":"IF(COUNTBLANK($A$120)<>0,\"\",IF(ISERROR(VLOOKUP($A$120,'Roster Hornby'!$A$45:$AT$124,'Roster Hornby'!R$1,FALSE)),\"\",IF(VLOOKUP($A$120,'Roster Hornby'!$A$45:$AT$124,'Roster Hornby'!R$1,FALSE)=0,\"\",VLOOKUP($A$120,'Roster Hornby'!$A$45:$AT$124,'Roster Hornby'!R$1,FALSE))))","v":"N/A"},{"$f":"IF(COUNTBLANK($A$120)<>0,\"\",IF(ISERROR(VLOOKUP($A$120,'Roster Hornby'!$A$45:$AT$124,'Roster Hornby'!S$1,FALSE)),\"\",IF(VLOOKUP($A$120,'Roster Hornby'!$A$45:$AT$124,'Roster Hornby'!S$1,FALSE)=0,\"\",VLOOKUP($A$120,'Roster Hornby'!$A$45:$AT$124,'Roster Hornby'!S$1,FALSE))))","v":"Yes"},{"$f":"IF(COUNTBLANK($A$120)<>0,\"\",IF(ISERROR(VLOOKUP($A$120,'Roster Hornby'!$A$45:$AT$124,'Roster Hornby'!T$1,FALSE)),\"\",IF(VLOOKUP($A$120,'Roster Hornby'!$A$45:$AT$124,'Roster Hornby'!T$1,FALSE)=0,\"\",VLOOKUP($A$120,'Roster Hornby'!$A$45:$AT$124,'Roster Hornby'!T$1,FALSE))))","v":1969},{"$f":"IF(COUNTBLANK($A$120)<>0,\"\",IF(ISERROR(VLOOKUP($A$120,'Roster Hornby'!$A$45:$AT$124,'Roster Hornby'!U$1,FALSE)),\"\",IF(VLOOKUP($A$120,'Roster Hornby'!$A$45:$AT$124,'Roster Hornby'!U$1,FALSE)=0,\"\",VLOOKUP($A$120,'Roster Hornby'!$A$45:$AT$124,'Roster Hornby'!U$1,FALSE))))","v":1999},{"$f":"IF(COUNTBLANK($A$120)<>0,\"\",IF(ISERROR(VLOOKUP($A$120,'Roster Hornby'!$A$45:$AT$124,'Roster Hornby'!V$1,FALSE)),\"\",IF(VLOOKUP($A$120,'Roster Hornby'!$A$45:$AT$124,'Roster Hornby'!V$1,FALSE)=0,\"\",VLOOKUP($A$120,'Roster Hornby'!$A$45:$AT$124,'Roster Hornby'!V$1,FALSE))))","v":"IV a / IV b / V a / V b"},{"$f":"IF(COUNTBLANK($A$120)<>0,\"\",IF(ISERROR(VLOOKUP($A$120,'Roster Hornby'!$A$45:$AT$124,'Roster Hornby'!W$1,FALSE)),\"\",IF(VLOOKUP($A$120,'Roster Hornby'!$A$45:$AT$124,'Roster Hornby'!W$1,FALSE)=0,\"\",VLOOKUP($A$120,'Roster Hornby'!$A$45:$AT$124,'Roster Hornby'!W$1,FALSE))))","v":"L-type"},{"$f":"IF(COUNTBLANK($A$120)<>0,\"\",IF(ISERROR(VLOOKUP($A$120,'Roster Hornby'!$A$45:$AT$124,'Roster Hornby'!X$1,FALSE)),\"\",IF(VLOOKUP($A$120,'Roster Hornby'!$A$45:$AT$124,'Roster Hornby'!X$1,FALSE)=0,\"\",VLOOKUP($A$120,'Roster Hornby'!$A$45:$AT$124,'Roster Hornby'!X$1,FALSE))))","v":"Lgjs 573"},{"$f":"IF(COUNTBLANK($A$120)<>0,\"\",IF(ISERROR(VLOOKUP($A$120,'Roster Hornby'!$A$45:$AT$124,'Roster Hornby'!Y$1,FALSE)),\"\",IF(VLOOKUP($A$120,'Roster Hornby'!$A$45:$AT$124,'Roster Hornby'!Y$1,FALSE)=0,\"\",VLOOKUP($A$120,'Roster Hornby'!$A$45:$AT$124,'Roster Hornby'!Y$1,FALSE))))","v":"Lss y 573"},{"$f":"IF(COUNTBLANK($A$120)<>0,\"\",IF(ISERROR(VLOOKUP($A$120,'Roster Hornby'!$A$45:$AT$124,'Roster Hornby'!Z$1,FALSE)),\"\",IF(VLOOKUP($A$120,'Roster Hornby'!$A$45:$AT$124,'Roster Hornby'!Z$1,FALSE)=0,\"\",VLOOKUP($A$120,'Roster Hornby'!$A$45:$AT$124,'Roster Hornby'!Z$1,FALSE))))","v":"N/A"},{"$f":"IF(COUNTBLANK($A$120)<>0,\"\",IF(ISERROR(VLOOKUP($A$120,'Roster Hornby'!$A$45:$AT$124,'Roster Hornby'!AA$1,FALSE)),\"\",IF(VLOOKUP($A$120,'Roster Hornby'!$A$45:$AT$124,'Roster Hornby'!AA$1,FALSE)=0,\"\",VLOOKUP($A$120,'Roster Hornby'!$A$45:$AT$124,'Roster Hornby'!AA$1,FALSE))))","v":"Built in the late 1960's"},{"$f":"IF(COUNTBLANK($A$120)<>0,\"\",IF(ISERROR(VLOOKUP($A$120,'Roster Hornby'!$A$45:$AT$124,'Roster Hornby'!AB$1,FALSE)),\"\",IF(VLOOKUP($A$120,'Roster Hornby'!$A$45:$AT$124,'Roster Hornby'!AB$1,FALSE)=0,\"\",VLOOKUP($A$120,'Roster Hornby'!$A$45:$AT$124,'Roster Hornby'!AB$1,FALSE))))","v":"CTI - Hapag Lloyd"},{"$f":"IF(COUNTBLANK($A$120)<>0,\"\",IF(ISERROR(VLOOKUP($A$120,'Roster Hornby'!$A$45:$AT$124,'Roster Hornby'!AC$1,FALSE)),\"\",IF(VLOOKUP($A$120,'Roster Hornby'!$A$45:$AT$124,'Roster Hornby'!AC$1,FALSE)=0,\"\",VLOOKUP($A$120,'Roster Hornby'!$A$45:$AT$124,'Roster Hornby'!AC$1,FALSE))))","v":"N/A"},{"$f":"IF(COUNTBLANK($A$120)<>0,\"\",IF(ISERROR(VLOOKUP($A$120,'Roster Hornby'!$A$45:$AT$124,'Roster Hornby'!AD$1,FALSE)),\"\",IF(VLOOKUP($A$120,'Roster Hornby'!$A$45:$AT$124,'Roster Hornby'!AD$1,FALSE)=0,\"\",VLOOKUP($A$120,'Roster Hornby'!$A$45:$AT$124,'Roster Hornby'!AD$1,FALSE))))","v":"N/A"},{"$f":"IF(COUNTBLANK($A$120)<>0,\"\",IF(ISERROR(VLOOKUP($A$120,'Roster Hornby'!$A$45:$AT$124,'Roster Hornby'!AE$1,FALSE)),\"\",IF(VLOOKUP($A$120,'Roster Hornby'!$A$45:$AT$124,'Roster Hornby'!AE$1,FALSE)=0,\"\",VLOOKUP($A$120,'Roster Hornby'!$A$45:$AT$124,'Roster Hornby'!AE$1,FALSE))))","v":"N/A"},{"$f":"IF(COUNTBLANK($A$120)<>0,\"\",IF(ISERROR(VLOOKUP($A$120,'Roster Hornby'!$A$45:$AT$124,'Roster Hornby'!AF$1,FALSE)),\"\",IF(VLOOKUP($A$120,'Roster Hornby'!$A$45:$AT$124,'Roster Hornby'!AF$1,FALSE)=0,\"\",VLOOKUP($A$120,'Roster Hornby'!$A$45:$AT$124,'Roster Hornby'!AF$1,FALSE))))","v":"N/A"},{"$f":"IF(COUNTBLANK($A$120)<>0,\"\",IF(ISERROR(VLOOKUP($A$120,'Roster Hornby'!$A$45:$AT$124,'Roster Hornby'!AG$1,FALSE)),\"\",IF(VLOOKUP($A$120,'Roster Hornby'!$A$45:$AT$124,'Roster Hornby'!AG$1,FALSE)=0,\"\",VLOOKUP($A$120,'Roster Hornby'!$A$45:$AT$124,'Roster Hornby'!AG$1,FALSE))))","v":"Yellow"},{"$f":"IF(COUNTBLANK($A$120)<>0,\"\",IF(ISERROR(VLOOKUP($A$120,'Roster Hornby'!$A$45:$AT$124,'Roster Hornby'!AH$1,FALSE)),\"\",IF(VLOOKUP($A$120,'Roster Hornby'!$A$45:$AT$124,'Roster Hornby'!AH$1,FALSE)=0,\"\",VLOOKUP($A$120,'Roster Hornby'!$A$45:$AT$124,'Roster Hornby'!AH$1,FALSE))))","v":"Red"},{"$f":"IF(COUNTBLANK($A$120)<>0,\"\",IF(ISERROR(VLOOKUP($A$120,'Roster Hornby'!$A$45:$AT$124,'Roster Hornby'!AI$1,FALSE)),\"\",IF(VLOOKUP($A$120,'Roster Hornby'!$A$45:$AT$124,'Roster Hornby'!AI$1,FALSE)=0,\"\",VLOOKUP($A$120,'Roster Hornby'!$A$45:$AT$124,'Roster Hornby'!AI$1,FALSE))))","v":"Brown"},{"$f":"IF(COUNTBLANK($A$120)<>0,\"\",IF(ISERROR(VLOOKUP($A$120,'Roster Hornby'!$A$45:$AT$124,'Roster Hornby'!AJ$1,FALSE)),\"\",IF(VLOOKUP($A$120,'Roster Hornby'!$A$45:$AT$124,'Roster Hornby'!AJ$1,FALSE)=0,\"\",VLOOKUP($A$120,'Roster Hornby'!$A$45:$AT$124,'Roster Hornby'!AJ$1,FALSE))))","v":"N/A"},{"$f":"IF(COUNTBLANK($A$120)<>0,\"\",IF(ISERROR(VLOOKUP($A$120,'Roster Hornby'!$A$45:$AT$124,'Roster Hornby'!AK$1,FALSE)),\"\",IF(VLOOKUP($A$120,'Roster Hornby'!$A$45:$AT$124,'Roster Hornby'!AK$1,FALSE)=0,\"\",VLOOKUP($A$120,'Roster Hornby'!$A$45:$AT$124,'Roster Hornby'!AK$1,FALSE))))","v":"N/A"},{"$f":"IF(COUNTBLANK($A$120)<>0,\"\",IF(ISERROR(VLOOKUP($A$120,'Roster Hornby'!$A$45:$AT$124,'Roster Hornby'!AL$1,FALSE)),\"\",IF(VLOOKUP($A$120,'Roster Hornby'!$A$45:$AT$124,'Roster Hornby'!AL$1,FALSE)=0,\"\",VLOOKUP($A$120,'Roster Hornby'!$A$45:$AT$124,'Roster Hornby'!AL$1,FALSE))))","v":"Blue"},{"$f":"IF(COUNTBLANK($A$120)<>0,\"\",IF(ISERROR(VLOOKUP($A$120,'Roster Hornby'!$A$45:$AT$124,'Roster Hornby'!AM$1,FALSE)),\"\",IF(VLOOKUP($A$120,'Roster Hornby'!$A$45:$AT$124,'Roster Hornby'!AM$1,FALSE)=0,\"\",VLOOKUP($A$120,'Roster Hornby'!$A$45:$AT$124,'Roster Hornby'!AM$1,FALSE))))","v":"N/A"},{"$f":"IF(COUNTBLANK($A$120)<>0,\"\",IF(ISERROR(VLOOKUP($A$120,'Roster Hornby'!$A$45:$AT$124,'Roster Hornby'!AN$1,FALSE)),\"\",IF(VLOOKUP($A$120,'Roster Hornby'!$A$45:$AT$124,'Roster Hornby'!AN$1,FALSE)=0,\"\",VLOOKUP($A$120,'Roster Hornby'!$A$45:$AT$124,'Roster Hornby'!AN$1,FALSE))))","v":"N/A"},{"$f":"IF(COUNTBLANK($A$120)<>0,\"\",IF(ISERROR(VLOOKUP($A$120,'Roster Hornby'!$A$45:$AT$124,'Roster Hornby'!AO$1,FALSE)),\"\",IF(VLOOKUP($A$120,'Roster Hornby'!$A$45:$AT$124,'Roster Hornby'!AO$1,FALSE)=0,\"\",VLOOKUP($A$120,'Roster Hornby'!$A$45:$AT$124,'Roster Hornby'!AO$1,FALSE))))","v":""},{"$f":"IF(COUNTBLANK($A$120)<>0,\"\",IF(ISERROR(VLOOKUP($A$120,'Roster Hornby'!$A$45:$AT$124,'Roster Hornby'!AP$1,FALSE)),\"\",IF(VLOOKUP($A$120,'Roster Hornby'!$A$45:$AT$124,'Roster Hornby'!AP$1,FALSE)=0,\"\",VLOOKUP($A$120,'Roster Hornby'!$A$45:$AT$124,'Roster Hornby'!AP$1,FALSE))))","v":""},{"$f":"IF(COUNTBLANK($A$120)<>0,\"\",IF(ISERROR(VLOOKUP($A$120,'Roster Hornby'!$A$45:$AT$124,'Roster Hornby'!AQ$1,FALSE)),\"\",IF(VLOOKUP($A$120,'Roster Hornby'!$A$45:$AT$124,'Roster Hornby'!AQ$1,FALSE)=0,\"\",VLOOKUP($A$120,'Roster Hornby'!$A$45:$AT$124,'Roster Hornby'!AQ$1,FALSE))))","v":2},{"$f":"IF(COUNTBLANK($A$120)<>0,\"\",IF(ISERROR(VLOOKUP($A$120,'Roster Hornby'!$A$45:$AT$124,'Roster Hornby'!AR$1,FALSE)),\"\",IF(VLOOKUP($A$120,'Roster Hornby'!$A$45:$AT$124,'Roster Hornby'!AR$1,FALSE)=0,\"\",VLOOKUP($A$120,'Roster Hornby'!$A$45:$AT$124,'Roster Hornby'!AR$1,FALSE))))","v":1.1494252873563218E-2},{"$f":"IF(COUNTBLANK($A$120)<>0,\"\",IF(ISERROR(VLOOKUP($A$120,'Roster Hornby'!$A$45:$AT$124,'Roster Hornby'!AS$1,FALSE)),\"\",IF(VLOOKUP($A$120,'Roster Hornby'!$A$45:$AT$124,'Roster Hornby'!AS$1,FALSE)=0,\"\",VLOOKUP($A$120,'Roster Hornby'!$A$45:$AT$124,'Roster Hornby'!AS$1,FALSE))))","v":170},{"$f":"IF(COUNTBLANK($A$120)<>0,\"\",IF(ISERROR(VLOOKUP($A$120,'Roster Hornby'!$A$45:$AT$124,'Roster Hornby'!AT$1,FALSE)),\"\",IF(VLOOKUP($A$120,'Roster Hornby'!$A$45:$AT$124,'Roster Hornby'!AT$1,FALSE)=0,\"\",VLOOKUP($A$120,'Roster Hornby'!$A$45:$AT$124,'Roster Hornby'!AT$1,FALSE))))","v":"Yes"}]
[{"$f":"+A62","v":2009},{"$f":"IF(COUNTBLANK($A$120)<>0,\"\",IF(ISERROR(VLOOKUP($A$120,'Roster Hornby'!$A$125:$AT$192,'Roster Hornby'!C$1,FALSE)),\"\",IF(VLOOKUP($A$120,'Roster Hornby'!$A$125:$AT$192,'Roster Hornby'!C$1,FALSE)=0,\"\",VLOOKUP($A$120,'Roster Hornby'!$A$125:$AT$192,'Roster Hornby'!C$1,FALSE))))","v":""},{"$f":"IF(COUNTBLANK($A$120)<>0,\"\",IF(ISERROR(VLOOKUP($A$120,'Roster Hornby'!$A$125:$AT$192,'Roster Hornby'!D$1,FALSE)),\"\",IF(VLOOKUP($A$120,'Roster Hornby'!$A$125:$AT$192,'Roster Hornby'!D$1,FALSE)=0,\"\",VLOOKUP($A$120,'Roster Hornby'!$A$125:$AT$192,'Roster Hornby'!D$1,FALSE))))","v":""},{"$f":"IF(COUNTBLANK($A$120)<>0,\"\",IF(ISERROR(VLOOKUP($A$120,'Roster Hornby'!$A$125:$AT$192,'Roster Hornby'!E$1,FALSE)),\"\",IF(VLOOKUP($A$120,'Roster Hornby'!$A$125:$AT$192,'Roster Hornby'!E$1,FALSE)=0,\"\",VLOOKUP($A$120,'Roster Hornby'!$A$125:$AT$192,'Roster Hornby'!E$1,FALSE))))","v":""},{"$f":"IF(COUNTBLANK($A$120)<>0,\"\",IF(ISERROR(VLOOKUP($A$120,'Roster Hornby'!$A$125:$AT$192,'Roster Hornby'!F$1,FALSE)),\"\",IF(VLOOKUP($A$120,'Roster Hornby'!$A$125:$AT$192,'Roster Hornby'!F$1,FALSE)=0,\"\",VLOOKUP($A$120,'Roster Hornby'!$A$125:$AT$192,'Roster Hornby'!F$1,FALSE))))","v":""},{"$f":"IF(COUNTBLANK($A$120)<>0,\"\",IF(ISERROR(VLOOKUP($A$120,'Roster Hornby'!$A$125:$AT$192,'Roster Hornby'!A$1,FALSE)),\"N/A\",IF(VLOOKUP($A$120,'Roster Hornby'!$A$125:$AT$192,'Roster Hornby'!A$1,FALSE)=0,\"\",VLOOKUP($A$120,'Roster Hornby'!$A$125:$AT$192,'Roster Hornby'!A$1,FALSE))))","v":"N/A"},{"$f":"IF(COUNTBLANK($A$120)<>0,\"\",IF(ISERROR(VLOOKUP($A$120,'Roster Hornby'!$A$125:$AT$192,'Roster Hornby'!G$1,FALSE)),\"\",IF(VLOOKUP($A$120,'Roster Hornby'!$A$125:$AT$192,'Roster Hornby'!G$1,FALSE)=0,\"\",VLOOKUP($A$120,'Roster Hornby'!$A$125:$AT$192,'Roster Hornby'!G$1,FALSE))))","v":""},{"$f":"IF(COUNTBLANK($A$120)<>0,\"\",IF(ISERROR(VLOOKUP($A$120,'Roster Hornby'!$A$125:$AT$192,'Roster Hornby'!H$1,FALSE)),\"\",IF(VLOOKUP($A$120,'Roster Hornby'!$A$125:$AT$192,'Roster Hornby'!H$1,FALSE)=0,\"\",VLOOKUP($A$120,'Roster Hornby'!$A$125:$AT$192,'Roster Hornby'!H$1,FALSE))))","v":""},{"$f":"IF(COUNTBLANK($A$120)<>0,\"\",IF(ISERROR(VLOOKUP($A$120,'Roster Hornby'!$A$125:$AT$192,'Roster Hornby'!I$1,FALSE)),\"\",IF(VLOOKUP($A$120,'Roster Hornby'!$A$125:$AT$192,'Roster Hornby'!I$1,FALSE)=0,\"\",VLOOKUP($A$120,'Roster Hornby'!$A$125:$AT$192,'Roster Hornby'!I$1,FALSE))))","v":""},{"$f":"IF(COUNTBLANK($A$120)<>0,\"\",IF(ISERROR(VLOOKUP($A$120,'Roster Hornby'!$A$125:$AT$192,'Roster Hornby'!J$1,FALSE)),\"\",IF(VLOOKUP($A$120,'Roster Hornby'!$A$125:$AT$192,'Roster Hornby'!J$1,FALSE)=0,\"\",VLOOKUP($A$120,'Roster Hornby'!$A$125:$AT$192,'Roster Hornby'!J$1,FALSE))))","v":""},{"$f":"IF(COUNTBLANK($A$120)<>0,\"\",IF(ISERROR(VLOOKUP($A$120,'Roster Hornby'!$A$125:$AT$192,'Roster Hornby'!K$1,FALSE)),\"\",IF(VLOOKUP($A$120,'Roster Hornby'!$A$125:$AT$192,'Roster Hornby'!K$1,FALSE)=0,\"\",VLOOKUP($A$120,'Roster Hornby'!$A$125:$AT$192,'Roster Hornby'!K$1,FALSE))))","v":""},{"$f":"IF(COUNTBLANK($A$120)<>0,\"\",IF(ISERROR(VLOOKUP($A$120,'Roster Hornby'!$A$125:$AT$192,'Roster Hornby'!L$1,FALSE)),\"\",IF(VLOOKUP($A$120,'Roster Hornby'!$A$125:$AT$192,'Roster Hornby'!L$1,FALSE)=0,\"\",VLOOKUP($A$120,'Roster Hornby'!$A$125:$AT$192,'Roster Hornby'!L$1,FALSE))))","v":""},{"$f":"IF(COUNTBLANK($A$120)<>0,\"\",IF(ISERROR(VLOOKUP($A$120,'Roster Hornby'!$A$125:$AT$192,'Roster Hornby'!M$1,FALSE)),\"\",IF(VLOOKUP($A$120,'Roster Hornby'!$A$125:$AT$192,'Roster Hornby'!M$1,FALSE)=0,\"\",VLOOKUP($A$120,'Roster Hornby'!$A$125:$AT$192,'Roster Hornby'!M$1,FALSE))))","v":""},{"$f":"IF(COUNTBLANK($A$120)<>0,\"\",IF(ISERROR(VLOOKUP($A$120,'Roster Hornby'!$A$125:$AT$192,'Roster Hornby'!N$1,FALSE)),\"\",IF(VLOOKUP($A$120,'Roster Hornby'!$A$125:$AT$192,'Roster Hornby'!N$1,FALSE)=0,\"\",VLOOKUP($A$120,'Roster Hornby'!$A$125:$AT$192,'Roster Hornby'!N$1,FALSE))))","v":""},{"$f":"IF(COUNTBLANK($A$120)<>0,\"\",IF(ISERROR(VLOOKUP($A$120,'Roster Hornby'!$A$125:$AT$192,'Roster Hornby'!O$1,FALSE)),\"\",IF(VLOOKUP($A$120,'Roster Hornby'!$A$125:$AT$192,'Roster Hornby'!O$1,FALSE)=0,\"\",VLOOKUP($A$120,'Roster Hornby'!$A$125:$AT$192,'Roster Hornby'!O$1,FALSE))))","v":""},{"$f":"IF(COUNTBLANK($A$120)<>0,\"\",IF(ISERROR(VLOOKUP($A$120,'Roster Hornby'!$A$125:$AT$192,'Roster Hornby'!P$1,FALSE)),\"\",IF(VLOOKUP($A$120,'Roster Hornby'!$A$125:$AT$192,'Roster Hornby'!P$1,FALSE)=0,\"\",VLOOKUP($A$120,'Roster Hornby'!$A$125:$AT$192,'Roster Hornby'!P$1,FALSE))))","v":""},{"$f":"IF(COUNTBLANK($A$120)<>0,\"\",IF(ISERROR(VLOOKUP($A$120,'Roster Hornby'!$A$125:$AT$192,'Roster Hornby'!Q$1,FALSE)),\"\",IF(VLOOKUP($A$120,'Roster Hornby'!$A$125:$AT$192,'Roster Hornby'!Q$1,FALSE)=0,\"\",VLOOKUP($A$120,'Roster Hornby'!$A$125:$AT$192,'Roster Hornby'!Q$1,FALSE))))","v":""},{"$f":"IF(COUNTBLANK($A$120)<>0,\"\",IF(ISERROR(VLOOKUP($A$120,'Roster Hornby'!$A$125:$AT$192,'Roster Hornby'!R$1,FALSE)),\"\",IF(VLOOKUP($A$120,'Roster Hornby'!$A$125:$AT$192,'Roster Hornby'!R$1,FALSE)=0,\"\",VLOOKUP($A$120,'Roster Hornby'!$A$125:$AT$192,'Roster Hornby'!R$1,FALSE))))","v":""},{"$f":"IF(COUNTBLANK($A$120)<>0,\"\",IF(ISERROR(VLOOKUP($A$120,'Roster Hornby'!$A$125:$AT$192,'Roster Hornby'!S$1,FALSE)),\"\",IF(VLOOKUP($A$120,'Roster Hornby'!$A$125:$AT$192,'Roster Hornby'!S$1,FALSE)=0,\"\",VLOOKUP($A$120,'Roster Hornby'!$A$125:$AT$192,'Roster Hornby'!S$1,FALSE))))","v":""},{"$f":"IF(COUNTBLANK($A$120)<>0,\"\",IF(ISERROR(VLOOKUP($A$120,'Roster Hornby'!$A$125:$AT$192,'Roster Hornby'!T$1,FALSE)),\"\",IF(VLOOKUP($A$120,'Roster Hornby'!$A$125:$AT$192,'Roster Hornby'!T$1,FALSE)=0,\"\",VLOOKUP($A$120,'Roster Hornby'!$A$125:$AT$192,'Roster Hornby'!T$1,FALSE))))","v":""},{"$f":"IF(COUNTBLANK($A$120)<>0,\"\",IF(ISERROR(VLOOKUP($A$120,'Roster Hornby'!$A$125:$AT$192,'Roster Hornby'!U$1,FALSE)),\"\",IF(VLOOKUP($A$120,'Roster Hornby'!$A$125:$AT$192,'Roster Hornby'!U$1,FALSE)=0,\"\",VLOOKUP($A$120,'Roster Hornby'!$A$125:$AT$192,'Roster Hornby'!U$1,FALSE))))","v":""},{"$f":"IF(COUNTBLANK($A$120)<>0,\"\",IF(ISERROR(VLOOKUP($A$120,'Roster Hornby'!$A$125:$AT$192,'Roster Hornby'!V$1,FALSE)),\"\",IF(VLOOKUP($A$120,'Roster Hornby'!$A$125:$AT$192,'Roster Hornby'!V$1,FALSE)=0,\"\",VLOOKUP($A$120,'Roster Hornby'!$A$125:$AT$192,'Roster Hornby'!V$1,FALSE))))","v":""},{"$f":"IF(COUNTBLANK($A$120)<>0,\"\",IF(ISERROR(VLOOKUP($A$120,'Roster Hornby'!$A$125:$AT$192,'Roster Hornby'!W$1,FALSE)),\"\",IF(VLOOKUP($A$120,'Roster Hornby'!$A$125:$AT$192,'Roster Hornby'!W$1,FALSE)=0,\"\",VLOOKUP($A$120,'Roster Hornby'!$A$125:$AT$192,'Roster Hornby'!W$1,FALSE))))","v":""},{"$f":"IF(COUNTBLANK($A$120)<>0,\"\",IF(ISERROR(VLOOKUP($A$120,'Roster Hornby'!$A$125:$AT$192,'Roster Hornby'!X$1,FALSE)),\"\",IF(VLOOKUP($A$120,'Roster Hornby'!$A$125:$AT$192,'Roster Hornby'!X$1,FALSE)=0,\"\",VLOOKUP($A$120,'Roster Hornby'!$A$125:$AT$192,'Roster Hornby'!X$1,FALSE))))","v":""},{"$f":"IF(COUNTBLANK($A$120)<>0,\"\",IF(ISERROR(VLOOKUP($A$120,'Roster Hornby'!$A$125:$AT$192,'Roster Hornby'!Y$1,FALSE)),\"\",IF(VLOOKUP($A$120,'Roster Hornby'!$A$125:$AT$192,'Roster Hornby'!Y$1,FALSE)=0,\"\",VLOOKUP($A$120,'Roster Hornby'!$A$125:$AT$192,'Roster Hornby'!Y$1,FALSE))))","v":""},{"$f":"IF(COUNTBLANK($A$120)<>0,\"\",IF(ISERROR(VLOOKUP($A$120,'Roster Hornby'!$A$125:$AT$192,'Roster Hornby'!Z$1,FALSE)),\"\",IF(VLOOKUP($A$120,'Roster Hornby'!$A$125:$AT$192,'Roster Hornby'!Z$1,FALSE)=0,\"\",VLOOKUP($A$120,'Roster Hornby'!$A$125:$AT$192,'Roster Hornby'!Z$1,FALSE))))","v":""},{"$f":"IF(COUNTBLANK($A$120)<>0,\"\",IF(ISERROR(VLOOKUP($A$120,'Roster Hornby'!$A$125:$AT$192,'Roster Hornby'!AA$1,FALSE)),\"\",IF(VLOOKUP($A$120,'Roster Hornby'!$A$125:$AT$192,'Roster Hornby'!AA$1,FALSE)=0,\"\",VLOOKUP($A$120,'Roster Hornby'!$A$125:$AT$192,'Roster Hornby'!AA$1,FALSE))))","v":""},{"$f":"IF(COUNTBLANK($A$120)<>0,\"\",IF(ISERROR(VLOOKUP($A$120,'Roster Hornby'!$A$125:$AT$192,'Roster Hornby'!AB$1,FALSE)),\"\",IF(VLOOKUP($A$120,'Roster Hornby'!$A$125:$AT$192,'Roster Hornby'!AB$1,FALSE)=0,\"\",VLOOKUP($A$120,'Roster Hornby'!$A$125:$AT$192,'Roster Hornby'!AB$1,FALSE))))","v":""},{"$f":"IF(COUNTBLANK($A$120)<>0,\"\",IF(ISERROR(VLOOKUP($A$120,'Roster Hornby'!$A$125:$AT$192,'Roster Hornby'!AC$1,FALSE)),\"\",IF(VLOOKUP($A$120,'Roster Hornby'!$A$125:$AT$192,'Roster Hornby'!AC$1,FALSE)=0,\"\",VLOOKUP($A$120,'Roster Hornby'!$A$125:$AT$192,'Roster Hornby'!AC$1,FALSE))))","v":""},{"$f":"IF(COUNTBLANK($A$120)<>0,\"\",IF(ISERROR(VLOOKUP($A$120,'Roster Hornby'!$A$125:$AT$192,'Roster Hornby'!AD$1,FALSE)),\"\",IF(VLOOKUP($A$120,'Roster Hornby'!$A$125:$AT$192,'Roster Hornby'!AD$1,FALSE)=0,\"\",VLOOKUP($A$120,'Roster Hornby'!$A$125:$AT$192,'Roster Hornby'!AD$1,FALSE))))","v":""},{"$f":"IF(COUNTBLANK($A$120)<>0,\"\",IF(ISERROR(VLOOKUP($A$120,'Roster Hornby'!$A$125:$AT$192,'Roster Hornby'!AE$1,FALSE)),\"\",IF(VLOOKUP($A$120,'Roster Hornby'!$A$125:$AT$192,'Roster Hornby'!AE$1,FALSE)=0,\"\",VLOOKUP($A$120,'Roster Hornby'!$A$125:$AT$192,'Roster Hornby'!AE$1,FALSE))))","v":""},{"$f":"IF(COUNTBLANK($A$120)<>0,\"\",IF(ISERROR(VLOOKUP($A$120,'Roster Hornby'!$A$125:$AT$192,'Roster Hornby'!AF$1,FALSE)),\"\",IF(VLOOKUP($A$120,'Roster Hornby'!$A$125:$AT$192,'Roster Hornby'!AF$1,FALSE)=0,\"\",VLOOKUP($A$120,'Roster Hornby'!$A$125:$AT$192,'Roster Hornby'!AF$1,FALSE))))","v":""},{"$f":"IF(COUNTBLANK($A$120)<>0,\"\",IF(ISERROR(VLOOKUP($A$120,'Roster Hornby'!$A$125:$AT$192,'Roster Hornby'!AG$1,FALSE)),\"\",IF(VLOOKUP($A$120,'Roster Hornby'!$A$125:$AT$192,'Roster Hornby'!AG$1,FALSE)=0,\"\",VLOOKUP($A$120,'Roster Hornby'!$A$125:$AT$192,'Roster Hornby'!AG$1,FALSE))))","v":""},{"$f":"IF(COUNTBLANK($A$120)<>0,\"\",IF(ISERROR(VLOOKUP($A$120,'Roster Hornby'!$A$125:$AT$192,'Roster Hornby'!AH$1,FALSE)),\"\",IF(VLOOKUP($A$120,'Roster Hornby'!$A$125:$AT$192,'Roster Hornby'!AH$1,FALSE)=0,\"\",VLOOKUP($A$120,'Roster Hornby'!$A$125:$AT$192,'Roster Hornby'!AH$1,FALSE))))","v":""},{"$f":"IF(COUNTBLANK($A$120)<>0,\"\",IF(ISERROR(VLOOKUP($A$120,'Roster Hornby'!$A$125:$AT$192,'Roster Hornby'!AI$1,FALSE)),\"\",IF(VLOOKUP($A$120,'Roster Hornby'!$A$125:$AT$192,'Roster Hornby'!AI$1,FALSE)=0,\"\",VLOOKUP($A$120,'Roster Hornby'!$A$125:$AT$192,'Roster Hornby'!AI$1,FALSE))))","v":""},{"$f":"IF(COUNTBLANK($A$120)<>0,\"\",IF(ISERROR(VLOOKUP($A$120,'Roster Hornby'!$A$125:$AT$192,'Roster Hornby'!AJ$1,FALSE)),\"\",IF(VLOOKUP($A$120,'Roster Hornby'!$A$125:$AT$192,'Roster Hornby'!AJ$1,FALSE)=0,\"\",VLOOKUP($A$120,'Roster Hornby'!$A$125:$AT$192,'Roster Hornby'!AJ$1,FALSE))))","v":""},{"$f":"IF(COUNTBLANK($A$120)<>0,\"\",IF(ISERROR(VLOOKUP($A$120,'Roster Hornby'!$A$125:$AT$192,'Roster Hornby'!AK$1,FALSE)),\"\",IF(VLOOKUP($A$120,'Roster Hornby'!$A$125:$AT$192,'Roster Hornby'!AK$1,FALSE)=0,\"\",VLOOKUP($A$120,'Roster Hornby'!$A$125:$AT$192,'Roster Hornby'!AK$1,FALSE))))","v":""},{"$f":"IF(COUNTBLANK($A$120)<>0,\"\",IF(ISERROR(VLOOKUP($A$120,'Roster Hornby'!$A$125:$AT$192,'Roster Hornby'!AL$1,FALSE)),\"\",IF(VLOOKUP($A$120,'Roster Hornby'!$A$125:$AT$192,'Roster Hornby'!AL$1,FALSE)=0,\"\",VLOOKUP($A$120,'Roster Hornby'!$A$125:$AT$192,'Roster Hornby'!AL$1,FALSE))))","v":""},{"$f":"IF(COUNTBLANK($A$120)<>0,\"\",IF(ISERROR(VLOOKUP($A$120,'Roster Hornby'!$A$125:$AT$192,'Roster Hornby'!AM$1,FALSE)),\"\",IF(VLOOKUP($A$120,'Roster Hornby'!$A$125:$AT$192,'Roster Hornby'!AM$1,FALSE)=0,\"\",VLOOKUP($A$120,'Roster Hornby'!$A$125:$AT$192,'Roster Hornby'!AM$1,FALSE))))","v":""},{"$f":"IF(COUNTBLANK($A$120)<>0,\"\",IF(ISERROR(VLOOKUP($A$120,'Roster Hornby'!$A$125:$AT$192,'Roster Hornby'!AN$1,FALSE)),\"\",IF(VLOOKUP($A$120,'Roster Hornby'!$A$125:$AT$192,'Roster Hornby'!AN$1,FALSE)=0,\"\",VLOOKUP($A$120,'Roster Hornby'!$A$125:$AT$192,'Roster Hornby'!AN$1,FALSE))))","v":""},{"$f":"IF(COUNTBLANK($A$120)<>0,\"\",IF(ISERROR(VLOOKUP($A$120,'Roster Hornby'!$A$125:$AT$192,'Roster Hornby'!AO$1,FALSE)),\"\",IF(VLOOKUP($A$120,'Roster Hornby'!$A$125:$AT$192,'Roster Hornby'!AO$1,FALSE)=0,\"\",VLOOKUP($A$120,'Roster Hornby'!$A$125:$AT$192,'Roster Hornby'!AO$1,FALSE))))","v":""},{"$f":"IF(COUNTBLANK($A$120)<>0,\"\",IF(ISERROR(VLOOKUP($A$120,'Roster Hornby'!$A$125:$AT$192,'Roster Hornby'!AP$1,FALSE)),\"\",IF(VLOOKUP($A$120,'Roster Hornby'!$A$125:$AT$192,'Roster Hornby'!AP$1,FALSE)=0,\"\",VLOOKUP($A$120,'Roster Hornby'!$A$125:$AT$192,'Roster Hornby'!AP$1,FALSE))))","v":""},{"$f":"IF(COUNTBLANK($A$120)<>0,\"\",IF(ISERROR(VLOOKUP($A$120,'Roster Hornby'!$A$125:$AT$192,'Roster Hornby'!AQ$1,FALSE)),\"\",IF(VLOOKUP($A$120,'Roster Hornby'!$A$125:$AT$192,'Roster Hornby'!AQ$1,FALSE)=0,\"\",VLOOKUP($A$120,'Roster Hornby'!$A$125:$AT$192,'Roster Hornby'!AQ$1,FALSE))))","v":""},{"$f":"IF(COUNTBLANK($A$120)<>0,\"\",IF(ISERROR(VLOOKUP($A$120,'Roster Hornby'!$A$125:$AT$192,'Roster Hornby'!AR$1,FALSE)),\"\",IF(VLOOKUP($A$120,'Roster Hornby'!$A$125:$AT$192,'Roster Hornby'!AR$1,FALSE)=0,\"\",VLOOKUP($A$120,'Roster Hornby'!$A$125:$AT$192,'Roster Hornby'!AR$1,FALSE))))","v":""},{"$f":"IF(COUNTBLANK($A$120)<>0,\"\",IF(ISERROR(VLOOKUP($A$120,'Roster Hornby'!$A$125:$AT$192,'Roster Hornby'!AS$1,FALSE)),\"\",IF(VLOOKUP($A$120,'Roster Hornby'!$A$125:$AT$192,'Roster Hornby'!AS$1,FALSE)=0,\"\",VLOOKUP($A$120,'Roster Hornby'!$A$125:$AT$192,'Roster Hornby'!AS$1,FALSE))))","v":""},{"$f":"IF(COUNTBLANK($A$120)<>0,\"\",IF(ISERROR(VLOOKUP($A$120,'Roster Hornby'!$A$125:$AT$192,'Roster Hornby'!AT$1,FALSE)),\"\",IF(VLOOKUP($A$120,'Roster Hornby'!$A$125:$AT$192,'Roster Hornby'!AT$1,FALSE)=0,\"\",VLOOKUP($A$120,'Roster Hornby'!$A$125:$AT$192,'Roster Hornby'!AT$1,FALSE))))","v":""}]

{"sheet":"Roster LIMA","index":3,"n_rows":15929,"n_cols":47,"rows_kept":1125,"cut":true,"hidden":false,"merged":[],"bounds":{"rows_first":500,"rows_last":125,"rows_between":500,"halvings":2}}
["mercantilista@gmail.com",1,{"$f":"+B1+1","v":2},3,4,5,6,7,8,9,10,11,12,{"$f":"+M1+1","v":13},{"$f":"+N1+1","v":14},{"$f":"+O1+1","v":15},16,{"$f":"+Q1+1","v":17},{"$f":"+R1+1","v":18},19,{"$f":"+T1+1","v":20},{"$f":"+U1+1","v":21},22,23,24,25,26,27,28,29,30,31,32,33,34,35,36,37,38,39,{"$f":"+AN1+1","v":40},{"$f":"+AO1+1","v":41},42,43,44,45,46]
["Long unified code","# Article","Code","AC","# Ancient article","# Hornby article","Year","Catalogue","Edition","Page","Available","Country","Operator","Multiple Unit","Type","Category","Sub-category","Wheel arrangement","Collection","Veridical","Commission","Withdrawal","Era","Series","Usual name","Alternative name","Number","Description","Legend","Service","Nick","Logo","Livery","Bodywork","Roof","Floor","Stripes","Doors","Box","Motor","Pantograph type","# Pantograph","Bogies","Axle","Scale","Length (mm)","Photo"]
[{"$f":"+B3&C3&F3&G3","v":"2020011959"},202001,null,null,2001,null,1959,"Yes","IT",2,"x","Germany","DRG","No","Locomotive","Steam","Freight","0-6-0/4","N/A","Yes",1895,1936,"II","Preußische G 3","BR-053.70","DRG-53",936,"2068 units, built between 1877-96. Focus on Freight services. Tender #2014 sold separately","N/A","N/A","N/A","N/A","N/A","Black","Black","Black","N/A","Black","White & Red","Pot motor","N/A",0,0,3,1.3157894736842105E-2,120,"Yes"]
["3020021959",302002,null,null,2002,null,1959,"Yes","IT",2,"x","Italy","FS","No","Passenger","With compartment","2° class","2'2'","N/A","No",1947,1991,"III a / III b","FS 1946","Bz","N/A",43577,"140 units, built between 1947-49 and numbered 32010/149. Erroneously numbered by LIMA","N/A","N/A","N/A","N/A","Castano-Isabella ","Brown","Grey","Brown","Cream","Brown","White & Red","N/A","N/A",0,2,4,6.7567567567567571E-3,150,"Yes"]
["3020031959",302003,null,null,2003,null,1959,"Yes","IT",2,"x","Italy","FS","No","Freight","Flat","With drums",2,"N/A","Yes",1959,1995,"III b / IV a / IV b","K-type","Klm 505","Xlm 57","N/A","Built in the late 1950's. Manufactured by LIMA until 1971","N/A","N/A","N/A","N/A","N/A","Grey","N/A","Brown","N/A","N/A","White & Red","N/A","N/A",0,0,2,0.01,105,"Yes"]
["3020041959",302004,null,null,2004,null,1959,"Yes","IT",2,"x","Italy","FS","No","Freight","Flat","With transformer",2,"N/A","Yes",1959,1995,"III b / IV a / IV b","K-type","Klm 505","Xlm 57","N/A","Built in the late 1950's. Manufactured by LIMA until 1971","N/A","N/A","N/A","N/A","N/A","Grey","N/A","Brown","N/A","N/A","White & Red","N/A","N/A",0,0,2,0.01,105,"Replace"]
["3020051959",302005,null,null,2005,null,1959,"Yes","IT",2,"x","Italy","FS","No","Freight","Flat","With 1 car",2,"N/A","Yes",1959,1995,"III b / IV a / IV b","K-type","Klm 505","Xlm 57","N/A","Built in the late 1950's. Manufactured by LIMA until 1971","N/A","N/A","N/A","N/A","N/A","Grey","N/A","Brown","N/A","N/A","White & Red","N/A","N/A",0,0,2,0.01,105,"Replace"]
["3020061959",302006,null,null,2006,null,1959,"Yes","IT",2,"x","Italy","FS","No","Freight","Flat","With wooden planks",2,"N/A","Yes",1959,1995,"III b / IV a / IV b","K-type","Klm 505","Xlm 57","N/A","Built in the late 1950's. Manufactured by LIMA until 1971","N/A","N/A","N/A","N/A","N/A","Brown","N/A","Brown","N/A","N/A","White & Red","N/A","N/A",0,0,2,0.01,105,"Yes"]
["3020071959",302007,null,null,2007,null,1959,"Yes","IT",2,"x","Italy","FS","No","Freight","Flat","Empty",2,"N/A","Yes",1959,1995,"III b / IV a / IV b","K-type","Klm 505","Xlm 57","N/A","Built in the late 1950's. Manufactured by LIMA until 1971","N/A","N/A","N/A","N/A","N/A","Brown","N/A","Brown","N/A","N/A","White & Red","N/A","N/A",0,0,2,0.01,105,"Replace"]
["3020081959",302008,null,null,2008,null,1959,"Yes","IT",2,"x","Italy","FS","No","Freight","Closed","N/A",2,"N/A","Yes",1958,1995,"III a / III b / IV a / IV b / V a","G-type","Gs 210","Gmms 40","N/A","4760 units, built between 1957-61. Manufactured by LIMA until 1971","N/A","N/A","N/A","N/A","N/A","Brown","N/A","Black","N/A","N/A","White & Red","N/A","N/A",0,0,2,9.5238095238095247E-3,105,"Yes"]
["3020091959",302009,null,null,2009,null,1959,"Yes","IT",2,"x","Italy","FS","No","Freight","Open","Empty",2,"N/A","Yes",1956,2005,"III b / IV a / IV b / V a / V b","E-type","Es 025","Tipo 2","N/A","Built in the mid 1950's. Manufactured by LIMA until 1971","N/A","N/A","N/A","N/A","N/A","Brown","N/A","Black","N/A","N/A","White & Red","N/A","N/A",0,0,2,1.0526315789473684E-2,105,"Replace"]
["3020101959",302010,null,null,2010,null,1959,"Yes","IT",2,"x","Italy","FS","No","Freight","Flat","With tank",2,"N/A","Yes",1959,1995,"III b / IV a / IV b","K-type","Klm 505","Xlm 57","N/A","Built in the late 1950's. Manufactured by LIMA until 1971","N/A","N/A","N/A","N/A","N/A","Grey","N/A","Brown","N/A","N/A","White & Red","N/A","N/A",0,0,2,0.01,105,"Yes"]
["3020111959",302011,null,null,2011,null,1959,"Yes","IT",2,"x","Italy","FS","No","Freight","Flat","With jeeps",2,"N/A","Yes",1959,1995,"III b / IV a / IV b","K-type","Klm 505","Xlm 57","N/A","Built in the late 1950's. Manufactured by LIMA until 1971","N/A","N/A","N/A","N/A","N/A","Grey","N/A","Brown","N/A","N/A","White & Red","N/A","N/A",0,0,2,0.01,105,"Yes"]
["3020121959",302012,null,null,2012,null,1959,"Yes","IT",2,"x","Italy","FS","No","Freight","Flat","With machine guns",2,"N/A","Yes",1959,1995,"III b / IV a / IV b","K-type","Klm 505","Xlm 57","N/A","Built in the late 1950's. Manufactured by LIMA until 1971","N/A","N/A","N/A","N/A","N/A","Grey","N/A","Brown","N/A","N/A","White & Red","N/A","N/A",0,0,2,0.01,105,"Yes"]
["3020131959",302013,null,null,2013,null,1959,"Yes","IT",2,"x","Italy","FS","No","Freight","Flat","With boats",2,"N/A","Yes",1959,1995,"III b / IV a / IV b","K-type","Klm 505","Xlm 57","N/A","Built in the late 1950's. Manufactured by LIMA until 1971","N/A","N/A","N/A","N/A","N/A","Grey","N/A","Brown","N/A","N/A","White & Red","N/A","N/A",0,0,2,0.01,105,"Yes"]
["202014T1959",202014,"T",null,"2014T",null,1959,"Yes","IT",2,"x","Germany","DRG","No","Locomotive","Steam","Tender","/2-2","N/A","Yes",1895,1936,"II","Preußische G 3","BR-053.70","DRG-53","N/A","Tender for locomotive #2001. May be available with 3 axle too","N/A","N/A","N/A","N/A","N/A","Black","Black","Black","N/A","N/A","White & Red","Pot motor","N/A",0,0,2,1.3157894736842105E-2,77,"Yes"]
["2090211960",209021,null,null,9021,null,1960,"Yes","IT",3,"x","Germany","DB","No","Locomotive","Steam","Multipurpose","2-8-0/4-4","N/A","Yes",1938,1965,"III a","Preußische G 8.1","BR-055","DRG-56.2-8",680,"691 units, refurbished between 1934-41 from former G 8.1 locomotives with an additional axis and numbered 056 201/891. Focus on mixed-traffic services (Passenger and Freight)","N/A","N/A","N/A","N/A","N/A","Black","Black","Black","Red","Black","White & Red","Pot motor","N/A",0,0,5,1.3698630136986301E-2,250,"Yes"]
["2030011960",203001,null,null,3001,null,1960,"Yes","IT",3,"x","Italy","FS","No","Locomotive","Steam","Multipurpose","0-8-0/6","N/A","Yes",1919,1959,"II / III a / III b","Preußische G 8.1","Series 460","Preußische G 8.1","N/A","45 units, built between 1913-1919 and numbered 460.001/045. Focus on mixed-traffic services (Passenger and Freight). Received in 1919 as war reparation from Germany","N/A","N/A","N/A","N/A","N/A","Black","Black","Black","N/A","Black","White & Red","Pot motor","N/A",0,0,4,1.3157894736842105E-2,242,"Yes"]
["2020011960",202001,null,null,2001,null,1960,"Yes","IT",3,"x","Germany","DRG","No","Locomotive","Steam","Freight","0-6-0/4","N/A","Yes",1895,1936,"II","Preußische G 3","BR-053.70","DRG-53",936,"2068 units, built between 1877-96. Focus on Freight services. Tender #2014 sold separately","N/A","N/A","N/A","N/A","N/A","Black","Black","Black","N/A","Black","White & Red","Pot motor","N/A",0,0,3,1.3157894736842105E-2,120,"Yes"]
["202014T1960",202014,"T",null,"2014T",null,1960,"Yes","IT",3,"x","Germany","DRG","No","Locomotive","Steam","Tender","/2-2","N/A","Yes",1895,1936,"II","Preußische G 3","BR-053.70","DRG-53","N/A","Tender for locomotive #2001. May be available with 3 axle too","N/A","N/A","N/A","N/A","N/A","Black","Black","Black","N/A","N/A","White & Red","Pot motor","N/A",0,0,2,1.3157894736842105E-2,77,"Yes"]
["3090241960",309024,null,null,9024,null,1960,"Yes","IT",4,"x","Italy","FS","No","Passenger","With compartment","1° class","2'2'","N/A","Yes",1947,1991,"III a / III b","FS 1946","Az","N/A",13010,"55 units, built between 1946-53 and numbered Az 13010/56","N/A","N/A","N/A","N/A","Castano-Isabella ","Brown","Grey","Brown","Cream","Brown","White & Red","N/A","N/A",0,2,4,1.0752688172043012E-2,240,"Replace"]
["3090231960",309023,null,null,9023,null,1960,"Yes","IT",4,"x","Belgium","CIWL","No","Passenger","With compartment","Sleeper","2'2'","N/A","No",1951,1992,"III a / III b","UIC-X","WLABm 174","WLAB4ümg-59","N/A","77 units, built between 1959-64 and numbered 33201/77. Never existed in any official roster. LIMA invention","N/A","N/A","N/A","CIWL","CIWL","Blue","Grey","Blue","Yellow","Blue","White & Red","N/A","N/A",0,2,4,7.6335877862595417E-3,202,"Replace"]
["3090221960",309022,null,null,9022,null,1960,"Yes","IT",4,"x","Italy","FS","No","Passenger","With central corridor","1° class","2'2'","N/A","Yes",1922,1985,"III a / III b","FS 1921","Az","N/A",29052,"100 units, built between 1927-28 and numbered originally 10000/099. Erroneously numbered by LIMA. Design belongs to 1° class coach whilst numbering to 2° class type","N/A","N/A","N/A","N/A","Castano-Isabella ","Brown","Grey","Brown","Cream","Brown","White & Red","N/A","N/A",0,2,4,8.771929824561403E-3,195,"Yes"]
["3020021960",302002,null,null,2002,null,1960,"Yes","IT",4,"x","Italy","FS","No","Passenger","With compartment","2° class","2'2'","N/A","No",1947,1991,"III a / III b","FS 1946","Bz","N/A",43577,"140 units, built between 1947-49 and numbered 32010/149. Erroneously numbered by LIMA","N/A","N/A","N/A","N/A","Castano-Isabella ","Brown","Grey","Brown","Cream","Brown","White & Red","N/A","N/A",0,2,4,6.7567567567567571E-3,150,"Yes"]
["302100M1960",302100,"M",null,"2100M",null,1960,"Yes","IT",4,"x","Italy","FS","No","Passenger","With compartment","2° class","2'2'","N/A","No",1947,1991,"III a / III b","FS 1946","Bz","N/A","N/A","140 units, built between 1947-49 and numbered 32010/149. With camouflage. Never existed in any official roster","N/A","Militar","N/A","N/A","Camouflage","Green","Green","Green","N/A","Green","White & Red","N/A","N/A",0,2,4,6.7567567567567571E-3,150,"Replace"]
["302200CR1960",302200,"CR",null,"2200CR",null,1960,"Yes","IT",4,"x","Italy","FS","No","Passenger","With compartment","2° class","2'2'","N/A","No",1947,1991,"III a / III b","FS 1946","Bz","N/A","N/A","140 units, built between 1947-49 and numbered 32010/149. For Red Cross services. Never existed in any official roster","N/A","Red Cross","N/A","N/A","N/A","White","Grey","White","N/A","White","White & Red","N/A","N/A",0,2,4,6.7567567567567571E-3,150,"Yes"]
["302002B1960",302002,"B",null,"2002B",null,1960,"Yes","IT",5,"x","Italy","FS","No","Passenger","Baggage","Baggage","2'2'","N/A","Yes",1907,1975,"I / II / III a / III b","FS 1907","DUIz","N/A","N/A","125 units, numbered DUIz 94035/099 & 94200/259","N/A","N/A","N/A","N/A","Castano-Isabella ","Brown","Grey","Brown","Cream","Brown","White & Red","N/A","N/A",0,2,4,9.8039215686274508E-3,150,"Replace"]
["302101M1960",302101,"M",null,"2101M",null,1960,"Yes","IT",5,"x","Italy","FS","No","Passenger","Baggage","Baggage","2'2'","N/A","Yes",1907,1975,"I / II / III a / III b","FS 1907","DUIz","N/A","N/A","125 units, numbered DUIz 94035/099 & 94200/259. With camouflage. LIMA invention","N/A","Militar","N/A","N/A","Camouflage","Green","Green","Green","N/A","Green","White & Red","N/A","N/A",0,2,4,9.8039215686274508E-3,150,"Replace"]
["302201CR1960",302201,"CR",null,"2201CR",null,1960,"Yes","IT",5,"x","Italy","FS","No","Passenger","Baggage","Baggage","2'2'","N/A","Yes",1907,1975,"I / II / III a / III b","FS 1907","DUIz","N/A","N/A","125 units, numbered DUIz 94035/099 & 94200/259. For Red Cross services. LIMA invention","N/A","Red Cross","N/A","N/A","N/A","White","Grey","White","N/A","White","White & Red","N/A","N/A",0,2,4,9.8039215686274508E-3,150,"Yes"]
["3090351960",309035,null,null,9035,null,1960,"Yes","IT",5,"x","Italy","FS","No","Freight","Flat","With logs","2'2'","N/A","Yes",1957,1998,"III b / IV a / IV b","R-type","Rs 680","SSlmas 53","N/A","5550 units, built between 1955-66","N/A","N/A","N/A","N/A","N/A","Brown","N/A","Black","N/A","N/A","White & Red","N/A","N/A",0,2,4,8.0000000000000002E-3,160,"Yes"]
["3090361960",309036,null,null,9036,null,1960,"Yes","IT",5,"x","Italy","FS","No","Freight","Flat","With wooden planks","2'2'","N/A","Yes",1957,1998,"III b / IV a / IV b","R-type","Rs 680","SSlmas 53","N/A","5550 units, built between 1955-66","N/A","N/A","N/A","N/A","N/A","Brown","N/A","Black","N/A","N/A","White & Red","N/A","N/A",0,2,4,8.0000000000000002E-3,160,"Yes"]
["302002ST1960",302002,"ST",null,"2002ST",null,1960,"Yes","IT",5,"x","Italy","FS","No","Passenger","With central corridor","2° class",2,"N/A","No",1940,1965,"III a / III b","N/A","Bz","N/A",24357,"Never existed in any official roster. LIMA invention","N/A","N/A","N/A","N/A","Verde vagone","Green","Grey","Green","Green","Green","White & Red","N/A","N/A",0,0,2,"N/A",105,"Yes"]
["3090301960",309030,null,null,9030,null,1960,"Yes","IT",6,"x","Italy","FS","No","Freight","Tank","With ladder","2'2'","N/A","Yes",1958,2004,"III b / IV a / IV b / V a / V b","Z-type","Zacs 33","Uah","N/A","Built since the late 1950's","Esso","N/A","N/A","N/A","N/A","Grey","N/A","Black","N/A","N/A","White & Red","N/A","N/A",0,2,4,"N/A",160,"Replace"]
["3090311960",309031,null,null,9031,null,1960,"Yes","IT",6,"x","Italy","FS","No","Freight","Tank","With ladder","2'2'","N/A","Yes",1958,2004,"III b / IV a / IV b / V a / V b","Z-type","Zacs 33","Uah","N/A","Built since the late 1950's","Shell","N/A","N/A","N/A","N/A","Yellow","N/A","Black","N/A","N/A","White & Red","N/A","N/A",0,2,4,"N/A",160,"Replace"]
["3090321960",309032,null,null,9032,null,1960,"Yes","IT",6,"x","Italy","FS","No","Freight","Tank","With ladder","2'2'","N/A","Yes",1958,2004,"III b / IV a / IV b / V a / V b","Z-type","Zacs 33","Uah","N/A","Built since the late 1950's","Oil","N/A","N/A","N/A","N/A","Red","N/A","Black","N/A","N/A","White & Red","N/A","N/A",0,2,4,"N/A",160,"Replace"]
["3020081960",302008,null,null,2008,null,1960,"Yes","IT",6,"x","Italy","FS","No","Freight","Closed","N/A",2,"N/A","Yes",1958,1995,"III a / III b / IV a / IV b / V a","G-type","Gs 210","Gmms 40","N/A","4760 units, built between 1957-61. Manufactured by LIMA until 1971","N/A","N/A","N/A","N/A","N/A","Brown","N/A","Black","N/A","N/A","White & Red","N/A","N/A",0,0,2,9.5238095238095247E-3,105,"Yes"]
["302008A1960",302008,"A",null,"2008A",null,1960,"Yes","IT",6,"x","Italy","FS","No","Freight","Closed","N/A",2,"N/A","Yes",1958,1995,"III a / III b / IV a / IV b / V a","G-type","Gs 210","Gmms 40","N/A","4760 units, built between 1957-61. Manufactured by LIMA until 1971","N/A","N/A","N/A","N/A","N/A","White","Grey","Black","N/A","White","White & Red","N/A","N/A",0,0,2,9.5238095238095247E-3,105,"Replace"]
["302102M1960",302102,"M",null,"2102M",null,1960,"Yes","IT",6,"x","Italy","FS","No","Freight","Closed","N/A",2,"N/A","No",1958,1995,"III a / III b","G-type","Gs 210","Gmms 40","N/A","4760 units, built between 1957-61. With camouflage. Manufactured by LIMA until 1971","N/A","Militar","N/A","N/A","Camouflage","Green","Green","Green","N/A","Green","White & Red","N/A","N/A",0,0,2,9.5238095238095247E-3,105,"Yes"]
["302103M1960",302103,"M",null,"2103M",null,1960,"Yes","IT",6,"x","Italy","FS","No","Freight","Open","Empty",2,"N/A","Yes",1956,2005,"III b / IV a / IV b / V a / V b","E-type","Es 025","Tipo 2","N/A","Never existed in any official roster. LIMA invention","N/A","Militar","N/A","N/A","Camouflage","Green","N/A","Black","N/A","N/A","White & Red","N/A","N/A",0,0,2,1.0526315789473684E-2,105,"Yes"]
["302202CR1960",302202,"CR",null,"2103CR",null,1960,"Yes","IT",6,"x","Italy","FS","No","Freight","Closed","N/A",2,"N/A","No",1958,1995,"III a / III b","G-type","Gs 210","Gmms 40","N/A","4760 units, built between 1957-61. For Red Cross services. Manufactured by LIMA until 1971","N/A","Red Cross","N/A","N/A","N/A","White","Grey","White","N/A","White","White & Red","N/A","N/A",0,0,2,9.5238095238095247E-3,105,"Yes"]
["3020091960",302009,null,null,2009,null,1960,"Yes","IT",6,"x","Italy","FS","No","Freight","Open","Empty",2,"N/A","Yes",1956,2005,"III b / IV a / IV b / V a / V b","E-type","Es 025","Tipo 2","N/A","Built in the mid 1950's. Manufactured by LIMA until 1971","N/A","N/A","N/A","N/A","N/A","Brown","N/A","Black","N/A","N/A","White & Red","N/A","N/A",0,0,2,1.0526315789473684E-2,105,"Replace"]
["3020101960",302010,null,null,2010,null,1960,"Yes","IT",7,"x","Italy","FS","No","Freight","Flat","With tank",2,"N/A","Yes",1959,1995,"III b / IV a / IV b","K-type","Klm 505","Xlm 57","N/A","Built in the late 1950's. Manufactured by LIMA until 1971","N/A","N/A","N/A","N/A","N/A","Grey","N/A","Brown","N/A","N/A","White & Red","N/A","N/A",0,0,2,0.01,105,"Yes"]
["3020111960",302011,null,null,2011,null,1960,"Yes","IT",7,"x","Italy","FS","No","Freight","Flat","With jeeps",2,"N/A","Yes",1959,1995,"III b / IV a / IV b","K-type","Klm 505","Xlm 57","N/A","Built in the late 1950's. Manufactured by LIMA until 1971","N/A","N/A","N/A","N/A","N/A","Grey","N/A","Brown","N/A","N/A","White & Red","N/A","N/A",0,0,2,0.01,105,"Yes"]
["3020121960",302012,null,null,2012,null,1960,"Yes","IT",7,"x","Italy","FS","No","Freight","Flat","With machine guns",2,"N/A","Yes",1959,1995,"III b / IV a / IV b","K-type","Klm 505","Xlm 57","N/A","Built in the late 1950's. Manufactured by LIMA until 1971","N/A","N/A","N/A","N/A","N/A","Grey","N/A","Brown","N/A","N/A","White & Red","N/A","N/A",0,0,2,0.01,105,"Yes"]
["3020131960",302013,null,null,2013,null,1960,"Yes","IT",7,"x","Italy","FS","No","Freight","Flat","With boats",2,"N/A","Yes",1959,1995,"III b / IV a / IV b","K-type","Klm 505","Xlm 57","N/A","Built in the late 1950's. Manufactured by LIMA until 1971","N/A","N/A","N/A","N/A","N/A","Grey","N/A","Brown","N/A","N/A","White & Red","N/A","N/A",0,0,2,0.01,105,"Yes"]
["3020031960",302003,null,null,2003,null,1960,"Yes","IT",7,"x","Italy","FS","No","Freight","Flat","With drums",2,"N/A","Yes",1959,1995,"III b / IV a / IV b","K-type","Klm 505","Xlm 57","N/A","Built in the late 1950's. Manufactured by LIMA until 1971","N/A","N/A","N/A","N/A","N/A","Grey","N/A","Brown","N/A","N/A","White & Red","N/A","N/A",0,0,2,0.01,105,"Yes"]
["3020041960",302004,null,null,2004,null,1960,"Yes","IT",7,"x","Italy","FS","No","Freight","Flat","With transformer",2,"N/A","Yes",1959,1995,"III b / IV a / IV b","K-type","Klm 505","Xlm 57","N/A","Built in the late 1950's. Manufactured by LIMA until 1971","N/A","N/A","N/A","N/A","N/A","Grey","N/A","Brown","N/A","N/A","White & Red","N/A","N/A",0,0,2,0.01,105,"Replace"]
["3020051960",302005,null,null,2005,null,1960,"Yes","IT",7,"x","Italy","FS","No","Freight","Flat","With 1 car",2,"N/A","Yes",1959,1995,"III b / IV a / IV b","K-type","Klm 505","Xlm 57","N/A","Built in the late 1950's. Manufactured by LIMA until 1971","N/A","N/A","N/A","N/A","N/A","Grey","N/A","Brown","N/A","N/A","White & Red","N/A","N/A",0,0,2,0.01,105,"Replace"]
["302005CR1960",302005,"CR",null,"2005CR",null,1960,"No",null,null,"x","Italy","FS","No","Freight","Flat","With truck",2,"N/A","No",1959,1995,"III b / IV a / IV b","K-type","Klm 505","Xlm 57","N/A","Built in the late 1950's. Manufactured by LIMA until 1971","N/A","Red Cross","N/A","N/A","N/A","White","N/A","White","N/A","N/A","White & Red","N/A","N/A",0,0,2,0.01,105,"Yes"]
["3020061960",302006,null,null,2006,null,1960,"Yes","IT",7,"x","Italy","FS","No","Freight","Flat","With wooden planks",2,"N/A","Yes",1959,1995,"III b / IV a / IV b","K-type","Klm 505","Xlm 57","N/A","Built in the late 1950's. Manufactured by LIMA until 1971","N/A","N/A","N/A","N/A","N/A","Brown","N/A","Brown","N/A","N/A","White & Red","N/A","N/A",0,0,2,0.01,105,"Yes"]
["3020071960",302007,null,null,2007,null,1960,"Yes","IT",7,"x","Italy","FS","No","Freight","Flat","Empty",2,"N/A","Yes",1959,1995,"III b / IV a / IV b","K-type","Klm 505","Xlm 57","N/A","Built in the late 1950's. Manufactured by LIMA until 1971","N/A","N/A","N/A","N/A","N/A","Brown","N/A","Brown","N/A","N/A","White & Red","N/A","N/A",0,0,2,0.01,105,"Replace"]
[{"$f":"+B52&C52&F52&G52","v":"302007CR1960"},302007,"CR",null,"2007CR",null,1960,"No",null,null,"x","Italy","FS","No","Freight","Flat","Empty",2,"N/A","No",1959,1995,"III b / IV a / IV b","K-type","Klm 505","Xlm 57","N/A","Built in the late 1950's. Manufactured by LIMA until 1971","N/A","Red Cross","N/A","N/A","N/A","White","N/A","White","N/A","N/A","White & Red","N/A","N/A",0,0,2,0.01,105,"Yes"]
["302007B1960",302007,"B",null,"2007B",null,1960,"Yes","IT",6,"x","Italy","FS","No","Freight","Flat","Empty and with brakeman's cabin",2,"N/A","Yes",1925,1970,"III a / III b / IV a","K-type","O 10","P con garitta","N/A","Built in the mid 1920's","N/A","N/A","N/A","N/A","N/A","Brown","N/A","Brown","N/A","N/A","White & Red","N/A","N/A",0,0,2,0.01,100,"Yes"]
["3090371960",309037,null,null,9037,null,1960,"Yes","IT",14,"x","Italy","FS","No","Freight","Flat","With pipes","2'2'","N/A","Yes",1957,1998,"III b / IV a / IV b","R-type","Rs 680","SSlmas 53","N/A","5550 units, built between 1955-66","N/A","N/A","N/A","N/A","N/A","Red","N/A","Black","N/A","N/A","White & Red","N/A","N/A",0,2,4,8.0000000000000002E-3,160,"Yes"]
["1015001961",101500,null,null,1500,null,1961,"No",null,null,"x","Germany","DB","No","Passenger","Set","Regional service","0-6-0/4+2+2","Starter","Yes",1895,1936,"II","Preußische G 3","N/A","N/A","N/A","3-unit set comprised of Steam locomotive #2001 with tender #2014/T, Passenger #0001 x 2, track and battery power pack","N/A","N/A","N/A","N/A","N/A","Green","Green","Green","N/A","Green","Red","Pot motor","N/A",0,0,9,"N/A",400,"Yes"]
["2090211961",209021,null,null,9021,null,1961,"Yes","IT",1,"x","Germany","DB","No","Locomotive","Steam","Multipurpose","2-8-0/4-4","N/A","Yes",1938,1965,"III a","Preußische G 8.1","BR-055","DRG-56.2-8",680,"691 units, refurbished between 1934-41 from former G 8.1 locomotives with an additional axis and numbered 056 201/891. Focus on mixed-traffic services (Passenger and Freight)","N/A","N/A","N/A","N/A","N/A","Black","Black","Black","Red","Black","White & Red","Pot motor","N/A",0,0,5,1.3698630136986301E-2,250,"Yes"]
["2030011961",203001,null,null,3001,null,1961,"Yes","IT",1,"x","Italy","FS","No","Locomotive","Steam","Multipurpose","0-8-0/6","N/A","Yes",1919,1959,"II / III a / III b","Preußische G 8.1","Series 460","Preußische G 8.1","N/A","45 units, built between 1913-1919 and numbered 460.001/045. Focus on mixed-traffic services (Passenger and Freight). Received in 1919 as war reparation from Germany","N/A","N/A","N/A","N/A","N/A","Black","Black","Black","N/A","Black","White & Red","Pot motor","N/A",0,0,4,1.3157894736842105E-2,242,"Yes"]
["2020011961",202001,null,null,2001,null,1961,"Yes","IT",1,"x","Germany","DRG","No","Locomotive","Steam","Freight","0-6-0/4","N/A","Yes",1895,1936,"II","Preußische G 3","BR-053.70","DRG-53",936,"2068 units, built between 1877-96. Focus on Freight services. Tender #2014 sold separately","N/A","N/A","N/A","N/A","N/A","Black","Black","Black","N/A","Black","White & Red","Pot motor","N/A",0,0,3,1.3157894736842105E-2,120,"Yes"]
["202014T1961",202014,"T",null,"2014T",null,1961,"Yes","IT",1,"x","Germany","DRG","No","Locomotive","Steam","Tender","/2-2","N/A","Yes",1895,1936,"II","Preußische G 3","BR-053.70","DRG-53","N/A","Tender for locomotive #2001. May be available with 3 axle too","N/A","N/A","N/A","N/A","N/A","Black","Black","Black","N/A","N/A","White & Red","Pot motor","N/A",0,0,2,1.3157894736842105E-2,77,"Yes"]
["3090231961",309023,null,null,9023,null,1961,"Yes","IT",1,"x","Belgium","CIWL","No","Passenger","With compartment","Sleeper","2'2'","N/A","Yes",1951,1992,"III a / III b","UIC-X","WLABm 174","WLAB4ümg-59","N/A","77 units, built between 1959-64 and numbered 33201/77. Never existed in any official roster. LIMA invention","N/A","N/A","N/A","CIWL","CIWL","Blue","Grey","Blue","Yellow","Blue","White & Red","N/A","N/A",0,2,4,7.6335877862595417E-3,202,"Replace"]
["3090221961",309022,null,null,9022,null,1961,"Yes","IT",1,"x","Italy","FS","No","Passenger","With central corridor","1° class","2'2'","N/A","Yes",1922,1985,"III a / III b","FS 1921","Az","N/A",29052,"100 units, built between 1927-28 and numbered originally 10000/099. Erroneously numbered by LIMA. Design belongs to 1° class coach whilst numbering to 2° class type","N/A","N/A","N/A","N/A","Castano-Isabella ","Brown","Grey","Brown","Cream","Brown","White & Red","N/A","N/A",0,2,4,8.771929824561403E-3,195,"Yes"]
["3090251961",309025,null,null,9025,null,1961,"Yes","IT",1,"x","Germany","DB","No","Passenger","With compartment","1° class","2'2'","N/A","No",1951,1992,"III b","UIC-X","WLABm 174","WLAB4ümg-59","N/A","77 units, built between 1959-64 and numbered 33201/77. Never existed in any official roster. LIMA invention","N/A","N/A","N/A","Keks","DB-Grün","Green","Grey","Green","N/A","Green","White & Red","N/A","N/A",0,2,4,7.6335877862595417E-3,202,"Replace"]
["3090261961",309026,null,null,9026,null,1961,"Yes","IT",1,"x","Germany","DSG","No","Passenger","With compartment","Sleeper","2'2'","N/A","Yes",1960,1985,"III b","UIC-X","WLABm 174","WLAB4ümg-59",24357,"77 units, built between 1959-64 and numbered 33201/77. Sold in 1973 to DB. Erroneously numbered by LIMA","DSG","N/A","N/A","Gefriergans","DSG-Rot","Red","Grey","Red","N/A","Red","White & Red","N/A","N/A",0,2,4,7.6335877862595417E-3,202,"Yes"]
["3090271961",309027,null,null,9027,null,1961,"Yes","IT",1,"x","France","SNCF","No","Passenger","With compartment","1° class","2'2'","N/A","No",1951,1992,"III a / III b","DEV AO Courte","A8","Series 1950",20045,"37 units, built between 1950-52. Numbering system starting with 2 corresponds to Northern lines. Item by LIMA has 10 windows while real 1° Class coach has 8 instead. LIMA used same tooling kit for articles #9025 and #9027 ","N/A","N/A","N/A","N/A","Verte","Green","Grey","Green","N/A","Green","White & Red","N/A","N/A",0,2,4,8.6956521739130436E-3,202,"Yes"]
["3020021961",302002,null,null,2002,null,1961,"Yes","IT",1,"x","Italy","FS","No","Passenger","With compartment","2° class","2'2'","N/A","No",1947,1991,"III a / III b","FS 1946","Bz","N/A",43577,"140 units, built between 1947-49 and numbered 32010/149. Erroneously numbered by LIMA","N/A","N/A","N/A","N/A","Castano-Isabella ","Brown","Grey","Brown","Cream","Brown","White & Red","N/A","N/A",0,2,4,6.7567567567567571E-3,150,"Yes"]
["302100M1961",302100,"M",null,"2100M",null,1961,"Yes","IT",1,"x","Italy","FS","No","Passenger","With compartment","2° class","2'2'","N/A","No",1947,1991,"III a / III b","FS 1946","Bz","N/A","N/A","140 units, built between 1947-49 and numbered 32010/149. With camouflage. Never existed in any official roster","N/A","Militar","N/A","N/A","Camouflage","Green","Green","Green","N/A","Green","White & Red","N/A","N/A",0,2,4,6.7567567567567571E-3,150,"Replace"]
["302200CR1961",302200,"CR",null,"2200CR",null,1961,"Yes","IT",1,"x","Italy","FS","No","Passenger","With compartment","2° class","2'2'","N/A","No",1947,1991,"III a / III b","FS 1946","Bz","N/A","N/A","140 units, built between 1947-49 and numbered 32010/149. For Red Cross services. Never existed in any official roster","N/A","Red Cross","N/A","N/A","N/A","White","Grey","White","N/A","White","White & Red","N/A","N/A",0,2,4,6.7567567567567571E-3,150,"Yes"]
["302002B1961",302002,"B",null,"2002B",null,1961,"Yes","IT",2,"x","Italy","FS","No","Passenger","Baggage","Baggage","2'2'","N/A","Yes",1907,1975,"I / II / III a / III b","FS 1907","DUIz","N/A","N/A","125 units, numbered DUIz 94035/099 & 94200/259","N/A","N/A","N/A","N/A","Castano-Isabella ","Brown","Grey","Brown","Cream","Brown","White & Red","N/A","N/A",0,2,4,9.8039215686274508E-3,150,"Replace"]
[{"$f":"+B69&C69&F69&G69","v":"302101M1961"},302101,"M",null,"2101M",null,1961,"Yes","IT",2,"x","Italy","FS","No","Passenger","Baggage","Baggage","2'2'","N/A","Yes",1907,1975,"I / II / III a / III b","FS 1907","DUIz","N/A","N/A","125 units, numbered DUIz 94035/099 & 94200/259. With camouflage. LIMA invention","N/A","Militar","N/A","N/A","Camouflage","Green","Green","Green","N/A","Green","White & Red","N/A","N/A",0,2,4,9.8039215686274508E-3,150,"Replace"]
["3091011961",309101,null,null,9101,null,1961,"Yes","IT",2,"x","Italy","FS","No","Passenger","With compartment","1° class","2'2'","N/A","Yes",1947,1991,"III a / III b","FS 1946","Az","N/A",24357,"55 units, built between 1946-53 and numbered Az 13010/56. Erroneously numbered by LIMA. Number corresponds to 2° Class coach but not 1° Class","N/A","N/A","N/A","N/A","Castano-Isabella ","Brown","Grey","Brown","Cream","Brown","White & Red","N/A","N/A",0,2,4,1.0752688172043012E-2,240,"Yes"]
["3091021961",309102,null,null,9102,null,1961,"Yes","IT",2,"x","Italy","FS","No","Passenger","With compartment","1° class","2'2'","N/A","Yes",1947,1991,"III a / III b","FS 1946","Az","N/A",24357,"55 units, built between 1946-53 and numbered Az 13010/56. Erroneously numbered by LIMA. Number corresponds to 2° Class coach but not 1° Class","N/A","Treno Azzurro","N/A","N/A","Celeste-Blu","Blue","Grey","Blue","Light Blue","Blue","White & Red","N/A","N/A",0,2,4,1.0752688172043012E-2,240,"Yes"]
["3091031961",309103,null,null,9103,null,1961,"Yes","IT",2,"x","Germany","DB","No","Passenger","With compartment","1° class","2'2'","N/A","No",1947,1991,"III b","FS 1946","A","N/A",14208,"Never existed in any official roster. Based on an Italian Series FS 1946 coach design","N/A","N/A","N/A","N/A","DB-Kobaltblau","Blue","Grey","Blue","N/A","Blue","White & Red","N/A","N/A",0,2,4,1.0752688172043012E-2,240,"Yes"]
["3091041961",309104,null,null,9104,null,1961,"Yes","IT",2,"x","Germany","DB","No","Passenger","With compartment","2° class","2'2'","N/A","No",1947,1991,"III b","FS 1946","B","N/A",14208,"Never existed in any official roster. Based on an Italian Series FS 1946 coach design","N/A","N/A","N/A","N/A","DB-Grün","Green","Grey","Green","N/A","Green","White & Red","N/A","N/A",0,2,4,1.0752688172043012E-2,240,"Yes"]
["3091051961",309105,null,null,9105,null,1961,"Yes","IT",2,"x","Denmark","D.S.B.","No","Passenger","With compartment","2° class","2'2'","N/A","No",1947,1991,"III a / III b","FS 1946","B","N/A",1149,"Never existed in any official roster. Based on an Italian Series FS 1946 coach design","N/A","N/A","N/A","Classic Vingehjul","Rød ","Red","Grey","Red","N/A","Red","White & Red","N/A","N/A",0,2,4,1.0752688172043012E-2,240,"Yes"]
["3091061961",309106,null,null,9106,null,1961,"Yes","IT",2,"x","Switzerland","SBB/CFF","No","Passenger","With compartment","2° class","2'2'","N/A","No",1947,1991,"III a / III b","FS 1946","B","N/A",6601,"Never existed in any official roster. Based on an Italian Series FS 1946 coach design","N/A","N/A","N/A","Wappen","SBB-Grün","Green","Grey","Green","N/A","Green","White & Red","N/A","N/A",0,2,4,1.0752688172043012E-2,240,"Yes"]
["3092011961",309201,null,null,9201,null,1961,"Yes","IT",2,"x","Belgium","CIWL","No","Passenger","Parlor","1° class","2'2'","N/A","Yes",1926,1971,"II","Pullman","Pullman","N/A",9042,"211 units, built between 1926-30","N/A","N/A","N/A","CIWL","CIWL","Blue","Grey","Blue","White","Blue","White & Red","N/A","N/A",0,2,4,1.1111111111111112E-2,240,"Yes"]
["3092021961",309202,null,null,9202,null,1961,"Yes","IT",2,"x","Belgium","CIWL","No","Passenger","With central corridor","Restaurant","2'2'","N/A","Yes",1926,1971,"II / III a / III b","Pullman","Pullman","N/A",4730,"Former 1° Class coach refurbished to dining car","N/A","N/A","N/A","CIWL","CIWL","Blue","Grey","Blue","Yellow","Blue","White & Red","N/A","N/A",0,2,4,1.1111111111111112E-2,240,"Yes"]
["3093011961",309301,null,null,9301,null,1961,"Yes","IT",2,"x","Belgium","CIWL","No","Passenger","Baggage","Baggage","2'2'","N/A","Yes",1927,1984,"II / III a / III b","Nord","Dd4","N/A",25140,"30 units, built in 1927. With \"hunch\" type panoramic dome coach","N/A","N/A","N/A","CIWL","CIWL","Blue","Grey","Blue","Yellow","Blue","White & Red","N/A","N/A",0,2,4,1.1111111111111112E-2,240,"Yes"]
["3093021961",309302,null,null,9302,null,1961,"Yes","IT",2,"x","Italy","FS","No","Passenger","Postal","Baggage","2'2'","N/A","Yes",1957,1990,"III b / IV a","FS 1946","Uz","N/A",28878,"110 units, built between 1946-47 and numbered 83.000/109. Erroneously numbered by LIMA","N/A","N/A","N/A","N/A","N/A","Brown","Grey","Brown","Cream","Brown","White & Red","N/A","N/A",0,2,4,1.020408163265306E-2,240,"Yes"]
["3090351961",309035,null,null,9035,null,1961,"Yes","IT",2,"x","Italy","FS","No","Freight","Flat","With logs","2'2'","N/A","Yes",1957,1998,"III b / IV a / IV b","R-type","Rs 680","SSlmas 53","N/A","5550 units, built between 1955-66","N/A","N/A","N/A","N/A","N/A","Brown","N/A","Black","N/A","N/A","White & Red","N/A","N/A",0,2,4,8.0000000000000002E-3,160,"Yes"]
["3090361961",309036,null,null,9036,null,1961,"Yes","IT",2,"x","Italy","FS","No","Freight","Flat","With wooden planks","2'2'","N/A","Yes",1957,1998,"III b / IV a / IV b","R-type","Rs 680","SSlmas 53","N/A","5550 units, built between 1955-66","N/A","N/A","N/A","N/A","N/A","Brown","N/A","Black","N/A","N/A","White & Red","N/A","N/A",0,2,4,8.0000000000000002E-3,160,"Yes"]
["3090301961",309030,null,null,9030,null,1961,"Yes","IT",2,"x","Italy","FS","No","Freight","Tank","With ladder","2'2'","N/A","Yes",1958,2004,"III b / IV a / IV b / V a / V b","Z-type","Zacs 33","Uah","N/A","Built since the late 1950's","Esso","N/A","N/A","N/A","N/A","Grey","N/A","Black","N/A","N/A","White & Red","N/A","N/A",0,2,4,"N/A",160,"Replace"]
["3090311961",309031,null,null,9031,null,1961,"Yes","IT",2,"x","Italy","FS","No","Freight","Tank","With ladder","2'2'","N/A","Yes",1958,2004,"III b / IV a / IV b / V a / V b","Z-type","Zacs 33","Uah","N/A","Built since the late 1950's","Shell","N/A","N/A","N/A","N/A","Yellow","N/A","Black","N/A","N/A","White & Red","N/A","N/A",0,2,4,"N/A",160,"Replace"]
["3090321961",309032,null,null,9032,null,1961,"Yes","IT",2,"x","Italy","FS","No","Freight","Tank","With ladder","2'2'","N/A","Yes",1958,2004,"III b / IV a / IV b / V a / V b","Z-type","Zacs 33","Uah","N/A","Built since the late 1950's","Oil","N/A","N/A","N/A","N/A","Red","N/A","Black","N/A","N/A","White & Red","N/A","N/A",0,2,4,"N/A",160,"Replace"]
["3090331961",309033,null,null,9033,null,1961,"Yes","IT",2,"x","Italy","FS","No","Freight","Tank","With ladder","2'2'","N/A","Yes",1958,2004,"III b / IV a / IV b / V a / V b","Z-type","Zacs 33","Uah","N/A","Built since the late 1950's","BP","N/A","N/A","N/A","N/A","Green","N/A","Black","N/A","N/A","White & Red","N/A","N/A",0,2,4,"N/A",160,"Replace"]
["3020081961",302008,null,null,2008,null,1961,"Yes","IT",1,"x","Italy","FS","No","Freight","Closed","N/A",2,"N/A","Yes",1958,1995,"III a / III b / IV a / IV b / V a","G-type","Gs 210","Gmms 40","N/A","4760 units, built between 1957-61. Manufactured by LIMA until 1971","N/A","N/A","N/A","N/A","N/A","Brown","N/A","Black","N/A","N/A","White & Red","N/A","N/A",0,0,2,9.5238095238095247E-3,105,"Yes"]
["302008A1961",302008,"A",null,"2008A",null,1961,"Yes","IT",1,"x","Italy","FS","No","Freight","Closed","N/A",2,"N/A","Yes",1958,1995,"III a / III b / IV a / IV b / V a","G-type","Gs 210","Gmms 40","N/A","4760 units, built between 1957-61. Manufactured by LIMA until 1971","N/A","N/A","N/A","N/A","N/A","White","Grey","Black","N/A","White","White & Red","N/A","N/A",0,0,2,9.5238095238095247E-3,105,"Replace"]
["302008B1961",302008,"B",null,"2008B",null,1961,"Yes","IT",1,"x","Italy","FS","No","Freight","Closed","N/A",2,"N/A","Yes",1956,1995,"III a / III b / IV a / IV b / V a","G-type","Ibblps 393","Tnohs 50","N/A","175 units, refurbished between 1955-57 from former Glmhs 50 wagons. For transport of Bananas. Manufactured by LIMA until 1971","Banane","N/A","N/A","N/A","N/A","Yellow","Grey","Black","N/A","Yellow","White & Red","N/A","N/A",0,0,2,9.5238095238095247E-3,105,"Yes"]
["3020091961",302009,null,null,2009,null,1961,"Yes","IT",1,"x","Italy","FS","No","Freight","Open","Empty",2,"N/A","Yes",1956,2005,"III b / IV a / IV b / V a / V b","E-type","Es 025","Tipo 2","N/A","Built in the mid 1950's. Manufactured by LIMA until 1971","N/A","N/A","N/A","N/A","N/A","Brown","N/A","Black","N/A","N/A","White & Red","N/A","N/A",0,0,2,1.0526315789473684E-2,105,"Replace"]
["302009SV1961",302009,"SV",null,"2009SV",null,1961,"Yes","IT",1,"x","Italy","SVF","No","Freight","Open","Empty",2,"N/A","Yes",1956,2005,"III b / IV a / IV b / V a / V b","E-type","Es 025","Tipo 2","N/A","Built in the mid 1950's. Manufactured by LIMA until 1971","N/A","N/A","N/A","N/A","N/A","Green","N/A","Black","N/A","N/A","White & Red","N/A","N/A",0,0,2,1.0526315789473684E-2,105,"Yes"]
["302009CR1961",302009,"CR",null,"2009CR",null,1961,"Yes","IT",1,"x","Italy","FS","No","Freight","Open","With cargo",2,"N/A","Yes",1956,2005,"III b / IV a / IV b / V a / V b","E-type","Es 025","Tipo 2","N/A","Built in the mid 1950's. With coal load","N/A","N/A","N/A","N/A","N/A","Brown","N/A","Black","N/A","N/A","White & Red","N/A","N/A",0,0,2,1.0526315789473684E-2,105,"Replace"]
["3020101961",302010,null,null,2010,null,1961,"Yes","IT",1,"x","Italy","FS","No","Freight","Flat","With tank",2,"N/A","Yes",1959,1995,"III b / IV a / IV b","K-type","Klm 505","Xlm 57","N/A","Built in the late 1950's. Manufactured by LIMA until 1971","N/A","N/A","N/A","N/A","N/A","Grey","N/A","Brown","N/A","N/A","White & Red","N/A","N/A",0,0,2,0.01,105,"Yes"]
["3020111961",302011,null,null,2011,null,1961,"Yes","IT",1,"x","Italy","FS","No","Freight","Flat","With jeeps",2,"N/A","Yes",1959,1995,"III b / IV a / IV b","K-type","Klm 505","Xlm 57","N/A","Built in the late 1950's. Manufactured by LIMA until 1971","N/A","N/A","N/A","N/A","N/A","Grey","N/A","Brown","N/A","N/A","White & Red","N/A","N/A",0,0,2,0.01,105,"Yes"]
["3020121961",302012,null,null,2012,null,1961,"Yes","IT",1,"x","Italy","FS","No","Freight","Flat","With machine guns",2,"N/A","Yes",1959,1995,"III b / IV a / IV b","K-type","Klm 505","Xlm 57","N/A","Built in the late 1950's. Manufactured by LIMA until 1971","N/A","N/A","N/A","N/A","N/A","Grey","N/A","Brown","N/A","N/A","White & Red","N/A","N/A",0,0,2,0.01,105,"Yes"]
["3020131961",302013,null,null,2013,null,1961,"Yes","IT",1,"x","Italy","FS","No","Freight","Flat","With boats",2,"N/A","Yes",1959,1995,"III b / IV a / IV b","K-type","Klm 505","Xlm 57","N/A","Built in the late 1950's. Manufactured by LIMA until 1971","N/A","N/A","N/A","N/A","N/A","Grey","N/A","Brown","N/A","N/A","White & Red","N/A","N/A",0,0,2,0.01,105,"Yes"]
["302102M1961",302102,"M",null,"2102M",null,1961,"Yes","IT",1,"x","Italy","FS","No","Freight","Closed","N/A",2,"N/A","No",1958,1995,"III a / III b","G-type","Gs 210","Gmms 40","N/A","4760 units, built between 1957-61. With camouflage. Manufactured by LIMA until 1971","N/A","Militar","N/A","N/A","Camouflage","Green","Green","Green","N/A","Green","White & Red","N/A","N/A",0,0,2,9.5238095238095247E-3,105,"Yes"]
["302103M1961",302103,"M",null,"2103M",null,1961,"Yes","IT",1,"x","Italy","FS","No","Freight","Open","Empty",2,"N/A","Yes",1956,2005,"III b / IV a / IV b / V a / V b","E-type","Es 025","Tipo 2","N/A","Never existed in any official roster. LIMA invention","N/A","Militar","N/A","N/A","Camouflage","Green","N/A","Black","N/A","N/A","White & Red","N/A","N/A",0,0,2,1.0526315789473684E-2,105,"Yes"]
["3090371961",309037,null,null,9037,null,1961,"Yes","IT",2,"x","Italy","FS","No","Freight","Flat","With pipes","2'2'","N/A","Yes",1957,1998,"III b / IV a / IV b","R-type","Rs 680","SSlmas 53","N/A","5550 units, built between 1955-66","N/A","N/A","N/A","N/A","N/A","Red","N/A","Black","N/A","N/A","White & Red","N/A","N/A",0,2,4,8.0000000000000002E-3,160,"Yes"]
["3031011961",303101,null,null,3101,null,1961,"Yes","IT",2,"x","Norway","N.S.B.","No","Freight","Closed","With sliding door",2,"N/A","Yes",1924,1973,"III a / III b","G-type","Gbkl 238","Gl Dresden","G4 41169","Built since the early 1920's","N/A","N/A","N/A","N/A","N/A","Brown","Grey","Black","N/A","Brown","White & Red","N/A","N/A",0,0,2,1.0752688172043012E-2,130,"Yes"]
["3031021961",303102,null,null,3102,null,1961,"Yes","IT",2,"x","Italy","FS","No","Freight","Closed","With sliding door",2,"N/A","Yes",1930,1976,"II / III a / III b / IV a","G-type","Gbkl 238","Gl Dresden","F 1160106","Built since the early 1920's","N/A","N/A","N/A","N/A","N/A","Brown","Grey","Black","N/A","Brown","White & Red","N/A","N/A",0,0,2,1.0752688172043012E-2,130,"Yes"]
["2080221962",208022,null,null,8022,null,1962,"Yes","IT",2,"x","Italy","FS","No","Locomotive","Electric","Multipurpose","Bo'Bo'","N/A","Yes",1951,2001,"III a / III b / IV a / IV b","E-424","E-424","N/A","E424 143","158 units, built between 1943-51 and numbered E.424.001/158. Focus on mixed-traffic services (Passenger and Freight)","N/A","N/A","N/A","N/A","Castano-Isabella ","Brown","Brown","Brown","N/A","Brown","Yellow & Red","Pot motor","Double arm",2,2,4,1.2048192771084338E-2,185,"Yes"]
["2080211962",208021,null,null,8021,null,1962,"Yes","IT",2,"x","France","SNCF","No","Locomotive","Electric","Express service","Bo'Bo'","N/A","Yes",1958,2003,"III b / IV a","BB Jacquemin","BB-9200","N/A",9210,"90 units, built between 1957-63 and numbered 9201/90. Focus on express Passenger services","N/A","N/A","Jacquemin","Macaron","Verte","Green","Green","Green","N/A","Green","Yellow & Red","Pot motor","Double arm",2,2,4,1.2048192771084338E-2,195,"Yes"]
["2030011962",203001,null,null,3001,null,1962,"Yes","IT",2,"x","Italy","FS","No","Locomotive","Steam","Multipurpose","0-8-0/6","N/A","Yes",1919,1959,"II / III a / III b","Preußische G 8.1","Series 460","Preußische G 8.1","N/A","45 units, built between 1913-1919 and numbered 460.001/045. Focus on mixed-traffic services (Passenger and Freight). Received in 1919 as war reparation from Germany","N/A","N/A","N/A","N/A","N/A","Black","Black","Black","N/A","Black","Yellow & Red","Pot motor","N/A",0,0,4,1.3157894736842105E-2,242,"Yes"]
["3091011962",309101,null,null,9101,null,1962,"Yes","IT",3,"x","Italy","FS","No","Passenger","With compartment","1° class","2'2'","N/A","Yes",1947,1991,"III a / III b","FS 1946","Az","N/A",24357,"55 units, built between 1946-53 and numbered Az 13010/56. Erroneously numbered by LIMA. Number corresponds to 2° Class coach but not 1° Class","N/A","N/A","N/A","N/A","Castano-Isabella ","Brown","Grey","Brown","Cream","Brown","Yellow & Red","N/A","N/A",0,2,4,1.0752688172043012E-2,240,"Yes"]
["3091021962",309102,null,null,9102,null,1962,"Yes","IT",3,"x","Italy","FS","No","Passenger","With compartment","1° class","2'2'","N/A","Yes",1947,1991,"III a / III b","FS 1946","Az","N/A",24357,"55 units, built between 1946-53 and numbered Az 13010/56. Erroneously numbered by LIMA. Number corresponds to 2° Class coach but not 1° Class","N/A","Treno Azzurro","N/A","N/A","Celeste-Blu","Blue","Grey","Blue","Light Blue","Blue","Yellow & Red","N/A","N/A",0,2,4,1.0752688172043012E-2,240,"Yes"]
["3091031962",309103,null,null,9103,null,1962,"Yes","IT",3,"x","Germany","DB","No","Passenger","With compartment","1° class","2'2'","N/A","No",1947,1991,"III b","FS 1946","A","N/A",14208,"Never existed in any official roster. Based on an Italian Series FS 1946 coach design","N/A","N/A","N/A","N/A","DB-Kobaltblau","Blue","Grey","Blue","N/A","Blue","Yellow & Red","N/A","N/A",0,2,4,1.0752688172043012E-2,240,"Yes"]
["3091041962",309104,null,null,9104,null,1962,"Yes","IT",3,"x","Germany","DB","No","Passenger","With compartment","2° class","2'2'","N/A","No",1947,1991,"III b","FS 1946","B","N/A",14208,"Never existed in any official roster. Based on an Italian Series FS 1946 coach design","N/A","N/A","N/A","N/A","DB-Grün","Green","Grey","Green","N/A","Green","Yellow & Red","N/A","N/A",0,2,4,1.0752688172043012E-2,240,"Yes"]
["3091051962",309105,null,null,9105,null,1962,"Yes","IT",3,"x","Denmark","D.S.B.","No","Passenger","With compartment","2° class","2'2'","N/A","No",1947,1991,"III a / III b","FS 1946","B","N/A",1149,"Never existed in any official roster. Based on an Italian Series FS 1946 coach design","N/A","N/A","N/A","Classic Vingehjul","Rød ","Red","Grey","Red","N/A","Red","Yellow & Red","N/A","N/A",0,2,4,1.0752688172043012E-2,240,"Yes"]
["3091061962",309106,null,null,9106,null,1962,"Yes","IT",3,"x","Switzerland","SBB/CFF","No","Passenger","With compartment","2° class","2'2'","N/A","No",1947,1991,"III a / III b","FS 1946","B","N/A",6601,"Never existed in any official roster. Based on an Italian Series FS 1946 coach design","N/A","N/A","N/A","Wappen","SBB-Grün","Green","Grey","Green","N/A","Green","Yellow & Red","N/A","N/A",0,2,4,1.0752688172043012E-2,240,"Yes"]
["3091071962",309107,null,null,9107,null,1962,"Yes","IT",3,"x","France","SNCF","No","Passenger","With compartment","1° class","2'2'","N/A","Yes",1956,1994,"III b / IV a / IV b","DEV Inox Mistral","A8","Series 1956","N/A","22 units, built in 1956 and numbered 61 87 18-89 826/847","N/A","Le Mistral","N/A","N/A","Inox","Grey","Grey","Grey","N/A","Grey","Yellow & Red","N/A","N/A",0,2,4,1.1111111111111112E-2,260,"Yes"]
["3092011962",309201,null,null,9201,null,1962,"Yes","IT",4,"x","Belgium","CIWL","No","Passenger","Parlor","1° class","2'2'","N/A","Yes",1926,1971,"II / III a / III b","Pullman","Pullman","N/A",9042,"211 units, built between 1926-30","N/A","N/A","N/A","CIWL","CIWL","Blue","Grey","Blue","White","Blue","Yellow & Red","N/A","N/A",0,2,4,1.1111111111111112E-2,240,"Yes"]
["3092021962",309202,null,null,9202,null,1962,"Yes","IT",4,"x","Belgium","CIWL","No","Passenger","With central corridor","Restaurant","2'2'","N/A","Yes",1926,1971,"II / III a / III b","Pullman","Pullman","N/A",4730,"Former 1° Class coach refurbished to dining car","N/A","N/A","N/A","CIWL","CIWL","Blue","Grey","Blue","Yellow","Blue","Yellow & Red","N/A","N/A",0,2,4,1.1111111111111112E-2,240,"Yes"]
["3093011962",309301,null,null,9301,null,1962,"Yes","IT",4,"x","Belgium","CIWL","No","Passenger","Baggage","Baggage","2'2'","N/A","Yes",1927,1984,"II / III a / III b","Nord","Dd4","N/A",25140,"30 units, built in 1927. With \"hunch\" type panoramic dome coach","N/A","N/A","N/A","CIWL","CIWL","Blue","Grey","Blue","Yellow","Blue","Yellow & Red","N/A","N/A",0,2,4,1.1111111111111112E-2,240,"Yes"]
["3093021962",309302,null,null,9302,null,1962,"Yes","IT",4,"x","Italy","FS","No","Passenger","Postal","Baggage","2'2'","N/A","Yes",1957,1990,"III b / IV a","FS 1946","Uz","N/A",28878,"110 units, built between 1946-47 and numbered 83.000/109. Erroneously numbered by LIMA","N/A","N/A","N/A","N/A","N/A","Brown","Grey","Brown","Cream","Brown","Yellow & Red","N/A","N/A",0,2,4,1.020408163265306E-2,240,"Yes"]
["3090301962",309030,null,null,9030,null,1962,"Yes","IT",4,"x","Italy","FS","No","Freight","Tank","With ladder","2'2'","N/A","Yes",1958,2004,"III b / IV a / IV b / V a / V b","Z-type","Zacs 33","Uah","N/A","Built since the late 1950's","Esso","N/A","N/A","N/A","N/A","Grey","N/A","Black","N/A","N/A","Yellow & Red","N/A","N/A",0,2,4,"N/A",160,"Replace"]
["3090311962",309031,null,null,9031,null,1962,"Yes","IT",4,"x","Italy","FS","No","Freight","Tank","With ladder","2'2'","N/A","Yes",1958,2004,"III b / IV a / IV b / V a / V b","Z-type","Zacs 33","Uah","N/A","Built since the late 1950's","Shell","N/A","N/A","N/A","N/A","Yellow","N/A","Black","N/A","N/A","Yellow & Red","N/A","N/A",0,2,4,"N/A",160,"Replace"]
["3090321962",309032,null,null,9032,null,1962,"Yes","IT",4,"x","Italy","FS","No","Freight","Tank","With ladder","2'2'","N/A","Yes",1958,2004,"III b / IV a / IV b / V a / V b","Z-type","Zacs 33","Uah","N/A","Built since the late 1950's","Oil","N/A","N/A","N/A","N/A","Red","N/A","Black","N/A","N/A","Yellow & Red","N/A","N/A",0,2,4,"N/A",160,"Replace"]
["3090331962",309033,null,null,9033,null,1962,"Yes","IT",4,"x","Italy","FS","No","Freight","Tank","With ladder","2'2'","N/A","Yes",1958,2004,"III b / IV a / IV b / V a / V b","Z-type","Zacs 33","Uah","N/A","Built since the late 1950's","BP","N/A","N/A","N/A","N/A","Green","N/A","Black","N/A","N/A","Yellow & Red","N/A","N/A",0,2,4,"N/A",160,"Replace"]
["3090341962",309034,null,null,9034,null,1962,"Yes","IT",4,"x","Italy","FS","No","Freight","Tank","With ladder","2'2'","N/A","Yes",1958,2004,"III b / IV a / IV b / V a / V b","Z-type","Zacs 33","Uah","N/A","Built since the late 1950's","Agip","N/A","N/A","N/A","N/A","Grey","N/A","Black","N/A","N/A","Yellow & Red","N/A","N/A",0,2,4,"N/A",160,"Replace"]
["3090351962",309035,null,null,9035,null,1962,"Yes","IT",4,"x","Italy","FS","No","Freight","Flat","With logs","2'2'","N/A","Yes",1957,1998,"III b / IV a / IV b","R-type","Rs 680","SSlmas 53","N/A","5550 units, built between 1955-66","N/A","N/A","N/A","N/A","N/A","Brown","N/A","Black","N/A","N/A","Yellow & Red","N/A","N/A",0,2,4,8.0000000000000002E-3,160,"Yes"]
["3090361962",309036,null,null,9036,null,1962,"Yes","IT",4,"x","Italy","FS","No","Freight","Flat","With wooden planks","2'2'","N/A","Yes",1957,1998,"III b / IV a / IV b","R-type","Rs 680","SSlmas 53","N/A","5550 units, built between 1955-66","N/A","N/A","N/A","N/A","N/A","Brown","N/A","Black","N/A","N/A","Yellow & Red","N/A","N/A",0,2,4,8.0000000000000002E-3,160,"Yes"]
["3090231962",309023,null,null,9023,null,1962,"Yes","IT",5,"x","Belgium","CIWL","No","Passenger","With compartment","Sleeper","2'2'","N/A","Yes",1951,1992,"III a / III b","UIC-X","WLABm 174","WLAB4ümg-59","N/A","77 units, built between 1959-64 and numbered 33201/77. Never existed in any official roster. LIMA invention","N/A","N/A","N/A","CIWL","CIWL","Blue","Grey","Blue","Yellow","Blue","Yellow & Red","N/A","N/A",0,2,4,7.6335877862595417E-3,202,"Replace"]
["3090221962",309022,null,null,9022,null,1962,"Yes","IT",5,"x","Italy","FS","No","Passenger","With central corridor","1° class","2'2'","N/A","Yes",1922,1985,"III a / III b","FS 1921","Az","N/A",29052,"100 units, built between 1927-28 and numbered originally 10000/099. Erroneously numbered by LIMA. Design belongs to 1° class coach whilst numbering to 2° class type","N/A","N/A","N/A","N/A","Castano-Isabella ","Brown","Grey","Brown","Cream","Brown","Yellow & Red","N/A","N/A",0,2,4,8.771929824561403E-3,195,"Yes"]
["3090251962",309025,null,null,9025,null,1962,"Yes","IT",5,"x","Germany","DB","No","Passenger","With compartment","1° class","2'2'","N/A","No",1951,1992,"III b","UIC-X","WLABm 174","WLAB4ümg-59","N/A","77 units, built between 1959-64 and numbered 33201/77. Never existed in any official roster. LIMA invention","N/A","N/A","N/A","Keks","DB-Grün","Green","Grey","Green","N/A","Green","Yellow & Red","N/A","N/A",0,2,4,7.6335877862595417E-3,202,"Replace"]
["3090261962",309026,null,null,9026,null,1962,"Yes","IT",5,"x","Germany","DSG","No","Passenger","With compartment","Sleeper","2'2'","N/A","Yes",1960,1985,"III b","UIC-X","WLABm 174","WLAB4ümg-59",24357,"77 units, built between 1959-64 and numbered 33201/77. Sold in 1973 to DB. Erroneously numbered by LIMA","DSG","N/A","N/A","Gefriergans","DSG-Rot","Red","Grey","Red","N/A","Red","Yellow & Red","N/A","N/A",0,2,4,7.6335877862595417E-3,202,"Yes"]
["3090271962",309027,null,null,9027,null,1962,"Yes","IT",5,"x","France","SNCF","No","Passenger","With compartment","1° class","2'2'","N/A","No",1951,1992,"III a / III b","DEV AO Courte","A8","Series 1950",20045,"37 units, built between 1950-52. Numbering system starting with 2 corresponds to Northern lines. Item by LIMA has 10 windows while real 1° Class coach has 8 instead. LIMA used same tooling kit for articles #9025 and #9027 ","N/A","N/A","N/A","N/A","Verte","Green","Grey","Green","N/A","Green","Yellow & Red","N/A","N/A",0,2,4,8.6956521739130436E-3,202,"Yes"]
["3020021962",302002,null,null,2002,null,1962,"Yes","IT",5,"x","Italy","FS","No","Passenger","With compartment","2° class","2'2'","N/A","No",1947,1991,"III a / III b","FS 1946","Bz","N/A",43577,"140 units, built between 1947-49 and numbered 32010/149. Erroneously numbered by LIMA","N/A","N/A","N/A","N/A","Castano-Isabella ","Brown","Grey","Brown","Cream","Brown","Yellow & Red","N/A","N/A",0,2,4,6.7567567567567571E-3,150,"Yes"]
["302100M1962",302100,"M",null,"2100M",null,1962,"Yes","IT",5,"x","Italy","FS","No","Passenger","With compartment","2° class","2'2'","N/A","No",1947,1991,"III a / III b","FS 1946","Bz","N/A","N/A","140 units, built between 1947-49 and numbered 32010/149. With camouflage. Never existed in any official roster","N/A","Militar","N/A","N/A","Camouflage","Green","Green","Green","N/A","Green","Yellow & Red","N/A","N/A",0,2,4,6.7567567567567571E-3,150,"Replace"]
["302200CR1962",302200,"CR",null,"2200CR",null,1962,"Yes","IT",5,"x","Italy","FS","No","Passenger","With compartment","2° class","2'2'","N/A","No",1947,1991,"III a / III b","FS 1946","Bz","N/A","N/A","140 units, built between 1947-49 and numbered 32010/149. For Red Cross services. Never existed in any official roster","N/A","Red Cross","N/A","N/A","N/A","White","Grey","White","N/A","White","Yellow & Red","N/A","N/A",0,2,4,6.7567567567567571E-3,150,"Yes"]
["302002B1962",302002,"B",null,"2002B",null,1962,"Yes","IT",5,"x","Italy","FS","No","Passenger","Baggage","Baggage","2'2'","N/A","Yes",1907,1975,"I / II / III a / III b","FS 1907","DUIz","N/A","N/A","125 units, numbered DUIz 94035/099 & 94200/259","N/A","N/A","N/A","N/A","Castano-Isabella ","Brown","Grey","Brown","Cream","Brown","Yellow & Red","N/A","N/A",0,2,4,9.8039215686274508E-3,150,"Replace"]
["302101M1962",302101,"M",null,"2101M",null,1962,"Yes","IT",5,"x","Italy","FS","No","Passenger","Baggage","Baggage","2'2'","N/A","Yes",1907,1975,"I / II / III a / III b","FS 1907","DUIz","N/A","N/A","125 units, numbered DUIz 94035/099 & 94200/259. With camouflage. LIMA invention","N/A","Militar","N/A","N/A","Camouflage","Green","Green","Green","N/A","Green","Yellow & Red","N/A","N/A",0,2,4,9.8039215686274508E-3,150,"Replace"]
["3090371962",309037,null,null,9037,null,1962,"Yes","IT",5,"x","Italy","FS","No","Freight","Flat","With pipes","2'2'","N/A","Yes",1957,1998,"III b / IV a / IV b","R-type","Rs 680","SSlmas 53","N/A","5550 units, built between 1955-66","N/A","N/A","N/A","N/A","N/A","Red","N/A","Black","N/A","N/A","Yellow & Red","N/A","N/A",0,2,4,8.0000000000000002E-3,160,"Yes"]
[{"$f":"+B133&C133&F133&G133","v":"3031011962"},303101,null,null,3101,null,1962,"Yes","IT",5,"x","Norway","N.S.B.","No","Freight","Closed","With sliding door",2,"N/A","Yes",1924,1973,"III a / III b","G-type","Gbkl 238","Gl Dresden","G4 41169","Built since the early 1920's","N/A","N/A","N/A","N/A","N/A","Brown","Grey","Black","N/A","Brown","Yellow & Red","N/A","N/A",0,0,2,1.0752688172043012E-2,130,"Yes"]
["3031021962",303102,null,null,3102,null,1962,"Yes","IT",5,"x","Italy","FS","No","Freight","Closed","With sliding door",2,"N/A","Yes",1930,1976,"II / III a / III b / IV a","G-type","Gbkl 238","Gl Dresden","F 1160106","Built since the early 1920's","N/A","N/A","N/A","N/A","N/A","Brown","Grey","Black","N/A","Brown","Yellow & Red","N/A","N/A",0,0,2,1.0752688172043012E-2,130,"Yes"]
["3020081962",302008,null,null,2008,null,1962,"Yes","IT",6,"x","Italy","FS","No","Freight","Closed","N/A",2,"N/A","Yes",1958,1995,"III a / III b / IV a / IV b / V a","G-type","Gs 210","Gmms 40","N/A","4760 units, built between 1957-61. Manufactured by LIMA until 1971","N/A","N/A","N/A","N/A","N/A","Brown","N/A","Black","N/A","N/A","Yellow & Red","N/A","N/A",0,0,2,9.5238095238095247E-3,105,"Yes"]
["302102M1962",302102,"M",null,"2102M",null,1962,"Yes","IT",6,"x","Italy","FS","No","Freight","Closed","N/A",2,"N/A","No",1958,1995,"III a / III b","G-type","Gs 210","Gmms 40","N/A","4760 units, built between 1957-61. With camouflage. Manufactured by LIMA until 1971","N/A","Militar","N/A","N/A","Camouflage","Green","Green","Green","N/A","Green","Yellow & Red","N/A","N/A",0,0,2,9.5238095238095247E-3,105,"Yes"]
["302008A1962",302008,"A",null,"2008A",null,1962,"Yes","IT",6,"x","Italy","FS","No","Freight","Closed","N/A",2,"N/A","Yes",1958,1995,"III a / III b / IV a / IV b / V a","G-type","Gs 210","Gmms 40","N/A","4760 units, built between 1957-61. Manufactured by LIMA until 1971","Derrate Alimentari","N/A","N/A","N/A","N/A","White","Grey","Black","Red","White","Yellow & Red","N/A","N/A",0,0,2,9.5238095238095247E-3,105,"Yes"]
["302008B1962",302008,"B",null,"2008B",null,1962,"Yes","IT",6,"x","Italy","FS","No","Freight","Closed","N/A",2,"N/A","Yes",1956,1995,"III a / III b / IV a / IV b / V a","G-type","Ibblps 393","Tnohs 50","N/A","175 units, refurbished between 1955-57 from former Glmhs 50 wagons. For transport of Bananas. Manufactured by LIMA until 1971","Banane","N/A","N/A","N/A","N/A","Yellow","Grey","Black","N/A","Yellow","Yellow & Red","N/A","N/A",0,0,2,9.5238095238095247E-3,105,"Yes"]
["3020091962",302009,null,null,2009,null,1962,"Yes","IT",6,"x","Italy","FS","No","Freight","Open","Empty",2,"N/A","Yes",1956,2005,"III b / IV a / IV b / V a / V b","E-type","Es 025","Tipo 2","N/A","Built in the mid 1950's. Manufactured by LIMA until 1971","N/A","N/A","N/A","N/A","N/A","Brown","N/A","Black","N/A","N/A","Yellow & Red","N/A","N/A",0,0,2,1.0526315789473684E-2,105,"Replace"]
["302009CR1962",302009,"CR",null,"2009CR",null,1962,"Yes","IT",6,"x","Italy","FS","No","Freight","Open","With cargo",2,"N/A","Yes",1956,2005,"III b / IV a / IV b / V a / V b","E-type","Es 025","Tipo 2","N/A","Built in the mid 1950's. With coal load","N/A","N/A","N/A","N/A","N/A","Brown","N/A","Black","N/A","N/A","Yellow & Red","N/A","N/A",0,0,2,1.0526315789473684E-2,105,"Replace"]
["302103M1962",302103,"M",null,"2103M",null,1962,"Yes","IT",6,"x","Italy","FS","No","Freight","Open","Empty",2,"N/A","Yes",1956,2005,"III b / IV a / IV b / V a / V b","E-type","Es 025","Tipo 2","N/A","Never existed in any official roster. LIMA invention","N/A","Militar","N/A","N/A","Camouflage","Green","N/A","Black","N/A","N/A","Yellow & Red","N/A","N/A",0,0,2,1.0526315789473684E-2,105,"Yes"]
["302009SV1962",302009,"SV",null,"2009SV",null,1962,"Yes","IT",6,"x","Italy","SVF","No","Freight","Open","Empty",2,"N/A","Yes",1956,2005,"III b / IV a / IV b / V a / V b","E-type","Es 025","Tipo 2","N/A","Built in the mid 1950's. Manufactured by LIMA until 1971","N/A","N/A","N/A","N/A","N/A","Green","N/A","Black","N/A","N/A","Yellow & Red","N/A","N/A",0,0,2,1.0526315789473684E-2,105,"Yes"]
["3027011962",302701,null,null,2701,null,1962,"Yes","IT",6,"x","Italy","FS","No","Freight","Tank","With ladder",2,"N/A","Yes",1957,2005,"III b / IV a / IV b / V a / V b","Z-type","Zcs 23","Uh","N/A","Built since the late 1950's","Esso","N/A","N/A","N/A","N/A","Grey","N/A","Black","N/A","N/A","Yellow & Red","N/A","N/A",0,0,2,"N/A",105,"Yes"]
["3027021962",302702,null,null,2702,null,1962,"Yes","IT",6,"x","Italy","FS","No","Freight","Tank","With ladder",2,"N/A","Yes",1957,2005,"III b / IV a / IV b / V a / V b","Z-type","Zcs 23","Uh","N/A","Built since the late 1950's","Shell","N/A","N/A","N/A","N/A","Yellow","N/A","Black","N/A","N/A","Yellow & Red","N/A","N/A",0,0,2,"N/A",105,"Yes"]
["3027031962",302703,null,null,2703,null,1962,"Yes","IT",6,"x","Italy","FS","No","Freight","Tank","With ladder",2,"N/A","Yes",1957,2005,"III b / IV a / IV b / V a / V b","Z-type","Zcs 23","Uh","N/A","Built since the late 1950's","Agip","N/A","N/A","N/A","N/A","Grey","N/A","Black","N/A","N/A","Yellow & Red","N/A","N/A",0,0,2,"N/A",105,"Replace"]
["3027041962",302704,null,null,2704,null,1962,"Yes","IT",6,"x","Italy","FS","No","Freight","Tank","With ladder",2,"N/A","Yes",1957,2005,"III b / IV a / IV b / V a / V b","Z-type","Zcs 23","Uh","N/A","Built since the late 1950's","BP","N/A","N/A","N/A","N/A","Green","N/A","Black","N/A","N/A","Yellow & Red","N/A","N/A",0,0,2,"N/A",105,"Yes"]
["3020101962",302010,null,null,2010,null,1962,"Yes","IT",6,"x","Italy","FS","No","Freight","Flat","With tank",2,"N/A","Yes",1959,1995,"III b / IV a / IV b","K-type","Klm 505","Xlm 57","N/A","Built in the late 1950's. Manufactured by LIMA until 1971","N/A","N/A","N/A","N/A","N/A","Grey","N/A","Brown","N/A","N/A","Yellow & Red","N/A","N/A",0,0,2,0.01,105,"Yes"]
["3020111962",302011,null,null,2011,null,1962,"Yes","IT",6,"x","Italy","FS","No","Freight","Flat","With jeeps",2,"N/A","Yes",1959,1995,"III b / IV a / IV b","K-type","Klm 505","Xlm 57","N/A","Built in the late 1950's. Manufactured by LIMA until 1971","N/A","N/A","N/A","N/A","N/A","Grey","N/A","Brown","N/A","N/A","Yellow & Red","N/A","N/A",0,0,2,0.01,105,"Yes"]
["3020121962",302012,null,null,2012,null,1962,"Yes","IT",6,"x","Italy","FS","No","Freight","Flat","With machine guns",2,"N/A","Yes",1959,1995,"III b / IV a / IV b","K-type","Klm 505","Xlm 57","N/A","Built in the late 1950's. Manufactured by LIMA until 1971","N/A","N/A","N/A","N/A","N/A","Grey","N/A","Brown","N/A","N/A","Yellow & Red","N/A","N/A",0,0,2,0.01,105,"Yes"]
["3020131962",302013,null,null,2013,null,1962,"Yes","IT",6,"x","Italy","FS","No","Freight","Flat","With boats",2,"N/A","Yes",1959,1995,"III b / IV a / IV b","K-type","Klm 505","Xlm 57","N/A","Built in the late 1950's. Manufactured by LIMA until 1971","N/A","N/A","N/A","N/A","N/A","Grey","N/A","Brown","N/A","N/A","Yellow & Red","N/A","N/A",0,0,2,0.01,105,"Yes"]
["3020071962",302007,null,null,2007,null,1962,"Yes","IT",6,"x","Italy","FS","No","Freight","Flat","Empty",2,"N/A","Yes",1959,1995,"III b / IV a / IV b","K-type","Klm 505","Xlm 57","N/A","Built in the late 1950's. Manufactured by LIMA until 1971","N/A","N/A","N/A","N/A","N/A","Brown","N/A","Brown","N/A","N/A","Yellow & Red","N/A","N/A",0,0,2,0.01,105,"Replace"]
["302007B1962",302007,"B",null,"2007B",null,1962,"Yes","IT",6,"x","Italy","FS","No","Freight","Flat","Empty and with brakeman's cabin",2,"N/A","Yes",1925,1970,"III a / III b / IV a","K-type","O 10","P con garitta","N/A","Built in the mid 1920's","N/A","N/A","N/A","N/A","N/A","Brown","N/A","Brown","N/A","N/A","Yellow & Red","N/A","N/A",0,0,2,0.01,100,"Yes"]
["3020031962",302003,null,null,2003,null,1962,"Yes","IT",6,"x","Italy","FS","No","Freight","Flat","With drums",2,"N/A","Yes",1959,1995,"III b / IV a / IV b","K-type","Klm 505","Xlm 57","N/A","Built in the late 1950's. Manufactured by LIMA until 1971","N/A","N/A","N/A","N/A","N/A","Grey","N/A","Brown","N/A","N/A","Yellow & Red","N/A","N/A",0,0,2,0.01,105,"Yes"]
["3020041962",302004,null,null,2004,null,1962,"Yes","IT",6,"x","Italy","FS","No","Freight","Flat","With transformer",2,"N/A","Yes",1959,1995,"III b / IV a / IV b","K-type","Klm 505","Xlm 57","N/A","Built in the late 1950's. Manufactured by LIMA until 1971","N/A","N/A","N/A","N/A","N/A","Grey","N/A","Brown","N/A","N/A","Yellow & Red","N/A","N/A",0,0,2,0.01,105,"Replace"]
["3020051962",302005,null,null,2005,null,1962,"Yes","IT",6,"x","Italy","FS","No","Freight","Flat","With 1 car",2,"N/A","Yes",1959,1995,"III b / IV a / IV b","K-type","Klm 505","Xlm 57","N/A","Built in the late 1950's. Manufactured by LIMA until 1971","N/A","N/A","N/A","N/A","N/A","Grey","N/A","Brown","N/A","N/A","Yellow & Red","N/A","N/A",0,0,2,0.01,105,"Replace"]
["3020061962",302006,null,null,2006,null,1962,"Yes","IT",6,"x","Italy","FS","No","Freight","Flat","With wooden planks",2,"N/A","Yes",1959,1995,"III b / IV a / IV b","K-type","Klm 505","Xlm 57","N/A","Built in the late 1950's. Manufactured by LIMA until 1971","N/A","N/A","N/A","N/A","N/A","Brown","N/A","Brown","N/A","N/A","Yellow & Red","N/A","N/A",0,0,2,0.01,105,"Yes"]
["2090211962",209021,null,null,9021,null,1962,"Yes","IT",7,"x","Germany","DB","No","Locomotive","Steam","Multipurpose","2-8-0/4-4","N/A","Yes",1938,1965,"III a","Preußische G 8.1","BR-055","DRG-56.2-8",680,"691 units, refurbished between 1934-41 from former G 8.1 locomotives with an additional axis and numbered 056 201/891. Focus on mixed-traffic services (Passenger and Freight)","N/A","N/A","N/A","N/A","N/A","Black","Black","Black","Red","Black","Yellow & Red","Pot motor","N/A",0,0,5,1.3698630136986301E-2,250,"Yes"]
["2020011962",202001,null,null,2001,null,1962,"Yes","IT",7,"x","Germany","DRG","No","Locomotive","Steam","Freight","0-6-0/4","N/A","Yes",1895,1936,"II","Preußische G 3","BR-053.70","DRG-53",936,"2068 units, built between 1877-96. Focus on Freight services. Tender #2014 sold separately","N/A","N/A","N/A","N/A","N/A","Black","Black","Black","N/A","Black","Yellow & Red","Pot motor","N/A",0,0,3,1.3157894736842105E-2,120,"Yes"]
["2016011962",201601,null,null,1601,null,1962,"Yes","IT",7,"x","Germany","DB","No","Locomotive","Steam","Shunter","0-6-0T","N/A","Yes",1928,1964,"III a / III b","BR-080","BR-080","DRG-80",80005,"39 units, built between 1927-29 and numbered 080 001/39. Focus on shunting operation","N/A","N/A","Einheitslok","N/A","N/A","Black","Black","Black","N/A","Black","Yellow & Red","Pot motor","N/A",0,0,3,1.3333333333333334E-2,129,"Replace"]
["2016021962",201602,null,null,1602,null,1962,"Yes","IT",7,"x","Germany","DB","No","Locomotive","Diesel","Multipurpose","C","N/A","Yes",1957,1998,"III b","BR-260","BR-260","V-60","V60 155","942 units, built between 1995-63 and numbered V60.001/1241 (with gaps). Focus on mixed-traffic services (regional Passenger and Freight)","N/A","N/A","N/A","N/A","DB-Rot 1","Red","Grey","Red","N/A","Red","Yellow & Red","Pot motor","N/A",0,0,3,1.1111111111111112E-2,115,"Replace"]
["1015211963",101521,null,null,1521,null,1963,"No",null,null,"x","Italy","FS","No","Freight","Set","Freight","Bo'Bo'+2+2","Starter","Yes",1959,1976,"III b","D-342","Treno merci","N/A","N/A","3-unit set comprised of Diesel locomotive #8023, Tank #2704, Closed #3102, track and battery power pack","N/A","N/A","N/A","Ansaldo","N/A","Brown","Brown","Black","White","N/A","Brown","Pot motor","N/A",0,2,8,0.01,411,"Yes"]
["1030001963",103000,null,null,3000,null,1963,"No",null,null,"x","Italy","FS","No","Freight","Set","Freight","0-8-0/6+2'2'+2'2'+2'2'","Starter","Yes",1957,1959,"III b","Preußische G 8.1","Treno merci","N/A","N/A","4-unit set comprised of Steam locomotive #3001, Tank #9031, Flat with wooden planks #9036, Flat with pipes #9037, track and battery power pack","N/A","N/A","N/A","N/A","N/A","Black","Black","Black","N/A","N/A","Brown","Pot motor","N/A",0,6,19,0.01,725,"Yes"]
["2080231963",208023,null,null,8023,null,1963,"Yes","IT",3,"x","Italy","FS","No","Locomotive","Diesel","Multipurpose","B'B'","N/A","Yes",1959,2005,"III b / IV a","D-342","D-342.4","N/A","D342 4005","17 units, built between 1957-59 and numbered D.342.4001. Focus on mixed-traffic services (Passenger and Freight)","N/A","N/A","N/A","Ansaldo","Castano-Isabella ","Brown","Brown","Red","White","Brown","Yellow & Red","Pot motor","N/A",0,2,4,1.2195121951219513E-2,185,"Yes"]
["2080221963",208022,null,null,8022,null,1963,"Yes","IT",3,"x","Italy","FS","No","Locomotive","Electric","Multipurpose","Bo'Bo'","N/A","Yes",1951,2001,"III a / III b / IV a / IV b","E-424","E-424","N/A","E424 143","158 units, built between 1943-51 and numbered E.424.001/158. Focus on mixed-traffic services (Passenger and Freight)","N/A","N/A","N/A","N/A","Castano-Isabella ","Brown","Brown","Brown","N/A","Brown","Yellow & Red","Pot motor","Double arm",2,2,4,1.2048192771084338E-2,185,"Yes"]
["2080251963",208025,null,null,8025,null,1963,"Yes","IT",4,"x","Belgium","S.N.C.B.","No","Locomotive","Electric","Multipurpose","Bo'Bo'","N/A","Yes",1956,2012,"IV a / IV b","Series 23","HLE 23","Series 23",2371,"83 units, built between 1955-57 and numbered originally 122.001/083 (after 1971 2301/83). Focus on mixed-traffic services (regional Passenger and Freight)","N/A","N/A","N/A","N/A","Groen","Green","Grey","Grey","Grey","Green","Yellow & Red","Pot motor","Double arm",2,2,4,1.1904761904761904E-2,215,"Yes"]
["2080211963",208021,null,null,8021,null,1963,"Yes","IT",4,"x","France","SNCF","No","Locomotive","Electric","Express service","Bo'Bo'","N/A","Yes",1958,2003,"III b / IV a","BB Jacquemin","BB-9200","N/A",9210,"90 units, built between 1957-63 and numbered 9201/90. Focus on express Passenger services","N/A","N/A","Jacquemin","Macaron","Verte","Green","Green","Green","N/A","Green","Yellow & Red","Pot motor","Double arm",2,2,4,1.2048192771084338E-2,195,"Yes"]
["2080241963",208024,null,null,8024,null,1963,"Yes","IT",5,"x","Holland","NS","No","Locomotive","Electric","Multipurpose","Co'Co'","N/A","Yes",1952,1994,"III a / III b / IV a / IV b","NS 1200","Series 1200","N/A",1220,"25 units, built between 1949-51 and numbered 1201/25. Focus on mixed-traffic services (regional Passenger and Freight)","N/A","N/A","Big nose","Gevleugeld spoorwiel","Pruisisch blauw","Blue","Blue","Blue","Yellow","Blue","Yellow & Red","Pot motor","Double arm",2,2,6,1.1904761904761904E-2,215,"Yes"]
["2090211963",209021,null,null,9021,null,1963,"Yes","IT",6,"x","Germany","DB","No","Locomotive","Steam","Multipurpose","2-8-0/4-4","N/A","Yes",1938,1965,"III a","Preußische G 8.1","BR-055","DRG-56.2-8",680,"691 units, refurbished between 1934-41 from former G 8.1 locomotives with an additional axis and numbered 056 201/891. Focus on mixed-traffic services (Passenger and Freight)","N/A","N/A","N/A","N/A","N/A","Black","Black","Black","Red","Black","Yellow & Red","Pot motor","N/A",0,0,5,1.3698630136986301E-2,250,"Yes"]
["2030011963",203001,null,null,3001,null,1963,"Yes","IT",6,"x","Italy","FS","No","Locomotive","Steam","Multipurpose","0-8-0/6","N/A","Yes",1919,1959,"II / III a / III b","Preußische G 8.1","Series 460","Preußische G 8.1","N/A","45 units, built between 1913-1919 and numbered 460.001/045. Focus on mixed-traffic services (Passenger and Freight). Received in 1919 as war reparation from Germany","N/A","N/A","N/A","N/A","N/A","Black","Black","Black","N/A","Black","Yellow & Red","Pot motor","N/A",0,0,4,1.3157894736842105E-2,242,"Yes"]
["2020011963",202001,null,null,2001,null,1963,"Yes","IT",7,"x","Germany","DRG","No","Locomotive","Steam","Freight","0-6-0/6","N/A","Yes",1895,1936,"II","Preußische G 3","BR-053.70","DRG-53",936,"2068 units, built between 1877-96. Focus on Freight services","N/A","N/A","N/A","N/A","N/A","Black","Black","Black","N/A","Black","Yellow & Red","Pot motor","N/A",0,0,3,1.3157894736842105E-2,200,"Yes"]
["2016011963",201601,null,null,1601,null,1963,"Yes","IT",7,"x","Germany","DB","No","Locomotive","Steam","Shunter","0-6-0T","N/A","Yes",1928,1964,"III a / III b","BR-080","BR-080","DRG-80",80005,"39 units, built between 1927-29 and numbered 080 001/39. Focus on shunting operation","N/A","N/A","Einheitslok","N/A","N/A","Black","Black","Black","N/A","Black","Yellow & Red","Pot motor","N/A",0,0,3,1.3333333333333334E-2,129,"Replace"]
["2016021963",201602,null,null,1602,null,1963,"Yes","IT",7,"x","Germany","DB","No","Locomotive","Diesel","Multipurpose","C","N/A","Yes",1957,1998,"III b","BR-260","BR-260","V-60","V60 155","942 units, built between 1995-63 and numbered V60.001/1241 (with gaps). Focus on mixed-traffic services (regional Passenger and Freight)","N/A","N/A","N/A","N/A","DB-Rot 1","Red","Grey","Red","N/A","Red","Yellow & Red","Pot motor","N/A",0,0,3,1.1111111111111112E-2,115,"Replace"]
["1010011963",101001,null,null,1001,null,1963,"Yes","IT",8,"x","France","SNCF","DMU","Passenger","Set","Express service","B'2'+2'2'+2'B'","Starter","Yes",1956,2006,"III b / IV a","Rame à Grand Parcours","TEE Parsifal","RGP 1","N/A","3-unit train comprised of DMU Motor #1003, Intermediate #1004 and Driving trailer #1005","Trans Europ Express","TEE","N/A","N/A","TEE","Cream","Red","Red","Cream","Bicolor","Cream","Pot motor","N/A",0,2,4,1.0526315789473684E-2,794,"Yes"]
["3091001963",309100,null,null,9100,null,1963,"Yes","IT",9,"x","Italy","FS","No","Passenger","With central corridor","2° class","2'2'","N/A","Yes",1927,1985,"III a / III b","FS 1921","Abz","N/A",14520,"170 units, built between 1926-27 and numbered originally entre 50.500/670. Erroneously numbered by LIMA. Design corresponds to 1°/2° Class coach while published as 2° Class","N/A","N/A","N/A","N/A","Castano-Isabella ","Brown","Grey","Brown","Cream","Brown","Yellow & Red","N/A","N/A",0,2,4,1.0752688172043012E-2,240,"Yes"]
["3091011963",309101,null,null,9101,null,1963,"Yes","IT",9,"x","Italy","FS","No","Passenger","With compartment","1° class","2'2'","N/A","Yes",1947,1991,"III a / III b","FS 1946","Az","N/A",24357,"55 units, built between 1946-53 and numbered Az 13010/56. Erroneously numbered by LIMA. Number corresponds to 2° Class coach but not 1° Class","N/A","N/A","N/A","N/A","Castano-Isabella ","Brown","Grey","Brown","Cream","Brown","Yellow & Red","N/A","N/A",0,2,4,1.0752688172043012E-2,240,"Yes"]
["3091021963",309102,null,null,9102,null,1963,"Yes","IT",9,"x","Italy","FS","No","Passenger","With compartment","1° class","2'2'","N/A","Yes",1947,1991,"III a / III b","FS 1946","Az","N/A",24357,"55 units, built between 1946-53 and numbered Az 13010/56. Erroneously numbered by LIMA. Number corresponds to 2° Class coach but not 1° Class","N/A","Treno Azzurro","N/A","N/A","Celeste-Blu","Blue","Grey","Blue","Light Blue","Blue","Yellow & Red","N/A","N/A",0,2,4,1.0752688172043012E-2,240,"Yes"]
["3091031963",309103,null,null,9103,null,1963,"Yes","IT",10,"x","Germany","DB","No","Passenger","With compartment","1° class","2'2'","N/A","No",1947,1991,"III b","FS 1946","A","N/A",14208,"Never existed in any official roster. Based on an Italian Series FS 1946 coach design","N/A","N/A","N/A","N/A","DB-Kobaltblau","Blue","Grey","Blue","N/A","Blue","Yellow & Red","N/A","N/A",0,2,4,1.0752688172043012E-2,240,"Yes"]
["3091041963",309104,null,null,9104,null,1963,"Yes","IT",10,"x","Germany","DB","No","Passenger","With compartment","2° class","2'2'","N/A","No",1947,1991,"III b","FS 1946","B","N/A",14208,"Never existed in any official roster. Based on an Italian Series FS 1946 coach design","N/A","N/A","N/A","N/A","DB-Grün","Green","Grey","Green","N/A","Green","Yellow & Red","N/A","N/A",0,2,4,1.0752688172043012E-2,240,"Yes"]
["3091051963",309105,null,null,9105,null,1963,"Yes","IT",10,"x","Denmark","D.S.B.","No","Passenger","With compartment","2° class","2'2'","N/A","No",1947,1991,"III a / III b","FS 1946","B","N/A",1149,"Never existed in any official roster. Based on an Italian Series FS 1946 coach design","N/A","N/A","N/A","Classic Vingehjul","Rød ","Red","Grey","Red","N/A","Red","Yellow & Red","N/A","N/A",0,2,4,1.0752688172043012E-2,240,"Yes"]
["3091061963",309106,null,null,9106,null,1963,"Yes","IT",11,"x","Switzerland","SBB/CFF","No","Passenger","With compartment","2° class","2'2'","N/A","No",1947,1991,"III a / III b","FS 1946","B","N/A",6601,"Never existed in any official roster. Based on an Italian Series FS 1946 coach design","N/A","N/A","N/A","Wappen","SBB-Grün","Green","Grey","Green","N/A","Green","Yellow & Red","N/A","N/A",0,2,4,1.0752688172043012E-2,240,"Yes"]
["3092011963",309201,null,null,9201,null,1963,"Yes","IT",11,"x","Belgium","CIWL","No","Passenger","Parlor","1° class","2'2'","N/A","Yes",1926,1971,"II / III a / III b","Pullman","Pullman","N/A",9042,"211 units, built between 1926-30","N/A","N/A","N/A","CIWL","CIWL","Blue","Grey","Blue","White","Blue","Yellow & Red","N/A","N/A",0,2,4,1.1111111111111112E-2,240,"Yes"]
["3092021963",309202,null,null,9202,null,1963,"Yes","IT",11,"x","Belgium","CIWL","No","Passenger","With central corridor","Restaurant","2'2'","N/A","Yes",1926,1971,"II / III a / III b","Pullman","Pullman","N/A",4730,"Former 1° Class coach refurbished to dining car","N/A","N/A","N/A","CIWL","CIWL","Blue","Grey","Blue","Yellow","Blue","Yellow & Red","N/A","N/A",0,2,4,1.1111111111111112E-2,240,"Yes"]
["3093011963",309301,null,null,9301,null,1963,"Yes","IT",12,"x","Belgium","CIWL","No","Passenger","Baggage","Baggage","2'2'","N/A","Yes",1927,1984,"II / III a / III b","Nord","Dd4","N/A",25140,"30 units, built in 1927. With \"hunch\" type panoramic dome coach","N/A","N/A","N/A","CIWL","CIWL","Blue","Grey","Blue","Yellow","Blue","Yellow & Red","N/A","N/A",0,2,4,1.1111111111111112E-2,240,"Yes"]
["3091081963",309108,null,null,9108,null,1963,"Yes","IT",12,"x","Belgium","S.N.C.B.","No","Passenger","With central corridor","1° & 2° class","2'2'","N/A","Yes",1960,2005,"III b","M2","AB","N/A",43291,"104 units, built between 1958-60 and numbered originally 43201/304 (after 1966 50 88 39-38 601/704)","N/A","N/A","N/A","N/A","Groen","Green","Grey","Green","N/A","Green","Yellow & Red","N/A","N/A",0,2,4,1.0526315789473684E-2,270,"Yes"]
["3091091963",309109,null,null,9109,null,1963,"Yes","IT",12,"x","Holland","NS","No","Passenger","With central corridor","1° class","2'2'","N/A","Yes",1955,1988,"III a / III b","Plan E","A","N/A",6501,"46 units, built between 1954-55 and numbered originally 6501/46 (after 1968 del 50 84 18-37 201/246)","N/A","N/A","N/A","N/A","Pruisisch blauw","Blue","Grey","Blue","Yellow","Blue","Yellow & Red","N/A","N/A",0,2,4,1.0526315789473684E-2,270,"Yes"]
["3093021963",309302,null,null,9302,null,1963,"Yes","IT",13,"x","Italy","FS","No","Passenger","Postal","Baggage","2'2'","N/A","Yes",1957,1990,"III b / IV a","FS 1946","Uz","N/A",28878,"110 units, built between 1946-47 and numbered 83.000/109. Erroneously numbered by LIMA","N/A","N/A","N/A","N/A","N/A","Brown","Grey","Brown","Cream","Brown","Yellow & Red","N/A","N/A",0,2,4,1.020408163265306E-2,240,"Yes"]
["3090231963",309023,null,null,9023,null,1963,"Yes","IT",13,"x","Belgium","CIWL","No","Passenger","With compartment","Sleeper","2'2'","N/A","Yes",1951,1992,"III a / III b","UIC-X","WLABm 174","WLAB4ümg-59","N/A","77 units, built between 1959-64 and numbered 33201/77. Never existed in any official roster. LIMA invention","N/A","N/A","N/A","CIWL","CIWL","Blue","Grey","Blue","Yellow","Blue","Yellow & Red","N/A","N/A",0,2,4,7.6335877862595417E-3,202,"Replace"]
["3090221963",309022,null,null,9022,null,1963,"Yes","IT",13,"x","Italy","FS","No","Passenger","With central corridor","1° class","2'2'","N/A","Yes",1922,1985,"III a / III b","FS 1921","Az","N/A",29052,"100 units, built between 1927-28 and numbered originally 10000/099. Erroneously numbered by LIMA. Design belongs to 1° class coach whilst numbering to 2° class type","N/A","N/A","N/A","N/A","Castano-Isabella ","Brown","Grey","Brown","Cream","Brown","Yellow & Red","N/A","N/A",0,2,4,8.771929824561403E-3,195,"Yes"]
["3091071963",309107,null,null,9107,null,1963,"Yes","IT",13,"x","France","SNCF","No","Passenger","With compartment","1° class","2'2'","N/A","Yes",1956,1994,"III b / IV a / IV b","DEV Inox Mistral","A8","Series 1956","N/A","22 units, built in 1956 and numbered 61 87 18-89 826/847","N/A","Le Mistral","N/A","N/A","Inox","Grey","Grey","Grey","N/A","Grey","Yellow & Red","N/A","N/A",0,2,4,1.1111111111111112E-2,260,"Yes"]
["3020021963",302002,null,null,2002,null,1963,"Yes","IT",14,"x","Italy","FS","No","Passenger","With compartment","2° class","2'2'","N/A","No",1947,1991,"III a / III b / IV a","FS 1946","Bz","N/A",43577,"140 units, built between 1947-49 and numbered 32010/149. Erroneously numbered by LIMA","N/A","N/A","N/A","N/A","Castano-Isabella ","Brown","Grey","Brown","Cream","Brown","Yellow & Red","N/A","N/A",0,2,4,6.7567567567567571E-3,150,"Yes"]
["302002B1963",302002,"B",null,"2002B",null,1963,"Yes","IT",14,"x","Italy","FS","No","Passenger","Baggage","Baggage","2'2'","N/A","Yes",1907,1975,"I / II / III a / III b","FS 1907","DUIz","N/A","N/A","125 units, numbered DUIz 94035/099 & 94200/259","N/A","N/A","N/A","N/A","Castano-Isabella ","Brown","Grey","Brown","Cream","Brown","Yellow & Red","N/A","N/A",0,2,4,9.8039215686274508E-3,150,"Replace"]
["3090251963",309025,null,null,9025,null,1963,"Yes","IT",14,"x","Germany","DB","No","Passenger","With compartment","1° class","2'2'","N/A","No",1951,1992,"III b","UIC-X","WLABm 174","WLAB4ümg-59","N/A","77 units, built between 1959-64 and numbered 33201/77. Never existed in any official roster. LIMA invention","N/A","N/A","N/A","Keks","DB-Grün","Green","Grey","Green","N/A","Green","Yellow & Red","N/A","N/A",0,2,4,7.6335877862595417E-3,202,"Replace"]
["3090261963",309026,null,null,9026,null,1963,"Yes","IT",14,"x","Germany","DSG","No","Passenger","With compartment","Sleeper","2'2'","N/A","Yes",1960,1985,"III b","UIC-X","WLABm 174","WLAB4ümg-59",24357,"77 units, built between 1959-64 and numbered 33201/77. Sold in 1973 to DB. Erroneously numbered by LIMA","DSG","N/A","N/A","Gefriergans","DSG-Rot","Red","Grey","Red","N/A","Red","Yellow & Red","N/A","N/A",0,2,4,7.6335877862595417E-3,202,"Yes"]
["3090271963",309027,null,null,9027,null,1963,"Yes","IT",14,"x","France","SNCF","No","Passenger","With compartment","1° class","2'2'","N/A","No",1951,1992,"III a / III b","DEV AO Courte","A8","Series 1950",20045,"37 units, built between 1950-52. Numbering system starting with 2 corresponds to Northern lines. Item by LIMA has 10 windows while real 1° Class coach has 8 instead. LIMA used same tooling kit for articles #9025 and #9027 ","N/A","N/A","N/A","N/A","Verte","Green","Grey","Green","N/A","Green","Yellow & Red","N/A","N/A",0,2,4,8.6956521739130436E-3,202,"Yes"]
["3090301963",309030,null,null,9030,null,1963,"Yes","IT",15,"x","Italy","FS","No","Freight","Tank","With ladder","2'2'","N/A","Yes",1958,2004,"III b / IV a / IV b / V a / V b","Z-type","Zacs 33","Uah","N/A","Built since the late 1950's","Esso","N/A","N/A","N/A","N/A","Grey","N/A","Black","N/A","N/A","Yellow & Red","N/A","N/A",0,2,4,"N/A",160,"Replace"]
["3090311963",309031,null,null,9031,null,1963,"Yes","IT",15,"x","Italy","FS","No","Freight","Tank","With ladder","2'2'","N/A","Yes",1958,2004,"III b / IV a / IV b / V a / V b","Z-type","Zacs 33","Uah","N/A","Built since the late 1950's","Shell","N/A","N/A","N/A","N/A","Yellow","N/A","Black","N/A","N/A","Yellow & Red","N/A","N/A",0,2,4,"N/A",160,"Replace"]
[{"$f":"+B197&C197&F197&G197","v":"3090321963"},309032,null,null,9032,null,1963,"Yes","IT",15,"x","Italy","FS","No","Freight","Tank","With ladder","2'2'","N/A","Yes",1958,2004,"III b / IV a / IV b / V a / V b","Z-type","Zacs 33","Uah","N/A","Built since the late 1950's","Mobil","N/A","N/A","N/A","N/A","Red","N/A","Black","N/A","N/A","Yellow & Red","N/A","N/A",0,2,4,"N/A",160,"Replace"]
["3090331963",309033,null,null,9033,null,1963,"Yes","IT",15,"x","Italy","FS","No","Freight","Tank","With ladder","2'2'","N/A","Yes",1958,2004,"III b / IV a / IV b / V a / V b","Z-type","Zacs 33","Uah","N/A","Built since the late 1950's","BP","N/A","N/A","N/A","N/A","Green","N/A","Black","N/A","N/A","Yellow & Red","N/A","N/A",0,2,4,"N/A",160,"Replace"]
["3090341963",309034,null,null,9034,null,1963,"Yes","IT",15,"x","Italy","FS","No","Freight","Tank","With ladder","2'2'","N/A","Yes",1958,2004,"III b / IV a / IV b / V a / V b","Z-type","Zacs 33","Uah","N/A","Built since the late 1950's","Agip","N/A","N/A","N/A","N/A","Grey","N/A","Black","N/A","N/A","Yellow & Red","N/A","N/A",0,2,4,"N/A",160,"Replace"]
["3031011963",303101,null,null,3101,null,1963,"Yes","IT",15,"x","Norway","N.S.B.","No","Freight","Closed","With sliding door",2,"N/A","Yes",1924,1973,"III a / III b","G-type","Gbkl 238","Gl Dresden","G4 41169","Built since the early 1920's","N/A","N/A","N/A","N/A","N/A","Brown","Grey","Black","N/A","Brown","Yellow & Red","N/A","N/A",0,0,2,1.0752688172043012E-2,130,"Yes"]
["3031021963",303102,null,null,3102,null,1963,"Yes","IT",15,"x","Italy","FS","No","Freight","Closed","With sliding door",2,"N/A","Yes",1930,1976,"II / III a / III b / IV a","G-type","Gbkl 238","Gl Dresden","F 1160106","Built since the early 1920's","N/A","N/A","N/A","N/A","N/A","Brown","Grey","Black","N/A","Brown","Yellow & Red","N/A","N/A",0,0,2,1.0752688172043012E-2,130,"Yes"]
["3020101963",302010,null,null,2010,null,1963,"Yes","IT",16,"x","Italy","FS","No","Freight","Flat","With tank",2,"N/A","Yes",1959,1995,"III b / IV a / IV b","K-type","Klm 505","Xlm 57","N/A","Built in the late 1950's. Manufactured by LIMA until 1971","N/A","N/A","N/A","N/A","N/A","Grey","N/A","Brown","N/A","N/A","Yellow & Red","N/A","N/A",0,0,2,0.01,105,"Yes"]
["3020111963",302011,null,null,2011,null,1963,"Yes","IT",16,"x","Italy","FS","No","Freight","Flat","With jeeps",2,"N/A","Yes",1959,1995,"III b / IV a / IV b","K-type","Klm 505","Xlm 57","N/A","Built in the late 1950's. Manufactured by LIMA until 1971","N/A","N/A","N/A","N/A","N/A","Grey","N/A","Brown","N/A","N/A","Yellow & Red","N/A","N/A",0,0,2,0.01,105,"Yes"]
["3020121963",302012,null,null,2012,null,1963,"Yes","IT",16,"x","Italy","FS","No","Freight","Flat","With machine guns",2,"N/A","Yes",1959,1995,"III b / IV a / IV b","K-type","Klm 505","Xlm 57","N/A","Built in the late 1950's. Manufactured by LIMA until 1971","N/A","N/A","N/A","N/A","N/A","Grey","N/A","Brown","N/A","N/A","Yellow & Red","N/A","N/A",0,0,2,0.01,105,"Yes"]
["3020131963",302013,null,null,2013,null,1963,"Yes","IT",16,"x","Italy","FS","No","Freight","Flat","With boats",2,"N/A","Yes",1959,1995,"III b / IV a / IV b","K-type","Klm 505","Xlm 57","N/A","Built in the late 1950's. Manufactured by LIMA until 1971","N/A","N/A","N/A","N/A","N/A","Grey","N/A","Brown","N/A","N/A","Yellow & Red","N/A","N/A",0,0,2,0.01,105,"Yes"]
["3020031963",302003,null,null,2003,null,1963,"Yes","IT",16,"x","Italy","FS","No","Freight","Flat","With drums",2,"N/A","Yes",1959,1995,"III b / IV a / IV b","K-type","Klm 505","Xlm 57","N/A","Built in the late 1950's. Manufactured by LIMA until 1971","N/A","N/A","N/A","N/A","N/A","Grey","N/A","Brown","N/A","N/A","Yellow & Red","N/A","N/A",0,0,2,0.01,105,"Yes"]
["3020041963",302004,null,null,2004,null,1963,"Yes","IT",16,"x","Italy","FS","No","Freight","Flat","With transformer",2,"N/A","Yes",1959,1995,"III b / IV a / IV b","K-type","Klm 505","Xlm 57","N/A","Built in the late 1950's. Manufactured by LIMA until 1971","N/A","N/A","N/A","N/A","N/A","Grey","N/A","Brown","N/A","N/A","Yellow & Red","N/A","N/A",0,0,2,0.01,105,"Replace"]
["3020051963",302005,null,null,2005,null,1963,"Yes","IT",16,"x","Italy","FS","No","Freight","Flat","With 1 car",2,"N/A","Yes",1959,1995,"III b / IV a / IV b","K-type","Klm 505","Xlm 57","N/A","Built in the late 1950's. Manufactured by LIMA until 1971","N/A","N/A","N/A","N/A","N/A","Grey","N/A","Brown","N/A","N/A","Yellow & Red","N/A","N/A",0,0,2,0.01,105,"Replace"]
["3027011963",302701,null,null,2701,null,1963,"Yes","IT",17,"x","Italy","FS","No","Freight","Tank","With ladder",2,"N/A","Yes",1957,2005,"III b / IV a / IV b / V a / V b","Z-type","Zcs 23","Uh","N/A","Built since the late 1950's","Esso","N/A","N/A","N/A","N/A","Grey","N/A","Black","N/A","N/A","Yellow & Red","N/A","N/A",0,0,2,"N/A",105,"Yes"]
["3027021963",302702,null,null,2702,null,1963,"Yes","IT",17,"x","Italy","FS","No","Freight","Tank","With ladder",2,"N/A","Yes",1957,2005,"III b / IV a / IV b / V a / V b","Z-type","Zcs 23","Uh","N/A","Built since the late 1950's","Shell","N/A","N/A","N/A","N/A","Yellow","N/A","Black","N/A","N/A","Yellow & Red","N/A","N/A",0,0,2,"N/A",105,"Yes"]
["3027031963",302703,null,null,2703,null,1963,"Yes","IT",17,"x","Italy","FS","No","Freight","Tank","With ladder",2,"N/A","Yes",1957,2005,"III b / IV a / IV b / V a / V b","Z-type","Zcs 23","Uh","N/A","Built since the late 1950's","Agip","N/A","N/A","N/A","N/A","Grey","N/A","Black","N/A","N/A","Yellow & Red","N/A","N/A",0,0,2,"N/A",105,"Replace"]
["3027041963",302704,null,null,2704,null,1963,"Yes","IT",17,"x","Italy","FS","No","Freight","Tank","With ladder",2,"N/A","Yes",1957,2005,"III b / IV a / IV b / V a / V b","Z-type","Zcs 23","Uh","N/A","Built since the late 1950's","BP","N/A","N/A","N/A","N/A","Green","N/A","Black","N/A","N/A","Yellow & Red","N/A","N/A",0,0,2,"N/A",105,"Yes"]
["3020091963",302009,null,null,2009,null,1963,"Yes","IT",17,"x","Italy","FS","No","Freight","Open","Empty",2,"N/A","Yes",1956,2005,"III b / IV a / IV b / V a / V b","E-type","Es 025","Tipo 2","N/A","Built in the mid 1950's. Manufactured by LIMA until 1971","N/A","N/A","N/A","N/A","N/A","Brown","N/A","Black","N/A","N/A","Yellow & Red","N/A","N/A",0,0,2,1.0526315789473684E-2,105,"Replace"]
["302009C1963",302009,"C",null,"2009C",null,1963,"Yes","IT",17,"x","Italy","FS","No","Freight","Open","With cargo",2,"N/A","Yes",1956,2005,"III b / IV a / IV b / V a / V b","E-type","Es 025","Tipo 2","N/A","Built in the mid 1950's. With coal load","N/A","N/A","N/A","N/A","N/A","Brown","N/A","Black","N/A","N/A","Yellow & Red","N/A","N/A",0,0,2,1.0526315789473684E-2,105,"Replace"]
["302009SV1963",302009,"SV",null,"2009SV",null,1963,"Yes","IT",17,"x","Italy","SVF","No","Freight","Open","Empty",2,"N/A","Yes",1956,2005,"III b / IV a / IV b / V a / V b","E-type","Es 025","Tipo 2","N/A","Built in the mid 1950's. Manufactured by LIMA until 1971","N/A","N/A","N/A","N/A","N/A","Green","N/A","Black","N/A","N/A","Yellow & Red","N/A","N/A",0,0,2,1.0526315789473684E-2,105,"Yes"]
["3090351963",309035,null,null,9035,null,1963,"Yes","IT",18,"x","Italy","FS","No","Freight","Flat","With logs","2'2'","N/A","Yes",1957,1998,"III b / IV a / IV b","R-type","Rs 680","SSlmas 53","N/A","5550 units, built between 1955-66","N/A","N/A","N/A","N/A","N/A","Brown","N/A","Black","N/A","N/A","Yellow & Red","N/A","N/A",0,2,4,8.0000000000000002E-3,160,"Yes"]
["3090361963",309036,null,null,9036,null,1963,"Yes","IT",18,"x","Italy","FS","No","Freight","Flat","With wooden planks","2'2'","N/A","Yes",1957,1998,"III b / IV a / IV b","R-type","Rs 680","SSlmas 53","N/A","5550 units, built between 1955-66","N/A","N/A","N/A","N/A","N/A","Brown","N/A","Black","N/A","N/A","Yellow & Red","N/A","N/A",0,2,4,8.0000000000000002E-3,160,"Yes"]
["3090371963",309037,null,null,9037,null,1963,"Yes","IT",18,"x","Italy","FS","No","Freight","Flat","With pipes","2'2'","N/A","Yes",1957,1998,"III b / IV a / IV b","R-type","Rs 680","SSlmas 53","N/A","5550 units, built between 1955-66","N/A","N/A","N/A","N/A","N/A","Red","N/A","Black","N/A","N/A","Yellow & Red","N/A","N/A",0,2,4,8.0000000000000002E-3,160,"Yes"]
["3020061963",302006,null,null,2006,null,1963,"Yes","IT",18,"x","Italy","FS","No","Freight","Flat","With wooden planks",2,"N/A","Yes",1959,1995,"III b / IV a / IV b","K-type","Klm 505","Xlm 57","N/A","Built in the late 1950's. Manufactured by LIMA until 1971","N/A","N/A","N/A","N/A","N/A","Brown","N/A","Brown","N/A","N/A","Yellow & Red","N/A","N/A",0,0,2,0.01,105,"Yes"]
["3020071963",302007,null,null,2007,null,1963,"Yes","IT",18,"x","Italy","FS","No","Freight","Flat","Empty",2,"N/A","Yes",1959,1995,"III b / IV a / IV b","K-type","Klm 505","Xlm 57","N/A","Built in the late 1950's. Manufactured by LIMA until 1971","N/A","N/A","N/A","N/A","N/A","Brown","N/A","Brown","N/A","N/A","Yellow & Red","N/A","N/A",0,0,2,0.01,105,"Replace"]
["302007B1963",302007,"B",null,"2007B",null,1963,"Yes","IT",18,"x","Italy","FS","No","Freight","Flat","Empty and with brakeman's cabin",2,"N/A","Yes",1925,1970,"III a / III b / IV a","K-type","O 10","P con garitta","N/A","Built in the mid 1920's","N/A","N/A","N/A","N/A","N/A","Brown","N/A","Brown","N/A","N/A","Yellow & Red","N/A","N/A",0,0,2,0.01,100,"Yes"]
["3020081963",302008,null,null,2008,null,1963,"Yes","IT",18,"x","Italy","FS","No","Freight","Closed","N/A",2,"N/A","Yes",1958,1995,"III a / III b / IV a / IV b / V a","G-type","Gs 210","Gmms 40","N/A","4760 units, built between 1957-61. Manufactured by LIMA until 1971","N/A","N/A","N/A","N/A","N/A","Brown","N/A","Black","N/A","N/A","Yellow & Red","N/A","N/A",0,0,2,9.5238095238095247E-3,105,"Yes"]
["302008A1963",302008,"A",null,"2008A",null,1963,"Yes","IT",17,"x","Italy","FS","No","Freight","Closed","N/A",2,"N/A","Yes",1958,1995,"III a / III b / IV a / IV b / V a","G-type","Gs 210","Gmms 40","N/A","4760 units, built between 1957-61. Manufactured by LIMA until 1971","Derrate Alimentari","N/A","N/A","N/A","N/A","White","Grey","Black","Red","White","Yellow & Red","N/A","N/A",0,0,2,9.5238095238095247E-3,105,"Yes"]
["302008B1963",302008,"B",null,"2008B",null,1963,"Yes","IT",18,"x","Italy","FS","No","Freight","Closed","N/A",2,"N/A","Yes",1956,1995,"III a / III b / IV a / IV b / V a","G-type","Ibblps 393","Tnohs 50","N/A","175 units, refurbished between 1955-57 from former Glmhs 50 wagons. For transport of Bananas. Manufactured by LIMA until 1971","Banane","N/A","N/A","N/A","N/A","Yellow","Grey","Black","N/A","Yellow","Yellow & Red","N/A","N/A",0,0,2,9.5238095238095247E-3,105,"Yes"]
["2080231964-65",208023,null,null,8023,null,"1964-65","Yes","IT",6,"x","Italy","FS","No","Locomotive","Diesel","Multipurpose","B'B'","N/A","Yes",1959,2005,"III b / IV a","D-342","D-342.4","N/A","D342 4005","17 units, built between 1957-59 and numbered D.342.4001. Focus on mixed-traffic services (Passenger and Freight)","N/A","N/A","N/A","Ansaldo","Castano-Isabella ","Brown","Brown","Red","White","Brown","Grey & White","Pot motor","N/A",0,2,4,1.2195121951219513E-2,185,"Yes"]
["2080221964-65",208022,null,null,8022,null,"1964-65","Yes","IT",6,"x","Italy","FS","No","Locomotive","Electric","Multipurpose","Bo'Bo'","N/A","Yes",1951,2001,"III a / III b / IV a / IV b","E-424","E-424","N/A","E424 143","158 units, built between 1943-51 and numbered E.424.001/158. Focus on mixed-traffic services (Passenger and Freight)","N/A","N/A","N/A","N/A","Castano-Isabella ","Brown","Brown","Brown","N/A","Brown","Grey & White","Pot motor","Double arm",2,2,4,1.1235955056179775E-2,174,"Yes"]
["2080251964-65",208025,null,null,8025,null,"1964-65","Yes","IT",7,"x","Belgium","S.N.C.B.","No","Locomotive","Electric","Multipurpose","Bo'Bo'","N/A","Yes",1956,2012,"IV a / IV b","Series 23","HLE 23","Series 23",2371,"83 units, built between 1955-57 and numbered originally 122.001/083 (after 1971 2301/83). Focus on mixed-traffic services (regional Passenger and Freight)","N/A","N/A","N/A","N/A","Groen","Green","Grey","Grey","Grey","Green","Grey & White","Pot motor","Double arm",2,2,4,1.1904761904761904E-2,215,"Yes"]
["2080211964-65",208021,null,null,8021,null,"1964-65","Yes","IT",7,"x","France","SNCF","No","Locomotive","Electric","Express service","Bo'Bo'","N/A","Yes",1958,2003,"III b / IV a","BB Jacquemin","BB-9200","N/A",9210,"90 units, built between 1957-63 and numbered 9201/90. Focus on express Passenger services","N/A","N/A","Jacquemin","Macaron","Verte","Green","Green","Green","N/A","Green","Grey & White","Pot motor","Double arm",2,2,4,1.1494252873563218E-2,185,"Yes"]
["2080241964-65",208024,null,null,8024,null,"1964-65","Yes","IT",8,"x","Holland","NS","No","Locomotive","Electric","Multipurpose","Co'Co'","N/A","Yes",1952,1994,"III a / III b / IV a / IV b","NS 1200","Series 1200","N/A",1220,"25 units, built between 1949-51 and numbered 1201/25. Focus on mixed-traffic services (regional Passenger and Freight)","N/A","N/A","Big nose","Gevleugeld spoorwiel","Pruisisch blauw","Blue","Blue","Blue","Yellow","Blue","Grey & White","Pot motor","Double arm",2,2,6,1.1904761904761904E-2,215,"Yes"]
["2080261964-65",208026,null,null,8026,null,"1964-65","Yes","IT",9,"x","Italy","FS","No","Locomotive","Electric","Express service","Bo'Bo'Bo'","N/A","Yes",1964,2005,"III b / IV a / IV b / V a","E-646","E-646","N/A","E646 060","198 units, built between 1961-67 and numbered E.646.021/210. Focus on Passenger services","N/A","N/A","N/A","E-646 2° series","Grigio nebbia-Verde magnolia","White","White","Green","Green","White","Grey & White","Pot motor","Double arm",2,3,6,1.1494252873563218E-2,210,"Yes"]
["1010011964-65",101001,null,null,1001,null,"1964-65","Yes","IT",10,"x","France","SNCF","DMU","Passenger","Set","Express service","B'2'+2'2'+2'B'","Starter","Yes",1956,2006,"III b / IV a","Rame à Grand Parcours","TEE Parsifal","RGP 1","N/A","3-unit set comprised of DMU Motor #1003, Intermediate #1004, Driving trailer #1005, track and battery power pack","Trans Europ Express","TEE","N/A","N/A","TEE","Cream","Red","Red","Cream","Bicolor","Cream","Pot motor","N/A",0,2,4,1.0526315789473684E-2,794,"Yes"]
["1010021964-65",101002,null,null,1002,null,"1964-65","Yes","IT",10,"x","France","SNCF","DMU","Passenger","Set","Express service","B'2'+2'2'+2'B'","Starter","Yes",1956,2006,"III b / IV a","Rame à Grand Parcours","TEE Parsifal","RGP 1","N/A","3-unit train comprised of DMU Motor #1003, Intermediate #1004 and Driving trailer #1005","Trans Europ Express","TEE","N/A","N/A","TEE","Cream","Red","Red","Cream","Bicolor","Cream","Pot motor","N/A",0,2,4,1.0526315789473684E-2,794,"Yes"]
["201003L1964-65",201003,"L",null,"1003L",null,"1964-65","Yes","IT",11,"x","France","SNCF","DMU","Locomotive","Diesel","1° class","B'2'","N/A","Yes",1956,2006,"III b / IV a","Rame à Grand Parcours","X-2770","RGP 1","N/A","Motor of DMU RGP 1 with 1° Class","N/A","TEE","N/A","N/A","TEE","Cream","Red","Red","Cream","Bicolor","Grey & White","Pot motor","N/A",0,2,4,1.0526315789473684E-2,277,"Yes"]
["2010041964-65",201004,null,null,1004,null,"1964-65","Yes","IT",10,"x","France","SNCF","DMU","Passenger","With central corridor","1° class","2'2'","N/A","Yes",1956,2006,"III b / IV a","Rame à Grand Parcours","XR-7700","RGP 1","N/A","Intermediate of DMU RGP 1","Trans Europ Express","TEE","N/A","N/A","TEE","Cream","Red","Red","Cream","Bicolor","Grey & White","N/A","N/A",0,2,4,1.0526315789473684E-2,240,"Yes"]
["2010051964-65",201005,null,null,1005,null,"1964-65","Yes","IT",10,"x","France","SNCF","DMU","Locomotive","Dummy","1° class","B'2'","N/A","Yes",1956,2006,"III b / IV a","Rame à Grand Parcours","X-2770","RGP 1","N/A","Driving trailer of DMU RGP 1 with 1° Class","N/A","TEE","N/A","N/A","TEE","Cream","Red","Red","Cream","Bicolor","Grey & White","N/A","N/A",0,2,4,1.0526315789473684E-2,277,"Yes"]
["2016011964-65",201601,null,null,1601,null,"1964-65","Yes","IT",12,"x","Germany","DB","No","Locomotive","Steam","Shunter","0-6-0T","N/A","Yes",1928,1964,"III a / III b","BR-080","BR-080","DRG-80",80005,"39 units, built between 1927-29 and numbered 080 001/39. Focus on shunting operation","N/A","N/A","Einheitslok","N/A","N/A","Black","Black","Black","N/A","Black","Grey & White","Pot motor","N/A",0,0,3,1.3333333333333334E-2,129,"Replace"]
["2030011964-65",203001,null,null,3001,null,"1964-65","Yes","IT",12,"x","Italy","FS","No","Locomotive","Steam","Multipurpose","0-8-0/6","N/A","Yes",1919,1959,"II / III a / III b","Preußische G 8.1","Series 460","Preußische G 8.1","N/A","45 units, built between 1913-1919 and numbered 460.001/045. Focus on mixed-traffic services (Passenger and Freight). Received in 1919 as war reparation from Germany","N/A","N/A","N/A","N/A","N/A","Black","Black","Black","N/A","Black","Grey & White","Pot motor","N/A",0,0,4,1.3157894736842105E-2,242,"Yes"]
["2090211964-65",209021,null,null,9021,null,"1964-65","Yes","IT",13,"x","Germany","DB","No","Locomotive","Steam","Multipurpose","2-8-0/4-4","N/A","Yes",1938,1965,"III a","Preußische G 8.1","BR-055","DRG-56.2-8",680,"691 units, refurbished between 1934-41 from former G 8.1 locomotives with an additional axis and numbered 056 201/891. Focus on mixed-traffic services (Passenger and Freight)","N/A","N/A","N/A","N/A","N/A","Black","Black","Black","Red","Black","Grey & White","Pot motor","N/A",0,0,5,1.3698630136986301E-2,250,"Yes"]
["2020011964-65",202001,null,null,2001,null,"1964-65","Yes","IT",13,"x","Germany","DRG","No","Locomotive","Steam","Freight","0-6-0/6","N/A","Yes",1895,1936,"II","Preußische G 3","BR-053.70","DRG-53",936,"2068 units, built between 1877-96. Focus on Freight services","N/A","N/A","N/A","N/A","N/A","Black","Black","Black","N/A","Black","Grey & White","Pot motor","N/A",0,0,3,1.3157894736842105E-2,200,"Yes"]
["3091031964-65",309103,null,null,9103,null,"1964-65","Yes","IT",14,"x","Germany","DB","No","Passenger","With compartment","1° class","2'2'","N/A","No",1947,1991,"III b","FS 1946","A","N/A",14208,"Never existed in any official roster. Based on an Italian Series FS 1946 coach design","N/A","N/A","N/A","N/A","DB-Kobaltblau","Blue","Grey","Blue","N/A","Blue","Grey & White","N/A","N/A",0,2,4,9.8039215686274508E-3,220,"Yes"]
["3091041964-65",309104,null,null,9104,null,"1964-65","Yes","IT",14,"x","Germany","DB","No","Passenger","With compartment","2° class","2'2'","N/A","No",1947,1991,"III b","FS 1946","B","N/A",14208,"Never existed in any official roster. Based on an Italian Series FS 1946 coach design","N/A","N/A","N/A","N/A","DB-Grün","Green","Grey","Green","N/A","Green","Grey & White","N/A","N/A",0,2,4,9.8039215686274508E-3,220,"Yes"]
["3091001964-65",309100,null,null,9100,null,"1964-65","Yes","IT",15,"x","Italy","FS","No","Passenger","With central corridor","2° class","2'2'","N/A","Yes",1927,1985,"III a / III b","FS 1921","Abz","N/A",14520,"170 units, built between 1926-27 and numbered originally entre 50.500/670. Erroneously numbered by LIMA. Design corresponds to 1°/2° Class coach while published as 2° Class","N/A","N/A","N/A","N/A","Castano-Isabella ","Brown","Grey","Brown","Cream","Brown","Grey & White","N/A","N/A",0,2,4,1.0752688172043012E-2,240,"Yes"]
["3091011964-65",309101,null,null,9101,null,"1964-65","Yes","IT",15,"x","Italy","FS","No","Passenger","With compartment","1° class","2'2'","N/A","Yes",1947,1991,"III a / III b","FS 1946","Az","N/A",24357,"55 units, built between 1946-53 and numbered Az 13010/56. Erroneously numbered by LIMA. Number corresponds to 2° Class coach but not 1° Class","N/A","N/A","N/A","N/A","Castano-Isabella ","Brown","Grey","Brown","Cream","Brown","Grey & White","N/A","N/A",0,2,4,9.8039215686274508E-3,220,"Yes"]
["3091021964-65",309102,null,null,9102,null,"1964-65","Yes","IT",15,"x","Italy","FS","No","Passenger","With compartment","1° class","2'2'","N/A","Yes",1947,1991,"III a / III b","FS 1946","Az","N/A",24357,"55 units, built between 1946-53 and numbered Az 13010/56. Erroneously numbered by LIMA. Number corresponds to 2° Class coach but not 1° Class","N/A","Treno Azzurro","N/A","N/A","Celeste-Blu","Blue","Grey","Blue","Light Blue","Blue","Grey & White","N/A","N/A",0,2,4,9.8039215686274508E-3,220,"Yes"]
["3091091964-65",309109,null,null,9109,null,"1964-65","Yes","IT",16,"x","Holland","NS","No","Passenger","With central corridor","1° class","2'2'","N/A","Yes",1955,1988,"III a / III b","Plan E","A","N/A",6501,"46 units, built between 1954-55 and numbered originally 6501/46 (after 1968 del 50 84 18-37 201/246)","N/A","N/A","N/A","N/A","Pruisisch blauw","Blue","Grey","Blue","Yellow","Blue","Grey & White","N/A","N/A",0,2,4,0.01,253,"Yes"]
["3093021964-65",309302,null,null,9302,null,"1964-65","Yes","IT",16,"x","Italy","FS","No","Passenger","Postal","Baggage","2'2'","N/A","Yes",1957,1990,"III b / IV a","FS 1946","Uz","N/A",28878,"110 units, built between 1946-47 and numbered 83.000/109. Erroneously numbered by LIMA","N/A","N/A","N/A","N/A","N/A","Brown","Grey","Brown","Cream","Brown","Grey & White","N/A","N/A",0,2,4,1.020408163265306E-2,240,"Yes"]
["3091061964-65",309106,null,null,9106,null,"1964-65","Yes","IT",16,"x","Switzerland","SBB/CFF","No","Passenger","With compartment","2° class","2'2'","N/A","No",1947,1991,"III a / III b","FS 1946","B","N/A",6601,"Never existed in any official roster. Based on an Italian Series FS 1946 coach design","N/A","N/A","N/A","Wappen","SBB-Grün","Green","Grey","Green","N/A","Green","Grey & White","N/A","N/A",0,2,4,9.8039215686274508E-3,220,"Yes"]
["3092011964-65",309201,null,null,9201,null,"1964-65","Yes","IT",17,"x","Belgium","CIWL","No","Passenger","Parlor","1° class","2'2'","N/A","Yes",1926,1971,"II / III a / III b","Pullman","Pullman","N/A",9042,"211 units, built between 1926-30","N/A","N/A","N/A","CIWL","CIWL","Blue","Grey","Blue","White","Blue","Grey & White","N/A","N/A",0,2,4,0.01,216,"Yes"]
["3092021964-65",309202,null,null,9202,null,"1964-65","Yes","IT",17,"x","Belgium","CIWL","No","Passenger","With central corridor","Restaurant","2'2'","N/A","Yes",1926,1971,"II / III a / III b","Pullman","Pullman","N/A",4730,"Former 1° Class coach refurbished to dining car","N/A","N/A","N/A","CIWL","CIWL","Blue","Grey","Blue","Yellow","Blue","Grey & White","N/A","N/A",0,2,4,0.01,216,"Yes"]
["3093011964-65",309301,null,null,9301,null,"1964-65","Yes","IT",17,"x","Belgium","CIWL","No","Passenger","Baggage","Baggage","2'2'","N/A","Yes",1927,1984,"II / III a / III b","Nord","Dd4","N/A",25140,"30 units, built in 1927. With \"hunch\" type panoramic dome coach","N/A","N/A","N/A","CIWL","CIWL","Blue","Grey","Blue","Yellow","Blue","Grey & White","N/A","N/A",0,2,4,0.01,216,"Yes"]
["3091051964-65",309105,null,null,9105,null,"1964-65","Yes","IT",18,"x","Denmark","D.S.B.","No","Passenger","With compartment","2° class","2'2'","N/A","No",1947,1991,"III a / III b","FS 1946","B","N/A",1149,"Never existed in any official roster. Based on an Italian Series FS 1946 coach design","N/A","N/A","N/A","Classic Vingehjul","Rød ","Red","Grey","Red","N/A","Red","Grey & White","N/A","N/A",0,2,4,9.8039215686274508E-3,220,"Yes"]
["3091081964-65",309108,null,null,9108,null,"1964-65","Yes","IT",18,"x","Belgium","S.N.C.B.","No","Passenger","With central corridor","1° & 2° class","2'2'","N/A","Yes",1960,2005,"III b","M2","AB","N/A",43291,"104 units, built between 1958-60 and numbered originally 43201/304 (after 1966 50 88 39-38 601/704)","N/A","N/A","N/A","N/A","Groen","Green","Grey","Green","N/A","Green","Grey & White","N/A","N/A",0,2,4,0.01,253,"Yes"]
["3091071964-65",309107,null,null,9107,null,"1964-65","Yes","IT",18,"x","France","SNCF","No","Passenger","With compartment","1° class","2'2'","N/A","Yes",1956,1994,"III b / IV a / IV b","DEV Inox Mistral","A8","Series 1956","N/A","22 units, built in 1956 and numbered 61 87 18-89 826/847","N/A","Le Mistral","N/A","N/A","Inox","Grey","Grey","Grey","N/A","Grey","Grey & White","N/A","N/A",0,2,4,0.01,235,"Yes"]
["3090231964-65",309023,null,null,9023,null,"1964-65","Yes","IT",19,"x","Belgium","CIWL","No","Passenger","With compartment","Sleeper","2'2'","N/A","Yes",1951,1992,"III a / III b","UIC-X","WLABm 174","WLAB4ümg-59","N/A","77 units, built between 1959-64 and numbered 33201/77. Never existed in any official roster. LIMA invention","N/A","N/A","N/A","CIWL","CIWL","Blue","Grey","Blue","Yellow","Blue","Grey & White","N/A","N/A",0,2,4,7.6335877862595417E-3,202,"Replace"]
["3090221964-65",309022,null,null,9022,null,"1964-65","Yes","IT",19,"x","Italy","FS","No","Passenger","With central corridor","1° class","2'2'","N/A","Yes",1922,1985,"III a / III b","FS 1921","Az","N/A",29052,"100 units, built between 1927-28 and numbered originally 10000/099. Erroneously numbered by LIMA. Design belongs to 1° class coach whilst numbering to 2° class type","N/A","N/A","N/A","N/A","Castano-Isabella ","Brown","Grey","Brown","Cream","Brown","Grey & White","N/A","N/A",0,2,4,8.771929824561403E-3,195,"Yes"]
["3090251964-65",309025,null,null,9025,null,"1964-65","Yes","IT",19,"x","Germany","DB","No","Passenger","With compartment","1° class","2'2'","N/A","No",1951,1992,"III b","UIC-X","WLABm 174","WLAB4ümg-59","N/A","77 units, built between 1959-64 and numbered 33201/77. Never existed in any official roster. LIMA invention","N/A","N/A","N/A","Keks","DB-Grün","Green","Grey","Green","N/A","Green","Grey & White","N/A","N/A",0,2,4,7.6335877862595417E-3,202,"Replace"]
["3090261964-65",309026,null,null,9026,null,"1964-65","Yes","IT",19,"x","Germany","DSG","No","Passenger","With compartment","Sleeper","2'2'","N/A","Yes",1960,1985,"III b","UIC-X","WLABm 174","WLAB4ümg-59",24357,"77 units, built between 1959-64 and numbered 33201/77. Sold in 1973 to DB. Erroneously numbered by LIMA","DSG","N/A","N/A","Gefriergans","DSG-Rot","Red","Grey","Red","N/A","Red","Grey & White","N/A","N/A",0,2,4,7.6335877862595417E-3,202,"Yes"]
["3090301964-65",309030,null,null,9030,null,"1964-65","Yes","IT",20,"x","Italy","FS","No","Freight","Tank","With ladder","2'2'","N/A","Yes",1958,2004,"III b / IV a / IV b / V a / V b","Z-type","Zacs 33","Uah","N/A","Built since the late 1950's","Esso","N/A","N/A","N/A","N/A","Grey","N/A","Black","N/A","N/A","Grey & White","N/A","N/A",0,2,4,"N/A",146,"Replace"]
["3090311964-65",309031,null,null,9031,null,"1964-65","Yes","IT",20,"x","Italy","FS","No","Freight","Tank","With ladder","2'2'","N/A","Yes",1958,2004,"III b / IV a / IV b / V a / V b","Z-type","Zacs 33","Uah","N/A","Built since the late 1950's","Shell","N/A","N/A","N/A","N/A","Yellow","N/A","Black","N/A","N/A","Grey & White","N/A","N/A",0,2,4,"N/A",146,"Replace"]
["3090321964-65",309032,null,null,9032,null,"1964-65","Yes","IT",20,"x","Italy","FS","No","Freight","Tank","With ladder","2'2'","N/A","Yes",1958,2004,"III b / IV a / IV b / V a / V b","Z-type","Zacs 33","Uah","N/A","Built since the late 1950's","Mobil","N/A","N/A","N/A","N/A","Red","N/A","Black","N/A","N/A","Grey & White","N/A","N/A",0,2,4,"N/A",146,"Replace"]
[{"$f":"+B261&C261&F261&G261","v":"3090331964-65"},309033,null,null,9033,null,"1964-65","Yes","IT",20,"x","Italy","FS","No","Freight","Tank","With ladder","2'2'","N/A","Yes",1958,2004,"III b / IV a / IV b / V a / V b","Z-type","Zacs 33","Uah","N/A","Built since the late 1950's","BP","N/A","N/A","N/A","N/A","Green","N/A","Black","N/A","N/A","Grey & White","N/A","N/A",0,2,4,"N/A",146,"Replace"]
["3090341964-65",309034,null,null,9034,null,"1964-65","Yes","IT",20,"x","Italy","FS","No","Freight","Tank","With ladder","2'2'","N/A","Yes",1958,2004,"III b / IV a / IV b / V a / V b","Z-type","Zacs 33","Uah","N/A","Built since the late 1950's","Agip","N/A","N/A","N/A","N/A","Grey","N/A","Black","N/A","N/A","Grey & White","N/A","N/A",0,2,4,"N/A",146,"Replace"]
["3020031964-65",302003,null,null,2003,null,"1964-65","Yes","IT",20,"x","Italy","FS","No","Freight","Flat","With drums",2,"N/A","Yes",1959,1995,"III b / IV a / IV b","K-type","Klm 505","Xlm 57","N/A","Built in the late 1950's. Manufactured by LIMA until 1971","N/A","N/A","N/A","N/A","N/A","Grey","N/A","Brown","N/A","N/A","Grey & White","N/A","N/A",0,0,2,0.01,105,"Yes"]
["3090381964-65",309038,null,null,9038,null,"1964-65","Yes","IT",21,"x","Italy","FS","No","Freight","Flat","With wooden planks","2+2","N/A","No",1920,1970,"II / III a / III b / IV a","K-type","Q","Drehschemelwagen","N/A","Built between 1913-24","N/A","N/A","N/A","N/A","N/A","Brown","N/A","Brown","N/A","N/A","Grey & White","N/A","N/A",0,0,4,1.098901098901099E-2,220,"Yes"]
["3090391964-65",309039,null,null,9039,null,"1964-65","Yes","IT",21,"x","Italy","FS","No","Freight","Flat","With pipes","2+2","N/A","No",1920,1970,"II / III a / III b / IV a","K-type","Q","Drehschemelwagen","N/A","Built between 1913-24","Agip","N/A","N/A","N/A","N/A","Red","N/A","Brown","N/A","N/A","Grey & White","N/A","N/A",0,0,4,1.098901098901099E-2,220,"Replace"]
["3020141964-65",302014,null,null,2014,null,"1964-65","Yes","IT",21,"x","Italy","FS","No","Freight","Flat","With bascule",2,"N/A","Yes",1959,1995,"III b / IV a / IV b","K-type","Klm 505","Xlm 57","N/A","Built in the late 1950's. Manufactured by LIMA until 1971","N/A","N/A","N/A","N/A","N/A","Grey","N/A","Brown","N/A","N/A","Grey & White","N/A","N/A",0,0,2,0.01,105,"Yes"]
["3031011964-65",303101,null,null,3101,null,"1964-65","Yes","IT",21,"x","Norway","N.S.B.","No","Freight","Closed","With sliding door",2,"N/A","Yes",1924,1973,"III a / III b","G-type","Gbkl 238","Gl Dresden","G4 41169","Built since the early 1920's","N/A","N/A","N/A","N/A","N/A","Brown","Grey","Black","N/A","Brown","Grey & White","N/A","N/A",0,0,2,1.0416666666666666E-2,126,"Yes"]
["3031021964-65",303102,null,null,3102,null,"1964-65","Yes","IT",21,"x","Italy","FS","No","Freight","Closed","With sliding door",2,"N/A","Yes",1930,1976,"II / III a / III b / IV a","G-type","Gbkl 238","Gl Dresden","F 1160106","Built since the early 1920's","N/A","N/A","N/A","N/A","N/A","Brown","Grey","Black","N/A","Brown","Grey & White","N/A","N/A",0,0,2,1.0416666666666666E-2,126,"Yes"]
["3090501964-65",309050,null,null,9050,null,"1964-65","Yes","IT",21,"x","Italy","FS","No","Freight","Car transporter","With 6 cars",3,"N/A","Yes",1961,"Operational","III b / IV a / IV b / V a / V b","L-type","Laeqrss 545","Pay","N/A","Built since the early 1960's. Two wagons joined together","SITFA","N/A","N/A","N/A","N/A","Grey","Grey","Grey","N/A","N/A","Grey & White","N/A","N/A",0,0,3,1.2500000000000001E-2,300,"Yes"]
["3027011964-65",302701,null,null,2701,null,"1964-65","Yes","IT",22,"x","Italy","FS","No","Freight","Tank","With ladder",2,"N/A","Yes",1957,2005,"III b / IV a / IV b / V a / V b","Z-type","Zcs 23","Uh","N/A","Built since the late 1950's","Esso","N/A","N/A","N/A","N/A","Grey","N/A","Black","N/A","N/A","Grey & White","N/A","N/A",0,0,2,"N/A",105,"Yes"]
["3027021964-65",302702,null,null,2702,null,"1964-65","Yes","IT",22,"x","Italy","FS","No","Freight","Tank","With ladder",2,"N/A","Yes",1957,2005,"III b / IV a / IV b / V a / V b","Z-type","Zcs 23","Uh","N/A","Built since the late 1950's","Shell","N/A","N/A","N/A","N/A","Yellow","N/A","Black","N/A","N/A","Grey & White","N/A","N/A",0,0,2,"N/A",105,"Yes"]
["3027031964-65",302703,null,null,2703,null,"1964-65","Yes","IT",22,"x","Italy","FS","No","Freight","Tank","With ladder",2,"N/A","Yes",1957,2005,"III b / IV a / IV b / V a / V b","Z-type","Zcs 23","Uh","N/A","Built since the late 1950's","Agip","N/A","N/A","N/A","N/A","Grey","N/A","Black","N/A","N/A","Grey & White","N/A","N/A",0,0,2,"N/A",105,"Replace"]
["3027041964-65",302704,null,null,2704,null,"1964-65","Yes","IT",22,"x","Italy","FS","No","Freight","Tank","With ladder",2,"N/A","Yes",1957,2005,"III b / IV a / IV b / V a / V b","Z-type","Zcs 23","Uh","N/A","Built since the late 1950's","BP","N/A","N/A","N/A","N/A","Green","N/A","Black","N/A","N/A","Grey & White","N/A","N/A",0,0,2,"N/A",105,"Yes"]
["3020051964-65",302005,null,null,2005,null,"1964-65","Yes","IT",22,"x","Italy","FS","No","Freight","Hopper","With tippable bascule",2,"N/A","Yes",1962,2005,"III b / IV a / IV b / V a / V b","F-type","Fcs 090","Otmm 70","N/A","16500 units, built between 1962-71. Manufactured by LIMA until 1971","N/A","N/A","N/A","N/A","N/A","Red","N/A","Brown","N/A","N/A","Grey & White","N/A","N/A",0,0,2,9.5238095238095247E-3,92,"Replace"]
["3020081964-65",302008,null,null,2008,null,"1964-65","Yes","IT",22,"x","Italy","FS","No","Freight","Closed","N/A",2,"N/A","Yes",1958,1995,"III a / III b / IV a / IV b / V a","G-type","Gs 210","Gmms 40","N/A","4760 units, built between 1957-61. Manufactured by LIMA until 1971","N/A","N/A","N/A","N/A","N/A","White","Grey","Black","N/A","White","Grey & White","N/A","N/A",0,0,2,8.3333333333333332E-3,92,"Replace"]
["302008A1964-65",302008,"A",null,"2008A",null,"1964-65","Yes","IT",22,"x","Italy","FS","No","Freight","Closed","N/A",2,"N/A","Yes",1958,1995,"III a / III b / IV a / IV b / V a","G-type","Gs 210","Gmms 40","N/A","4760 units, built between 1957-61. Manufactured by LIMA until 1971","Derrate Alimentari","N/A","N/A","N/A","N/A","White","Grey","Black","Red","White","Grey & White","N/A","N/A",0,0,2,8.3333333333333332E-3,92,"Yes"]
["302008B1964-65",302008,"B",null,"2008B",null,"1964-65","Yes","IT",22,"x","Italy","FS","No","Freight","Closed","N/A",2,"N/A","Yes",1956,1995,"III a / III b / IV a / IV b / V a","G-type","Ibblps 393","Tnohs 50","N/A","175 units, refurbished between 1955-57 from former Glmhs 50 wagons. For transport of Bananas. Manufactured by LIMA until 1971","Banane","N/A","N/A","N/A","N/A","Yellow","Grey","Black","N/A","Yellow","Grey & White","N/A","N/A",0,0,2,8.3333333333333332E-3,92,"Yes"]
["3020091964-65",302009,null,null,2009,null,"1964-65","Yes","IT",23,"x","Italy","FS","No","Freight","Open","Empty",2,"N/A","Yes",1956,2005,"III b / IV a / IV b / V a / V b","E-type","Es 025","Tipo 2","N/A","Built in the mid 1950's. Manufactured by LIMA until 1971","N/A","N/A","N/A","N/A","N/A","Brown","N/A","Black","N/A","N/A","Grey & White","N/A","N/A",0,0,2,1.0526315789473684E-2,105,"Replace"]
["302009C1964-65",302009,"C",null,"2009C",null,"1964-65","Yes","IT",23,"x","Italy","FS","No","Freight","Open","With cargo",2,"N/A","Yes",1956,2005,"III b / IV a / IV b / V a / V b","E-type","Es 025","Tipo 2","N/A","Built in the mid 1950's. With coal load","N/A","N/A","N/A","N/A","N/A","Brown","N/A","Black","N/A","N/A","Grey & White","N/A","N/A",0,0,2,1.0526315789473684E-2,105,"Replace"]
["302009SV1964-65",302009,"SV",null,"2009SV",null,"1964-65","Yes","IT",23,"x","Italy","SVF","No","Freight","Open","Empty",2,"N/A","Yes",1956,2005,"III b / IV a / IV b / V a / V b","E-type","Es 025","Tipo 2","N/A","Built in the mid 1950's. Manufactured by LIMA until 1971","N/A","N/A","N/A","N/A","N/A","Green","N/A","Black","N/A","N/A","Grey & White","N/A","N/A",0,0,2,1.0526315789473684E-2,105,"Yes"]
["3020041964-65",302004,null,null,2004,null,"1964-65","Yes","IT",23,"x","Italy","FS","No","Freight","Flat","With transformer",2,"N/A","Yes",1959,1995,"III b / IV a / IV b","K-type","Klm 505","Xlm 57","N/A","Built in the late 1950's. Manufactured by LIMA until 1971","N/A","N/A","N/A","N/A","N/A","Grey","N/A","Brown","N/A","N/A","Grey & White","N/A","N/A",0,0,2,0.01,105,"Replace"]
["3020061964-65",302006,null,null,2006,null,"1964-65","Yes","IT",23,"x","Italy","FS","No","Freight","Flat","With wooden planks",2,"N/A","Yes",1959,1995,"III b / IV a / IV b","K-type","Klm 505","Xlm 57","N/A","Built in the late 1950's. Manufactured by LIMA until 1971","N/A","N/A","N/A","N/A","N/A","Brown","N/A","Brown","N/A","N/A","Grey & White","N/A","N/A",0,0,2,0.01,105,"Yes"]
["3020071964-65",302007,null,null,2007,null,"1964-65","Yes","IT",23,"x","Italy","FS","No","Freight","Flat","Empty",2,"N/A","Yes",1959,1995,"III b / IV a / IV b","K-type","Klm 505","Xlm 57","N/A","Built in the late 1950's. Manufactured by LIMA until 1971","N/A","N/A","N/A","N/A","N/A","Brown","N/A","Brown","N/A","N/A","Grey & White","N/A","N/A",0,0,2,0.01,105,"Replace"]
["302007B1964-65",302007,"B",null,"2007B",null,"1964-65","Yes","IT",22,"x","Italy","FS","No","Freight","Flat","Empty and with brakeman's cabin",2,"N/A","Yes",1925,1970,"III a / III b / IV a","K-type","O 10","P con garitta","N/A","Built in the mid 1920's","N/A","N/A","N/A","N/A","N/A","Brown","N/A","Brown","N/A","N/A","Grey & White","N/A","N/A",0,0,2,0.01,100,"Yes"]
["3090351964-65",309035,null,null,9035,null,"1964-65","Yes","IT",23,"x","Italy","FS","No","Freight","Flat","With logs","2'2'","N/A","Yes",1957,1998,"III b / IV a / IV b","R-type","Rs 680","SSlmas 53","N/A","5550 units, built between 1955-66","N/A","N/A","N/A","N/A","N/A","Brown","N/A","Black","N/A","N/A","Grey & White","N/A","N/A",0,2,4,8.0000000000000002E-3,160,"Yes"]
["3090371964-65",309037,null,null,9037,null,"1964-65","Yes","IT",23,"x","Italy","FS","No","Freight","Flat","With pipes","2'2'","N/A","Yes",1957,1998,"III b / IV a / IV b","R-type","Rs 680","SSlmas 53","N/A","5550 units, built between 1955-66","N/A","N/A","N/A","N/A","N/A","Red","N/A","Black","N/A","N/A","Grey & White","N/A","N/A",0,2,4,8.0000000000000002E-3,160,"Yes"]
["1020001964-65",102000,null,null,2000,null,"1964-65","Yes","IT",3,"x","Italy","FS","No","Passenger","Set","Regional service","0-6-0+2'2'+2'2'","Starter","Yes",1947,1991,"III a / III b","FS 1946","N/A","N/A","N/A","3-unit set comprised of Steam locomotive #2001, Passenger #9101 x 2, track and battery power pack","N/A","N/A","N/A","N/A","Castano-Isabella ","Brown","Grey","Brown","Cream","Bicolor","Red","Pot motor","N/A",0,4,13,8.771929824561403E-3,600,"Yes"]
["102000ME1964-65",102000,"ME",null,"2000ME",null,"1964-65","Yes","IT",3,"x","Italy","FS","No","Freight","Set","Freight","0-6-0T+2+2+2+2","Starter","Yes",1956,1964,"III b","BR-080","Güterzug","N/A","N/A","5-unit set comprised of Steam locomotive #1601, Open #2009, Closed #2008, Flat #2007, Tank #2702, track and battery power pack","N/A","N/A","N/A","N/A","N/A","Brown","Brown","Black","N/A","N/A","Red","Pot motor","N/A",0,0,11,1.1494252873563218E-2,650,"Yes"]
["1027001964-65",102700,null,null,2700,null,"1964-65","Yes","IT",3,"x","Italy","FS","No","Passenger","Set","Regional service","0-6-0+2'2'+2'2'","Starter","Yes",1947,1991,"III a / III b","FS 1946","N/A","N/A","N/A","3-unit set comprised of Steam locomotive #2001, Passenger #9022 x 2, track and battery power pack","N/A","N/A","N/A","N/A","Castano-Isabella ","Brown","Grey","Brown","Cream","Bicolor","Red","Pot motor","N/A",0,4,14,8.771929824561403E-3,600,"Replace"]
["102700ME1964-65",102700,"ME",null,"2700ME",null,"1964-65","Yes","IT",3,"x","Italy","FS","No","Freight","Set","Freight","0-6-0+2'2'+2'2'+2'2'","Starter","No",1895,1936,"II","Preußische G 3","Treno merci","N/A","N/A","4-unit set comprised of Steam locomotive #2001, Flat with pipes #9037, Flat with wooden logs #9035, Tank #9031, track and battery power pack","N/A","N/A","N/A","N/A","N/A","Brown","Brown","Black","N/A","N/A","Red","Pot motor","N/A",0,6,18,1.1494252873563218E-2,700,"Replace"]
["109001ME1964-65",109001,"ME",null,"9001ME",null,"1964-65","Yes","IT",4,"x","Germany","DB","No","Freight","Set","Freight","2-8-0/4-4+2'2'+2'2'+2+2","Starter","Yes",1958,1965,"III b","Preußische G 8.1","N/A","N/A","N/A","5-unit set comprised of Steam locomotive #9021, Flat with pipes #9039, Closed #2008A, #3102, Tank #9031, track and electric power pack","N/A","N/A","N/A","N/A","N/A","Brown","Brown","Black","N/A","N/A","Red","Pot motor","N/A",0,4,20,1.1494252873563218E-2,700,"Replace"]
["109001ME/ST1964-65",109001,"ME/ST",null,"9001ME/ST",null,"1964-65","Yes","IT",4,"x","Germany","DB","No","Freight","Set","Freight","2-8-0/4-4+2'2'+2'2'+2+2","Starter","Yes",1958,1965,"III b","Preußische G 8.1","N/A","N/A","N/A","5-unit set comprised of Steam locomotive #9021, Flat with pipes #9039, Closed #2008A, #3102, Tank #9031, track and battery power pack","N/A","N/A","N/A","N/A","N/A","Brown","Brown","Black","N/A","N/A","Red","Pot motor","N/A",0,4,20,1.1494252873563218E-2,700,"Replace"]
["1090021964-65",109002,null,null,9002,null,"1964-65","Yes","IT",4,"x","Italy","FS","No","Passenger","Set","Express service","Bo'Bo'+2'2'+2'2'","Starter","Yes",1947,1991,"III a / III b","FS 1946","N/A","N/A","N/A","3-unit set comprised of Diesel locomotive #8023, Passenger #9100 x 2, track and electric power pack","N/A","N/A","N/A","Ansaldo","Castano-Isabella ","Brown","Grey","Brown","Cream","Bicolor","Red","Pot motor","N/A",0,4,14,1.0752688172043012E-2,650,"Replace"]
["109002ST1964-65",109002,"ST",null,"9002ST",null,"1964-65","Yes","IT",4,"x","Italy","FS","No","Passenger","Set","Express service","Bo'Bo'+2'2'+2'2'","Starter","Yes",1947,1991,"III a / III b","FS 1946","N/A","N/A","N/A","3-unit set comprised of Diesel locomotive #8023, Passenger #9100 x 2, track and battery power pack","N/A","N/A","N/A","Ansaldo","Castano-Isabella ","Brown","Grey","Brown","Cream","Bicolor","Red","Pot motor","N/A",0,6,12,1.0752688172043012E-2,650,"Replace"]
["1080011964-65",108001,null,null,8001,null,"1964-65","Yes","IT",4,"x","Italy","FS","No","Passenger","Set","Express service","Bo'Bo'+2'2'+2'2'+2'2'","Starter","Yes",1947,1991,"III a / III b","FS 1946","N/A","N/A","N/A","4-unit set comprised of Electric locomotive #8022, Passenger #9101 x 2, dining car #9102, track and electric power pack","N/A","N/A","N/A","N/A","Castano-Isabella ","Brown","Grey","Brown","Cream","Bicolor","Red","Pot motor","N/A",0,8,16,1.0752688172043012E-2,700,"Yes"]
["108001ST1964-65",108001,"ST",null,"8001ST",null,"1964-65","Yes","IT",4,"x","Italy","FS","No","Passenger","Set","Express service","Bo'Bo'+2'2'+2'2'+2'2'","Starter","Yes",1947,1991,"III a / III b","FS 1946","N/A","N/A","N/A","4-unit set comprised of Electric locomotive #8022, Passenger #9101 x 2, dining car #9102, track and battery power pack","N/A","N/A","N/A","N/A","Castano-Isabella ","Brown","Grey","Brown","Cream","Bicolor","Red","Pot motor","N/A",0,8,16,1.0752688172043012E-2,700,"Yes"]
["1080021964-65",108002,null,null,8002,null,"1964-65","Yes","IT",5,"x","France","SNCF","No","Passenger","Set","Express service","Bo'Bo'+2'2'+2'2'+2'2'","Starter","Yes",1958,2004,"III b / IV a","DEV Inox Mistral","N/A","N/A","N/A","4-unit set comprised of Electric locomotive #8021, Passenger #9107 x 3, track and electric power pack","N/A","Le Mistral","N/A","Macaron","Inox","Grey","Grey","Grey","N/A","Grey","Red","Pot motor","N/A",0,8,16,1.020408163265306E-2,890,"Replace"]
["108002ST1964-65",108002,"ST",null,"8002ST",null,"1964-65","Yes","IT",5,"x","France","SNCF","No","Passenger","Set","Express service","Bo'Bo'+2'2'+2'2'+2'2'","Starter","Yes",1958,2004,"III b / IV a","DEV Inox Mistral","N/A","N/A","N/A","4-unit set comprised of Electric locomotive #8021, Passenger #9107 x 3, track and battery power pack","N/A","Le Mistral","N/A","Macaron","Inox","Grey","Grey","Grey","N/A","Grey","Red","Pot motor","N/A",0,8,16,1.020408163265306E-2,890,"Replace"]
["1080041964-65",108004,null,null,8004,null,"1964-65","Yes","IT",5,"x","Belgium","S.N.C.B.","No","Passenger","Set","Regional service","Bo'Bo'+2'2'+2'2'+2'2'","Starter","Yes",1960,2005,"III b","M2","AB","N/A","N/A","4-unit set comprised of Electric locomotive #8025, Passenger #9108 x 3, track and electric power pack","N/A","N/A","N/A","N/A","Groen","Green","Grey","Grey","Grey","Green","Red","Pot motor","N/A",0,8,16,0.01,700,"Replace"]
["108004ST1964-65",108004,"ST",null,"8004ST",null,"1964-65","Yes","IT",5,"x","Belgium","S.N.C.B.","No","Passenger","Set","Regional service","Bo'Bo'+2'2'+2'2'+2'2'","Starter","Yes",1960,2005,"III b","M2","AB","N/A","N/A","4-unit set comprised of Electric locomotive #8025, Passenger #9108 x 3, track and battery power pack","N/A","N/A","N/A","N/A","Groen","Green","Grey","Grey","Grey","Green","Red","Pot motor","N/A",0,8,16,0.01,700,"Replace"]
["1080051964-65",108005,null,null,8005,null,"1964-65","Yes","IT",5,"x","Holland","NS","No","Passenger","Set","Regional service","Co'Co'+2'2'+2'2'+2'2'","Starter","Yes",1955,1994,"III a / III b","Plan E","Reizigerstrein","N/A","N/A","4-unit set comprised of Electric locomotive #8024, Passenger #9109 x 3, track and electric power pack","N/A","N/A","N/A","Gevleugeld spoorwiel","Pruisisch blauw","Blue","Grey","Blue","Yellow","Blue","Red","Pot motor","N/A",0,8,18,1.0526315789473684E-2,700,"Replace"]
["108005ST1964-65",108005,"ST",null,"8005ST",null,"1964-65","Yes","IT",5,"x","Holland","NS","No","Passenger","Set","Regional service","Co'Co'+2'2'+2'2'+2'2'","Starter","Yes",1955,1994,"III a / III b","Plan E","Reizigerstrein","N/A","N/A","4-unit set comprised of Electric locomotive #8024, Passenger #9109 x 3, track and battery power pack","N/A","N/A","N/A","Gevleugeld spoorwiel","Pruisisch blauw","Blue","Grey","Blue","Yellow","Blue","Red","Pot motor","N/A",0,8,18,1.0526315789473684E-2,700,"Replace"]
["105000ME1964-65",105000,"ME",null,"5000ME",null,"1964-65","No",null,null,"x","Italy","FS","No","Freight","Set","Freight","Bo'Bo'+2+2+2","Starter","Yes",1962,2005,"III b / IV a","D-342","Treno merci","N/A","N/A","4-unit set comprised of Diesel locomotive #8023, Hopper #2005, Tank #2701, Closed #3102, track and electric power pack","N/A","N/A","N/A","Ansaldo","N/A","Brown","Brown","Black","N/A","N/A","Green","Pot motor","N/A",0,2,10,1.1494252873563218E-2,516,"Yes"]
["1070171965-66",107017,null,null,7017,null,"1965-66","No",null,null,"x","Germany","DB","No","Passenger","Set","Express service","Bo'Bo'+2'2'+2'2'+2'2'","Starter","Yes",1956,1968,"III a / III b","Einheitswagen","N/A","N/A","N/A","3-unit set comprised of Electric locomotive #8022, Passenger #9025, Sleeping car #9023 and track","N/A","N/A","N/A","Keks","N/A","Green","Grey","Black","N/A","N/A","Green","Pot motor","N/A",0,6,12,9.8039215686274508E-3,589,"Yes"]
["1028021965-66",102802,null,null,2802,null,"1965-66","No",null,null,"x","France","SNCF","No","Passenger","Set","Express service","Bo'Bo'+2'2'+2'2'","Starter","Yes",1958,2004,"III b / IV a","DEV Inox Mistral","N/A","N/A","N/A","3-unit train comprised of Electric locomotive #8021, Passenger #9107 x 2","N/A","Le Mistral","N/A","N/A","Inox","Grey","Grey","Grey","N/A","Grey","Red","Pot motor","N/A",0,6,12,0.01,655,"Yes"]
["1080041965-66",108004,null,null,8004,null,"1965-66","No",null,null,"x","Italy","FS","No","Passenger","Set","Express service","Bo'Bo'+2'2'+2'2'+2'2'","Starter","Yes",1947,1991,"III a / III b","FS 1946","N/A","N/A","N/A","4-unit set comprised of Electric locomotive #8022, Passenger #9101 x 2, dining car #9202, track and electric power pack","N/A","N/A","N/A","N/A","Castano-Isabella ","Brown","Grey","Brown","Cream","Brown","Light Blue","Pot motor","N/A",0,8,16,1.0752688172043012E-2,905,"Yes"]
["1090001965-66",109000,null,null,9000,null,"1965-66","No",null,null,"x","France","SNCF","No","Passenger","Set","Express service","2-8-0/4-4+2'2'+2'2'+2'2'","Starter","Yes",1951,1965,"III a / III b","DEV AO Courte","N/A","N/A","N/A","4-unit set comprised of Steam locomotive #9021, Passenger #9027 x 3, track and electric power pack","N/A","N/A","N/A","N/A","Verte","Green","Green","Green","N/A","Green","Light Blue","Pot motor","N/A",0,6,21,9.7087378640776691E-3,856,"Yes"]
["1090011965-66",109001,null,null,9001,null,"1965-66","No",null,null,"x","Italy","FS","No","Passenger","Set","Express service","2-8-0/4-4+2'2'+2'2'","Starter","Yes",1947,1991,"III a / III b","FS 1946","N/A","N/A","N/A","3-unit set comprised of Steam locomotive #9021, Passenger #9101 x 2, track and electric power pack","N/A","N/A","N/A","N/A","Castano-Isabella ","Brown","Grey","Brown","Cream","Brown","Light Blue","Pot motor","N/A",0,5,17,1.0752688172043012E-2,730,"Yes"]
["2080231965-66",208023,null,null,8023,null,"1965-66","Yes","IT",3,"x","Italy","FS","No","Locomotive","Diesel","Multipurpose","B'B'","N/A","Yes",1959,2005,"III b / IV a","D-342","D-342.4","N/A","D342 4005","17 units, built between 1957-59 and numbered D.342.4001. Focus on mixed-traffic services (Passenger and Freight)","N/A","N/A","N/A","Ansaldo","Castano-Isabella ","Brown","Brown","Red","White","Brown","Grey & White","Pot motor","N/A",0,2,4,1.2195121951219513E-2,185,"Yes"]
["2080221965-66",208022,null,null,8022,null,"1965-66","Yes","IT",3,"x","Italy","FS","No","Locomotive","Electric","Multipurpose","Bo'Bo'","N/A","Yes",1951,2001,"III a / III b / IV a / IV b","E-424","E-424","N/A","E424 143","158 units, built between 1943-51 and numbered E.424.001/158. Focus on mixed-traffic services (Passenger and Freight)","N/A","N/A","N/A","N/A","Castano-Isabella ","Brown","Brown","Brown","N/A","Brown","Grey & White","Pot motor","Double arm",2,2,4,1.1235955056179775E-2,174,"Yes"]
["208027CL1965-66",208027,"CL",null,"8027CL",null,"1965-66","Yes","IT",4,"x","Belgium","S.N.C.B.","No","Locomotive","Electric","Express service","Bo'Bo'","N/A","Yes",1962,2000,"IV a / IV b","Series 15","HLE 15","Series 15",1505,"5 units, built in 1962 and numbered originally 150.001/5 (after 1971 1501/5). Focus on TEE express Passenger services on the PBA axis","N/A","N/A","N/A","N/A","SNCB-Bleu 1","Blue","Grey","Grey","White","Blue","Grey & White","Pot motor","Single arm",2,2,4,1.1235955056179775E-2,200,"Yes"]
["2080251965-66",208025,null,null,8025,null,"1965-66","Yes","IT",5,"x","Belgium","S.N.C.B.","No","Locomotive","Electric","Multipurpose","Bo'Bo'","N/A","Yes",1956,2012,"IV a / IV b","Series 23","HLE 23","Series 23",2371,"83 units, built between 1955-57 and numbered originally 122.001/083 (after 1971 2301/83). Focus on mixed-traffic services (regional Passenger and Freight)","N/A","N/A","N/A","N/A","Groen","Green","Grey","Grey","Grey","Green","Grey & White","Pot motor","Double arm",2,2,4,1.1904761904761904E-2,215,"Yes"]
["208021CL1965-66",208021,"CL",null,"8021CL",null,"1965-66","Yes","IT",5,"x","France","SNCF","No","Locomotive","Electric","Express service","Bo'Bo'","N/A","Yes",1958,2003,"III b / IV a","BB Jacquemin","BB-9200","N/A",9210,"90 units, built between 1957-63 and numbered 9201/90. Focus on express Passenger services","N/A","N/A","Jacquemin","Macaron","Verte","Green","Green","Green","N/A","Green","Grey & White","Pot motor","Double arm",2,2,4,1.1494252873563218E-2,185,"Yes"]
["208024CL1965-66",208024,"CL",null,"8024CL",null,"1965-66","Yes","IT",6,"x","Holland","NS","No","Locomotive","Electric","Multipurpose","Co'Co'","N/A","Yes",1952,1994,"III a / III b / IV a / IV b","NS 1200","Series 1200","N/A",1220,"25 units, built between 1949-51 and numbered 1201/25. Focus on mixed-traffic services (regional Passenger and Freight)","N/A","N/A","Big nose","Gevleugeld spoorwiel","Pruisisch blauw","Blue","Blue","Blue","Yellow","Blue","Grey & White","Pot motor","Double arm",2,2,6,1.1904761904761904E-2,215,"Yes"]
["208026CL1965-66",208026,"CL",null,"8026CL",null,"1965-66","Yes","IT",7,"x","Italy","FS","No","Locomotive","Electric","Express service","Bo'Bo'Bo'","N/A","Yes",1964,2005,"III b / IV a / IV b / V a","E-646","E-646","N/A","E646 060","198 units, built between 1961-67 and numbered E.646.021/210. Focus on Passenger services","N/A","N/A","N/A","E-646 2° series","Grigio nebbia-Verde magnolia","White","White","Green","Green","White","Grey & White","Pot motor","Double arm",2,3,6,1.1494252873563218E-2,210,"Yes"]
["201022CL1965-66",201022,"CL",null,"1022CL",null,"1965-66","Yes","IT",8,"x","France","SNCF","No","Locomotive","Electric","Express service","C'C'","N/A","Yes",1964,1995,"III b / IV a / IV b","CC-40100","CC-40100","N/A",40101,"4 units, built in 1964 and numbered 40101/4. Focus on express Passenger services TEE between France-Belgium","N/A","TEE","N/A","Macaron","Inox","Grey","Grey","Grey","Red","Grey","Grey & White","Pot motor","Single arm",2,2,6,1.1494252873563218E-2,255,"Yes"]
["3010231965-66",301023,null,null,1023,null,"1965-66","Yes","IT",9,"x","Belgium","S.N.C.B.","No","Passenger","With central corridor","1° class","2'2'","N/A","Yes",1964,1997,"III b","PBA 62","A8tuj","A8smyfi","N/A","11 units, built between 1962-63 and numbered 61 88 18-89 980/990","Trans Europ Express","TEE","N/A","N/A","Inox","Grey","Grey","Grey","Red","Grey","Grey & White","N/A","N/A",0,2,4,1.0416666666666666E-2,265,"Yes"]
["201003L1965-66",201003,"L",null,"1003L",null,"1965-66","Yes","IT",10,"x","France","SNCF","DMU","Locomotive","Diesel","1° class","B'2'","N/A","Yes",1956,2006,"III b / IV a","Rame à Grand Parcours","X-2770","RGP 1","N/A","Motor of DMU RGP 1 with 1° Class","N/A","TEE","N/A","N/A","TEE","Cream","Red","Red","Cream","Bicolor","Grey & White","Pot motor","N/A",0,2,4,1.0526315789473684E-2,277,"Yes"]
["2010041965-66",201004,null,null,1004,null,"1965-66","Yes","IT",10,"x","France","SNCF","DMU","Passenger","With central corridor","1° class","2'2'","N/A","Yes",1956,2006,"III b / IV a","Rame à Grand Parcours","XR-7700","RGP 1","N/A","Intermediate of DMU RGP 1","Trans Europ Express","TEE","N/A","N/A","TEE","Cream","Red","Red","Cream","Bicolor","Grey & White","N/A","N/A",0,2,4,1.0526315789473684E-2,240,"Yes"]
["2010051965-66",201005,null,null,1005,null,"1965-66","Yes","IT",10,"x","France","SNCF","DMU","Locomotive","Dummy","1° class","B'2'","N/A","Yes",1956,2006,"III b / IV a","Rame à Grand Parcours","X-2770","RGP 1","N/A","Driving trailer of DMU RGP 1 with 1° Class","N/A","TEE","N/A","N/A","TEE","Cream","Red","Red","Cream","Bicolor","Grey & White","N/A","N/A",0,2,4,1.0526315789473684E-2,277,"Yes"]
["101002CL1965-66",101002,"CL",null,"1002CL",null,"1965-66","Yes","IT",11,"x","France","SNCF","DMU","Passenger","Set","Express service","B'2'+2'2'+2'B'","Starter","Yes",1956,2006,"III b / IV a","Rame à Grand Parcours","TEE Parsifal","RGP 1","N/A","3-unit train comprised of DMU Motor #1003, Intermediate #1004 and Driving trailer #1005","Trans Europ Express","TEE","N/A","N/A","TEE","Cream","Red","Red","Cream","Bicolor","Cream","Pot motor","N/A",0,2,4,1.0526315789473684E-2,794,"Yes"]
["2090211965-66",209021,null,null,9021,null,"1965-66","Yes","IT",12,"x","Germany","DB","No","Locomotive","Steam","Multipurpose","2-8-0/4-4","N/A","Yes",1938,1965,"III a","Preußische G 8.1","BR-055","DRG-56.2-8",680,"691 units, refurbished between 1934-41 from former G 8.1 locomotives with an additional axis and numbered 056 201/891. Focus on mixed-traffic services (Passenger and Freight)","N/A","N/A","N/A","N/A","N/A","Black","Black","Black","Red","Black","Grey & White","Pot motor","N/A",0,0,5,1.3698630136986301E-2,250,"Yes"]
["2020011965-66",202001,null,null,2001,null,"1965-66","Yes","IT",13,"x","Germany","DRG","No","Locomotive","Steam","Freight","0-6-0/6","N/A","Yes",1895,1936,"II","Preußische G 3","BR-053.70","DRG-53",936,"2068 units, built between 1877-96. Focus on Freight services","N/A","N/A","N/A","N/A","N/A","Black","Black","Black","N/A","Black","Grey & White","Pot motor","N/A",0,0,3,1.3157894736842105E-2,200,"Yes"]
["2016011965-66",201601,null,null,1601,null,"1965-66","Yes","IT",13,"x","Germany","DB","No","Locomotive","Steam","Shunter","0-6-0T","N/A","Yes",1928,1964,"III a / III b","BR-080","BR-080","DRG-80",80005,"39 units, built between 1927-29 and numbered 080 001/39. Focus on shunting operation","N/A","N/A","Einheitslok","N/A","N/A","Black","Black","Black","N/A","Black","Grey & White","Pot motor","N/A",0,0,3,1.3333333333333334E-2,129,"Replace"]
[{"$f":"+B325&C325&F325&G325","v":"3091111965-66"},309111,null,null,9111,null,"1965-66","Yes","IT",14,"x","Italy","FS","No","Passenger","With compartment","1° class","2'2'","N/A","Yes",1964,1998,"III b","UIC-Y","Az","N/A",23799,"20 units, built between 1961-64 and numbered 23780/799","N/A","N/A","N/A","Televisore","Grigio ardesia","Grey","Grey","Grey","N/A","Grey","Grey & White","N/A","N/A",0,2,4,1.0416666666666666E-2,255,"Yes"]
["3093041965-66",309304,null,null,9304,null,"1965-66","Yes","IT",14,"x","Italy","FS","No","Passenger","Postal","Baggage","2'2'","N/A","Yes",1965,2000,"III b / IV a / IV b","UIC-X","Uiz","Series 1964",1785,"20 units, built between 1964-65","N/A","N/A","N/A","Televisore","Grigio ardesia","Grey","Grey","Grey","N/A","Grey","Grey & White","N/A","N/A",0,2,4,9.7087378640776691E-3,255,"Yes"]
["3091001965-66",309100,null,null,9100,null,"1965-66","Yes","IT",15,"x","Italy","FS","No","Passenger","With central corridor","2° class","2'2'","N/A","Yes",1927,1985,"III a / III b","FS 1921","Abz","N/A",14520,"170 units, built between 1926-27 and numbered originally entre 50.500/670. Erroneously numbered by LIMA. Design corresponds to 1°/2° Class coach while published as 2° Class","N/A","N/A","N/A","N/A","Castano-Isabella ","Brown","Grey","Brown","Cream","Brown","Grey & White","N/A","N/A",0,2,4,1.0752688172043012E-2,240,"Yes"]
["3091011965-66",309101,null,null,9101,null,"1965-66","Yes","IT",15,"x","Italy","FS","No","Passenger","With compartment","1° class","2'2'","N/A","Yes",1947,1991,"III a / III b","FS 1946","Az","N/A",24357,"55 units, built between 1946-53 and numbered Az 13010/56. Erroneously numbered by LIMA. Number corresponds to 2° Class coach but not 1° Class","N/A","N/A","N/A","N/A","Castano-Isabella ","Brown","Grey","Brown","Cream","Brown","Grey & White","N/A","N/A",0,2,4,9.8039215686274508E-3,220,"Yes"]
["3093021965-66",309302,null,null,9302,null,"1965-66","Yes","IT",15,"x","Italy","FS","No","Passenger","Postal","Baggage","2'2'","N/A","Yes",1957,1990,"III b / IV a","FS 1946","Uz","N/A",28878,"110 units, built between 1946-47 and numbered 83.000/109. Erroneously numbered by LIMA","N/A","N/A","N/A","N/A","N/A","Brown","Grey","Brown","Cream","Brown","Grey & White","N/A","N/A",0,2,4,1.020408163265306E-2,240,"Yes"]
["3090241965-66",309024,null,null,9024,null,"1965-66","Yes","IT",16,"x","Italy","FS","No","Passenger","With central corridor","2° class","2'2'","N/A","Yes",1958,1987,"III b","Corbellini 1947 T","Bz","N/A",34933,"70 units, built between 1958-59 and numbered Bz 34900/34969","N/A","N/A","N/A","N/A","Castano-Isabella ","Brown","Grey","Brown","Cream","Brown","Grey & White","N/A","N/A",0,2,4,1.2987012987012988E-2,240,"Replace"]
["3091021965-66",309102,null,null,9102,null,"1965-66","Yes","IT",16,"x","Italy","FS","No","Passenger","With compartment","1° class","2'2'","N/A","Yes",1947,1991,"III a / III b","FS 1946","Az","N/A",24357,"55 units, built between 1946-53 and numbered Az 13010/56. Erroneously numbered by LIMA. Number corresponds to 2° Class coach but not 1° Class","N/A","Treno Azzurro","N/A","N/A","Celeste-Blu","Blue","Grey","Blue","Light Blue","Blue","Grey & White","N/A","N/A",0,2,4,9.8039215686274508E-3,220,"Yes"]
["3091061965-66",309106,null,null,9106,null,"1965-66","Yes","IT",16,"x","Switzerland","SBB/CFF","No","Passenger","With compartment","2° class","2'2'","N/A","No",1947,1991,"III a / III b","FS 1946","B","N/A",6601,"Never existed in any official roster. Based on an Italian Series FS 1946 coach design","N/A","N/A","N/A","Wappen","SBB-Grün","Green","Grey","Green","N/A","Green","Grey & White","N/A","N/A",0,2,4,9.8039215686274508E-3,220,"Yes"]
["3091031965-66",309103,null,null,9103,null,"1965-66","Yes","IT",17,"x","Germany","DB","No","Passenger","With compartment","1° class","2'2'","N/A","No",1947,1991,"III b","FS 1946","A","N/A",14208,"Never existed in any official roster. Based on an Italian Series FS 1946 coach design","N/A","N/A","N/A","N/A","DB-Kobaltblau","Blue","Grey","Blue","N/A","Blue","Grey & White","N/A","N/A",0,2,4,9.8039215686274508E-3,220,"Yes"]
["3091041965-66",309104,null,null,9104,null,"1965-66","Yes","IT",17,"x","Germany","DB","No","Passenger","With compartment","2° class","2'2'","N/A","No",1947,1991,"III b","FS 1946","B","N/A",14208,"Never existed in any official roster. Based on an Italian Series FS 1946 coach design","N/A","N/A","N/A","N/A","DB-Grün","Green","Grey","Green","N/A","Green","Grey & White","N/A","N/A",0,2,4,9.8039215686274508E-3,220,"Yes"]
["3091071965-66",309107,null,null,9107,null,"1965-66","Yes","IT",17,"x","France","SNCF","No","Passenger","With compartment","1° class","2'2'","N/A","Yes",1956,1994,"III b / IV a / IV b","DEV Inox Mistral","A8","Series 1956","N/A","22 units, built in 1956 and numbered 61 87 18-89 826/847","N/A","Le Mistral","N/A","N/A","Inox","Grey","Grey","Grey","N/A","Grey","Grey & White","N/A","N/A",0,2,4,0.01,235,"Yes"]
["3091091965-66",309109,null,null,9109,null,"1965-66","Yes","IT",18,"x","Holland","NS","No","Passenger","With central corridor","1° class","2'2'","N/A","Yes",1955,1988,"III a / III b","Plan E","A","N/A",6501,"46 units, built between 1954-55 and numbered originally 6501/46 (after 1968 del 50 84 18-37 201/246)","N/A","N/A","N/A","N/A","Pruisisch blauw","Blue","Grey","Blue","Yellow","Blue","Grey & White","N/A","N/A",0,2,4,0.01,253,"Yes"]
["3091101965-66",309110,null,null,9110,null,"1965-66","Yes","IT",18,"x","Holland","NS","No","Passenger","With central corridor","2° class","2'2'","N/A","Yes",1955,1986,"III a / III b","Plan E","B","N/A",6601,"114 units, built between 1954-55 and numbered originally 6601/714 (after 1968 50 85 29-37 201/314)","N/A","N/A","N/A","N/A","Pruisisch blauw","Blue","Grey","Blue","Yellow","Blue","Grey & White","N/A","N/A",0,2,4,0.01,253,"Replace"]
["3093051965-66",309305,null,null,9305,null,"1965-66","Yes","IT",18,"x","Holland","NS","No","Passenger","With central corridor","Restaurant","2'2'","N/A","Yes",1955,1988,"III a / III b","Plan E","BKD","N/A",6901,"26 units, built between 1954-55 and numbered originally 6901/26 (after 1968 50 84 87-37 201/26)","Restauratie","N/A","N/A","N/A","Pruisisch blauw","Blue","Grey","Blue","Yellow","Blue","Grey & White","N/A","N/A",0,2,4,0.01,253,"Yes"]
["3093011965-66",309301,null,null,9301,null,"1965-66","Yes","IT",19,"x","Belgium","CIWL","No","Passenger","Baggage","Baggage","2'2'","N/A","Yes",1927,1984,"II / III a / III b","Nord","Dd4","N/A",25140,"30 units, built in 1927. With \"hunch\" type panoramic dome coach","N/A","N/A","N/A","CIWL","CIWL","Blue","Grey","Blue","Yellow","Blue","Grey & White","N/A","N/A",0,2,4,0.01,216,"Yes"]
["3092021965-66",309202,null,null,9202,null,"1965-66","Yes","IT",19,"x","Belgium","CIWL","No","Passenger","With central corridor","Restaurant","2'2'","N/A","Yes",1926,1971,"II / III a / III b","Pullman","Pullman","N/A",4730,"Former 1° Class coach refurbished to dining car","N/A","N/A","N/A","CIWL","CIWL","Blue","Grey","Blue","Yellow","Blue","Grey & White","N/A","N/A",0,2,4,0.01,216,"Yes"]
["3092011965-66",309201,null,null,9201,null,"1965-66","Yes","IT",19,"x","Belgium","CIWL","No","Passenger","Parlor","1° class","2'2'","N/A","Yes",1926,1971,"II / III a / III b","Pullman","Pullman","N/A",9042,"211 units, built between 1926-30","N/A","N/A","N/A","CIWL","CIWL","Blue","Grey","Blue","White","Blue","Grey & White","N/A","N/A",0,2,4,0.01,216,"Yes"]
["3091081965-66",309108,null,null,9108,null,"1965-66","Yes","IT",20,"x","Belgium","S.N.C.B.","No","Passenger","With central corridor","1° & 2° class","2'2'","N/A","Yes",1960,2005,"III b","M2","AB","N/A",43291,"104 units, built between 1958-60 and numbered originally 43201/304 (after 1966 50 88 39-38 601/704)","N/A","N/A","N/A","N/A","Groen","Green","Grey","Green","N/A","Green","Grey & White","N/A","N/A",0,2,4,0.01,253,"Yes"]
["3093031965-66",309303,null,null,9303,null,"1965-66","Yes","IT",20,"x","Belgium","S.N.C.B.","No","Passenger","With central corridor","2° & Baggage","2'2'","N/A","Yes",1959,2005,"III b","M2","BD","N/A",49253,"116 units, built between 1958-60 and numbered originally 49201/316 (after 1966 50 88 82-48 601/716)","N/A","N/A","N/A","N/A","Groen","Green","Grey","Green","N/A","Green","Grey & White","N/A","N/A",0,2,4,0.01,253,"Yes"]
["3091051965-66",309105,null,null,9105,null,"1965-66","Yes","IT",20,"x","Denmark","D.S.B.","No","Passenger","With compartment","2° class","2'2'","N/A","No",1947,1991,"III a / III b","FS 1946","B","N/A",1149,"Never existed in any official roster. Based on an Italian Series FS 1946 coach design","N/A","N/A","N/A","Classic Vingehjul","Rød ","Red","Grey","Red","N/A","Red","Grey & White","N/A","N/A",0,2,4,9.8039215686274508E-3,220,"Yes"]
["3090511965-66",309051,null,null,9051,null,"1965-66","Yes","IT",21,"x","Italy","FS","No","Freight","Flat","With emergency bridge","6'6'","N/A","Yes",1958,1967,"III a / III b","U-type","Uai","N/A",69110,"Built since the late 1950's","N/A","N/A","N/A","N/A","N/A","Green","N/A","Green","N/A","N/A","Grey & White","N/A","N/A",0,2,12,1.1494252873563218E-2,330,"Replace"]
["3090521965-66",309052,null,null,9052,null,"1965-66","Yes","IT",21,"x","France","SNCF","No","Freight","Special","Pig iron torpedo","5'5'","N/A","Yes",1960,1985,"III b / IV a / IV b","U-type","Uaikk","Sz",500765,"Built in the late 1950's. With torpedo type design","CAFL","N/A","N/A","N/A","N/A","Grey","Grey","Grey","N/A","N/A","Grey & White","N/A","N/A",0,2,10,1.1494252873563218E-2,240,"Yes"]
["3090301965-66",309030,null,null,9030,null,"1965-66","Yes","IT",22,"x","Italy","FS","No","Freight","Tank","With ladder","2'2'","N/A","Yes",1958,2004,"III b / IV a / IV b / V a / V b","Z-type","Zacs 33","Uah","N/A","Built since the late 1950's","Esso","N/A","N/A","N/A","N/A","Grey","N/A","Black","N/A","N/A","Grey & White","N/A","N/A",0,2,4,"N/A",146,"Replace"]
["3090311965-66",309031,null,null,9031,null,"1965-66","Yes","IT",22,"x","Italy","FS","No","Freight","Tank","With ladder","2'2'","N/A","Yes",1958,2004,"III b / IV a / IV b / V a / V b","Z-type","Zacs 33","Uah","N/A","Built since the late 1950's","Shell","N/A","N/A","N/A","N/A","Yellow","N/A","Black","N/A","N/A","Grey & White","N/A","N/A",0,2,4,"N/A",146,"Replace"]
["3090321965-66",309032,null,null,9032,null,"1965-66","Yes","IT",22,"x","Italy","FS","No","Freight","Tank","With ladder","2'2'","N/A","Yes",1958,2004,"III b / IV a / IV b / V a / V b","Z-type","Zacs 33","Uah","N/A","Built since the late 1950's","Mobil","N/A","N/A","N/A","N/A","Red","N/A","Black","N/A","N/A","Grey & White","N/A","N/A",0,2,4,"N/A",146,"Replace"]
["3090331965-66",309033,null,null,9033,null,"1965-66","Yes","IT",22,"x","Italy","FS","No","Freight","Tank","With ladder","2'2'","N/A","Yes",1958,2004,"III b / IV a / IV b / V a / V b","Z-type","Zacs 33","Uah","N/A","Built since the late 1950's","BP","N/A","N/A","N/A","N/A","Green","N/A","Black","N/A","N/A","Grey & White","N/A","N/A",0,2,4,"N/A",146,"Replace"]
["3090341965-66",309034,null,null,9034,null,"1965-66","Yes","IT",22,"x","Italy","FS","No","Freight","Tank","With ladder","2'2'","N/A","Yes",1958,2004,"III b / IV a / IV b / V a / V b","Z-type","Zacs 33","Uah","N/A","Built since the late 1950's","Agip","N/A","N/A","N/A","N/A","Grey","N/A","Black","N/A","N/A","Grey & White","N/A","N/A",0,2,4,"N/A",146,"Replace"]
["3020031965-66",302003,null,null,2003,null,"1965-66","Yes","IT",22,"x","Italy","FS","No","Freight","Flat","With drums",2,"N/A","Yes",1959,1995,"III b / IV a / IV b","K-type","Klm 505","Xlm 57","N/A","Built in the late 1950's. Manufactured by LIMA until 1971","N/A","N/A","N/A","N/A","N/A","Grey","N/A","Brown","N/A","N/A","Grey & White","N/A","N/A",0,0,2,0.01,105,"Yes"]
["3090381965-66",309038,null,null,9038,null,"1965-66","Yes","IT",23,"x","Italy","FS","No","Freight","Flat","With wooden planks","2+2","N/A","No",1920,1970,"II / III a / III b / IV a","K-type","Q","Drehschemelwagen","N/A","Built between 1913-24","N/A","N/A","N/A","N/A","N/A","Brown","N/A","Brown","N/A","N/A","Grey & White","N/A","N/A",0,0,4,1.098901098901099E-2,220,"Yes"]
["3090391965-66",309039,null,null,9039,null,"1965-66","Yes","IT",23,"x","Italy","FS","No","Freight","Flat","With pipes","2+2","N/A","No",1920,1970,"II / III a / III b / IV a","K-type","Q","Drehschemelwagen","N/A","Built between 1913-24","Agip","N/A","N/A","N/A","N/A","Red","N/A","Brown","N/A","N/A","Grey & White","N/A","N/A",0,0,4,1.098901098901099E-2,220,"Replace"]
["3090501965-66",309050,null,null,9050,null,"1965-66","Yes","IT",23,"x","Italy","FS","No","Freight","Car transporter","With 6 cars",3,"N/A","Yes",1961,"Operational","III b / IV a / IV b / V a / V b","L-type","Laeqrss 545","Pay","N/A","Built since the early 1960's. Two wagons joined together","SITFA","N/A","N/A","N/A","N/A","Grey","Grey","Grey","N/A","N/A","Grey & White","N/A","N/A",0,0,3,1.2500000000000001E-2,300,"Yes"]
["3027031965-66",302703,null,null,2703,null,"1965-66","Yes","IT",24,"x","Italy","FS","No","Freight","Tank","With ladder",2,"N/A","Yes",1957,2005,"III b / IV a / IV b / V a / V b","Z-type","Zcs 23","Uh","N/A","Built since the late 1950's","Agip","N/A","N/A","N/A","N/A","Grey","N/A","Black","N/A","N/A","Grey & White","N/A","N/A",0,0,2,"N/A",105,"Replace"]
["3027041965-66",302704,null,null,2704,null,"1965-66","Yes","IT",24,"x","Italy","FS","No","Freight","Tank","With ladder",2,"N/A","Yes",1957,2005,"III b / IV a / IV b / V a / V b","Z-type","Zcs 23","Uh","N/A","Built since the late 1950's","BP","N/A","N/A","N/A","N/A","Green","N/A","Black","N/A","N/A","Grey & White","N/A","N/A",0,0,2,"N/A",105,"Yes"]
["3027011965-66",302701,null,null,2701,null,"1965-66","Yes","IT",24,"x","Italy","FS","No","Freight","Tank","With ladder",2,"N/A","Yes",1957,2005,"III b / IV a / IV b / V a / V b","Z-type","Zcs 23","Uh","N/A","Built since the late 1950's","Esso","N/A","N/A","N/A","N/A","Grey","N/A","Black","N/A","N/A","Grey & White","N/A","N/A",0,0,2,"N/A",105,"Yes"]
["3027021965-66",302702,null,null,2702,null,"1965-66","Yes","IT",24,"x","Italy","FS","No","Freight","Tank","With ladder",2,"N/A","Yes",1957,2005,"III b / IV a / IV b / V a / V b","Z-type","Zcs 23","Uh","N/A","Built since the late 1950's","Shell","N/A","N/A","N/A","N/A","Yellow","N/A","Black","N/A","N/A","Grey & White","N/A","N/A",0,0,2,"N/A",105,"Yes"]
["3020081965-66",302008,null,null,2008,null,"1965-66","Yes","IT",24,"x","Italy","FS","No","Freight","Closed","N/A",2,"N/A","Yes",1958,1995,"III a / III b / IV a / IV b / V a","G-type","Gs 210","Gmms 40","N/A","4760 units, built between 1957-61. Manufactured by LIMA until 1971","N/A","N/A","N/A","N/A","N/A","Brown","N/A","Black","N/A","N/A","Grey & White","N/A","N/A",0,0,2,8.3333333333333332E-3,92,"Yes"]
["302008A1965-66",302008,"A",null,"2008A",null,"1965-66","Yes","IT",24,"x","Italy","FS","No","Freight","Closed","N/A",2,"N/A","Yes",1958,1995,"III a / III b","G-type","Gs 210","Gmms 40","N/A","4760 units, built between 1957-61. Manufactured by LIMA until 1971","Derrate Alimentari","N/A","N/A","N/A","N/A","White","Grey","Black","Red","White","Grey & White","N/A","N/A",0,0,2,8.3333333333333332E-3,92,"Yes"]
["302008B1965-66",302008,"B",null,"2008B",null,"1965-66","Yes","IT",24,"x","Italy","FS","No","Freight","Closed","N/A",2,"N/A","Yes",1956,1995,"III a / III b / IV a / IV b / V a","G-type","Ibblps 393","Tnohs 50","N/A","175 units, refurbished between 1955-57 from former Glmhs 50 wagons. For transport of Bananas. Manufactured by LIMA until 1971","Banane","N/A","N/A","N/A","N/A","Yellow","Grey","Black","N/A","Yellow","Grey & White","N/A","N/A",0,0,2,8.3333333333333332E-3,92,"Yes"]
["302007B1965-66",302007,"B",null,"2007B",null,"1965-66","Yes","IT",24,"x","Italy","FS","No","Freight","Flat","Empty and with brakeman's cabin",2,"N/A","Yes",1925,1970,"III a / III b / IV a","K-type","O 10","P con garitta","N/A","Built in the mid 1920's","N/A","N/A","N/A","N/A","N/A","Brown","N/A","Brown","N/A","N/A","Grey & White","N/A","N/A",0,0,2,0.01,100,"Yes"]
["3020051965-66",302005,null,null,2005,null,"1965-66","Yes","IT",25,"x","Italy","FS","No","Freight","Hopper","With tippable bascule",2,"N/A","Yes",1962,2005,"III b / IV a / IV b / V a / V b","F-type","Fcs 090","Otmm 70","N/A","16500 units, built between 1962-71. Manufactured by LIMA until 1971","N/A","N/A","N/A","N/A","N/A","Red","N/A","Brown","N/A","N/A","Grey & White","N/A","N/A",0,0,2,9.5238095238095247E-3,92,"Replace"]
["3020141965-66",302014,null,null,2014,null,"1965-66","Yes","IT",25,"x","Italy","FS","No","Freight","Flat","With bascule",2,"N/A","Yes",1959,1995,"III b / IV a / IV b","K-type","Klm 505","Xlm 57","N/A","Built in the late 1950's. Manufactured by LIMA until 1971","N/A","N/A","N/A","N/A","N/A","Grey","N/A","Brown","N/A","N/A","Grey & White","N/A","N/A",0,0,2,0.01,105,"Yes"]
["3020041965-66",302004,null,null,2004,null,"1965-66","Yes","IT",25,"x","Italy","FS","No","Freight","Flat","With transformer",2,"N/A","Yes",1959,1995,"III b / IV a / IV b","K-type","Klm 505","Xlm 57","N/A","Built in the late 1950's. Manufactured by LIMA until 1971","N/A","N/A","N/A","N/A","N/A","Grey","N/A","Brown","N/A","N/A","Grey & White","N/A","N/A",0,0,2,0.01,105,"Replace"]
["3020091965-66",302009,null,null,2009,null,"1965-66","Yes","IT",25,"x","Italy","FS","No","Freight","Open","Empty",2,"N/A","Yes",1956,2005,"III b / IV a / IV b / V a / V b","E-type","Es 025","Tipo 2","N/A","Built in the mid 1950's. Manufactured by LIMA until 1971","N/A","N/A","N/A","N/A","N/A","Brown","N/A","Black","N/A","N/A","Grey & White","N/A","N/A",0,0,2,1.0526315789473684E-2,105,"Replace"]
["302009C1965-66",302009,"C",null,"2009C",null,"1965-66","Yes","IT",25,"x","Italy","FS","No","Freight","Open","With cargo",2,"N/A","Yes",1956,2005,"III b / IV a / IV b / V a / V b","E-type","Es 025","Tipo 2","N/A","Built in the mid 1950's. With coal load","N/A","N/A","N/A","N/A","N/A","Brown","N/A","Black","N/A","N/A","Grey & White","N/A","N/A",0,0,2,1.0526315789473684E-2,105,"Replace"]
["302009SV1965-66",302009,"SV",null,"2009SV",null,"1965-66","Yes","IT",24,"x","Italy","SVF","No","Freight","Open","Empty",2,"N/A","Yes",1956,2005,"III b / IV a / IV b / V a / V b","E-type","Es 025","Tipo 2","N/A","Built in the mid 1950's. Manufactured by LIMA until 1971","N/A","N/A","N/A","N/A","N/A","Green","N/A","Black","N/A","N/A","Grey & White","N/A","N/A",0,0,2,1.0526315789473684E-2,105,"Yes"]
["3031011965-66",303101,null,null,3101,null,"1965-66","Yes","IT",25,"x","Norway","N.S.B.","No","Freight","Closed","With sliding door",2,"N/A","Yes",1924,1973,"III a / III b","G-type","Gbkl 238","Gl Dresden","G4 41169","Built since the early 1920's","N/A","N/A","N/A","N/A","N/A","Brown","Grey","Black","N/A","Brown","Grey & White","N/A","N/A",0,0,2,1.0416666666666666E-2,126,"Yes"]
["3031021965-66",303102,null,null,3102,null,"1965-66","Yes","IT",25,"x","Italy","FS","No","Freight","Closed","With sliding door",2,"N/A","Yes",1930,1976,"II / III a / III b / IV a","G-type","Gbkl 238","Gl Dresden","F 1160106","Built since the early 1920's","N/A","N/A","N/A","N/A","N/A","Brown","Grey","Black","N/A","Brown","Grey & White","N/A","N/A",0,0,2,1.0416666666666666E-2,126,"Yes"]
["208026CL1966-67",208026,"CL",null,"8026CL",null,"1966-67","Yes","IT",3,"x","Italy","FS","No","Locomotive","Electric","Express service","Bo'Bo'Bo'","N/A","Yes",1964,2005,"III b / IV a / IV b / V a","E-646","E-646","N/A","E646 060","198 units, built between 1961-67 and numbered E.646.021/210. Focus on Passenger services","N/A","N/A","N/A","E-646 2° series","Grigio nebbia-Verde magnolia","White","White","Green","Green","White","Grey & White","G-Motor","Double arm",2,3,6,1.1494252873563218E-2,210,"Yes"]
["208028CL1966-67",208028,"CL",null,"8028CL",null,"1966-67","Yes","IT",3,"x","Italy","FS","No","Locomotive","Electric","Freight","Bo'Bo'Bo'","N/A","Yes",1962,2005,"III b / IV a","E-645","E-645","N/A","E645 080","60 units, built between 1961-67 and numbered E.645.033/093. Focus on Freight services","N/A","N/A","N/A","E-646 2° series","Castano-Isabella ","Brown","Brown","Brown","White","Brown","Grey & White","G-Motor","Double arm",2,3,6,1.1494252873563218E-2,210,"Yes"]
["208022CL1966-67",208022,"CL",null,"8022CL",null,"1966-67","Yes","IT",4,"x","Italy","FS","No","Locomotive","Electric","Multipurpose","Bo'Bo'","N/A","Yes",1951,2001,"III a / III b / IV a / IV b","E-424","E-424","N/A","E424 143","158 units, built between 1943-51 and numbered E.424.001/158. Focus on mixed-traffic services (Passenger and Freight)","N/A","N/A","N/A","N/A","Castano-Isabella ","Brown","Brown","Brown","N/A","Brown","Grey & White","G-Motor","Double arm",2,2,4,1.1235955056179775E-2,174,"Yes"]
["208021CL1966-67",208021,"CL",null,"8021CL",null,"1966-67","Yes","IT",4,"x","France","SNCF","No","Locomotive","Electric","Express service","Bo'Bo'","N/A","Yes",1958,2003,"III b / IV a","BB Jacquemin","BB-9200","N/A",9210,"90 units, built between 1957-63 and numbered 9201/90. Focus on express Passenger services","N/A","N/A","Jacquemin","Macaron","Verte","Green","Green","Green","N/A","Green","Grey & White","G-Motor","Double arm",2,2,4,1.1494252873563218E-2,185,"Yes"]
["208024CL1966-67",208024,"CL",null,"8024CL",null,"1966-67","Yes","IT",4,"x","Holland","NS","No","Locomotive","Electric","Multipurpose","Co'Co'","N/A","Yes",1952,1994,"III a / III b / IV a / IV b","NS 1200","Series 1200","N/A",1220,"25 units, built between 1949-51 and numbered 1201/25. Focus on mixed-traffic services (regional Passenger and Freight)","N/A","N/A","Big nose","Gevleugeld spoorwiel","Pruisisch blauw","Blue","Blue","Blue","Yellow","Blue","Grey & White","G-Motor","Double arm",2,2,6,1.1904761904761904E-2,215,"Yes"]
["208029CL1966-67",208029,"CL",null,"8029CL",null,"1966-67","Yes","IT",5,"x","France","SNCF","No","Locomotive","Electric","Express service","Co'Co'","N/A","Yes",1955,1990,"III b / IV a / IV b / V a","CC-7100","CC-7100","CC-7100",7140,"58 units, built between 1952-54 and numbered 7101/54. Focus on express Passenger services","N/A","N/A","N/A","Macaron","Verte","Green","Green","Green","Grey","Green","Grey & White","G-Motor","Double arm",2,2,6,1.1494252873563218E-2,217,"Yes"]
["208030CL1966-67",208030,"CL",null,"8030CL",null,"1966-67","Yes","IT",5,"x","Holland","NS","No","Locomotive","Electric","Freight","Co'Co'","N/A","Yes",1953,1999,"III a / III b / IV a","NS 1300","Series 1300","CC-7100",1310,"16 units, built between 1952-56 based on a French CC-7100 locomotive design and numbered 1301/16. Focus on heavy Freight services","N/A","N/A","N/A","Gevleugeld spoorwiel","Pruisisch blauw","Blue","Blue","Blue","White","Blue","Grey & White","G-Motor","Double arm",2,2,6,1.1494252873563218E-2,217,"Yes"]
["2080231966-67",208023,null,null,8023,null,"1966-67","Yes","IT",6,"x","Italy","FS","No","Locomotive","Diesel","Multipurpose","B'B'","N/A","Yes",1959,2005,"III b / IV a","D-342","D-342.4","N/A","D342 4005","17 units, built between 1957-59 and numbered D.342.4001. Focus on mixed-traffic services (Passenger and Freight)","N/A","N/A","N/A","Ansaldo","Castano-Isabella ","Brown","Brown","Red","White","Brown","Grey & White","G-Motor","N/A",0,2,4,1.2195121951219513E-2,185,"Yes"]
["208027CL1966-67",208027,"CL",null,"8027CL",null,"1966-67","Yes","IT",6,"x","Belgium","S.N.C.B.","No","Locomotive","Electric","Express service","Bo'Bo'","N/A","Yes",1962,2000,"IV a / IV b","Series 15","HLE 15","Series 15",1505,"5 units, built in 1962 and numbered originally 150.001/5 (after 1971 1501/5). Focus on TEE express Passenger services on the PBA axis","N/A","N/A","N/A","N/A","SNCB-Bleu 1","Blue","Grey","Grey","White","Blue","Grey & White","G-Motor","Single arm",2,2,4,1.1235955056179775E-2,200,"Yes"]
["208025CL1966-67",208025,"CL",null,"8025CL",null,"1966-67","Yes","IT",6,"x","Belgium","S.N.C.B.","No","Locomotive","Electric","Multipurpose","Bo'Bo'","N/A","Yes",1956,2012,"IV a / IV b","Series 23","HLE 23","Series 23",2371,"83 units, built between 1955-57 and numbered originally 122.001/083 (after 1971 2301/83). Focus on mixed-traffic services (regional Passenger and Freight)","N/A","N/A","N/A","N/A","Groen","Green","Grey","Grey","Grey","Green","Grey & White","G-Motor","Double arm",2,2,4,1.1904761904761904E-2,215,"Yes"]
["201022CL1966-67",201022,"CL",null,"1022CL",null,"1966-67","Yes","IT",7,"x","France","SNCF","No","Locomotive","Electric","Express service","C'C'","N/A","Yes",1964,1995,"III b / IV a / IV b","CC-40100","CC-40100","N/A",40101,"4 units, built in 1964 and numbered 40101/4. Focus on express Passenger services TEE between France-Belgium","N/A","TEE","N/A","Macaron","Inox","Grey","Grey","Grey","Red","Grey","Grey & White","G-Motor","Single arm",2,2,6,1.1494252873563218E-2,255,"Yes"]
["3010231966-67",301023,null,null,1023,null,"1966-67","Yes","IT",7,"x","Belgium","S.N.C.B.","No","Passenger","With central corridor","1° class","2'2'","N/A","Yes",1964,1997,"III b","PBA 62","A8tuj","A8smyfi","N/A","11 units, built between 1962-63 and numbered 61 88 18-89 980/990","Trans Europ Express","TEE","N/A","N/A","Inox","Grey","Grey","Grey","Red","Grey","Grey & White","N/A","N/A",0,2,4,1.0416666666666666E-2,265,"Yes"]
["101002CL1966-67",101002,"CL",null,"1002CL",null,"1966-67","Yes","IT",9,"x","France","SNCF","DMU","Passenger","Set","Express service","B'2'+2'2'+2'B'","Starter","Yes",1956,2006,"III b / IV a","Rame à Grand Parcours","TEE Parsifal","RGP 1","N/A","3-unit train comprised of DMU Motor #1003, Intermediate #1004 and Driving trailer #1005","Trans Europ Express","TEE","N/A","N/A","TEE","Cream","Red","Red","Cream","Bicolor","Cream","G-Motor","N/A",0,2,4,1.0526315789473684E-2,794,"Yes"]
["201003CL1966-67",201003,"CL",null,"1003CL",null,"1966-67","Yes","IT",8,"x","France","SNCF","DMU","Locomotive","Diesel","1° class","B'2'","N/A","Yes",1956,2006,"III b / IV a","Rame à Grand Parcours","X-2770","RGP 1","N/A","Motor of DMU RGP 1 with 1° Class","N/A","TEE","N/A","N/A","TEE","Cream","Red","Red","Cream","Bicolor","Grey & White","G-Motor","N/A",0,2,4,1.0526315789473684E-2,277,"Yes"]
["2010041966-67",201004,null,null,1004,null,"1966-67","Yes","IT",8,"x","France","SNCF","DMU","Passenger","With central corridor","1° class","2'2'","N/A","Yes",1956,2006,"III b / IV a","Rame à Grand Parcours","XR-7700","RGP 1","N/A","Intermediate of DMU RGP 1","Trans Europ Express","TEE","N/A","N/A","TEE","Cream","Red","Red","Cream","Bicolor","Grey & White","N/A","N/A",0,2,4,1.0526315789473684E-2,240,"Yes"]
["2010051966-67",201005,null,null,1005,null,"1966-67","Yes","IT",8,"x","France","SNCF","DMU","Locomotive","Dummy","1° class","B'2'","N/A","Yes",1956,2006,"III b / IV a","Rame à Grand Parcours","X-2770","RGP 1","N/A","Driving trailer of DMU RGP 1 with 1° Class","N/A","TEE","N/A","N/A","TEE","Cream","Red","Red","Cream","Bicolor","Grey & White","N/A","N/A",0,2,4,1.0526315789473684E-2,277,"Yes"]
["2090211966-67",209021,null,null,9021,null,"1966-67","Yes","IT",8,"x","Germany","DB","No","Locomotive","Steam","Multipurpose","2-8-0/4-4","N/A","Yes",1938,1965,"III a","Preußische G 8.1","BR-055","DRG-56.2-8",680,"691 units, refurbished between 1934-41 from former G 8.1 locomotives with an additional axis and numbered 056 201/891. Focus on mixed-traffic services (Passenger and Freight)","N/A","N/A","N/A","N/A","N/A","Black","Black","Black","Red","Black","Grey & White","G-Motor","N/A",0,0,5,1.3698630136986301E-2,250,"Yes"]
[{"$f":"+B389&C389&F389&G389","v":"2030011966-67"},203001,null,null,3001,null,"1966-67","Yes","IT",8,"x","Italy","FS","No","Locomotive","Steam","Multipurpose","0-8-0/6","N/A","Yes",1919,1959,"II / III a / III b","Preußische G 8.1","Series 460","Preußische G 8.1","N/A","45 units, built between 1913-1919 and numbered 460.001/045. Focus on mixed-traffic services (Passenger and Freight). Received in 1919 as war reparation from Germany","N/A","N/A","N/A","N/A","N/A","Black","Black","Black","N/A","Black","Grey & White","G-Motor","N/A",0,0,4,1.3157894736842105E-2,242,"Yes"]
["2020011966-67",202001,null,null,2001,null,"1966-67","Yes","IT",9,"x","Germany","DRG","No","Locomotive","Steam","Freight","0-6-0/6","N/A","Yes",1895,1936,"II","Preußische G 3","BR-053.70","DRG-53",936,"2068 units, built between 1877-96. Focus on Freight services","N/A","N/A","N/A","N/A","N/A","Black","Black","Black","N/A","Black","Grey & White","G-Motor","N/A",0,0,3,1.3157894736842105E-2,200,"Yes"]
["2016011966-67",201601,null,null,1601,null,"1966-67","Yes","IT",9,"x","Germany","DB","No","Locomotive","Steam","Shunter","0-6-0T","N/A","Yes",1928,1964,"III a / III b","BR-080","BR-080","DRG-80",80005,"39 units, built between 1927-29 and numbered 080 001/39. Focus on shunting operation","N/A","N/A","Einheitslok","N/A","N/A","Black","Black","Black","N/A","Black","Grey & White","G-Motor","N/A",0,0,3,1.3333333333333334E-2,129,"Replace"]
["3091111966-67",309111,null,null,9111,null,"1966-67","Yes","IT",10,"x","Italy","FS","No","Passenger","With compartment","1° class","2'2'","N/A","Yes",1964,1998,"III b","UIC-Y","Az","N/A",23799,"20 units, built between 1961-64 and numbered 23780/799","N/A","N/A","N/A","Televisore","Grigio ardesia","Grey","Grey","Grey","N/A","Grey","Grey & White","N/A","N/A",0,2,4,1.0416666666666666E-2,255,"Yes"]
["3093041966-67",309304,null,null,9304,null,"1966-67","Yes","IT",10,"x","Italy","FS","No","Passenger","Postal","Baggage","2'2'","N/A","Yes",1965,2000,"III b / IV a / IV b","UIC-X","Uiz","Series 1964",1785,"20 units, built between 1964-65","N/A","N/A","N/A","Televisore","Grigio ardesia","Grey","Grey","Grey","N/A","Grey","Grey & White","N/A","N/A",0,2,4,9.7087378640776691E-3,255,"Yes"]
["3090241966-67",309024,null,null,9024,null,"1966-67","Yes","IT",10,"x","Italy","FS","No","Passenger","With central corridor","2° class","2'2'","N/A","Yes",1958,1987,"III b","Corbellini 1947 T","Bz","N/A",34933,"70 units, built between 1958-59 and numbered Bz 34900/34969","N/A","N/A","N/A","N/A","Castano-Isabella ","Brown","Grey","Brown","Cream","Brown","Grey & White","N/A","N/A",0,2,4,1.2987012987012988E-2,240,"Replace"]
["3091011966-67",309101,null,null,9101,null,"1966-67","Yes","IT",10,"x","Italy","FS","No","Passenger","With compartment","1° class","2'2'","N/A","Yes",1947,1991,"III a / III b","FS 1946","Az","N/A",24357,"55 units, built between 1946-53 and numbered Az 13010/56. Erroneously numbered by LIMA. Number corresponds to 2° Class coach but not 1° Class","N/A","N/A","N/A","N/A","Castano-Isabella ","Brown","Grey","Brown","Cream","Brown","Grey & White","N/A","N/A",0,2,4,9.8039215686274508E-3,220,"Yes"]
["3091001966-67",309100,null,null,9100,null,"1966-67","Yes","IT",11,"x","Italy","FS","No","Passenger","With compartment","2° class","2'2'","N/A","Yes",1927,1985,"III a / III b","FS 1921","Abz","N/A",14520,"170 units, built between 1926-27 and numbered originally entre 50.500/670. Erroneously numbered by LIMA. Design corresponds to 1°/2° Class coach while published as 2° Class","N/A","N/A","N/A","N/A","Castano-Isabella ","Brown","Grey","Brown","Cream","Brown","Grey & White","N/A","N/A",0,2,4,1.0752688172043012E-2,240,"Yes"]
["3093021966-67",309302,null,null,9302,null,"1966-67","Yes","IT",11,"x","Italy","FS","No","Passenger","Postal","Baggage","2'2'","N/A","Yes",1957,1990,"III b / IV a","FS 1946","Uz","N/A",28878,"110 units, built between 1946-47 and numbered 83.000/109. Erroneously numbered by LIMA","N/A","N/A","N/A","N/A","N/A","Brown","Grey","Brown","Cream","Brown","Grey & White","N/A","N/A",0,2,4,1.020408163265306E-2,240,"Yes"]
["3091021966-67",309102,null,null,9102,null,"1966-67","Yes","IT",11,"x","Italy","FS","No","Passenger","With compartment","1° class","2'2'","N/A","Yes",1947,1991,"III a / III b","FS 1946","Az","N/A",24357,"55 units, built between 1946-53 and numbered Az 13010/56. Erroneously numbered by LIMA. Number corresponds to 2° Class coach but not 1° Class","N/A","Treno Azzurro","N/A","N/A","Celeste-Blu","Blue","Grey","Blue","Light Blue","Blue","Grey & White","N/A","N/A",0,2,4,9.8039215686274508E-3,220,"Yes"]
["3091051966-67",309105,null,null,9105,null,"1966-67","Yes","IT",11,"x","Denmark","D.S.B.","No","Passenger","With compartment","2° class","2'2'","N/A","No",1947,1991,"III a / III b","FS 1946","B","N/A",1149,"Never existed in any official roster. Based on an Italian Series FS 1946 coach design","N/A","N/A","N/A","Classic Vingehjul","Rød ","Red","Grey","Red","N/A","Red","Grey & White","N/A","N/A",0,2,4,9.8039215686274508E-3,220,"Yes"]
["3091041966-67",309104,null,null,9104,null,"1966-67","Yes","IT",14,"x","Germany","DB","No","Passenger","With compartment","2° class","2'2'","N/A","No",1947,1991,"III b","FS 1946","B","N/A",14208,"Never existed in any official roster. Based on an Italian Series FS 1946 coach design","N/A","N/A","N/A","N/A","DB-Grün","Green","Grey","Green","N/A","Green","Grey & White","N/A","N/A",0,2,4,9.8039215686274508E-3,220,"Yes"]
["3091031966-67",309103,null,null,9103,null,"1966-67","Yes","IT",12,"x","Germany","DB","No","Passenger","With compartment","1° class","2'2'","N/A","No",1947,1991,"III b","FS 1946","A","N/A",14208,"Never existed in any official roster. Based on an Italian Series FS 1946 coach design","N/A","N/A","N/A","N/A","DB-Kobaltblau","Blue","Grey","Blue","N/A","Blue","Grey & White","N/A","N/A",0,2,4,9.8039215686274508E-3,220,"Yes"]
["3091061966-67",309106,null,null,9106,null,"1966-67","Yes","IT",12,"x","Switzerland","SBB/CFF","No","Passenger","With compartment","2° class","2'2'","N/A","No",1947,1991,"III a / III b","FS 1946","B","N/A",6601,"Never existed in any official roster. Based on an Italian Series FS 1946 coach design","N/A","N/A","N/A","Wappen","SBB-Grün","Green","Grey","Green","N/A","Green","Grey & White","N/A","N/A",0,2,4,9.8039215686274508E-3,220,"Yes"]
["3091121966-67",309112,null,null,9112,null,"1966-67","Yes","IT",12,"x","Switzerland","SBB/CFF","No","Passenger","With central corridor","1° class","2'2'","N/A","Yes",1958,"Operational","III b","EW-1 / VU-1","A","EW-1 / VU-1","A2501","180 units, built between 1958-60 and numbered 50 85 18-33 200/319 & 500/559 & 650/655","N/A","N/A","N/A","Wappen","SBB-Grün","Green","Grey","Green","N/A","Grey","Grey & White","N/A","N/A",0,2,4,1.1235955056179775E-2,265,"Yes"]
["3091071966-67",309107,null,null,9107,null,"1966-67","Yes","IT",13,"x","France","SNCF","No","Passenger","With compartment","1° class","2'2'","N/A","Yes",1956,1994,"III b / IV a / IV b","DEV Inox Mistral","A8","Series 1956","N/A","22 units, built in 1956 and numbered 61 87 18-89 826/847","N/A","Le Mistral","N/A","N/A","Inox","Grey","Grey","Grey","N/A","Grey","Grey & White","N/A","N/A",0,2,4,0.01,235,"Yes"]
["3091131966-67",309113,null,null,9113,null,"1966-67","Yes","IT",13,"x","France","SNCF","No","Passenger","With compartment","1° class","2'2'","N/A","Yes",1956,1997,"III b / IV a / IV b","DEV Inox Longue","A9","Series 1956","N/A","19 units, built in 1956 and numbered 51 87 19-87 005/023","N/A","N/A","N/A","N/A","Inox","Grey","Grey","Grey","N/A","Grey","Grey & White","N/A","N/A",0,2,4,1.0526315789473684E-2,265,"Yes"]
["3091081966-67",309108,null,null,9108,null,"1966-67","Yes","IT",13,"x","Belgium","S.N.C.B.","No","Passenger","With central corridor","1° & 2° class","2'2'","N/A","Yes",1960,2005,"III b","M2","AB","N/A",43291,"104 units, built between 1958-60 and numbered originally 43201/304 (after 1966 50 88 39-38 601/704)","N/A","N/A","N/A","N/A","Groen","Green","Grey","Green","N/A","Green","Grey & White","N/A","N/A",0,2,4,0.01,253,"Yes"]
["3093031966-67",309303,null,null,9303,null,"1966-67","Yes","IT",13,"x","Belgium","S.N.C.B.","No","Passenger","With central corridor","2° & Baggage","2'2'","N/A","Yes",1959,2005,"III b","M2","BD","N/A",49253,"116 units, built between 1958-60 and numbered originally 49201/316 (after 1966 50 88 82-48 601/716)","N/A","N/A","N/A","N/A","Groen","Green","Grey","Green","N/A","Green","Grey & White","N/A","N/A",0,2,4,0.01,253,"Yes"]
["3091091966-67",309109,null,null,9109,null,"1966-67","Yes","IT",14,"x","Holland","NS","No","Passenger","With central corridor","1° class","2'2'","N/A","Yes",1955,1988,"III a / III b","Plan E","A","N/A",6501,"46 units, built between 1954-55 and numbered originally 6501/46 (after 1968 del 50 84 18-37 201/246)","N/A","N/A","N/A","N/A","Pruisisch blauw","Blue","Grey","Blue","Yellow","Blue","Grey & White","N/A","N/A",0,2,4,0.01,253,"Yes"]
["3091101966-67",309110,null,null,9110,null,"1966-67","Yes","IT",14,"x","Holland","NS","No","Passenger","With central corridor","2° class","2'2'","N/A","Yes",1955,1986,"III a / III b","Plan E","B","N/A",6601,"114 units, built between 1954-55 and numbered originally 6601/714 (after 1968 50 85 29-37 201/314)","N/A","N/A","N/A","N/A","Pruisisch blauw","Blue","Grey","Blue","Yellow","Blue","Grey & White","N/A","N/A",0,2,4,0.01,253,"Replace"]
["3093051966-67",309305,null,null,9305,null,"1966-67","Yes","IT",14,"x","Holland","NS","No","Passenger","With central corridor","Restaurant","2'2'","N/A","Yes",1955,1988,"III a / III b","Plan E","BKD","N/A",6901,"26 units, built between 1954-55 and numbered originally 6901/26 (after 1968 50 84 87-37 201/26)","Restauratie","N/A","N/A","N/A","Pruisisch blauw","Blue","Grey","Blue","Yellow","Blue","Grey & White","N/A","N/A",0,2,4,0.01,253,"Yes"]
["3093011966-67",309301,null,null,9301,null,"1966-67","Yes","IT",15,"x","Belgium","CIWL","No","Passenger","Baggage","Baggage","2'2'","N/A","Yes",1927,1984,"II / III a / III b","Nord","Dd4","N/A",25140,"30 units, built in 1927. With \"hunch\" type panoramic dome coach","N/A","N/A","N/A","CIWL","CIWL","Blue","Grey","Blue","Yellow","Blue","Grey & White","N/A","N/A",0,2,4,0.01,216,"Yes"]
["3092021966-67",309202,null,null,9202,null,"1966-67","Yes","IT",15,"x","Belgium","CIWL","No","Passenger","With central corridor","Restaurant","2'2'","N/A","Yes",1926,1971,"II / III a / III b","Pullman","Pullman","N/A",4730,"Former 1° Class coach refurbished to dining car","N/A","N/A","N/A","CIWL","CIWL","Blue","Grey","Blue","Yellow","Blue","Grey & White","N/A","N/A",0,2,4,0.01,216,"Yes"]
["3092011966-67",309201,null,null,9201,null,"1966-67","Yes","IT",15,"x","Belgium","CIWL","No","Passenger","Parlor","1° class","2'2'","N/A","Yes",1926,1971,"II / III a / III b","Pullman","Pullman","N/A",9042,"211 units, built between 1926-30","N/A","N/A","N/A","CIWL","CIWL","Blue","Grey","Blue","White","Blue","Grey & White","N/A","N/A",0,2,4,0.01,216,"Yes"]
["3092031966-67",309203,null,null,9203,null,"1966-67","Yes","IT",15,"x","Belgium","CIWL","No","Passenger","With compartment","Sleeper","2'2'","N/A","Yes",1966,1996,"IV a","MU","MU","N/A",4787,"15 units, built in 1966 and numbered 4776/90","N/A","N/A","N/A","CIWL","CIWL","Blue","Grey","Blue","Yellow","Blue","Grey & White","N/A","N/A",0,2,4,0.01,265,"Yes"]
["3090501966-67",309050,null,null,9050,null,"1966-67","Yes","IT",16,"x","Italy","FS","No","Freight","Car transporter","With 6 cars",3,"N/A","Yes",1961,"Operational","III b / IV a / IV b / V a / V b","L-type","Laeqrss 545","Pay","N/A","Built since the early 1960's. Two wagons joined together","SITFA","N/A","N/A","N/A","N/A","Grey","Grey","Grey","N/A","N/A","Grey & White","N/A","N/A",0,0,3,1.2500000000000001E-2,300,"Yes"]
["3090511966-67",309051,null,null,9051,null,"1966-67","Yes","IT",16,"x","Italy","FS","No","Freight","Flat","With emergency bridge","6'6'","N/A","Yes",1958,1967,"III a / III b","U-type","Uai","N/A",69110,"Built since the late 1950's","N/A","N/A","N/A","N/A","N/A","Green","N/A","Green","N/A","N/A","Grey & White","N/A","N/A",0,2,12,1.1494252873563218E-2,330,"Replace"]
["3090521966-67",309052,null,null,9052,null,"1966-67","Yes","IT",16,"x","France","SNCF","No","Freight","Special","Pig iron torpedo","5'5'","N/A","Yes",1960,1985,"III b / IV a / IV b","U-type","Uaikk","Sz",500765,"Built in the late 1950's. With torpedo type design","CAFL","N/A","N/A","N/A","N/A","Grey","Grey","Grey","N/A","N/A","Grey & White","N/A","N/A",0,2,10,1.1494252873563218E-2,240,"Yes"]
["3090301966-67",309030,null,null,9030,null,"1966-67","Yes","IT",17,"x","Italy","FS","No","Freight","Tank","With ladder","2'2'","N/A","Yes",1958,2004,"III b / IV a / IV b / V a / V b","Z-type","Zacs 33","Uah","N/A","Built since the late 1950's","Esso","N/A","N/A","N/A","N/A","Grey","N/A","Black","N/A","N/A","Grey & White","N/A","N/A",0,2,4,"N/A",146,"Replace"]
["3090311966-67",309031,null,null,9031,null,"1966-67","Yes","IT",17,"x","Italy","FS","No","Freight","Tank","With ladder","2'2'","N/A","Yes",1958,2004,"III b / IV a / IV b / V a / V b","Z-type","Zacs 33","Uah","N/A","Built since the late 1950's","Shell","N/A","N/A","N/A","N/A","Yellow","N/A","Black","N/A","N/A","Grey & White","N/A","N/A",0,2,4,"N/A",146,"Replace"]
["3090321966-67",309032,null,null,9032,null,"1966-67","Yes","IT",17,"x","Italy","FS","No","Freight","Tank","With ladder","2'2'","N/A","Yes",1958,2004,"III b / IV a / IV b / V a / V b","Z-type","Zacs 33","Uah","N/A","Built since the late 1950's","Oil","N/A","N/A","N/A","N/A","Red","N/A","Black","N/A","N/A","Grey & White","N/A","N/A",0,2,4,"N/A",146,"Replace"]
["3090331966-67",309033,null,null,9033,null,"1966-67","Yes","IT",17,"x","Italy","FS","No","Freight","Tank","With ladder","2'2'","N/A","Yes",1958,2004,"III b / IV a / IV b / V a / V b","Z-type","Zacs 33","Uah","N/A","Built since the late 1950's","BP","N/A","N/A","N/A","N/A","Green","N/A","Black","N/A","N/A","Grey & White","N/A","N/A",0,2,4,"N/A",146,"Replace"]
["309034A1966-67",309034,"A",null,"9034A",null,"1966-67","Yes","IT",17,"x","Germany","DB","No","Freight","Tank","With ladder","2'2'","N/A","Yes",1958,2004,"III b / IV a","Z-type","Zacs 33","Uah","N/A","Built since the late 1950's","Aral","N/A","N/A","N/A","N/A","Blue","Blue","Black","N/A","N/A","Grey & White","N/A","N/A",0,2,4,"N/A",146,"Replace"]
["3090391966-67",309039,null,null,9039,null,"1966-67","Yes","IT",17,"x","Italy","FS","No","Freight","Flat","With pipes","2+2","N/A","No",1920,1970,"II / III a / III b / IV a","K-type","Q","Drehschemelwagen","N/A","Built between 1913-24","Agip","N/A","N/A","N/A","N/A","Red","N/A","Brown","N/A","N/A","Grey & White","N/A","N/A",0,0,4,1.098901098901099E-2,220,"Replace"]
["3090381966-67",309038,null,null,9038,null,"1966-67","Yes","IT",17,"x","Italy","FS","No","Freight","Flat","With wooden planks","2+2","N/A","No",1920,1970,"II / III a / III b / IV a","K-type","Q","Drehschemelwagen","N/A","Built between 1913-24","N/A","N/A","N/A","N/A","N/A","Brown","N/A","Brown","N/A","N/A","Grey & White","N/A","N/A",0,0,4,1.098901098901099E-2,220,"Yes"]
["3027011966-67",302701,null,null,2701,null,"1966-67","Yes","IT",18,"x","Italy","FS","No","Freight","Tank","With ladder",2,"N/A","Yes",1957,2005,"III b / IV a / IV b / V a / V b","Z-type","Zcs 23","Uh","N/A","Built since the late 1950's","Esso","N/A","N/A","N/A","N/A","Grey","N/A","Black","N/A","N/A","Grey & White","N/A","N/A",0,0,2,"N/A",105,"Yes"]
["3027021966-67",302702,null,null,2702,null,"1966-67","Yes","IT",18,"x","Italy","FS","No","Freight","Tank","With ladder",2,"N/A","Yes",1957,2005,"III b / IV a / IV b / V a / V b","Z-type","Zcs 23","Uh","N/A","Built since the late 1950's","Shell","N/A","N/A","N/A","N/A","Yellow","N/A","Black","N/A","N/A","Grey & White","N/A","N/A",0,0,2,"N/A",105,"Yes"]
["3027041966-67",302704,null,null,2704,null,"1966-67","Yes","IT",18,"x","Italy","FS","No","Freight","Tank","With ladder",2,"N/A","Yes",1957,2005,"III b / IV a / IV b / V a / V b","Z-type","Zcs 23","Uh","N/A","Built since the late 1950's","BP","N/A","N/A","N/A","N/A","Green","N/A","Black","N/A","N/A","Grey & White","N/A","N/A",0,0,2,"N/A",105,"Yes"]
["3027051966-67",302705,null,null,2705,null,"1966-67","Yes","IT",18,"x","Germany","DB","No","Freight","Tank","With ladder",2,"N/A","Yes",1957,2005,"III b / IV a / IV b / V a / V b","Z-type","Zcs 23","Uh","N/A","Built since the late 1950's","Aral","N/A","N/A","N/A","N/A","White","White","Black","N/A","N/A","Grey & White","N/A","N/A",0,0,2,"N/A",105,"Yes"]
["302008A1966-67",302008,"A",null,"2008A",null,"1966-67","Yes","IT",18,"x","Italy","FS","No","Freight","Closed","N/A",2,"N/A","Yes",1958,1995,"III a / III b","G-type","Gs 210","Gmms 40","N/A","4760 units, built between 1957-61. Manufactured by LIMA until 1971","Derrate Alimentari","N/A","N/A","N/A","N/A","White","Grey","Black","Red","White","Grey & White","N/A","N/A",0,0,2,8.3333333333333332E-3,92,"Yes"]
["302009SV1966-67",302009,"SV",null,"2009SV",null,"1966-67","Yes","IT",18,"x","Italy","SVF","No","Freight","Open","Empty",2,"N/A","Yes",1956,2005,"III b / IV a / IV b / V a / V b","E-type","Es 025","Tipo 2","N/A","Built in the mid 1950's. Manufactured by LIMA until 1971","N/A","N/A","N/A","N/A","N/A","Green","N/A","Black","N/A","N/A","Grey & White","N/A","N/A",0,0,2,1.0526315789473684E-2,105,"Yes"]
["302007B1966-67",302007,"B",null,"2007B",null,"1966-67","Yes","IT",18,"x","Italy","FS","No","Freight","Flat","Empty and with brakeman's cabin",2,"N/A","Yes",1925,1970,"III a / III b / IV a","K-type","O 10","P con garitta","N/A","Built in the mid 1920's","N/A","N/A","N/A","N/A","N/A","Brown","N/A","Brown","N/A","N/A","Grey & White","N/A","N/A",0,0,2,0.01,100,"Yes"]
["302008B1966-67",302008,"B",null,"2008B",null,"1966-67","Yes","IT",18,"x","Italy","FS","No","Freight","Closed","N/A",2,"N/A","Yes",1956,1995,"III a / III b / IV a / IV b / V a","G-type","Ibblps 393","Tnohs 50","N/A","175 units, refurbished between 1955-57 from former Glmhs 50 wagons. For transport of Bananas. Manufactured by LIMA until 1971","Banane","N/A","N/A","N/A","N/A","Yellow","Grey","Black","N/A","Yellow","Grey & White","N/A","N/A",0,0,2,8.3333333333333332E-3,92,"Yes"]
["3020081966-67",302008,null,null,2008,null,"1966-67","Yes","IT",18,"x","Italy","FS","No","Freight","Closed","N/A",2,"N/A","Yes",1958,1995,"III a / III b","G-type","Gs 210","Gmms 40","N/A","4760 units, built between 1957-61. Manufactured by LIMA until 1971","N/A","N/A","N/A","N/A","N/A","Brown","N/A","Black","N/A","N/A","Grey & White","N/A","N/A",0,0,2,8.3333333333333332E-3,92,"Yes"]
["3020031966-67",302003,null,null,2003,null,"1966-67","Yes","IT",18,"x","Italy","FS","No","Freight","Flat","With drums",2,"N/A","Yes",1959,1995,"III b / IV a / IV b","K-type","Klm 505","Xlm 57","N/A","Built in the late 1950's. Manufactured by LIMA until 1971","N/A","N/A","N/A","N/A","N/A","Grey","N/A","Brown","N/A","N/A","Grey & White","N/A","N/A",0,0,2,0.01,105,"Yes"]
["3020091966-67",302009,null,null,2009,null,"1966-67","Yes","IT",18,"x","Italy","FS","No","Freight","Open","Empty",2,"N/A","Yes",1956,2005,"III b / IV a / IV b / V a / V b","E-type","Es 025","Tipo 2","N/A","Built in the mid 1950's. Manufactured by LIMA until 1971","N/A","N/A","N/A","N/A","N/A","Brown","N/A","Black","N/A","N/A","Grey & White","N/A","N/A",0,0,2,1.0526315789473684E-2,105,"Replace"]
["302009C1966-67",302009,"C",null,"2009C",null,"1966-67","Yes","IT",18,"x","Italy","FS","No","Freight","Open","With cargo",2,"N/A","Yes",1956,2005,"III b / IV a / IV b / V a / V b","E-type","Es 025","Tipo 2","N/A","Built in the mid 1950's. With coal load","N/A","N/A","N/A","N/A","N/A","Brown","N/A","Black","N/A","N/A","Grey & White","N/A","N/A",0,0,2,1.0526315789473684E-2,105,"Replace"]
["3020051966-67",302005,null,null,2005,null,"1966-67","Yes","IT",19,"x","Italy","FS","No","Freight","Hopper","With tippable bascule",2,"N/A","Yes",1962,2005,"III b / IV a / IV b / V a / V b","F-type","Fcs 090","Otmm 70","N/A","16500 units, built between 1962-71. Manufactured by LIMA until 1971","N/A","N/A","N/A","N/A","N/A","Red","N/A","Brown","N/A","N/A","Grey & White","N/A","N/A",0,0,2,9.5238095238095247E-3,92,"Replace"]
["3020141966-67",302014,null,null,2014,null,"1966-67","Yes","IT",19,"x","Italy","FS","No","Freight","Flat","With bascule",2,"N/A","Yes",1959,1995,"III b / IV a / IV b","K-type","Klm 505","Xlm 57","N/A","Built in the late 1950's. Manufactured by LIMA until 1971","N/A","N/A","N/A","N/A","N/A","Grey","N/A","Brown","N/A","N/A","Grey & White","N/A","N/A",0,0,2,0.01,105,"Yes"]
["3020041966-67",302004,null,null,2004,null,"1966-67","Yes","IT",19,"x","Italy","FS","No","Freight","Flat","With transformer",2,"N/A","Yes",1959,1995,"III b / IV a / IV b","K-type","Klm 505","Xlm 57","N/A","Built in the late 1950's. Manufactured by LIMA until 1971","N/A","N/A","N/A","N/A","N/A","Grey","N/A","Brown","N/A","N/A","Grey & White","N/A","N/A",0,0,2,0.01,105,"Replace"]
["3031011966-67",303101,null,null,3101,null,"1966-67","Yes","IT",19,"x","Norway","N.S.B.","No","Freight","Closed","With sliding door",2,"N/A","Yes",1924,1973,"III a / III b","G-type","Gbkl 238","Gl Dresden","G4 41169","Built since the early 1920's","N/A","N/A","N/A","N/A","N/A","Brown","Grey","Black","N/A","Brown","Grey & White","N/A","N/A",0,0,2,1.0416666666666666E-2,126,"Yes"]
["3031021966-67",303102,null,null,3102,null,"1966-67","Yes","IT",19,"x","Italy","FS","No","Freight","Closed","With sliding door",2,"N/A","Yes",1930,1976,"II / III a / III b / IV a","G-type","Gbkl 238","Gl Dresden","F 1160106","Built since the early 1920's","N/A","N/A","N/A","N/A","N/A","Brown","Grey","Black","N/A","Brown","Grey & White","N/A","N/A",0,0,2,1.0416666666666666E-2,126,"Yes"]
["3031031966-67",303103,null,null,3103,null,"1966-67","Yes","IT",19,"x","Italy","FS","No","Freight","Reefer","With ladder",2,"N/A","Yes",1960,1995,"III b / IV a / IV b / V a","I-type","Ibps-v","Ichqrs 377","11 83 083 0 543-2","Built in the late 1950's. With embossed panel","Interfrigo","N/A","N/A","N/A","N/A","White","Grey","Black","Black","White","Grey & White","N/A","N/A",0,0,2,1.1494252873563218E-2,130,"Yes"]
["3031041966-67",303104,null,null,3104,null,"1966-67","Yes","IT",19,"x","France","SNCF","No","Freight","Reefer","With ladder",2,"N/A","Yes",1960,1995,"III b","I-type","Ibps-v","Ichqrs 377",525013,"100 units, built in the late 1950's. With embossed panel","STEF","N/A","N/A","N/A","N/A","White","Grey","Black","N/A","White","Grey & White","N/A","N/A",0,0,2,1.1494252873563218E-2,130,"Yes"]
["3031051966-67",303105,null,null,3105,null,"1966-67","Yes","IT",19,"x","France","SNCF","No","Freight","Baggage","Sliding door","2'2'","N/A","Yes",1924,1970,"III a / III b","H-type","Mwf","N/A","N/A","250 units, built in 1924. With tail lights","N/A","N/A","N/A","N/A","N/A","Brown","Grey","Black","N/A","Brown","Grey & White","N/A","N/A",0,2,4,1.1494252873563218E-2,142,"Yes"]
["2080231967-68",208023,null,null,8023,null,"1967-68","Yes","ML",2,"x","Italy","FS","No","Locomotive","Diesel","Multipurpose","B'B'","N/A","Yes",1959,2005,"III b / IV a","D-342","D-342.4","N/A","D342 4005","17 units, built between 1957-59 and numbered D.342.4001. Focus on mixed-traffic services (Passenger and Freight)","N/A","N/A","N/A","Ansaldo","Castano-Isabella ","Brown","Brown","Red","White","Brown","Grey & White","G-Motor","N/A",0,2,4,1.2195121951219513E-2,185,"Yes"]
["208022CL1967-68",208022,"CL",null,"8022CL",null,"1967-68","Yes","ML",2,"x","Italy","FS","No","Locomotive","Electric","Multipurpose","Bo'Bo'","N/A","Yes",1951,2001,"III a / III b / IV a / IV b","E-424","E-424","N/A","E424 143","158 units, built between 1943-51 and numbered E.424.001/158. Focus on mixed-traffic services (Passenger and Freight)","N/A","N/A","N/A","N/A","Castano-Isabella ","Brown","Brown","Brown","N/A","Brown","Grey & White","G-Motor","Double arm",2,2,4,1.1235955056179775E-2,174,"Yes"]
["2016041967-68",201604,null,null,1604,null,"1967-68","Yes","ML",2,"x","Germany","DB","No","Locomotive","Electric","Multipurpose","Bo","N/A","Yes",1909,1982,"III a / III b / IV a","BR-169","BR-169","E-69","169 003-1","5 units, built between 1905-30 for Lokalbahn AG München and numbered LAG 1/5. Focus on mixed-traffic services (Passenger and Freight) on the Murnau-Oberammergau line ","N/A","N/A","N/A","N/A","DB-Rot 1","Red","Grey","Grey","N/A","Red","Grey & White","G-Motor","Double arm",1,0,2,1.7857142857142856E-2,130,"Replace"]
["208028CL1967-68",208028,"CL",null,"8028CL",null,"1967-68","Yes","ML",3,"x","Italy","FS","No","Locomotive","Electric","Freight","Bo'Bo'Bo'","N/A","Yes",1962,2005,"III b / IV a","E-645","E-645","N/A","E645 080","60 units, built between 1961-67 and numbered E.645.033/093. Focus on Freight services","N/A","N/A","N/A","E-646 2° series","Castano-Isabella ","Brown","Brown","Brown","White","Brown","Grey & White","G-Motor","Double arm",2,3,6,1.1494252873563218E-2,210,"Yes"]
["2080261967-68",208026,null,null,8026,null,"1967-68","Yes","ML",3,"x","Italy","FS","No","Locomotive","Electric","Express service","Bo'Bo'Bo'","N/A","Yes",1964,2005,"III b / IV a / IV b / V a","E-646","E-646","N/A","E646 060","198 units, built between 1961-67 and numbered E.646.021/210. Focus on Passenger services","N/A","N/A","N/A","E-646 2° series","Grigio nebbia-Verde magnolia","White","White","Green","Green","White","Grey & White","G-Motor","Double arm",2,3,6,1.1494252873563218E-2,210,"Yes"]
["208029CL1967-68",208029,"CL",null,"8029CL",null,"1967-68","Yes","ML",4,"x","France","SNCF","No","Locomotive","Electric","Express service","Co'Co'","N/A","Yes",1955,1990,"III b / IV a / IV b / V a","CC-7100","CC-7100","CC-7100",7140,"58 units, built between 1952-54 and numbered 7101/54. Focus on express Passenger services","N/A","N/A","N/A","Macaron","Verte","Green","Green","Green","Grey","Green","Grey & White","G-Motor","Double arm",2,2,6,1.1494252873563218E-2,217,"Yes"]
["208021CL1967-68",208021,"CL",null,"8021CL",null,"1967-68","Yes","ML",4,"x","France","SNCF","No","Locomotive","Electric","Express service","Bo'Bo'","N/A","Yes",1958,2003,"III b / IV a","BB Jacquemin","BB-9200","N/A",9210,"90 units, built between 1957-63 and numbered 9201/90. Focus on express Passenger services","N/A","N/A","Jacquemin","Macaron","Verte","Green","Green","Green","N/A","Green","Grey & White","G-Motor","Double arm",2,2,4,1.1494252873563218E-2,185,"Yes"]
["201022CL1967-68",201022,"CL",null,"1022CL",null,"1967-68","Yes","ML",5,"x","France","SNCF","No","Locomotive","Electric","Express service","C'C'","N/A","Yes",1964,1995,"III b / IV a / IV b","CC-40100","CC-40100","N/A",40101,"4 units, built in 1964 and numbered 40101/4. Focus on express Passenger services TEE between France-Belgium","N/A","TEE","N/A","Macaron","Inox","Grey","Grey","Grey","Red","Grey","Grey & White","G-Motor","Single arm",2,2,6,1.1494252873563218E-2,255,"Yes"]
[{"$f":"+B453&C453&F453&G453","v":"3010231967-68"},301023,null,null,1023,null,"1967-68","Yes","ML",5,"x","Belgium","S.N.C.B.","No","Passenger","With central corridor","1° class","2'2'","N/A","Yes",1964,1997,"III b","PBA 62","A8tuj","A8smyfi","N/A","11 units, built between 1962-63 and numbered 61 88 18-89 980/990","Trans Europ Express","TEE","N/A","N/A","Inox","Grey","Grey","Grey","Red","Grey","Grey & White","N/A","N/A",0,2,4,1.0416666666666666E-2,265,"Yes"]
["208024CL1967-68",208024,"CL",null,"8024CL",null,"1967-68","Yes","ML",6,"x","Holland","NS","No","Locomotive","Electric","Multipurpose","Co'Co'","N/A","Yes",1952,1994,"III a / III b / IV a / IV b","NS 1200","Series 1200","N/A",1220,"25 units, built between 1949-51 and numbered 1201/25. Focus on mixed-traffic services (regional Passenger and Freight)","N/A","N/A","Big nose","Gevleugeld spoorwiel","Pruisisch blauw","Blue","Blue","Blue","Yellow","Blue","Grey & White","G-Motor","Double arm",2,2,6,1.1904761904761904E-2,215,"Yes"]
["208030CL1967-68",208030,"CL",null,"8030CL",null,"1967-68","Yes","ML",6,"x","Holland","NS","No","Locomotive","Electric","Freight","Co'Co'","N/A","Yes",1953,1999,"III a / III b / IV a","NS 1300","Series 1300","CC-7100",1310,"16 units, built between 1952-56 based on a French CC-7100 locomotive design and numbered 1301/16. Focus on heavy Freight services","N/A","N/A","N/A","Gevleugeld spoorwiel","Pruisisch blauw","Blue","Blue","Blue","White","Blue","Grey & White","G-Motor","Double arm",2,2,6,1.1494252873563218E-2,217,"Yes"]
["208032CL1967-68",208032,"CL",null,"8032CL",null,"1967-68","Yes","ML",7,"x","Germany","DB","No","Locomotive","Electric","Express service","Bo'Bo'","N/A","Yes",1965,1993,"III b","BR-184","BR-184.0","E-410","E410 001","5 units, built in 1965 and numbered originally E410.001/3 & 011/12 (after 1968 184.001/3 & 111/2). Focus on Passenger services between Germany-France-Benelux","N/A","N/A","Europa-Lok","N/A","DB-Kobaltblau","Blue","Blue","Black","Grey","Blue","Grey & White","G-Motor","Double arm",2,2,4,1.1494252873563218E-2,196,"Yes"]
["208031CL1967-68",208031,"CL",null,"8031CL",null,"1967-68","Yes","ML",7,"x","Switzerland","SBB/CFF","No","Railcar","Electric","2° class","Bo'Bo'","N/A","Yes",1959,2005,"III b / IV a / IV b / V a","RBe 4/4","RBe 4/4","RBe 540",1401,"Motor with 2° Class","N/A","N/A","N/A","N/A","SBB-Grün","Green","Grey","Green","N/A","Grey","Grey & White","G-Motor","Double arm",1,2,4,1.098901098901099E-2,260,"Yes"]
["101002CL1967-68",101002,"CL",null,"1002CL",null,"1967-68","Yes","ML",8,"x","France","SNCF","DMU","Passenger","Set","Express service","B'2'+2'2'+2'B'","Starter","Yes",1956,2006,"III b / IV a","Rame à Grand Parcours","TEE Parsifal","RGP 1","N/A","3-unit train comprised of DMU Motor #1003, Intermediate #1004 and Driving trailer #1005","Trans Europ Express","TEE","N/A","N/A","TEE","Cream","Red","Red","Cream","Bicolor","Cream","G-Motor","N/A",0,2,4,1.0526315789473684E-2,794,"Yes"]
["2090211967-68",209021,null,null,9021,null,"1967-68","Yes","ML",9,"x","Germany","DB","No","Locomotive","Steam","Multipurpose","2-8-0/4-4","N/A","Yes",1938,1965,"III a","Preußische G 8.1","BR-055","DRG-56.2-8",680,"691 units, refurbished between 1934-41 from former G 8.1 locomotives with an additional axis and numbered 056 201/891. Focus on mixed-traffic services (Passenger and Freight)","N/A","N/A","N/A","N/A","N/A","Black","Black","Black","Red","Black","Grey & White","G-Motor","N/A",0,0,5,1.3698630136986301E-2,250,"Yes"]
["2020011967-68",202001,null,null,2001,null,"1967-68","Yes","ML",9,"x","Germany","DRG","No","Locomotive","Steam","Freight","0-6-0/6","N/A","Yes",1895,1936,"II","Preußische G 3","BR-053.70","DRG-53",936,"2068 units, built between 1877-96. Focus on Freight services","N/A","N/A","N/A","N/A","N/A","Black","Black","Black","N/A","Black","Grey & White","G-Motor","N/A",0,0,3,1.3157894736842105E-2,200,"Yes"]
["2030011967-68",203001,null,null,3001,null,"1967-68","Yes","ML",9,"x","Italy","FS","No","Locomotive","Steam","Multipurpose","0-8-0/6","N/A","Yes",1919,1959,"II / III a / III b","Preußische G 8.1","Series 460","Preußische G 8.1","N/A","45 units, built between 1913-1919 and numbered 460.001/045. Focus on mixed-traffic services (Passenger and Freight). Received in 1919 as war reparation from Germany","N/A","N/A","N/A","N/A","N/A","Black","Black","Black","N/A","Black","Grey & White","G-Motor","N/A",0,0,4,1.3157894736842105E-2,242,"Yes"]
["2016011967-68",201601,null,null,1601,null,"1967-68","Yes","ML",9,"x","Germany","DB","No","Locomotive","Steam","Shunter","0-6-0T","N/A","Yes",1928,1964,"III a / III b","BR-080","BR-080","DRG-80",80005,"39 units, built between 1927-29 and numbered 080 001/39. Focus on shunting operation","N/A","N/A","Einheitslok","N/A","N/A","Black","Black","Black","N/A","Black","Grey & White","G-Motor","N/A",0,0,3,1.3333333333333334E-2,129,"Replace"]
["208025CL1967-68",208025,"CL",null,"8025CL",null,"1967-68","Yes","ML",10,"x","Belgium","S.N.C.B.","No","Locomotive","Electric","Multipurpose","Bo'Bo'","N/A","Yes",1956,2012,"IV a / IV b","Series 23","HLE 23","Series 23",2371,"83 units, built between 1955-57 and numbered originally 122.001/083 (after 1971 2301/83). Focus on mixed-traffic services (regional Passenger and Freight)","N/A","N/A","N/A","N/A","Groen","Green","Grey","Grey","Grey","Green","Grey & White","G-Motor","Double arm",2,2,4,1.1904761904761904E-2,215,"Yes"]
["208027CL1967-68",208027,"CL",null,"8027CL",null,"1967-68","Yes","ML",10,"x","Belgium","S.N.C.B.","No","Locomotive","Electric","Express service","Bo'Bo'","N/A","Yes",1962,2000,"IV a / IV b","Series 15","HLE 15","Series 15",1505,"5 units, built in 1962 and numbered originally 150.001/5 (after 1971 1501/5). Focus on TEE express Passenger services on the PBA axis","N/A","N/A","N/A","N/A","SNCB-Bleu 1","Blue","Grey","Grey","White","Blue","Grey & White","G-Motor","Single arm",2,2,4,1.1235955056179775E-2,200,"Yes"]
["3091111967-68",309111,null,null,9111,null,"1967-68","Yes","ML",11,"x","Italy","FS","No","Passenger","With compartment","1° class","2'2'","N/A","Yes",1964,1998,"III b","UIC-Y","Az","N/A",23799,"20 units, built between 1961-64 and numbered 23780/799","N/A","N/A","N/A","Televisore","Grigio ardesia","Grey","Grey","Grey","N/A","Grey","Grey & White","N/A","N/A",0,2,4,1.0416666666666666E-2,255,"Yes"]
["3093041967-68",309304,null,null,9304,null,"1967-68","Yes","ML",11,"x","Italy","FS","No","Passenger","Postal","Baggage","2'2'","N/A","Yes",1965,2000,"III b / IV a / IV b","UIC-X","Uiz","Series 1964",1785,"20 units, built between 1964-65","N/A","N/A","N/A","Televisore","Grigio ardesia","Grey","Grey","Grey","N/A","Grey","Grey & White","N/A","N/A",0,2,4,9.7087378640776691E-3,255,"Yes"]
["3090241967-68",309024,null,null,9024,null,"1967-68","Yes","ML",11,"x","Italy","FS","No","Passenger","With central corridor","2° class","2'2'","N/A","Yes",1958,1987,"III b","Corbellini 1947 T","Bz","N/A",34933,"70 units, built between 1958-59 and numbered Bz 34900/34969","N/A","N/A","N/A","N/A","Castano-Isabella ","Brown","Grey","Brown","Cream","Brown","Grey & White","N/A","N/A",0,2,4,1.2987012987012988E-2,240,"Replace"]
["3094011967-68",309401,null,null,9401,null,"1967-68","Yes","ML",11,"x","Italy","SVF","No","Passenger","With central corridor","3° class",2,"N/A","No",1880,1945,"I / II","C-351","C","N/A","N/A","Never existed in any official roster. Based on a Rivarossi fantasy design","N/A","N/A","N/A","N/A","Verde vagone","Green","Green","Green","N/A","Green","Grey & White","N/A","N/A",0,0,2,0.01,160,"Yes"]
["3091011967-68",309101,null,null,9101,null,"1967-68","Yes","ML",11,"x","Italy","FS","No","Passenger","With compartment","1° class","2'2'","N/A","Yes",1947,1991,"III a / III b","FS 1946","Az","N/A",24357,"55 units, built between 1946-53 and numbered Az 13010/56. Erroneously numbered by LIMA. Number corresponds to 2° Class coach but not 1° Class","N/A","N/A","N/A","N/A","Castano-Isabella ","Brown","Grey","Brown","Cream","Brown","Grey & White","N/A","N/A",0,2,4,9.8039215686274508E-3,220,"Yes"]
["3091001967-68",309100,null,null,9100,null,"1967-68","Yes","ML",12,"x","Italy","FS","No","Passenger","With compartment","2° class","2'2'","N/A","Yes",1927,1985,"III a / III b","FS 1921","Abz","N/A",14520,"170 units, built between 1926-27 and numbered originally entre 50.500/670. Erroneously numbered by LIMA. Design corresponds to 1°/2° Class coach while published as 2° Class","N/A","N/A","N/A","N/A","Castano-Isabella ","Brown","Grey","Brown","Cream","Brown","Grey & White","N/A","N/A",0,2,4,1.0752688172043012E-2,240,"Yes"]
["3093021967-68",309302,null,null,9302,null,"1967-68","Yes","ML",12,"x","Italy","FS","No","Passenger","Postal","Baggage","2'2'","N/A","Yes",1957,1990,"III b / IV a","FS 1946","Uz","N/A",28878,"110 units, built between 1946-47 and numbered 83.000/109. Erroneously numbered by LIMA","N/A","N/A","N/A","N/A","N/A","Brown","Grey","Brown","Cream","Brown","Grey & White","N/A","N/A",0,2,4,1.020408163265306E-2,240,"Yes"]
["3091021967-68",309102,null,null,9102,null,"1967-68","Yes","ML",12,"x","Italy","FS","No","Passenger","With compartment","1° class","2'2'","N/A","Yes",1947,1991,"III a / III b","FS 1946","Az","N/A",24357,"55 units, built between 1946-53 and numbered Az 13010/56. Erroneously numbered by LIMA. Number corresponds to 2° Class coach but not 1° Class","N/A","Treno Azzurro","N/A","N/A","Celeste-Blu","Blue","Grey","Blue","Light Blue","Blue","Grey & White","N/A","N/A",0,2,4,9.8039215686274508E-3,220,"Yes"]
["3091051967-68",309105,null,null,9105,null,"1967-68","Yes","ML",12,"x","Denmark","D.S.B.","No","Passenger","With compartment","2° class","2'2'","N/A","No",1947,1991,"III a / III b","FS 1946","B","N/A",1149,"Never existed in any official roster. Based on an Italian Series FS 1946 coach design","N/A","N/A","N/A","Classic Vingehjul","Rød ","Red","Grey","Red","N/A","Red","Grey & White","N/A","N/A",0,2,4,9.8039215686274508E-3,220,"Yes"]
["3091031967-68",309103,null,null,9103,null,"1967-68","Yes","ML",13,"x","Germany","DB","No","Passenger","With compartment","1° class","2'2'","N/A","No",1947,1991,"III b","FS 1946","A","N/A",14208,"Never existed in any official roster. Based on an Italian Series FS 1946 coach design","N/A","N/A","N/A","N/A","DB-Kobaltblau","Blue","Grey","Blue","N/A","Blue","Grey & White","N/A","N/A",0,2,4,9.8039215686274508E-3,220,"Yes"]
["3091041967-68",309104,null,null,9104,null,"1967-68","Yes","ML",13,"x","Germany","DB","No","Passenger","With compartment","2° class","2'2'","N/A","No",1947,1991,"III b","FS 1946","B","N/A",14208,"Never existed in any official roster. Based on an Italian Series FS 1946 coach design","N/A","N/A","N/A","N/A","DB-Grün","Green","Grey","Green","N/A","Green","Grey & White","N/A","N/A",0,2,4,9.8039215686274508E-3,220,"Yes"]
["3091081967-68",309108,null,null,9108,null,"1967-68","Yes","ML",13,"x","Belgium","S.N.C.B.","No","Passenger","With central corridor","1° & 2° class","2'2'","N/A","Yes",1960,2005,"III b","M2","AB","N/A",43291,"104 units, built between 1958-60 and numbered originally 43201/304 (after 1966 50 88 39-38 601/704)","N/A","N/A","N/A","N/A","Groen","Green","Grey","Green","N/A","Green","Grey & White","N/A","N/A",0,2,4,0.01,253,"Yes"]
["3091121967-68",309112,null,null,9112,null,"1967-68","Yes","ML",13,"x","Switzerland","SBB/CFF","No","Passenger","With central corridor","1° class","2'2'","N/A","Yes",1958,"Operational","III b","EW-1 / VU-1","A","EW-1 / VU-1","A2501","180 units, built between 1958-60 and numbered 50 85 18-33 200/319 & 500/559 & 650/655","N/A","N/A","N/A","Wappen","SBB-Grün","Green","Grey","Green","N/A","Grey","Grey & White","N/A","N/A",0,2,4,1.1235955056179775E-2,265,"Yes"]
["3091071967-68",309107,null,null,9107,null,"1967-68","Yes","ML",14,"x","France","SNCF","No","Passenger","With compartment","1° class","2'2'","N/A","Yes",1956,1994,"III b / IV a / IV b","DEV Inox Mistral","A8","Series 1956","N/A","22 units, built in 1956 and numbered 61 87 18-89 826/847","N/A","Le Mistral","N/A","N/A","Inox","Grey","Grey","Grey","N/A","Grey","Grey & White","N/A","N/A",0,2,4,0.01,235,"Yes"]
["3091131967-68",309113,null,null,9113,null,"1967-68","Yes","ML",14,"x","France","SNCF","No","Passenger","With compartment","1° class","2'2'","N/A","Yes",1956,1997,"III b / IV a / IV b","DEV Inox Longue","A9","Series 1956","N/A","19 units, built in 1956 and numbered 51 87 19-87 005/023","N/A","N/A","N/A","N/A","Inox","Grey","Grey","Grey","N/A","Grey","Grey & White","N/A","N/A",0,2,4,1.0526315789473684E-2,265,"Yes"]
["3091061967-68",309106,null,null,9106,null,"1967-68","Yes","ML",14,"x","Switzerland","SBB/CFF","No","Passenger","With compartment","2° class","2'2'","N/A","No",1947,1991,"III a / III b","FS 1946","B","N/A",6601,"Never existed in any official roster. Based on an Italian Series FS 1946 coach design","N/A","N/A","N/A","Wappen","SBB-Grün","Green","Grey","Green","N/A","Green","Grey & White","N/A","N/A",0,2,4,9.8039215686274508E-3,220,"Yes"]
["3093031967-68",309303,null,null,9303,null,"1967-68","Yes","ML",14,"x","Belgium","S.N.C.B.","No","Passenger","With central corridor","2° & Baggage","2'2'","N/A","Yes",1959,2005,"III b","M2","BD","N/A",49253,"116 units, built between 1958-60 and numbered originally 49201/316 (after 1966 50 88 82-48 601/716)","N/A","N/A","N/A","N/A","Groen","Green","Grey","Green","N/A","Green","Grey & White","N/A","N/A",0,2,4,0.01,253,"Yes"]
["3091091967-68",309109,null,null,9109,null,"1967-68","Yes","ML",15,"x","Holland","NS","No","Passenger","With central corridor","1° class","2'2'","N/A","Yes",1955,1988,"III a / III b","Plan E","A","N/A",6501,"46 units, built between 1954-55 and numbered originally 6501/46 (after 1968 del 50 84 18-37 201/246)","N/A","N/A","N/A","N/A","Pruisisch blauw","Blue","Grey","Blue","Yellow","Blue","Grey & White","N/A","N/A",0,2,4,0.01,253,"Yes"]
["3093051967-68",309305,null,null,9305,null,"1967-68","Yes","ML",15,"x","Holland","NS","No","Passenger","With central corridor","Restaurant","2'2'","N/A","Yes",1955,1988,"III a / III b","Plan E","BKD","N/A",6901,"26 units, built between 1954-55 and numbered originally 6901/26 (after 1968 50 84 87-37 201/26)","Restauratie","N/A","N/A","N/A","Pruisisch blauw","Blue","Grey","Blue","Yellow","Blue","Grey & White","N/A","N/A",0,2,4,0.01,253,"Yes"]
["3091101967-68",309110,null,null,9110,null,"1967-68","Yes","ML",15,"x","Holland","NS","No","Passenger","With central corridor","2° class","2'2'","N/A","Yes",1955,1986,"III a / III b","Plan E","B","N/A",6601,"114 units, built between 1954-55 and numbered originally 6601/714 (after 1968 50 85 29-37 201/314)","N/A","N/A","N/A","N/A","Pruisisch blauw","Blue","Grey","Blue","Yellow","Blue","Grey & White","N/A","N/A",0,2,4,0.01,253,"Replace"]
["3091141967-68",309114,null,null,9114,null,"1967-68","Yes","ML",15,"x","Germany","DB","No","Passenger","With compartment","1° class","2'2'","N/A","Yes",1955,1985,"III b","UIC-X","Am 202","A4üm-54","N/A","199 units, built between 1954-55. Kobaltblau livery used for 1° Class services until 1973","N/A","N/A","N/A","Keks","DB-Kobaltblau","Blue","Grey","Blue","N/A","Blue","Grey & White","N/A","N/A",0,2,4,"1/103",255,"Yes"]
["3092031967-68",309203,null,null,9203,null,"1967-68","Yes","ML",16,"x","Belgium","CIWL","No","Passenger","With compartment","Sleeper","2'2'","N/A","Yes",1966,1996,"IV a","MU","MU","N/A",4787,"15 units, built in 1966 and numbered 4776/90","N/A","N/A","N/A","CIWL","CIWL","Blue","Grey","Blue","Yellow","Blue","Grey & White","N/A","N/A",0,2,4,0.01,265,"Yes"]
["3092021967-68",309202,null,null,9202,null,"1967-68","Yes","ML",16,"x","Belgium","CIWL","No","Passenger","With central corridor","Restaurant","2'2'","N/A","Yes",1926,1971,"II / III a / III b","Pullman","Pullman","N/A",4730,"Former 1° Class coach refurbished to dining car","N/A","N/A","N/A","CIWL","CIWL","Blue","Grey","Blue","Yellow","Blue","Grey & White","N/A","N/A",0,2,4,0.01,216,"Yes"]
["3093011967-68",309301,null,null,9301,null,"1967-68","Yes","ML",16,"x","Belgium","CIWL","No","Passenger","Baggage","Baggage","2'2'","N/A","Yes",1927,1984,"II / III a / III b","Nord","Dd4","N/A",25140,"30 units, built in 1927. With \"hunch\" type panoramic dome coach","N/A","N/A","N/A","CIWL","CIWL","Blue","Grey","Blue","Yellow","Blue","Grey & White","N/A","N/A",0,2,4,0.01,216,"Yes"]
["3091011967-68",309101,null,null,9101,null,"1967-68","Yes","ML",16,"x","Italy","FS","No","Passenger","With compartment","1° class","2'2'","N/A","Yes",1947,1991,"III a / III b","FS 1946","Az","N/A",24357,"55 units, built between 1946-53 and numbered Az 13010/56. Erroneously numbered by LIMA. Number corresponds to 2° Class coach but not 1° Class","N/A","N/A","N/A","N/A","Castano-Isabella ","Brown","Grey","Brown","Cream","Brown","Grey & White","N/A","N/A",0,2,4,9.8039215686274508E-3,220,"Yes"]
["3090501967-68",309050,null,null,9050,null,"1967-68","Yes","ML",17,"x","Italy","FS","No","Freight","Car transporter","With 6 cars",3,"N/A","Yes",1961,"Operational","III b / IV a / IV b / V a / V b","L-type","Laeqrss 545","Pay","N/A","Built since the early 1960's. Two wagons joined together","SITFA","N/A","N/A","N/A","N/A","Grey","Grey","Grey","N/A","N/A","Grey & White","N/A","N/A",0,0,3,1.2500000000000001E-2,300,"Yes"]
["3090391967-68",309039,null,null,9039,null,"1967-68","Yes","ML",17,"x","Italy","FS","No","Freight","Flat","With pipes","2+2","N/A","No",1920,1970,"II / III a / III b / IV a","K-type","Q","Drehschemelwagen","N/A","Built between 1913-24","N/A","N/A","N/A","N/A","N/A","Red","N/A","Brown","N/A","N/A","Grey & White","N/A","N/A",0,0,4,1.098901098901099E-2,220,"Replace"]
["3090381967-68",309038,null,null,9038,null,"1967-68","Yes","ML",17,"x","Italy","FS","No","Freight","Flat","With wooden planks","2+2","N/A","No",1920,1970,"II / III a / III b / IV a","K-type","Q","Drehschemelwagen","N/A","Built between 1913-24","N/A","N/A","N/A","N/A","N/A","Brown","N/A","Brown","N/A","N/A","Grey & White","N/A","N/A",0,0,4,1.098901098901099E-2,220,"Yes"]
["3090521967-68",309052,null,null,9052,null,"1967-68","Yes","ML",17,"x","France","SNCF","No","Freight","Special","Pig iron torpedo","5'5'","N/A","Yes",1960,1985,"III b / IV a / IV b","U-type","Uaikk","Sz",500765,"Built in the late 1950's. With torpedo type design","CAFL","N/A","N/A","N/A","N/A","Grey","Grey","Grey","N/A","N/A","Grey & White","N/A","N/A",0,2,10,1.1494252873563218E-2,240,"Yes"]
["3090301967-68",309030,null,null,9030,null,"1967-68","Yes","ML",18,"x","Italy","FS","No","Freight","Tank","With ladder","2'2'","N/A","Yes",1958,2004,"III b / IV a / IV b / V a / V b","Z-type","Zacs 33","Uah","N/A","Built since the late 1950's","Esso","N/A","N/A","N/A","N/A","Grey","N/A","Black","N/A","N/A","Grey & White","N/A","N/A",0,2,4,"N/A",146,"Replace"]
["3090311967-68",309031,null,null,9031,null,"1967-68","Yes","ML",18,"x","Italy","FS","No","Freight","Tank","With ladder","2'2'","N/A","Yes",1958,2004,"III b / IV a / IV b / V a / V b","Z-type","Zacs 33","Uah","N/A","Built since the late 1950's","Shell","N/A","N/A","N/A","N/A","Yellow","N/A","Black","N/A","N/A","Grey & White","N/A","N/A",0,2,4,"N/A",146,"Replace"]
["3090331967-68",309033,null,null,9033,null,"1967-68","Yes","ML",18,"x","Italy","FS","No","Freight","Tank","With ladder","2'2'","N/A","Yes",1958,2004,"III b / IV a / IV b / V a / V b","Z-type","Zacs 33","Uah","N/A","Built since the late 1950's","BP","N/A","N/A","N/A","N/A","Green","N/A","Black","N/A","N/A","Grey & White","N/A","N/A",0,2,4,"N/A",146,"Replace"]
["309034A1967-68",309034,"A",null,"9034A",null,"1967-68","Yes","ML",18,"x","Germany","DB","No","Freight","Tank","With ladder","2'2'","N/A","Yes",1958,2004,"III b / IV a","Z-type","Zacs 33","Uah","N/A","Built since the late 1950's","Aral","N/A","N/A","N/A","N/A","Blue","Blue","Black","N/A","N/A","Grey & White","N/A","N/A",0,2,4,"N/A",146,"Replace"]
["3090321967-68",309032,null,null,9032,null,"1967-68","Yes","ML",18,"x","Italy","FS","No","Freight","Tank","With ladder","2'2'","N/A","Yes",1958,2004,"III b / IV a / IV b / V a / V b","Z-type","Zacs 33","Uah","N/A","Built since the late 1950's","Mobil","N/A","N/A","N/A","N/A","Red","N/A","Black","N/A","N/A","Grey & White","N/A","N/A",0,2,4,"N/A",146,"Replace"]
["3027011967-68",302701,null,null,2701,null,"1967-68","Yes","ML",19,"x","Italy","FS","No","Freight","Tank","With ladder",2,"N/A","Yes",1957,2005,"III b / IV a / IV b / V a / V b","Z-type","Zcs 23","Uh","N/A","Built since the late 1950's","Esso","N/A","N/A","N/A","N/A","Grey","N/A","Black","N/A","N/A","Grey & White","N/A","N/A",0,0,2,"N/A",105,"Yes"]
["3027021967-68",302702,null,null,2702,null,"1967-68","Yes","ML",19,"x","Italy","FS","No","Freight","Tank","With ladder",2,"N/A","Yes",1957,2005,"III b / IV a / IV b / V a / V b","Z-type","Zcs 23","Uh","N/A","Built since the late 1950's","Shell","N/A","N/A","N/A","N/A","Yellow","N/A","Black","N/A","N/A","Grey & White","N/A","N/A",0,0,2,"N/A",105,"Yes"]
["3031051967-68",303105,null,null,3105,null,"1967-68","Yes","ML",21,"x","France","SNCF","No","Freight","Baggage","Sliding door","2'2'","N/A","Yes",1924,1970,"III a / III b","H-type","Mwf","N/A","N/A","250 units, built in 1924. With tail lights","N/A","N/A","N/A","N/A","N/A","Brown","Grey","Black","N/A","Brown","Grey & White","N/A","N/A",0,2,4,1.1494252873563218E-2,142,"Yes"]
["208032CL1968-69",208032,"CL",null,"8032CL",null,"1968-69","Yes","ML",17,"x","Germany","DB","No","Locomotive","Electric","Express service","Bo'Bo'","N/A","Yes",1965,1993,"III b","BR-184","BR-184.0","E-410","E410 001","5 units, built in 1965 and numbered originally E410.001/3 & 011/12 (after 1968 184.001/3 & 111/2). Focus on Passenger services between Germany-France-Benelux","N/A","N/A","Europa-Lok","N/A","DB-Kobaltblau","Blue","Blue","Black","Grey","Blue","Grey & White","G-Motor","Double arm",2,2,4,1.1494252873563218E-2,196,"Yes"]
["3091121968-69",309112,null,null,9112,null,"1968-69","Yes","ML",24,"x","Switzerland","SBB/CFF","No","Passenger","With central corridor","1° class","2'2'","N/A","Yes",1958,"Operational","III b","EW-1 / VU-1","A","EW-1 / VU-1","A2501","180 units, built between 1958-60 and numbered 50 85 18-33 200/319 & 500/559 & 650/655","N/A","N/A","N/A","Wappen","SBB-Grün","Green","Grey","Green","N/A","Grey","Grey & White","N/A","N/A",0,2,4,1.1235955056179775E-2,265,"Yes"]
["302008B1968-69",302008,"B",null,"2008B",null,"1968-69","Yes","ML",31,"x","Germany","DB","No","Freight","Closed","N/A",2,"N/A","Yes",1958,1995,"III a / III b / IV a / IV b / V a","G-type","Gs 210","Gmms 40","N/A","4760 units, built between 1957-61. Manufactured by LIMA until 1971","ASG","N/A","N/A","N/A","N/A","Yellow","Grey","Black","N/A","Yellow","Grey & White","N/A","N/A",0,0,2,8.3333333333333332E-3,92,"Replace"]
["208035CL1969-70",208035,"CL",null,"8035CL",null,"1969-70","Yes","ML",13,"x","France","SNCF","No","Locomotive","Electric","Freight","B'B'","N/A","Yes",1965,2012,"III b / IV a","BB Alsthom","BB-17000","N/A",17009,"105 units, built between 1964-68 and numbered 17001/105. Focus on regional Passenger services in the Île-de-France regionot","N/A","N/A","Danseuse","Macaron","Verte","Green","Green","Green","White","Green","Grey & White","G-Motor","Single arm",2,2,4,1.1494252873563218E-2,172,"Yes"]
["3093021969-70",309302,null,null,9302,null,"1969-70","Yes","ML",25,"x","Italy","FS","No","Passenger","Postal","Baggage","2'2'","N/A","Yes",1957,1990,"III b / IV a","FS 1946","Uz","N/A",28878,"110 units, built between 1946-47 and numbered 83.000/109. Erroneously numbered by LIMA","N/A","N/A","N/A","N/A","N/A","Brown","Grey","Brown","Cream","Brown","Grey & White","N/A","N/A",0,2,4,1.020408163265306E-2,240,"Yes"]
["309034A1969-70",309034,"A",null,"9034A",null,"1969-70","Yes","ML",31,"x","Germany","DB","No","Freight","Tank","With ladder","2'2'","N/A","Yes",1958,2004,"III b / IV a","Z-type","Zacs 33","Uah","N/A","Built since the late 1950's","Aral","N/A","N/A","N/A","N/A","Blue","Blue","Black","N/A","N/A","Grey & White","N/A","N/A",0,2,4,"N/A",146,"Replace"]
["208021CL1970-71",208021,"CL",null,"8021CL",null,"1970-71","Yes","ML",15,"x","France","SNCF","No","Locomotive","Electric","Express service","Bo'Bo'","N/A","Yes",1958,2003,"III b / IV a","BB Jacquemin","BB-9200","N/A",9210,"90 units, built between 1957-63 and numbered 9201/90. Focus on express Passenger services","N/A","N/A","Jacquemin","Macaron","Verte","Green","Green","Green","N/A","Green","Green & Orange","G-Motor","Double arm",2,2,4,1.1494252873563218E-2,185,"Yes"]
["3092031970-71",309203,null,null,9203,null,"1970-71","Yes","ML",31,"x","Belgium","CIWL","No","Passenger","With compartment","Sleeper","2'2'","N/A","Yes",1966,1996,"IV a","MU","MU","N/A",4787,"15 units, built in 1966 and numbered 4776/90","N/A","N/A","N/A","CIWL","CIWL","Blue","Grey","Blue","Yellow","Blue","Green & Orange","N/A","N/A",0,2,4,0.01,265,"Yes"]
["3027161970-71",302716,null,null,2716,null,"1970-71","Yes","ML",40,"x","France","SNCF","No","Freight","Tank","With ladder",2,"N/A","Yes",1957,2005,"III b / IV a / IV b / V a / V b","Z-type","Zcs 23","Uh",599177,"Built since the late 1950's","Total","N/A","N/A","N/A","N/A","Blue","N/A","Black","Black","N/A","Green & Orange","N/A","N/A",0,0,2,"N/A",116,"Yes"]
["303105CL1970-71",303105,"CL",null,"3105CL",null,"1970-71","Yes","ML",47,"x","France","SNCF","No","Freight","Baggage","Sliding door","2'2'","N/A","Yes",1924,1970,"III a / III b","H-type","Mwf","N/A","N/A","250 units, built in 1924. With tail lights","N/A","N/A","N/A","N/A","N/A","Brown","Grey","Black","N/A","Brown","Green & Orange","N/A","N/A",0,2,4,1.1494252873563218E-2,142,"Yes"]
["208034CL1971-72",208034,"CL",null,"8034CL",null,"1971-72","Yes","ML",6,"x","Italy","FS","No","Locomotive","Electric","Express service","Bo'Bo'","N/A","Yes",1967,1986,"IV a / IV b","E-444","E-444P","N/A","E444 001","4 units, built in 1967 as prototype and numbered E.444.001/4. For express Passenger services. With squared front. Refurbished in the mid 1980's to Series E-444R","N/A","N/A","Tartaruga","E-444 1° series","Grigio perla-Blu orientale","White","White","Blue","Blue","Bicolor","Green & Orange","G-Motor","Double arm",2,2,4,1.1235955056179775E-2,190,"Yes"]
["201022CL1971-72",201022,"CL",null,"1022CL",null,"1971-72","Yes","ML",9,"x","France","SNCF","No","Locomotive","Electric","Express service","C'C'","N/A","Yes",1964,1995,"III b / IV a / IV b","CC-40100","CC-40100","N/A",40101,"4 units, built in 1964 and numbered 40101/4. Focus on express Passenger services TEE between France-Belgium","N/A","TEE","N/A","Macaron","Inox","Grey","Grey","Grey","Red","Grey","Green & Orange","G-Motor","Single arm",2,2,6,1.1494252873563218E-2,255,"Yes"]
["3091121971-72",309112,null,null,9112,null,"1971-72","Yes","ML",17,"x","Switzerland","SBB/CFF","No","Passenger","With central corridor","1° class","2'2'","N/A","Yes",1958,"Operational","III b","EW-1 / VU-1","A","EW-1 / VU-1","A2501","180 units, built between 1958-60 and numbered 50 85 18-33 200/319 & 500/559 & 650/655","N/A","N/A","N/A","Wappen","SBB-Grün","Green","Grey","Green","N/A","Grey","Green & Orange","N/A","N/A",0,2,4,1.1235955056179775E-2,265,"Yes"]
["3029051971-72",302905,null,null,2905,null,"1971-72","Yes","ML",22,"x","France","SNCF","No","Freight","Tank","N/A","2'2'","N/A","Yes",1958,2004,"III b","Z-type","Zacs 33","Uah",584368,"Built since the late 1950's","Kuhlmann","N/A","N/A","N/A","N/A","White","White","Black","Green","N/A","Green & Orange","N/A","N/A",0,2,4,"N/A",190,"Yes"]
["302008C1971-72",302008,"C",null,"2008C",null,"1971-72","Yes","ML",24,"x","Italy","FS","No","Freight","Closed","N/A",2,"N/A","Yes",1958,1995,"III a / III b","G-type","Gs 210","Gmms 40","N/A","4760 units, built between 1957-61. Manufactured by LIMA until 1971","Gelati Alemagna","N/A","N/A","N/A","N/A","White","Grey","Black","N/A","White","Green & Orange","N/A","N/A",0,0,2,8.3333333333333332E-3,92,"Replace"]
["208041CL1972-73",208041,"CL",null,"8041CL",null,"1972-73","Yes","ML",6,"x","Italy","FS","No","Locomotive","Electric","Freight","Bo'Bo'","N/A","Yes",1929,1973,"II / III a / III b / IV a","E-400","E-400","N/A","E-400.001","3 units, built between 1927-29 and numbered E.400.001/3. Focus on Freight services in mountainous areas","N/A","N/A","N/A","N/A","Castano-Isabella ","Brown","Brown","Brown","N/A","Brown","Green & Orange","G-Motor","Double arm",1,2,4,1.1111111111111112E-2,128,"Replace"]
["3091111972-73",309111,null,null,9111,null,"1972-73","Yes","ML",14,"x","Italy","FS","No","Passenger","With compartment","1° class","2'2'","N/A","Yes",1964,1998,"III b","UIC-Y","Az","N/A",23799,"20 units, built between 1961-64 and numbered 23780/799","N/A","N/A","N/A","Televisore","Grigio ardesia","Grey","Grey","Grey","N/A","Grey","Green & Orange","N/A","N/A",0,2,4,1.0416666666666666E-2,255,"Yes"]
["3091101972-73",309110,null,null,9110,null,"1972-73","Yes","ML",17,"x","Holland","NS","No","Passenger","With central corridor","2° class","2'2'","N/A","Yes",1955,1986,"III a / III b","Plan E","B","N/A",6601,"114 units, built between 1954-55 and numbered originally 6601/714 (after 1968 50 85 29-37 201/314)","N/A","N/A","N/A","N/A","Pruisisch blauw","Blue","Grey","Blue","Yellow","Blue","Green & Orange","N/A","N/A",0,2,4,0.01,253,"Replace"]
["3029061972-73",302906,null,null,2906,null,"1972-73","Yes","ML",22,"x","France","SNCF","No","Freight","Tank","N/A","2'2'","N/A","Yes",1958,2004,"III b / IV a / IV b / V a / V b","Z-type","Zacs 33","Uah","N/A","Built since the late 1950's","Marcel Millet","N/A","N/A","N/A","N/A","White","White","Black","Yellow","N/A","Green & Orange","N/A","N/A",0,2,4,"N/A",190,"Yes"]
["3031041972-73",303104,null,null,3104,null,"1972-73","Yes","ML",27,"x","France","SNCF","No","Freight","Reefer","With ladder",2,"N/A","Yes",1960,1995,"III b","I-type","Ibps-v","Ichqrs 377",525013,"100 units, built in the late 1950's. With embossed panel","STEF","N/A","N/A","N/A","N/A","White","Grey","Black","N/A","White","Green & Orange","N/A","N/A",0,0,2,1.1494252873563218E-2,130,"Yes"]
["203004CL1973-74",203004,"CL",null,"3004CL",null,"1973-74","Yes","ML",5,"x","France","SNCF","No","Locomotive","Steam","Multipurpose","2-8-2/4-4","N/A","Yes",1947,1974,"III a / III b / IV a","141-R","141-R","N/A",1258,"1340 units, built between 1945-47 and numbered 1/1340. Focus on mixed-traffic services (express Passenger and Freight)","N/A","N/A","Mikado","N/A","N/A","Black","Black","Black","N/A","Black","Green & Orange","G-Motor","N/A",0,0,6,1.1494252873563218E-2,280,"Yes"]
["208049CL1973-74",208049,"CL",null,"8049CL",null,"1973-74","Yes","ML",9,"x","UK","BR","No","Locomotive","Diesel","Multipurpose","Bo'Bo'","N/A","Yes",1960,1989,"IV a","Class 33","Class 33/0","BRCW Type 3","D6524","86 units, built between 1960-61 and numbered originally D6501/86 (after 1973 33001/65). Focus on mixed-traffic services (regional Passenger and Freight). Un-official light blue livery","N/A","N/A","Crompton","Double arrow","BR-Blue","Blue","Blue","Blue","Yellow","Bicolor","Green & Orange","G-Motor","N/A",0,2,4,1.1494252873563218E-2,201,"Yes"]
["3091201973-74",309120,null,null,9120,null,"1973-74","Yes","ML",13,"x","Switzerland","SBB/CFF","No","Passenger","With central corridor","2° class","2'2'","N/A","Yes",1956,"Operational","III b","EW-1 / VU-1","B","EW-1 / VU-1","B6601","1040 units, built between 1956-67 and numbered 50 85 20-33 100/419, 500/719, 730/739 & 20-34 000/459","N/A","N/A","N/A","Wappen","SBB-Grün","Green","Grey","Green","N/A","Grey","Green & Orange","N/A","N/A",0,2,4,1.1235955056179775E-2,265,"Yes"]
["3093131973-74",309313,null,null,9313,null,"1973-74","Yes","ML",17,"x","Germany","DB","No","Passenger","Baggage","Baggage","2'2'","N/A","Yes",1964,1998,"IV a / IV b","UIC-X","Dms 902","Pw4üm-60","51 80 92-40 125-7","8 units, refurbished in 1969 from former Pw4üm-60 coaches and numbered 51 80 92-40 049, 050, 084, 097, 117, 118, 128 & 131. Erroneously numbered by LIMA. Livery used between 1979-74","N/A","N/A","N/A","Keks","Pop","Green","Grey","Green","White","Green","Green & Orange","N/A","N/A",0,2,4,9.7087378640776691E-3,255,"Yes"]
["3028521973-74",302852,null,null,2852,null,"1973-74","Yes","ML",21,"x","Germany","DB","No","Freight","Flat","With 2 containers",2,"N/A","Yes",1969,1999,"IV a / IV b / V a / V b","L-type","Lgjs 573","Lss y 573","N/A","Built in the late 1960's","CNC - Danzas Gemtarusco","N/A","N/A","N/A","N/A","Yellow","Brown","Black","N/A","N/A","Green & Orange","N/A","N/A",0,0,2,1.1494252873563218E-2,170,"Replace"]
["3031041973-74",303104,null,null,3104,null,"1973-74","Yes","ML",23,"x","France","SNCF","No","Freight","Reefer","With ladder",2,"N/A","Yes",1960,1995,"III b","I-type","Ibps-v","Ichqrs 377",525013,"100 units, built in the late 1950's. With embossed panel","STEF","N/A","N/A","N/A","N/A","White","Grey","Black","N/A","White","Green & Orange","N/A","N/A",0,0,2,1.1494252873563218E-2,130,"Yes"]
["3032041973-74",303204,null,null,3204,null,"1973-74","Yes","ML",27,"x","France","SNCF","No","Freight","Hopper","With ladder",2,"N/A","Yes",1960,1999,"III b / IV a / IV b / V a / V b","T-type","Tds 925","Tds 60.2","N/A","Built since the early 1960's","Pechiney Saint Gobain","N/A","N/A","N/A","N/A","White","N/A","White","N/A","N/A","Green & Orange","N/A","N/A",0,0,2,1.2048192771084338E-2,110,"Replace"]
["208030CL1974-75",208030,"CL",null,"8030CL",null,"1974-75","Yes","ML",6,"x","Holland","NS","No","Locomotive","Electric","Freight","Co'Co'","N/A","Yes",1953,1999,"IV a / IV b","NS 1300","Series 1300","CC-7100",1310,"16 units, built between 1952-56 based on a French CC-7100 locomotive design and numbered 1301/16. Focus on heavy Freight services","N/A","N/A","N/A","NS Double arrow","Grijs-geel","Grey","Grey","Grey","Yellow","Grey","Brown & Orange","G-Motor","Double arm",2,2,6,1.1494252873563218E-2,217,"Yes"]
["3092031974-75",309203,null,null,9203,null,"1974-75","Yes","ML",13,"x","Belgium","CIWL","No","Passenger","With compartment","Sleeper","2'2'","N/A","Yes",1966,1996,"IV a","MU","MU","N/A",4787,"15 units, built in 1966 and numbered 4776/90","N/A","N/A","N/A","CIWL","CIWL","Blue","Grey","Blue","Yellow","Blue","Brown & Orange","N/A","N/A",0,2,4,0.01,265,"Yes"]
["3093181974-75",309318,null,null,9318,null,"1974-75","Yes","ML",16,"x","France","SNCF","No","Passenger","With central corridor","1° & Baggage","2'2'","N/A","Yes",1963,1997,"III b / IV a","DEV Inox Longue","A7Dtj","Series 1963","N/A","4 units, built in 1963 and numbered 51 87 81-87 511/4","N/A","N/A","N/A","N/A","Inox","Grey","Grey","Grey","N/A","Grey","Brown & Orange","N/A","N/A",0,2,4,1.0526315789473684E-2,265,"Yes"]
["3028521974-75",302852,null,null,2852,null,"1974-75","Yes","ML",19,"x","Germany","DB","No","Freight","Flat","With 2 containers",2,"N/A","Yes",1969,1999,"IV a / IV b / V a / V b","L-type","Lgjs 573","Lss y 573","N/A","Built in the late 1960's","Hapag Lloyd - LEP","N/A","N/A","N/A","N/A","Brown","White","Black","N/A","N/A","Brown & Orange","N/A","N/A",0,0,2,1.1494252873563218E-2,170,"Replace"]
["3031651974-75",303165,null,null,3165,null,"1974-75","Yes","ML",22,"x","UK","BR","No","Freight","Closed","N/A",2,"N/A","Yes",1953,1986,"IV a / IV b","G-type","Gmbhs 51","Hfrs 312","21 80 214 0 391-0","250 units, refurbished between 1953-61 from former Gmhs 55 wagons (afterwards Gs 206). British gauge compliant","N/A","N/A","N/A","Double arrow","N/A","Brown","Grey","Black","N/A","Brown","Brown & Orange","N/A","N/A",0,0,2,1.1494252873563218E-2,121,"Yes"]
["201003L1975",201003,"L",null,"1003L",null,1975,"Yes","ML",4,"x","France","SNCF","DMU","Locomotive","Diesel","1° class","B'2'","N/A","Yes",1956,2006,"III b / IV a","Rame à Grand Parcours","X-2770","RGP 1","X-2780","Motor of DMU RGP 1 with 1° Class","N/A","TEE","N/A","N/A","TEE","Cream","Red","Red","Cream","Bicolor","Brown & Orange","G-Motor","N/A",0,2,4,1.0526315789473684E-2,277,"Yes"]
["203014L1975",203014,"L",null,"3014L",null,1975,"Yes","ML",6,"x","Germany","DB","No","Locomotive","Steam","Express service","4-6-2/4-4","N/A","Yes",1924,1967,"III a","Bayerische S 3/6","BR-018","Series k","018 505","30 units, built between 1923-24 and numbered originally 3680/3709 (desde 1926 18479/508). Focus on express Passenger services","N/A","N/A","N/A","Deutsche Bundesbahn","N/A","Black","Black","Black","N/A","Black","Brown & Orange","G-Motor","N/A",0,0,3,1.2500000000000001E-2,270,"Yes"]
["208049M1975",208049,"M",null,"8049M",null,1975,"Yes","ML",9,"x","UK","BR","No","Locomotive","Diesel","Multipurpose","Bo'Bo'","N/A","Yes",1960,1989,"IV a","Class 33","Class 33/0","BRCW Type 3","D6524","86 units, built between 1960-61 and numbered originally D6501/86 (after 1973 33001/65). Focus on mixed-traffic services (regional Passenger and Freight). Un-official light blue livery","N/A","N/A","Crompton","Double arrow","BR-Blue","Blue","Blue","Blue","Yellow","Bicolor","Brown & Orange","G-Motor","N/A",0,2,4,1.1494252873563218E-2,201,"Yes"]
["3091351975",309135,null,null,9135,null,1975,"Yes","ML",13,"x","UK","BR","No","Passenger","With compartment","1° class","2'2'","N/A","Yes",1969,"Operational","IV a / IV b","Mark II","FK","Series Mk 2B","W13493","38 units, built in 1969 and numbered 13476/513. Livery used between 1968-82 approx","N/A","Intercity","N/A","N/A","BR-Blue&Grey","Blue","Grey","Blue","Cream","Bicolor","Brown & Orange","N/A","N/A",0,2,4,1.1494252873563218E-2,238,"Yes"]
["3092181975",309218,null,null,9218,null,1975,"Yes","ML",17,"x","Germany","DB","No","Passenger","With central corridor","Restaurant","2'2'","N/A","No",1967,1974,"IV a","UIC-X","WRmh 132","WR4üm-64","52 80 66-80 123-8","1 unit, refurbished in 1970 and numbered 51 80 88-80 235-1. Erroneously numbered by LIMA. Pop livery used between 1970-74. With blind panel","N/A","N/A","N/A","Keks","Pop","Red","Grey","White","N/A","Bicolor","Brown & Orange","N/A","N/A",0,2,4,9.6153846153846159E-3,265,"Replace"]
["3031331975",303133,null,null,3133,null,1975,"No",null,null,"x","UK","BR","No","Freight","Open","Empty",2,"N/A","Yes",1956,2005,"III b / IV a / IV b / V a / V b","E-type","Es 025","WT-3","N/A","Built in the mid 1950's","N/A","N/A","N/A","Double arrow","N/A","Brown","N/A","Brown","N/A","N/A","Brown & Orange","N/A","N/A",0,0,2,1.2048192771084338E-2,121,"Replace"]
["3027111975",302711,null,null,2711,null,1975,"Yes","ML",20,"x","Italy","FS","No","Freight","Tank","N/A",2,"N/A","Yes",1957,2005,"III b / IV a / IV b / V a / V b","Z-type","Zcs 23","Uh","21 87 005 7 426-3","Built since the late 1950's","Esso","N/A","N/A","N/A","N/A","Grey","N/A","Black","Black","N/A","Brown & Orange","N/A","N/A",0,0,2,"N/A",116,"Yes"]
["3028301975",302830,null,null,2830,null,1975,"Yes","ML",22,"x","Italy","FS","No","Freight","Flat","With cargo",2,"N/A","Yes",1925,1970,"III a / III b / IV a","K-type","O 10","P con garitta","P660513","Built in the mid 1920's","Lima","N/A","N/A","Televisore","N/A","Grey","N/A","Brown","N/A","N/A","Brown & Orange","N/A","N/A",0,0,2,1.1494252873563218E-2,116,"Yes"]
["3031711975",303171,null,null,3171,null,1975,"Yes","ML",26,"x","Italy","FS","No","Freight","Open","Empty",2,"N/A","Yes",1956,2005,"IV a / IV b / V a / V b","E-type","Es 025","Tipo 2","21 83 446 0 100-3","Built in the mid 1950's","N/A","N/A","N/A","N/A","N/A","Brown","N/A","Black","N/A","N/A","Brown & Orange","N/A","N/A",0,0,2,1.2048192771084338E-2,121,"Yes"]
["3028541975",302854,null,null,2854,null,1975,"Yes","ML",30,"x","Japan","JNR","No","Freight","Flat","With 5 containers","2'2'","N/A","Yes",1966,1986,"III b / IV a / IV b","L-type","JNR Koki 10000","Koki 10000","N/A","352 units, built in 1966 and numbered 10000/351","N/A","N/A","N/A","N/A","N/A","Green","Green","Brown","N/A","N/A","Brown & Orange","N/A","N/A",0,2,4,0.01,185,"Yes"]
["208071L1975",208071,"L",null,"8071L",null,1975,"Yes","ML",33,"x","USA","AT&SF","No","Locomotive","Diesel","Express service","Co'Co'","N/A","Yes",1968,1999,"IV a","EMD","FP-45","N/A",106,"9 units, built between 1967-68 and numbered 100/108. Focus on Passenger services","N/A","N/A","N/A","Santa Fe","Warbonnet","Grey","Grey","Red","Red","Red","Brown & Orange","G-Motor","N/A",0,2,6,1.1494252873563218E-2,250,"Yes"]
["3031211975",303121,null,null,3121,null,1975,"Yes","ML",34,"x","USA","B&O","No","Freight","Baggage","Caboose","2'2'","N/A","Yes",1930,1982,"II / III a / III b / IV a / IV b","Caboose","Bay window","N/A","C3000","Built between 1923-45 and operational until the mid 1980's","N/A","N/A","N/A","B&O","N/A","Red","Red","Red","N/A","Red","Brown & Orange","N/A","N/A",0,2,4,1.1494252873563218E-2,138,"Replace"]
["3034231975",303423,null,null,3423,null,1975,"Yes","ML",35,"x","USA","NY","No","Freight","Flat","With 1 container","2'2'","N/A","Yes",1968,2000,"III b","R-type","N/A","N/A","N/A","Built since the late 1930's","LEP","N/A","N/A","N/A","N/A","Red","N/A","Brown","N/A","N/A","Brown & Orange","N/A","N/A",0,2,4,1.1494252873563218E-2,145,"Replace"]
["3034911975",303491,null,null,3491,null,1975,"Yes","ML",35,"x","USA","AT&SF","No","Freight","Flat","With circus","2'2'","N/A","Yes",1895,1920,"I","R-type","N/A","N/A","N/A","Built in the late 1890's. With 15 windows","Associated Shows","Circus","N/A","N/A","N/A","Red","Red","Yellow","N/A","N/A","Brown & Orange","N/A","N/A",0,2,4,1.1494252873563218E-2,175,"Yes"]
["201653L1976",201653,"L",null,"1653L",null,1976,"Yes","ML",5,"x","Germany","DB","No","Locomotive","Diesel","Shunter","B","N/A","No",1950,1985,"III b / IV a / IV b / V a","Plymouth","MDT","N/A","N/A","Built in the early 1950's. Focus on light industrial use. DB never owned MDT locomotives, LIMA invention","N/A","N/A","N/A","Keks","DB-Rot 1","Red","Red","Black","Yellow","Red","Red & Blue","G-Motor","N/A",0,0,2,1.1494252873563218E-2,119,"Yes"]
["208057L1976",208057,"L",null,"8057L",null,1976,"Yes","ML",11,"x","South Africa","SAR","No","Locomotive","Electric","Multipurpose","Bo'Bo'","N/A","Yes",1966,2000,"III b / IV a / IV b / V a","SAR 5E1","Class 5E1.4","N/A","E919","100 units, built between 1965-66 and numbered E821/E920. Focus on mixed-traffic services (regional Passenger and Freight)","N/A","N/A","N/A","SAR Wings","Gulf Red","Red","Red","Red","Yellow","Red","Red & Blue","G-Motor","Double arm",2,2,6,1.1111111111111112E-2,172,"Yes"]
["3091361976",309136,null,null,9136,null,1976,"Yes","ML",16,"x","UK","BR","No","Passenger","With central corridor","2° class","2'2'","N/A","Yes",1969,2005,"IV a / IV b","Mark II","TSO","Series Mk 2B","W5449","64 units, built in 1969 and numbered 5434/97. Livery used between 1968-82 approx","N/A","Intercity","N/A","N/A","BR-Blue&Grey","Blue","Grey","Blue","Cream","Bicolor","Red & Blue","N/A","N/A",0,2,4,1.1494252873563218E-2,238,"Yes"]
["3092171976",309217,null,null,9217,null,1976,"Yes","ML",20,"x","Germany","DSG","No","Passenger","With central corridor","Restaurant","2'2'","N/A","Yes",1968,2000,"IV a","UIC-X","WRmh 132","WR4üm-64","61 80 88-80 021-3","9 units, built between 1965-68 and numbered originally 11106/14 (after 1966 88-80 106/14). With blind panel","Speisewagen","TEE","N/A","Gefriergans","TEE","Red","Grey","Red","Cream","Bicolor","Red & Blue","N/A","N/A",0,2,4,9.6153846153846159E-3,265,"Replace"]
["3093041976",309304,null,null,9304,null,1976,"Yes","ML",22,"x","Italy","FS","No","Passenger","Postal","Baggage","2'2'","N/A","Yes",1965,2000,"III b / IV a / IV b","UIC-X","Uiz","Series 1964",1785,"20 units, built between 1964-65","N/A","N/A","N/A","Televisore","Grigio ardesia","Grey","Grey","Grey","N/A","Grey","Red & Blue","N/A","N/A",0,2,4,9.7087378640776691E-3,255,"Yes"]
["3028101976",302810,null,null,2810,null,1976,"Yes","ML",26,"x","Germany","DB","No","Freight","Hopper","With tippable bascule",2,"N/A","Yes",1960,1985,"III b / IV a / IV b","F-type","Btrnr","N/A","N/A","Never existed in any official roster. Based on a Märklin fantasy design","N/A","N/A","N/A","N/A","N/A","Red","N/A","Brown","N/A","N/A","Red & Blue","N/A","N/A",0,0,2,0.01,102,"Yes"]
["3028441976",302844,null,null,2844,null,1976,"Yes","ML",28,"x","Germany","DB","No","Freight","Flat","With 4 round containers",2,"N/A","Yes",1962,1988,"IV a / IV b / V a","L-type","Lbs 584","BTms 55","N/A","Built since the early 1960's","Hoechst","N/A","N/A","N/A","N/A","White","N/A","Black","Blue","N/A","Red & Blue","N/A","N/A",0,0,2,1.2500000000000001E-2,170,"Replace"]
["3031641976",303164,null,null,3164,null,1976,"Yes","ML",32,"x","Germany","DB","No","Freight","Closed","N/A",2,"N/A","Yes",1962,2002,"III b / IV a / IV b / V a / V b","G-type","Gs 216","Gmms",209570,"9000 units, built between 1960-66","ASG","N/A","N/A","N/A","N/A","Yellow","Grey","Black","N/A","Yellow","Red & Blue","N/A","N/A",0,0,2,1.1494252873563218E-2,121,"Yes"]
["3090381976",309038,null,null,9038,null,1976,"Yes","ML",35,"x","Italy","FS","No","Freight","Flat","With wooden planks","2+2","N/A","No",1920,1970,"II / III a / III b / IV a","K-type","Q","Drehschemelwagen","N/A","Built between 1913-24","N/A","N/A","N/A","N/A","N/A","Brown","N/A","Brown","N/A","N/A","Red & Blue","N/A","N/A",0,0,4,1.098901098901099E-2,220,"Yes"]
["208042L1976",208042,"L",null,"8042L",null,1976,"Yes","ML",37,"x","Australia","NSW","No","Locomotive","Diesel","Multipurpose","Co'Co'","N/A","Yes",1966,2014,"III b / IV a / IV b / V a","NSW C44","Class 44","DL500B",4402,"100 units, built between 1957-67 and numbered 4401/100. Focus on mixed-traffic services (regional Passenger and Freight)","N/A","Indian Pacific Express","N/A","N/A","N/A","Brown","Brown","Grey","Yellow","Brown","Red & Blue","G-Motor","N/A",0,2,6,1.1494252873563218E-2,205,"Yes"]
["203008L1976",203008,"L",null,"3008L",null,1976,"Yes","ML",42,"x","USA","PRR","No","Locomotive","Steam","Shunter","0-4-0/4-4","N/A","Yes",1920,1957,"II / III a","PRR A5s","Class A5s","N/A","N/A","47 units, built between 1916-24. Focus on shunting operation","Pennsylvania","N/A","N/A","N/A","N/A","Black","Black","Black","N/A","Black","Red & Blue","G-Motor","N/A",0,0,2,1.1494252873563218E-2,205,"Replace"]
["3031261976",303126,null,null,3126,null,1976,"Yes","ML",43,"x","USA","AT&SF","No","Freight","Baggage","Caboose","2'2'","N/A","Yes",1942,1982,"II / III a / III b / IV a / IV b","Caboose","Bay window","N/A",999056,"Built between 1923-45 and operational until the mid 1980's","N/A","N/A","N/A","SF Cross","N/A","Red","Red","Red","White","Red","Red & Blue","N/A","N/A",0,2,4,1.1494252873563218E-2,138,"Yes"]
["3032511976",303251,null,null,3251,null,1976,"Yes","ML",43,"x","USA","PRR","No","Freight","Flat","With 2 cars","2'2'","N/A","Yes",1940,2000,"III b","R-type","N/A","N/A","N/A","Built since the late 1930's","N/A","N/A","N/A","PRR Pensy","N/A","Brown","N/A","Brown","N/A","N/A","Red & Blue","N/A","N/A",0,2,4,1.1494252873563218E-2,175,"Replace"]
["3034421976",303442,null,null,3442,null,1976,"Yes","ML",44,"x","USA","AT&SF","No","Freight","Flat","With cables","2'2'","N/A","Yes",1940,2000,"IV a / IV b / V a","L-type","N/A","N/A","N/A","Built since the late 1930's","N/A","N/A","N/A","N/A","N/A","Grey","N/A","Brown","N/A","N/A","Red & Blue","N/A","N/A",0,2,4,1.1494252873563218E-2,145,"Replace"]
["208046L1977-78",208046,"L",null,"8046L",null,"1977-78","Yes","DE",10,"x","Switzerland","SBB/CFF","No","Locomotive","Electric","Multipurpose","Co'Co'","N/A","Yes",1952,2013,"III a / III b / IV a / IV b / V a / V b","Ae 6/6","Ae 6/6","Ae 610",11493,"120 units, built between 1952-66 and numbered 11401/520. Focus on mixed-traffic services (Passenger and heavy Freight) on the Gothard axis","Sissach","N/A","N/A","Wappen","SBB-Grün","Green","Grey","Green","N/A","Green","Red & Blue","G-Motor","Double arm",2,2,6,1.1111111111111112E-2,205,"Yes"]
["3091251977-78",309125,null,null,9125,null,"1977-78","Yes","DE",13,"x","Germany","DB","No","Railcar","Trailer","2° class","2'2'","N/A","Yes",1962,1995,"IV a","BR-515","BR-515","ESA-150","815 606-9","2° Class Trailer","N/A","BR-515","N/A","Keks","DB-Rot 1","Red","Grey","Red","Yellow","Red","Red & Blue","N/A","N/A",0,2,4,1.1111111111111112E-2,258,"Yes"]
["3092451977-78",309245,null,null,9245,null,"1977-78","Yes","DE",16,"x","Switzerland","SBB/CFF","No","Passenger","With central corridor","Restaurant","2'2'","N/A","Yes",1958,1985,"IV a / IV b","EW-1 / VU-1","WR","EW-1 / VU-1","50 85 88-33 612-5","7 units, built between 1958-61 and numbered WR 50 85 88-33 610/616","Self-Service","N/A","N/A","Doppelpfeil","SBB-Rot","Red","Grey","Red","White","Yellow","Red & Blue","N/A","Double arm",1,2,4,1.1235955056179775E-2,265,"Yes"]
["3028521977-78",302852,null,null,2852,null,"1977-78","Yes","DE",19,"x","UK","BR","No","Freight","Flat","With 2 containers",2,"N/A","Yes",1969,1999,"IV a / IV b / V a / V b","L-type","Lgjs 573","Lss y 573","21 80 042 9 032-4","Built in the late 1960's","LHB - Scotch Beef","N/A","N/A","N/A","N/A","Light Blue","Orange","Black","N/A","N/A","Red & Blue","N/A","N/A",0,0,2,1.1494252873563218E-2,170,"Yes"]
["3031671977-78",303167,null,null,3167,null,"1977-78","Yes","DE",21,"x","France","SNCF","No","Freight","Closed","N/A",2,"N/A","Yes",1958,1999,"III b / IV a / IV b","G-type","Ibblps 395","Tnomhs 50","N/A","476 units, built between 1957-58. For transport of bananas","Chiquita","N/A","N/A","N/A","N/A","Grey","Brown","Grey","N/A","Grey","Red & Blue","N/A","N/A",0,0,2,1.1494252873563218E-2,121,"Yes"]
["2010121977-78",201012,null,null,1012,null,"1977-78","Yes","DE",29,"x","Japan","JNR","EMU","Passenger","With central corridor","2° class","Bo'Bo'","N/A","Yes",1964,2008,"III b / IV a / IV b / V a / V b","Series 0","M'","N/A","N/A","Intermediate of EMU Series 0 Shinkansen with pantograph","N/A","Tokaido Shinkansen","Bullet train","N/A","Ivory White","White","Grey","Blue","Blue","Bicolor","Red & Blue","N/A","Double arm",1,2,4,1.020408163265306E-2,255,"Yes"]
["3091171977-78",309117,null,null,9117,null,"1977-78","Yes","DE",30,"x","France","SNCF","No","Passenger","With compartment","1° class","2'2'","N/A","Yes",1967,"Operational","IV a","UIC-Y","A9r","Series 1965","51 87 19-90 349-5","19 units, built between 1965-67 and numbered 51 87 19-90 334/352. 200 km/h compatible","N/A","Le Capitole","N/A","N/A","Le Capitole","Red","Grey","Red","White","Bicolor","Red & Blue","N/A","N/A",0,2,4,1.0416666666666666E-2,255,"Yes"]
["3031871977-78",303187,null,null,3187,null,"1977-78","Yes","DE",33,"x","France","SNCF","No","Freight","Closed","With opening roof","2'2'","N/A","No",1973,"Operational","IV a / IV b / V a / V b / VI","T-type","Taems 889","Taehms","21 87 570 3 864-9","645 units, built between 1973-76 and numbered 084 7 350/995. With opening roof. Erroneously numbered by LIMA","N/A","N/A","N/A","N/A","N/A","Brown","Grey","Black","N/A","Brown","Red & Blue","N/A","N/A",0,2,4,1.1494252873563218E-2,160,"Yes"]
["208107L1977-78",208107,"L",null,"8107L",null,"1977-78","Yes","IT",11,"x","France","SNCF","No","Locomotive","Electric","Freight","B'B'","N/A","Yes",1976,"Operational","IV b","BB-7200","BB-7200","BB-7200",7203,"240 units, built between 1976-85 and numbered 7201/440. Focus on mixed-traffic services (Passenger and Freight)","N/A","N/A","Nez Cassé","Encadré","Béton","Grey","Grey","Grey","Orange","Grey","Red & Blue","G-Motor","Single arm",2,2,4,1.1494252873563218E-2,200,"Yes"]
["3053311977-78",305331,null,null,5331,null,"1977-78","Yes","EN",8,"x","UK","BR","No","Passenger","With compartment","2° & Baggage","2'2'","N/A","Yes",1951,1995,"III a","Mark I","BSK","Brake Standard Corridor","M34376","2216 units, built between 1951-63. Livery used between 1950-55 approx. First livery applied post-nationalization","N/A","N/A","N/A","N/A","Blood-Custard","Cream","Grey","Red","Cream","Bicolor","Red & Blue","N/A","N/A",0,2,4,1.3157894736842105E-2,255,"Yes"]
["3056161977-78",305616,null,null,5616,null,"1977-78","Yes","EN",16,"x","UK","GWR","No","Freight","Open","Empty",2,"N/A","Yes",1910,1970,"I / II","E-type","7 Plank Open","12 Ton","N/A","Built between 1904-25 for GWR and operational until the late 1960's","GW","N/A","N/A","N/A","N/A","Grey","N/A","Black","N/A","N/A","Grey","N/A","N/A",0,0,2,1.3157894736842105E-2,83,"Yes"]
["303179E1977-78",303179,"E",null,"3179E",null,"1977-78","Yes","SETS",6,"x","UK","BR","No","Freight","Open","Empty",2,"N/A","Yes",1910,1970,"III a / III b / IV a","E-type","7 Plank Open","12 Ton",26,"Built between 1904-25 for GWR and operational until the late 1960's","Kendall","N/A","N/A","N/A","N/A","Grey","N/A","Black","N/A","N/A","Red & Blue","N/A","N/A",0,0,2,1.3157894736842105E-2,83,"Yes"]
["2010541977-78",201054,null,null,1054,null,"1977-78","Yes","JP",6,"x","Japan","JNR","EMU","Passenger","With central corridor","Only","2'2'","N/A","Yes",1964,"Operational","III b / IV a / IV b / V a / V b","Series 103","Moha 102","N/A","N/A","Intermediate of EMU Series 103 with pantograph","N/A","Wakayama","Kokuden","N/A","Sky Blue","Blue","Grey","Blue","N/A","Blue","Red & Blue","N/A","Double arm",1,2,4,1.2500000000000001E-2,250,"Replace"]
["1063161977-78",106316,null,null,6316,null,"1977-78","Yes","JP",22,"x","Japan","JNR","EMU","Passenger","Set","Regional service","Bo'Bo'+2'2'+Bo'Bo'","Starter","Yes",1964,"Operational","III b / IV a / IV b / V a / V b","Series 103","Akabane","N/A","N/A","3-unit set comprised of EMU Motor #201045, Intermediate #201055, Driving trailer #201065, track and battery power pack","N/A","Akabane","Kokuden","N/A","Canary Yellow","Yellow","Grey","Yellow","N/A","Yellow","Red & Blue","G-Motor","Double arm",1,6,12,1.2500000000000001E-2,750,"Yes"]
["205109M1978-79",205109,"M",null,null,null,"1978-79","Yes","EN",15,"x","UK","LMS","No","Locomotive","Diesel","Shunter","C","N/A","Yes",1945,1969,"III a","Class 08","Class 11","D3/6",7120,"10 units, built between 1945-47 and numbered originally LMS 7120/29 (after 1948 12033/42). Focus on shunting operation","N/A","N/A","Gronk","N/A","N/A","Black","Black","Black","N/A","Black","Grey","G-Motor","N/A",0,0,3,1.4285714285714285E-2,115,"Yes"]
["3056131978-79",305613,null,null,null,null,"1978-79","Yes","EN",21,"x","UK","BR","No","Freight","Open","Empty",2,"N/A","Yes",1910,1970,"III a / III b / IV a","E-type","7 Plank Open","12 Ton","N/A","Built between 1904-25 for GWR and operational until the late 1960's","Evans & Bevan","N/A","N/A","N/A","N/A","Black","N/A","Black","N/A","N/A","Grey","N/A","N/A",0,0,2,1.3157894736842105E-2,83,"Yes"]
["2010721978-79",201072,null,null,null,null,"1978-79","Yes","INTL",9,"x","Austria","OBB","EMU","Locomotive","Dummy","1° class","2'2'","N/A","Yes",1965,2006,"IV b","ÖBB 4010","Series 6010","N/A","6010 07","Driving trailer of EMU 4010 ÖBB with 1° Class","N/A","Transalpin","N/A","Pflatsch","Transalpin","White","White","White","Blue","White","Grey","N/A","N/A",0,2,4,0.01,265,"Yes"]
["2096001978-79",209600,null,null,null,null,"1978-79","Yes","INTL",16,"x","USA","AT&SF","No","Locomotive","Dummy","Express service","Co'Co'","N/A","Yes",1968,1999,"IV a","EMD","FP-45","N/A",106,"9 units, built between 1967-68 and numbered 100/108. Focus on Passenger services","N/A","N/A","N/A","Santa Fe","Warbonnet","Grey","Grey","Red","Red","Red","Grey","N/A","N/A",0,2,6,1.1494252873563218E-2,250,"Yes"]
["3093331978-79",309333,null,null,null,null,"1978-79","Yes","INTL",25,"x","South Africa","SAR","No","Passenger","Baggage","Baggage","2'2'","N/A","Yes",1968,1995,"IV a / IV b / V a","Sabie","K52","N/A","N/A","For Trans-Karoo and Trans-Natal services","N/A","Trans Karoo","N/A","N/A","N/A","Brown","Grey","Brown","Grey","Brown","Grey","N/A","N/A",0,2,4,1.0309278350515464E-2,238,"Yes"]
["3090411978-79",309041,null,null,null,null,"1978-79","Yes","INTL",32,"x","South Africa","SAR","No","Freight","Open","Empty","2'2'","N/A","Yes",1976,"Operational","IV b","E-type","CCR-1","N/A","N/A","Built between 1975-77. For coal transport. With yellow little wheel on the side","N/A","N/A","N/A","N/A","N/A","Brown","N/A","Black","Yellow","N/A","Grey","N/A","N/A",0,2,4,1.1494252873563218E-2,130,"Replace"]
["2010281978-79",201028,null,null,null,null,"1978-79","Yes","IT",9,"x","Italy","FS","EMU","Locomotive","Dummy","2° class","(1A)(A1)","N/A","Yes",1976,1999,"IV b","ETR-401","BA","N/A","ETR-401","Driving trailer of EMU ETR-401 with 2° Class","N/A","ETR-401","Pendolino","Televisore","Pendolino","White","White","White","Blue","White","Grey","N/A","N/A",0,2,4,9.6153846153846159E-3,260,"Yes"]
["208022L1978-79",208022,"L",null,null,null,"1978-79","Yes","IT",13,"x","Italy","FS","No","Locomotive","Electric","Multipurpose","Bo'Bo'","N/A","Yes",1951,2001,"III a / III b / IV a / IV b","E-424","E-424","N/A","E424 143","158 units, built between 1943-51 and numbered E.424.001/158. Focus on mixed-traffic services (Passenger and Freight)","N/A","N/A","N/A","N/A","Castano-Isabella ","Brown","Brown","Brown","N/A","Brown","Grey","G-Motor","Double arm",2,2,4,1.1235955056179775E-2,174,"Yes"]
["208071L1978-79",208071,"L",null,null,null,"1978-79","Yes","IT",16,"x","USA","AT&SF","No","Locomotive","Diesel","Express service","Co'Co'","N/A","Yes",1968,1999,"IV a","EMD","FP-45","N/A",106,"9 units, built between 1967-68 and numbered 100/108. Focus on Passenger services","N/A","N/A","N/A","Santa Fe","Warbonnet","Grey","Grey","Red","Red","Red","Grey","G-Motor","N/A",0,2,6,1.1494252873563218E-2,250,"Yes"]
["3091331978-79",309133,null,null,null,null,"1978-79","Yes","IT",19,"x","Italy","FS","No","Passenger","With compartment","1° class","2'2'","N/A","Yes",1972,1989,"IV a / IV b / V a","TEE 69","Az","N/A","61 83 18-90 904-0","13 units, built between 1971-73 and numbered 18-90 900/12. TEE livery used until 1989","N/A","TEE","N/A","Televisore","TEE","Red","Grey","Red","Cream","Bicolor","Grey","N/A","N/A",0,2,4,0.01,265,"Yes"]
["3092361978-79",309236,null,null,null,null,"1978-79","Yes","IT",23,"x","Italy","FS","No","Passenger","Self Service","Restaurant","2'2'","N/A","Yes",1975,1994,"IV a / IV b","Self Service","WR","Series 1971","50 83 88-98 102-1","20 units, built between 1974-75 and numbered 50 83 88-98 100/119. Refurbished in the mid 1990's as \"Snack Bar Ristorante\" and renumbered 61 83 88-90 100/118","Self Service","N/A","N/A","Televisore","Inoxidable","Grey","Grey","Grey","Red","Grey","Grey","N/A","N/A",0,2,4,"1/100",265,"Yes"]
["3093361978-79",309336,null,null,null,null,"1978-79","Yes","IT",25,"x","Germany","DB","No","Passenger","With compartment","2° & Baggage","2'2'","N/A","Yes",1975,1996,"IV b / V a","UIC-X","BDms 273","N/A","51 80 82-70 106-2","163 units, built between 1964-75 and numbered 82-40 150/179 & 82-70 001/133","N/A","N/A","N/A","Keks","Ivory-Blue","Cream","Grey","Blue","Cream","Bicolor","Grey","N/A","N/A",0,2,4,"1/100",265,"Yes"]
["3028621978-79",302862,null,null,null,null,"1978-79","Yes","IT",28,"x","Italy","FS","No","Freight","Flat","With mini containers",2,"N/A","Yes",1925,1970,"III a / III b / IV a","K-type","O 10","P con garitta","N/A","Built in the mid 1920's","Everite - Ocean","N/A","N/A","Televisore","N/A","Brown","Yellow","Brown","N/A","N/A","Grey","N/A","N/A",0,0,2,1.1494252873563218E-2,116,"Replace"]
["3031721978-79",303172,null,null,null,null,"1978-79","Yes","IT",30,"x","France","SNCF","No","Freight","Open","Empty",2,"N/A","Yes",1956,2005,"III b / IV a","E-type","Es 025","Tipo 2",699615,"Built in the mid 1950's","N/A","N/A","N/A","N/A","N/A","Green","N/A","Black","N/A","N/A","Grey","N/A","N/A",0,0,2,1.2048192771084338E-2,121,"Yes"]
["3028911978-79",302891,null,null,null,null,"1978-79","Yes","IT",44,"x","Germany","DB","No","Freight","Hopper","N/A","2'2'","N/A","Yes",1954,1998,"III a / III b / IV a / IV b / V a / V b","F-type","Fal 167","OOtz 50","21 80 676 3 586-4","4200 units, built between 1954-65. With automatic load discharge","Erz IIId","N/A","N/A","N/A","N/A","Brown","N/A","Brown","N/A","N/A","Grey","N/A","N/A",0,2,4,1.2048192771084338E-2,139,"Yes"]
["2096251979-80",209625,null,null,null,null,"1979-80","Yes","US",12,"x","Canada","C.P.R.","No","Locomotive","Dummy","Multipurpose","Bo'Bo'","N/A","Yes",1965,2005,"IV a / IV b / V a","Century","Alco-424","N/A",4718,"51 units, built between 1963-67 and numbered 4200/50. Focus on Freight services","N/A","N/A","N/A","N/A","N/A","Red","Red","Red","N/A","Red","Grey","N/A","N/A",0,2,4,1.1235955056179775E-2,200,"Yes"]
["3036621979-80",303662,null,null,null,null,"1979-80","Yes","US",14,"x","USA","SP","No","Freight","Flat","With barrels","2'2'","N/A","Yes",1940,2000,"II / III a / III b / IV a / IV b / V a","R-type","N/A","N/A","N/A","Built since the late 1930's","Chianti Wine","N/A","N/A","N/A","N/A","Brown","N/A","Brown","N/A","N/A","Grey","N/A","N/A",0,2,4,1.1494252873563218E-2,175,"Replace"]
["3031201979-80",303120,null,null,null,null,"1979-80","Yes","US",15,"x","USA","BN","No","Freight","Baggage","Caboose","2'2'","N/A","Yes",1942,1982,"IV a / IV b","Caboose","Bay window","N/A","N/A","Built between 1923-45 and operational until the mid 1980's","N/A","N/A","N/A","BN Burlington Northern","N/A","Green","Green","Green","N/A","Green","Grey","N/A","N/A",0,2,4,1.1494252873563218E-2,138,"Yes"]
["3053021979-80",305302,null,null,null,null,"1979-80","Yes","EN",21,"x","UK","BR","No","Passenger","With central corridor","2° class","2'2'","N/A","Yes",1969,2005,"IV a / IV b","Mark II","TSO","Series Mk 2B","W5449","64 units, built in 1969 and numbered 5434/97. Livery used between 1968-82 approx","N/A","Intercity","N/A","N/A","BR-Blue&Grey","Blue","Grey","Blue","Cream","Bicolor","Grey","N/A","N/A",0,2,4,1.3157894736842105E-2,258,"Yes"]
["3056011979-80",305601,null,null,null,null,"1979-80","Yes","EN",26,"x","UK","BR","No","Freight","Closed","N/A",2,"N/A","Yes",1927,1965,"III a / III b / IV a","G-type","Mink B","12 Ton","N/A","Built in the mid 1920's. 21' length","Typhoo Tea","N/A","N/A","N/A","N/A","Red","Grey","Black","N/A","Red","Grey","N/A","N/A",0,0,2,1.3157894736842105E-2,83,"Yes"]
["3053521979-80",305352,null,null,null,null,"1979-80","Yes","EN",31,"x","UK","GWR","No","Passenger","Baggage","Baggage","2'2'","N/A","Yes",1946,1956,"III a","GWR Siphon","Siphon G","N/A",2766,"130 units, refurbished between 1946-48 from former milk tank wagons and scrapped between 1956-62","Palethorpes Sausages","N/A","N/A","N/A","N/A","Brown","Brown","Brown","N/A","Brown","Grey","N/A","N/A",0,2,4,1.3157894736842105E-2,200,"Yes"]
["3028921979-80",302892,null,null,null,null,"1979-80","Yes","EN",33,"x","UK","BR","No","Freight","Hopper","N/A","2'2'","N/A","Yes",1956,1998,"IV a / IV b","F-type","Fal 167","OOtz 50","N/A","4200 units, built between 1954-65. With automatic load discharge","NCB","N/A","N/A","N/A","N/A","Grey","N/A","Grey","N/A","N/A","Grey","N/A","N/A",0,2,4,1.3157894736842105E-2,139,"Yes"]
["208026L1979-80",208026,"L",null,null,null,"1979-80","Yes","IT",13,"x","Italy","FS","No","Locomotive","Electric","Express service","Bo'Bo'Bo'","N/A","Yes",1964,2005,"III b / IV a / IV b / V a","E-646","E-646","N/A","E646 060","198 units, built between 1961-67 and numbered E.646.021/210. Focus on Passenger services","N/A","N/A","N/A","E-646 2° series","Grigio nebbia-Verde magnolia","White","White","Green","Green","White","Grey","G-Motor","Double arm",2,3,6,1.1494252873563218E-2,210,"Yes"]
["208122L1979-80",208122,"L",null,null,null,"1979-80","Yes","IT",16,"x","France","SNCF","No","Locomotive","Electric","Express service","C'C'","N/A","Yes",1964,1995,"III b / IV a / IV b","CC-40100","CC-40100","N/A",40101,"4 units, built in 1964 and numbered 40101/4. Focus on express Passenger services TEE between France-Belgium","N/A","TEE","N/A","Macaron","Inox","Grey","Grey","Grey","Red","Grey","Grey","G-Motor","Double arm",2,2,6,1.1494252873563218E-2,255,"Yes"]
["3091541979-80",309154,null,null,null,null,"1979-80","No",null,null,"x","Germany","DB","No","Passenger","With compartment","2° class",2,"N/A","Yes",1929,1964,"III b","Donnerbüchse","Ci-29","Ci-29",26991,"450 units, built between 1929-30. Refurbished to 2° Class in 1956","N/A","N/A","N/A","Keks","DB-Grün","Green","Grey","Green","N/A","Green","Red & Blue","N/A","N/A",0,0,2,1.0752688172043012E-2,149,"Yes"]
["3093061979-80",309306,null,null,null,null,"1979-80","Yes","IT",23,"x","France","SNCF","No","Passenger","With compartment","1° & Baggage","2'2'","N/A","No",1967,1985,"IV a","UIC-Y","A7D","Series 1967","51 87 10-19 275-3","20 units, built between 1967-68 and numbered 51 87 81-70 401/420. Erroneously numbered by LIMA. Vert wagon livery never applied to A7D coaches","N/A","N/A","N/A","Encadré","Vert wagon","Green","Green","Green","Grey","Bicolor","Grey","N/A","N/A",0,2,4,1.0416666666666666E-2,255,"Yes"]
["3028561979-80",302856,null,null,null,null,"1979-80","Yes","IT",26,"x","Germany","DB","No","Freight","Flat","With 2 containers",2,"N/A","Yes",1969,1999,"IV a / IV b / V a / V b","L-type","Lgjs 573","Lss y 573","21 80 042 9 032-4","Built in the late 1960's","Contrans - Merzario","N/A","N/A","N/A","N/A","White","Orange","Black","N/A","N/A","Grey","N/A","N/A",0,0,2,1.1494252873563218E-2,170,"Yes"]
["3031831979-80",303183,null,null,null,null,"1979-80","Yes","IT",28,"x","Germany","DB","No","Freight","Closed","With opening roof","2'2'","N/A","Yes",1969,2005,"IV a / IV b","T-type","Taems 890","Ppcs","21 87 570 3 864-9","830 units, built between 1966-70 and numbered 085 1 001/830. With pivotal roof. Erroneously numbered by LIMA","Varta","N/A","N/A","Keks","N/A","Grey","Grey","Black","N/A","Grey","Grey","N/A","N/A",0,2,4,1.1494252873563218E-2,160,"Yes"]
["309426E1980-81",309426,"E",null,null,null,"1980-81","Yes","DE",5,"x","Germany","DB","No","Passenger","With compartment","2° class","2'2'","N/A","No",1926,1969,"IV a","Pullman","Pullman","N/A","N/A","Never existed in any official roster. LIMA invention","N/A","N/A","N/A","Keks","Pop","Blue","Grey","White","N/A","Bicolor","Grey","N/A","N/A",0,2,4,0.01,216,"Replace"]
["309168E1980-81",309168,"E",null,null,null,"1980-81","Yes","DE",15,"x","Germany","DB","No","Passenger","With central corridor","1° class","2'2'","N/A","Yes",1972,1998,"IV a / IV b / V a","UIC-X","Apmz 121","Apmz 121.1","61 80 18-80 121-6","65 units, built between 1967-75. Focus on express Passenger services. Straight-edged roof (2° series after 1967)","N/A","TEE","Steildach","Keks","TEE","Red","Grey","Red","Cream","Bicolor","Grey","N/A","N/A",0,2,4,"1/100",265,"Yes"]
["2010961980-81",201096,null,null,null,null,"1980-81","Yes","IT",8,"x","France","SNCF","EMU","Passenger","With central corridor","1° class","2'","N/A","Yes",1980,"Operational","IV b / V a / V b","TGV Sud-Est","R1","N/A","N/A","Intermediate of EMU TGV","N/A","TGV Sud-Est","TGV","N/A","Orange","Orange","Grey","Orange","Bicolor","Bicolor","Grey","N/A","N/A",0,1,2,1.1494252873563218E-2,251,"Yes"]
["208029LG1980-81",208029,"LG",null,null,null,"1980-81","Yes","IT",11,"x","France","SNCF","No","Locomotive","Electric","Express service","Co'Co'","N/A","Yes",1955,1990,"III b / IV a / IV b / V a","CC-7100","CC-7100","CC-7100",7140,"58 units, built between 1952-54 and numbered 7101/54. Focus on express Passenger services","N/A","N/A","N/A","Macaron","Verte","Green","Green","Green","Grey","Green","Grey","G-Motor","Double arm",2,2,6,1.1494252873563218E-2,217,"Yes"]
["3091551980-81",309155,null,null,null,null,"1980-81","Yes","IT",18,"x","Germany","DB","No","Passenger","With central corridor","2° class","2'2'","N/A","Yes",1966,2000,"III b","n-Wagen","Bnr 725.0","B4nrb-65","50 80 22-45 048-2","190 units, built between 1965-68 and numbered 50 80 22-45 001/190. Focus on regional Passenger services","N/A","Silberling","Silberling","Keks","Silberling","Grey","Grey","Black","N/A","Grey","Grey","N/A","N/A",0,2,4,9.7087378640776691E-3,257,"Yes"]
["3091861980-81",309186,null,null,null,null,"1980-81","Yes","IT",19,"x","Germany","DB","No","Passenger","With central corridor","Dome","2'2'","N/A","Yes",1976,1981,"IV b","UIC-X","ADmh 101","AD4üm-62","51 80 09-42 911-0","5 units, bought in 1976 to DB and renumbered WGm 51 80 09-42 911/915. Sold in 1981 to Mitthelthurgau, a Swiss tourist agency. With panoramic dome","Apfelpfeil","Apfelpfeil","N/A","Apfelpfeil","Apfelpfeil","Orange","Cream","Yellow","Blue","Bicolor","Grey","N/A","N/A",0,2,4,"1/100",265,"Yes"]
["3027121980-81",302712,null,null,null,null,"1980-81","Yes","IT",24,"x","Italy","FS","No","Freight","Tank","N/A",2,"N/A","Yes",1957,2005,"III b / IV a / IV b / V a / V b","Z-type","Zcs 23","Uh","N/A","Built since the late 1950's","Agip","N/A","N/A","N/A","N/A","Grey","N/A","Black","Yellow","N/A","Grey","N/A","N/A",0,0,2,"N/A",116,"Replace"]
["3031011980-81",303101,null,null,null,null,"1980-81","Yes","IT",26,"x","Norway","N.S.B.","No","Freight","Closed","With sliding door",2,"N/A","Yes",1924,1973,"III a / III b","G-type","Gbkl 238","Gl Dresden","G4 41169","Built since the early 1920's","N/A","N/A","N/A","N/A","N/A","Brown","Grey","Black","N/A","Brown","Grey","N/A","N/A",0,0,2,1.0416666666666666E-2,126,"Yes"]
["3035501980-81",303550,null,null,null,null,"1980-81","Yes","IT",28,"x","Sweden","SJ","No","Freight","Reefer","N/A",2,"N/A","Yes",1979,"Operational","IV b / V a / V b / VI","I-type","Ibblps v","N/A","20 74 805 8 700-6","Built in the late 1970's","Findus","N/A","N/A","N/A","N/A","Light Blue","Blue","Black","White","Light Blue","Grey","N/A","N/A",0,0,2,1.1494252873563218E-2,158,"Yes"]
["2096051980-81",209605,null,null,null,null,"1980-81","Yes","ES",13,"x","USA","Amtrak","No","Locomotive","Dummy","Multipurpose","Co'Co'","N/A","Yes",1973,2002,"IV a / IV b","EMD","SDP-40F","F-45",523,"150 units, built between 1973-74 and numbered 500/649. Amtrak sold all its units in 1985. Focus on express Passenger services","N/A","N/A","N/A","Amtrak arrow","Amtrak Phase I","White","Black","White","Bicolor","White","Grey","N/A","N/A",0,2,6,1.1494252873563218E-2,250,"Yes"]
["3035201980-81",303520,null,null,null,null,"1980-81","Yes","ES",27,"x","South Africa","SAR","No","Freight","Open","With cargo",2,"N/A","Yes",1956,2005,"III b / IV a / IV b / V a / V b","E-type","Es 025","WT-3","N/A","Built in the mid 1950's. With coal load","N/A","N/A","N/A","N/A","N/A","Brown","N/A","Black","N/A","N/A","Grey","N/A","N/A",0,0,2,1.2048192771084338E-2,121,"Replace"]
["205104M1980-81",205104,"M",null,null,null,"1980-81","Yes","EN",8,"x","UK","BR","No","Locomotive","Steam","Express service","4-6-0/6","N/A","Yes",1928,1968,"III a","Class 8P","GWR Class 6000","N/A",6009,"15 units, built in 1928 and numbered 6006/6019. Focus on express Passenger services. Livery only used between 1949-51","King Charles II","N/A","King Class","Unicycling Lion","Express Blue","Blue","Blue","Blue","Yellow","Blue","Grey","G-Motor","N/A",0,0,5,1.3157894736842105E-2,275,"Yes"]
["205136MG1980-81",205136,"MG",null,null,null,"1980-81","Yes","EN",18,"x","UK","BR","DMU","Locomotive","Diesel","2° class","Bo'Bo'","N/A","Yes",1959,2000,"III b / IV a","Class 117","Class 117/2","DMBS","W51334","Motor of DMU Class 117/2 with 2° Class","N/A","N/A","N/A","Double arrow","BR-Blue","Blue","Grey","Blue","Yellow","Blue","Grey","G-Motor","N/A",0,2,4,1.3157894736842105E-2,256,"Yes"]
["3056021980-81",305602,null,null,null,null,"1980-81","No",null,null,"x","UK","BR","No","Freight","Closed","N/A",2,"N/A","Yes",1927,1965,"III a / III b / IV a","G-type","Mink B","12 Ton","N/A","Built in the mid 1920's. 21' length","Homepride","N/A","N/A","N/A","N/A","White","Grey","Black","Blue","Bicolor","Grey","N/A","N/A",0,0,2,1.3157894736842105E-2,83,"Yes"]
["3056281980-81",305628,null,null,null,null,"1980-81","Yes","EN",27,"x","UK","SRW","No","Freight","Closed","N/A",2,"N/A","Yes",1920,1950,"II / III a","G-type","Horse box","20 Ton","N/A","Built in the late 1910's. For horse transport","N/A","N/A","N/A","N/A","N/A","Green","Grey","Black","N/A","Green","Grey","N/A","N/A",0,0,2,1.3157894736842105E-2,115,"Yes"]
["201660G1981-82",201660,"G",null,null,null,"1981-82","Yes","DE",4,"x","Germany","DB","No","Locomotive","Electric","Multipurpose","Bo","N/A","Yes",1909,1982,"III b / IV a / IV b","BR-169","BR-169","E-69","169 002-3","5 units, built between 1905-30 for Lokalbahn AG München and numbered LAG 1/5. Focus on mixed-traffic services (Passenger and Freight) on the Murnau-Oberammergau line ","N/A","N/A","N/A","Keks","DB-Grün","Green","Grey","Black","N/A","Green","Grey","G-Motor","Double arm",1,0,2,1.5384615384615385E-2,112,"Yes"]
["2010771981-82",201077,null,null,null,null,"1981-82","Yes","DE",5,"x","Germany","DB","EMU","Passenger","With central corridor","Restaurant","Bo'Bo'","N/A","Yes",1973,1993,"IV b","BR-403","BR-403","N/A","404 103-4","Intermediate of EMU BR-403","N/A","Intercity","Donald Duck","Keks","IC 0","White","White","White","Bicolor","Tricolor","Grey","N/A","N/A",0,2,4,9.9009900990099011E-3,268,"Replace"]
["208100LG1981-82",208100,"LG",null,null,null,"1981-82","Yes","DE",7,"x","Germany","DB","No","Locomotive","Electric","Express service","Co'Co'","N/A","Yes",1970,1998,"IV a / IV b / V a","BR-103","BR-103.1","N/A","103 110-3","145 units, built between 1979-74 and numbered 103.101/245. Focus on express Passenger services","N/A","TEE","Königin der Schiene","Keks","TEE","Cream","Cream","Red","Grey","Cream","Grey","G-Motor","Double arm",2,2,6,1.1494252873563218E-2,225,"Yes"]
["3091581981-82",309158,null,null,null,null,"1981-82","Yes","DE",10,"x","Sweden","SJ","No","Passenger","With compartment","2° class","2'2'","N/A","No",1980,"Operational","IV b / V a","SJ A2","B12","N/A",51060,"16 units, refurbished between 1980-82 from former A2 coaches and numbered 4972, 5047, 5048, 5053, 5090, 5140, 5142, 5143, 5145, 5149, 5152 & 5155. Erroneously numbered by LIMA","N/A","N/A","N/A","SJ Gammal","N/A","Brown","Grey","Grey","N/A","Brown","Grey","N/A","N/A",0,2,4,1.1235955056179775E-2,265,"Replace"]
["3092401981-82",309240,null,null,null,null,"1981-82","Yes","DE",11,"x","France","SNCF","No","Passenger","With central corridor","2° class","2'2'","N/A","No",1975,"Operational","IV b / V a","VTU","B11tu","Series 1975","50 87 20-77 113-0","260 units, built between 1975-76 and numbered 50 87 21-77 071/330. Erroneously numbered by LIMA. Should have been 21-77 instead of 20-77","N/A","Corail","Corail","Encadré","Corail","White","Grey","White","Grey","Orange","Grey","N/A","N/A",0,2,4,0.01,265,"Yes"]
["3028311981-82",302831,null,null,null,null,"1981-82","Yes","DE",13,"x","Sweden","SJ","No","Freight","Flat","With stakes",2,"N/A","Yes",1958,1992,"III b / IV a / IV b / V a","K-type","Kls 442 ","Litt 0","N/A","Built since the late 1950's","N/A","N/A","N/A","N/A","N/A","Brown","N/A","Brown","N/A","N/A","Grey","N/A","N/A",0,0,2,0.01,140,"Replace"]
[{"$f":"+B4309&C4309&F4309&G4309","v":"3032061981-82"},303206,null,null,null,null,"1981-82","Yes","DE",15,"x","Switzerland","SBB/CFF","No","Freight","Closed","With sliding door","2'2'","N/A","Yes",1975,"Operational","IV b / V a / V b / VI","H-type","Habis 339","N/A","31 85 275 0 050-4","Built in the mid 1970's","Migros","N/A","N/A","N/A","N/A","White","Grey","Grey","N/A","White","Grey","N/A","N/A",0,2,4,1.098901098901099E-2,242,"Yes"]
["205108M1981-82",205108,"M",null,null,null,"1981-82","Yes","EN",15,"x","UK","BR","No","Locomotive","Diesel","Shunter","C","N/A","No",1959,1976,"IV a","Class 08","Class 09/0","N/A",3004,"26 units, refurbished between 1959-62 from former Class 08 locomotives and numbered 09001/26. Focus on shunting operation. Erroneously numbered by LIMA. Number corresponds to Class 03","N/A","N/A","Gronk","Lion crest","BR-Green","Green","Green","Green","N/A","Green","Grey","G-Motor","N/A",0,0,3,1.4285714285714285E-2,115,"Yes"]
["205145MG1981-82",205145,"MG",null,null,null,"1981-82","Yes","EN",21,"x","UK","BR","DMU","Passenger","With central corridor","1° & 2° class","2'2'","N/A","Yes",1959,2000,"IV a","Class 117","Class 117/2","TCL","W59493","Intermediate of DMU Class 117/2 with 1°/2° Class","N/A","N/A","N/A","N/A","BR-Blue","Blue","Grey","Blue","Yellow","Blue","Grey","N/A","N/A",0,2,4,1.3157894736842105E-2,256,"Yes"]
["3053141981-82",305314,null,null,null,null,"1981-82","Yes","EN",27,"x","UK","BR","No","Passenger","With compartment","1° & 2° class","2'2'","N/A","Yes",1951,1995,"III b","Mark I","CK","Composite Corridor","S33472 ","1268 units, built between 1951-53. Livery used between 1956-64 approx on former SRW lines","N/A","N/A","N/A","N/A","Malachite Green","Green","Grey","Green","N/A","Green","Grey","N/A","N/A",0,2,4,1.3157894736842105E-2,255,"Yes"]
["3056081981-82",305608,null,null,null,null,"1981-82","Yes","EN",31,"x","UK","BR","No","Freight","Closed","N/A",2,"N/A","Yes",1927,1965,"III a / III b / IV a","G-type","Mink B","12 Ton","B785242","Built in the mid 1920's. 21' length","Castrol","N/A","N/A","N/A","N/A","White","Grey","Grey","Green","Red","Grey","N/A","N/A",0,0,2,1.3157894736842105E-2,83,"Yes"]
["3035451981-82",303545,null,null,null,null,"1981-82","Yes","EN",33,"x","UK","BR","No","Freight","Reefer","With ladder",2,"N/A","Yes",1960,1995,"III b / IV a / IV b / V a","I-type","Ibps-v","Ichqrs 377","N/A","Built in the late 1950's. With smooth panel","Heinz","N/A","N/A","N/A","N/A","Yellow","Grey","Black","N/A","Yellow","Grey","N/A","N/A",0,0,2,1.1494252873563218E-2,130,"Yes"]
["201016G1982-83",201016,"G",null,null,null,"1982-83","Yes","DE",4,"x","Belgium","S.N.C.B.","EMU","Locomotive","Electric","2° class","2'2'","N/A","Yes",1976,"Operational","IV b / V a","AM 75","Series 08","AM 800","N/A","Motor of EMU AM-75 with 2° Class","N/A","801-832","Nez de cochon","N/A","Gris souris","White","Grey","White","Orange","Orange","Grey","G-Motor","Single arm",2,2,4,1.1494252873563218E-2,286,"Yes"]
["201641LG1982-83",201641,"LG",null,null,null,"1982-83","Yes","DE",5,"x","Germany","DB","No","Locomotive","Diesel","Express service","B'B'","N/A","Yes",1965,1980,"IV b","BR-221","BR-221","V-200.1","221 150-6","50 units, built between 1962-65 and numbered originally V200.101/150 (after 1969 221.101/150). Focus on express Passenger services on the Rhein axis and Denmark","N/A","N/A","N/A","Keks","Ivory-Blue","Cream","Blue","Blue","N/A","Cream","Grey","G-Motor","N/A",0,2,4,1.1494252873563218E-2,213,"Yes"]
["3091151982-83",309115,null,null,null,null,"1982-83","Yes","DE",9,"x","Italy","FS","No","Passenger","With compartment","1° class","2'2'","N/A","Yes",1966,2005,"IV a / IV b / V a","UIC-X","A","Series 1964","51 83 10-80 035-7","40 units, built between 1966-67","N/A","N/A","N/A","Televisore","Grigio ardesia","Grey","Grey","Grey","N/A","Grey","Grey","N/A","N/A",0,2,4,"1/100",265,"Replace"]
["3091941982-83",309194,null,null,null,null,"1982-83","Yes","DE",10,"x","France","SNCF","No","Passenger","With central corridor","2° & Bar","2'2'","N/A","Yes",1979,2003,"IV b","VTU","B5rtux","Series 1978","50 87 85-77 089-4","78 units, built between 1978-79 and numbered 50 87 85-77 031/108","Bar corail","Corail","Corail","Encadré","Corail","White","Grey","White","Grey","Orange","Grey","N/A","N/A",0,2,4,0.01,265,"Yes"]
["3029151982-83",302915,null,null,null,null,"1982-83","Yes","DE",12,"x","Austria","OBB","No","Freight","Tank","With ladder","2'2'","N/A","Yes",1958,2004,"IV a / IV b / V a / V b","Z-type","Zacs 33","Uah","N/A","Built since the late 1950's","ÖMV","N/A","N/A","N/A","N/A","Grey","Grey","Black","N/A","N/A","Grey","N/A","N/A",0,2,4,"N/A",190,"Yes"]
["3032061982-83",303206,null,null,null,null,"1982-83","Yes","DE",13,"x","Switzerland","SBB/CFF","No","Freight","Closed","With sliding door","2'2'","N/A","Yes",1975,"Operational","IV b / V a / V b / VI","H-type","Habis 339","N/A","31 85 275 0 050-4","Built in the mid 1970's","Migros","N/A","N/A","N/A","N/A","White","Grey","Grey","N/A","White","Grey","N/A","N/A",0,2,4,1.098901098901099E-2,242,"Yes"]
["305609W1982-83",305609,"W",null,null,null,"1982-83","Yes","IR",2,"x","Ireland","CIE","No","Freight","Closed","N/A",2,"N/A","No",1927,1965,"III a / III b / IV a","G-type","Mink B","12 Ton","N/A","Built in the mid 1920's. 21' length","Cadet","N/A","N/A","N/A","N/A","White","Grey","Black","N/A","Light Blue","Grey","N/A","N/A",0,0,2,1.3157894736842105E-2,83,"Yes"]
["2051481982-83",205148,null,null,null,null,"1982-83","Yes","EN",12,"x","UK","BR","DMU","Passenger","With central corridor","1° & 2° class","2'2'","N/A","Yes",1959,2000,"IV b / V a","Class 117","Class 117/2","TCL","W59508","Intermediate of DMU Class 117/2 with 1°/2° Class","N/A","N/A","N/A","N/A","BR-Regional","Blue","Grey","Blue","White","Bicolor","Grey","N/A","N/A",0,2,4,1.3157894736842105E-2,256,"Yes"]
["3053111982-83",305311,null,null,null,null,"1982-83","Yes","EN",22,"x","UK","BR","No","Passenger","With compartment","1° & 2° class","2'2'","N/A","Yes",1951,1995,"III a","Mark I","CK","Composite Corridor","M34628","1268 units, built between 1951-53. Livery used between 1950-55 approx. First livery applied post-nationalization","N/A","N/A","N/A","N/A","Blood-Custard","Cream","Grey","Red","Cream","Bicolor","Grey","N/A","N/A",0,2,4,1.3157894736842105E-2,255,"Yes"]
["3056421982-83",305642,null,null,null,null,"1982-83","Yes","EN",25,"x","UK","GWR","No","Freight","Tank","With ladder",3,"N/A","Yes",1923,1972,"II / III a / III b","Z-type","Milk Tank Wagon","N/A","W44520","Built in the mid 1920's. For milk transport","IMS","N/A","N/A","N/A","N/A","Blue","Blue","Black","N/A","Blue","Grey","N/A","N/A",0,0,3,1.3157894736842105E-2,52,"Yes"]
["3027171982-83",302717,null,null,null,null,"1982-83","Yes","EN",26,"x","UK","BR","No","Freight","Tank","With ladder",2,"N/A","Yes",1957,2005,"III b / IV a / IV b / V a / V b","Z-type","Zcs 23","Uh","N/A","Built since the late 1950's","Mobil LP Gas","N/A","N/A","N/A","N/A","Yellow","N/A","Black","Red","N/A","Grey","N/A","N/A",0,0,2,"N/A",116,"Replace"]
["201649LG1982-83",201649,"LG",null,null,null,"1982-83","Yes","IT",5,"x","France","SNCF","No","Locomotive","Diesel","Shunter","B","N/A","No",1950,1985,"III b / IV a / IV b / V a","Plymouth","MDT","N/A",501,"Built in the early 1950's. Focus on light industrial use. SNCF never owned MDT locomotives, LIMA invention","N/A","N/A","N/A","Encadré","N/A","Grey","Red","Grey","White","Bicolor","Grey","G-Motor","N/A",0,0,2,1.1494252873563218E-2,119,"Yes"]
["3091291982-83",309129,null,null,null,null,"1982-83","Yes","IT",9,"x","France","SNCF","No","Passenger","With central corridor","1° class","2'2'","N/A","Yes",1970,1999,"IV a / IV b / V a","Grand Confort","A8tu","N/A","N/A","34 units, built between 1969-72 and numbered 61 87 18-99 013/25 & 054/074","N/A","N/A","N/A","N/A","Grand Confort","Red","Grey","Red","White","Bicolor","Grey","N/A","N/A",0,2,4,1.0416666666666666E-2,265,"Yes"]
["3092361982-83",309236,null,null,null,null,"1982-83","Yes","IT",11,"x","Italy","FS","No","Passenger","Self Service","Restaurant","2'2'","N/A","Yes",1975,1994,"IV a / IV b","Self Service","WR","Series 1971","50 83 88-98 102-1","20 units, built between 1974-75 and numbered 50 83 88-98 100/119. Refurbished in the mid 1990's as \"Snack Bar Ristorante\" and renumbered 61 83 88-90 100/118","Self Service","N/A","N/A","Televisore","Inoxidable","Grey","Grey","Grey","Red","Grey","Grey","N/A","N/A",0,2,4,"1/100",265,"Yes"]
["3028321982-83",302832,null,null,null,null,"1982-83","Yes","IT",12,"x","Sweden","SJ","No","Freight","Closed","N/A",2,"N/A","Yes",1958,2000,"III b / IV a / IV b","F-type","Fb u","N/A","42 74 601 8 175-8","Built in the mid 1950's. For wood chip transport","N/A","N/A","N/A","N/A","N/A","Brown","N/A","Brown","N/A","N/A","Grey","N/A","N/A",0,0,2,0.01,130,"Replace"]
["201656L1982-83",201656,"L",null,null,null,"1982-83","Yes","ZA",4,"x","South Africa","SAR","No","Locomotive","Diesel","Shunter","B","N/A","No",1950,1985,"III b / IV a / IV b / V a","Plymouth","MDT","N/A","N/A","Built in the early 1950's. Focus on light industrial use. SAR never owned MDT locomotives, LIMA invention","N/A","N/A","N/A","SAR Oval","N/A","Red","Grey","Black","Yellow","Red","Grey","G-Motor","N/A",0,0,2,1.1494252873563218E-2,119,"Yes"]
["309443E1982-83",309443,"E",null,null,null,"1982-83","Yes","ZA",7,"x","South Africa","SAR","No","Passenger","With compartment","2° class",2,"N/A","No",1923,1961,"III b / IV a / IV b / V a","Donnerbüchse","Bi-21","Bi-21","N/A","Never existed in any official roster. LIMA invention","N/A","N/A","N/A","N/A","N/A","Brown","Grey","Brown","Grey","Brown","Grey","N/A","N/A",0,0,2,0.01,120,"Yes"]
["302876E1982-83",302876,"E",null,null,null,"1982-83","Yes","ZA",14,"x","South Africa","SAR","No","Freight","Flat","With 2 containers","2'2'","N/A","Yes",1981,"Operational","IV b / V a / V b / VI","R-type","SHJ-10","SHJ-10","N/A","Built between 1981-83","Italian line - Lloyd Triestino","N/A","N/A","N/A","N/A","White","White","Brown","N/A","N/A","Grey","N/A","N/A",0,2,4,1.2195121951219513E-2,175,"Replace"]
["149747GP1983-84",149747,"GP",null,null,null,"1983-84","Yes","IT",5,"x","Belgium","S.N.C.B.","EMU","Passenger","Set","Regional service","2'2'+Bo'Bo'+Bo'Bo'+2'2'","Golden Series","Yes",1976,"Operational","IV b / V a","AM 75","Series 08","AM 800","N/A","4-unit train comprised of EMU Driving trailer #201015, Intermediate #201016, Motor #201017 and Driving trailer #201018","N/A","801-832","Nez de cochon","Oval B","Gris souris","White","Grey","White","Orange","Orange","Blue","G-Motor","Single arm",2,8,16,1.1494252873563218E-2,1144,"Yes"]
["2010761983-84",201076,null,null,null,null,"1983-84","Yes","IT",6,"x","Germany","DB","EMU","Passenger","With central corridor","1° class","Bo'Bo'","N/A","Yes",1973,1993,"IV b","BR-403","BR-403","N/A","404 003-6","Intermediate of EMU BR-403","N/A","Intercity","Donald Duck","Keks","IC 0","White","White","White","Bicolor","Tricolor","Grey","N/A","N/A",0,2,4,9.9009900990099011E-3,268,"Replace"]
["3092281983-84",309228,null,null,null,null,"1983-84","Yes","IT",8,"x","Italy","FS","No","Passenger","Double decker","2° class","2'2'","N/A","No",1980,2002,"IV b / V a","Doppio Piano 79","nB","VB2N","50 83 26-38 082-1","120 units, built between 1980-81 based on a French VB2N coach design and numbered 26-39 000/119. Erroneously numbered by LIMA","N/A","N/A","Casaralta","Losanga","Navetta","White","Grey","Grey","Bicolor","Orange","Grey","N/A","N/A",0,2,4,1.0869565217391304E-2,265,"Yes"]
["208044LG1983-84",208044,"LG",null,null,null,"1983-84","Yes","IT",10,"x","France","SNCF","No","Locomotive","Electric","Express service","B'B'","N/A","Yes",1971,"Operational","IV a / IV b","BB-15000","BB-15000","N/A",15002,"65 units, built between 1970-78 and numbered 15001/15065. Focus on express Passenger services","N/A","N/A","Nez Cassé","Macaron","Verte","Green","Green","Green","White","Green","Grey","G-Motor","Single arm",1,2,4,1.1494252873563218E-2,200,"Yes"]
["3091131983-84",309113,null,null,null,null,"1983-84","Yes","IT",12,"x","France","SNCF","No","Passenger","With compartment","1° class","2'2'","N/A","Yes",1956,1997,"III b / IV a / IV b","DEV Inox Longue","A9","Series 1956","N/A","19 units, built in 1956 and numbered 51 87 19-87 005/023","N/A","N/A","N/A","N/A","Inox","Grey","Grey","Grey","N/A","Grey","Grey","N/A","N/A",0,2,4,1.0526315789473684E-2,265,"Yes"]
["3093051983-84",309305,null,null,null,null,"1983-84","Yes","IT",14,"x","Holland","NS","No","Passenger","With central corridor","Restaurant","2'2'","N/A","Yes",1955,1988,"IV a / IV b","Plan E","BKD","N/A","50 84 87-37 201-5","26 units, built between 1954-55 and numbered originally 6901/26 (after 1968 50 84 87-37 201/26). With ads","N/A","N/A","N/A","NS Double arrow","Pruisisch blauw","Blue","Grey","Blue","Light Blue","Blue","Grey","N/A","N/A",0,2,4,0.01,253,"Yes"]
["3032021983-84",303202,null,null,null,null,"1983-84","Yes","IT",16,"x","France","SNCF","No","Freight","Closed","With sliding door","2'2'","N/A","Yes",1975,"Operational","IV b / V a / V b / VI","H-type","Habis 339","H 81.6","N/A","Built in the mid 1970's","Kronenbourg","N/A","N/A","N/A","N/A","Red","Grey","Grey","N/A","Red","Grey","N/A","N/A",0,2,4,1.098901098901099E-2,242,"Yes"]
["3032091983-84",303209,null,null,null,null,"1983-84","Yes","IT",16,"x","Italy","FS","No","Freight","Closed","With sliding door","2'2'","N/A","Yes",1975,"Operational","IV b / V a / V b / VI","H-type","Habis 339","N/A","N/A","Built in the mid 1970's","N/A","N/A","N/A","N/A","N/A","Brown","Brown","Brown","N/A","Brown","Grey","N/A","N/A",0,2,4,1.098901098901099E-2,242,"Replace"]
["205155MG1983-84",205155,"MG",null,null,null,"1983-84","Yes","EN",13,"x","UK","BR","No","Locomotive","Electric","Express service","Bo'Bo'","N/A","Yes",1974,2008,"IV b / V a","Class 87","Class 87/0","N/A",87022,"35 units, built between 1973-75 and numbered 87001/35. Focus on express Passenger services. Name only used between 1978-98","Cock O 'the North","N/A","N/A","Double arrow","Large Logo","Blue","Grey","Blue","White","Yellow","Grey","G-Motor","Double arm",1,2,4,1.3157894736842105E-2,235,"Yes"]
["3053111983-84",305311,null,null,null,null,"1983-84","Yes","EN",22,"x","UK","BR","No","Passenger","With compartment","1° & 2° class","2'2'","N/A","Yes",1951,1995,"III a","Mark I","CK","Composite Corridor","M34628","1268 units, built between 1951-53. Livery used between 1950-55 approx. First livery applied post-nationalization","N/A","N/A","N/A","N/A","Blood-Custard","Cream","Grey","Red","Cream","Bicolor","Grey","N/A","N/A",0,2,4,1.3157894736842105E-2,255,"Yes"]
["3053421983-84",305342,null,null,null,null,"1983-84","Yes","EN",23,"x","UK","BR","No","Passenger","Baggage","Baggage","2'2'","N/A","Yes",1951,1995,"III b","Mark I","BG","Brake Gangwayed","M25742","1129 units, built between 1951-63. Livery used between 1956-74 approx on former LMS & LNER lines","N/A","N/A","N/A","Lion crest","Maroon","Brown","Grey","Brown","Yellow","Brown","Grey","N/A","N/A",0,2,4,1.3157894736842105E-2,255,"Yes"]
["3056601983-84",305660,null,null,null,null,"1983-84","Yes","EN",27,"x","UK","BR","No","Freight","Closed","N/A","2'2'","N/A","Yes",1970,1988,"IV a / IV b / V a","G-type","Bogie Pallet Van","82 Ton","N/A","Built since the early 1970's","Fisons","N/A","N/A","N/A","N/A","White","Black","Black","Green","White","Grey","N/A","N/A",0,2,4,1.3157894736842105E-2,195,"Yes"]
["205110MWG1983-84",205110,"MWG",null,null,null,"1983-84","Yes","ES",3,"x","UK","BR","No","Locomotive","Steam","Multipurpose","2-6-2T","N/A","Yes",1929,1958,"III a / III b","Class 4MT","GWR Class 4575","N/A",5574,"10 units, built in 1929 and numbered 5565/5574. Focus on mixed-traffic services (regional Passenger and Freight)","N/A","N/A","Prairie","Unicycling Lion","N/A","Black","Black","Black","N/A","Black","Grey","G-Motor","N/A",0,0,5,1.3157894736842105E-2,143,"Yes"]
["3027101983-84",302710,null,null,null,null,"1983-84","Yes","ES",6,"x","South Africa","SAR","No","Freight","Tank","With ladder",2,"N/A","Yes",1957,2005,"III b / IV a / IV b","Z-type","Zcs 23","Uh","N/A","Built since the late 1950's","Sasol","N/A","N/A","N/A","N/A","Light Blue","N/A","Black","N/A","N/A","Grey","N/A","N/A",0,0,2,"N/A",116,"Yes"]
["208037LG1983-84",208037,"LG",null,null,null,"1983-84","Yes","DE",13,"x","Germany","DB","No","Railcar","Diesel","1° & 2° class","Bo'2'","N/A","Yes",1962,1988,"IV a","BR-515","BR-515","ETA-150","515 590-8","Motor with 1°/2° Class","N/A","BR-515","N/A","Keks","DB-Rot 1","Red","Grey","Red","Yellow","Red","Grey","G-Motor","N/A",0,2,4,1.1111111111111112E-2,258,"Yes"]
["3091571983-84",309157,null,null,null,null,"1983-84","Yes","DE",17,"x","Germany","DB","No","Passenger","With central corridor","2° & Driving trailer","2'2'","N/A","Yes",1972,2003,"IV a","n-Wagen","BDnrzf 740.2","BDnrzf 740.2","50 80 82-34 062-1","288 units, built between 1972-77 and numbered 50 80 82-34 062/121 & 123/350. With \"Karlsruhrer\" type rounded front design and orange stripes","N/A","Silberling","Silberling","Keks","Silberling","Grey","Grey","Black","Orange","Grey","Grey","N/A","N/A",0,2,4,9.5238095238095247E-3,252,"Yes"]
["3092221983-84",309222,null,null,null,null,"1983-84","Yes","DE",20,"x","Norway","N.S.B.","No","Passenger","With central corridor","1° class","2'2'","N/A","Yes",1967,2010,"III b / IV a","NSB A2","A2","N/A",24006,"6 units, built in 1967 and numbered 24002/7","N/A","N/A","N/A","NSB solo","Gammeldesign","Red","Grey","Red","Yellow","Red","Grey","N/A","N/A",0,2,4,1.1235955056179775E-2,265,"Replace"]
["3093391983-84",309339,null,null,null,null,"1983-84","Yes","DE",22,"x","Denmark","D.S.B.","No","Passenger","With compartment","2° & Baggage","2'2'","N/A","Yes",1969,1993,"IV b / V a","DSB BD","BD","N/A","50 86 82-83 015-5","30 units, built between 1968-70 and numbered 51 86 82-84 000/29","N/A","N/A","N/A","DSB ny font","Rød ","Red","Grey","Red","N/A","Red","Grey","N/A","N/A",0,2,4,1.0869565217391304E-2,265,"Yes"]
["3028631983-84",302863,null,null,null,null,"1983-84","Yes","DE",24,"x","France","SNCF","No","Freight","Closed","With tarpaulin","2'2'","N/A","Yes",1976,"Operational","V a / V b / VI","R-type","Rils 652","R.20","31 87 354 0 002-4","Built in the mid 1970's","N/A","N/A","N/A","N/A","N/A","Grey","Grey","Black","N/A","N/A","Grey","N/A","N/A",0,2,4,1.1494252873563218E-2,225,"Replace"]
["3090751983-84",309075,null,null,null,null,"1983-84","Yes","DE",27,"x","Germany","DB","No","Freight","Flat","Empty","2'2'","N/A","Yes",1943,1994,"III a / III b / IV a / IV b","R-type","Rmms 661","SSkms 49","N/A","Built in the mid 1940's","N/A","N/A","N/A","N/A","N/A","Brown","N/A","Brown","N/A","N/A","Grey","N/A","N/A",0,2,4,1.1904761904761904E-2,170,"Replace"]
["149745G1984-85",149745,"G",null,null,null,"1984-85","Yes","INTL",7,"x","South Africa","SAR","No","Passenger","Set","Express service","Co'Co'+2'2'+2'2'+2'2'","Golden Series","Yes",1976,1999,"IV a / IV b / V a","Blue Train","Blue Train","N/A","N/A","4-unit train comprised of Diesel locomotive #208153, Passenger #309139 x 2 and Baggage car #309319","N/A","Blue Train","N/A","SAR Flying bird","N/A","Blue","White","Blue","White","Bicolor","Blue","G-Motor","N/A",0,8,16,0.01,1011,"Yes"]
["208147LG1984-85",208147,"LG",null,null,null,"1984-85","Yes","INTL",17,"x","Switzerland","SBB/CFF","No","Locomotive","Electric","Multipurpose","Co'Co'","N/A","Yes",1952,2013,"III a / III b / IV a / IV b / V a / V b","Ae 6/6","Ae 6/6","Ae 610",11424,"120 units, built between 1952-66 and numbered 11401/520. Focus on mixed-traffic services (Passenger and heavy Freight) on the Gothard axis","Neuchâtel ","N/A","N/A","Wappen","SBB-Grün","Green","Grey","Green","White","Green","Grey","G-Motor","Double arm",2,2,6,1.1111111111111112E-2,205,"Yes"]
["3033641984-85",303364,null,null,null,null,"1984-85","Yes","EN",6,"x","France","SNCF","No","Freight","Open","Empty",2,"N/A","Yes",1946,1970,"III a","E-type","7 Plank Open","12 Ton","N/A","10000 units, built between 1945-46. Bought in 1951 from SNCF and operational until the late 1960's","N/A","N/A","N/A","N/A","N/A","Brown","N/A","Brown","N/A","N/A","Grey","N/A","N/A",0,0,2,1.1494252873563218E-2,72,"Replace"]
["205144MG1984-85",205144,"MG",null,null,null,"1984-85","Yes","EN",20,"x","UK","BR","No","Railcar","Diesel","Baggage","Bo'2'","N/A","Yes",1941,1960,"III a","AEC","N/A","N/A","W34","Motor with Baggage compartment","Express Parcels","N/A","Flying banana","N/A","Blood-Custard","Cream","Grey","Red","Cream","Bicolor","Grey","G-Motor","N/A",0,2,4,1.3157894736842105E-2,256,"Yes"]
["205118MG1984-85",205118,"MG",null,null,null,"1984-85","Yes","EN",26,"x","UK","BR","No","Locomotive","Steam","Shunter","0-6-0T","N/A","Yes",1950,1964,"III a / III b","Class 4F","GWR Class 9400","Hunslet Austerity 0-6-0ST",9420,"50 units, built between 1950-51 and numbered 9410/9459. Focus on shunting operation","N/A","N/A","Austerity","Unicycling Lion","N/A","Black","Black","Black","N/A","Black","Grey","G-Motor","N/A",0,0,3,1.3157894736842105E-2,135,"Yes"]
["3056851984-85",305685,null,null,null,null,"1984-85","Yes","EN",34,"x","UK","BR","No","Freight","Closed","N/A",2,"N/A","Yes",1927,1965,"III b / IV a / IV b","G-type","Mink B","12 Ton",441,"Built in the mid 1920's. 21' length","Birds Eye","N/A","N/A","N/A","N/A","White","Grey","Black","Red","White","Grey","N/A","N/A",0,0,2,1.3157894736842105E-2,83,"Yes"]
["3056261984-85",305626,null,null,null,null,"1984-85","Yes","EN",35,"x","UK","LMS","No","Freight","Closed","N/A",2,"N/A","Yes",1920,1950,"II / III a","G-type","Horse box","20 Ton","N/A","Built in the late 1910's. For horse transport","N/A","N/A","N/A","N/A","N/A","Red","Grey","Black","N/A","Red","Grey","N/A","N/A",0,0,2,1.3157894736842105E-2,115,"Yes"]
["201019LGP1984-85",201019,"LGP",null,null,null,"1984-85","Yes","DE",7,"x","Holland","NS","EMU","Locomotive","Electric","1° class","Bo'Bo'","N/A","Yes",1956,1996,"IV b / V a","Mat '54","Plan F/G","Materieel '54","N/A","Motor of EMU Mat '54 with 1° Class","N/A","Intercity","Hondekop","NS Double arrow","Grijs-geel","Yellow","Grey","Yellow","Blue","Bicolor","Grey","G-Motor","Double arm",2,2,4,1.0526315789473684E-2,268,"Yes"]
["1498081984-85",149808,null,null,null,null,"1984-85","Yes","DE",11,"x","Germany","DB","DMU","Passenger","Set","Regional service","B'2'+2'2'+2'2'","Golden Series","Yes",1952,1985,"IV a","BR-613","BR-608","VT-08.5","N/A","3-unit train comprised of DMU Motor #201040, Intermediate #201041 and Driving trailer #201042","N/A","Intercity","N/A","Keks","DB-Rot 1","Red","Grey","Black","White","Red","Blue","G-Motor","N/A",0,6,12,0.01,780,"Yes"]
["3091441984-85",309144,null,null,null,null,"1984-85","Yes","DE",18,"x","Germany","DB","No","Passenger","With central corridor","2° class","2'2'","N/A","Yes",1962,1992,"IV a / IV b / V a","n-Wagen","Bnb 720.0","B4nb-59","50 80 22-53 096-0","1082 units, built between 1960-64 and numbered originally 50 80 22-11 010/239, 22-12 207/999 & 22-33 001/050 (afterwards 50 80 22-43 646/736 & 22-53 001/997). Focus on regional Passenger services","N/A","Silberling","Silberling","Keks","Silberling","Grey","Grey","Blue","N/A","Grey","Grey","N/A","N/A",0,2,4,9.7087378640776691E-3,257,"Replace"]
["3092701984-85",309270,null,null,null,null,"1984-85","Yes","DE",24,"x","Sweden","SJ","No","Passenger","With compartment","Sleeper","2'2'","N/A","Yes",1951,1994,"III a / III b / IV a / IV b","SJ WL2","WL2","N/A",4476,"37 units, built between 1946-52 and numbered 3807/10, 3816/17, 3928/29, 4344/46, 4348/52, 4425/32, 4434/36, 4476/85","N/A","N/A","N/A","SJ Gammal","N/A","Brown","Grey","Grey","N/A","Brown","Grey","N/A","N/A",0,2,4,1.1235955056179775E-2,265,"Yes"]
["2010971984-85",201097,null,null,null,null,"1984-85","Yes","IT",3,"x","France","SNCF","EMU","Passenger","With central corridor","2° & Bar","2'","N/A","Yes",1980,"Operational","IV b / V a / V b","TGV Sud-Est","R4","N/A","N/A","Intermediate of EMU TGV","N/A","TGV Sud-Est","TGV","N/A","Orange","Orange","Grey","Orange","Bicolor","Bicolor","Grey","N/A","N/A",0,1,2,1.1494252873563218E-2,215,"Yes"]
["149801GP1984-85",149801,"GP",null,null,null,"1984-85","Yes","IT",5,"x","Germany","DB","EMU","Passenger","Set","Regional service","Bo'2'+2'2'+2'Bo'","Golden Series","Yes",1956,1984,"IV b","BR-430","BR-430","ET-30","N/A","3-unit train comprised of EMU Motor #201059, Intermediate #201060 and Driving trailer #201061","N/A","430-109","Eierköpfe","Keks","Ivory-Blue","Cream","Grey","Blue","Cream","Bicolor","Blue","G-Motor","Double arm",2,6,12,0.01,795,"Yes"]
["3092281984-85",309228,null,null,null,null,"1984-85","Yes","IT",5,"x","Italy","FS","No","Passenger","Double decker","2° class","2'2'","N/A","No",1980,2002,"IV b / V a","Doppio Piano 79","nB","VB2N","50 83 26-38 082-1","120 units, built between 1980-81 based on a French VB2N coach design and numbered 26-39 000/119. Erroneously numbered by LIMA","N/A","N/A","Casaralta","Losanga","Navetta","White","Grey","Grey","Bicolor","Orange","Grey","N/A","N/A",0,2,4,1.0869565217391304E-2,265,"Yes"]
["208064LGP1984-85",208064,"LGP",null,null,null,"1984-85","Yes","IT",8,"x","Italy","FS","No","Locomotive","Electric","Express service","Bo'Bo'Bo'","N/A","Yes",1976,"Operational","IV b / V a","E-656","E-656.1","N/A","E656 023","104 units, built between 1975-79 and numbered E.656.001-104. Focus on express Passenger services","N/A","N/A","Caimano","Televisore","Grigio perla-Blu orientale","White","White","Blue","Blue","White","Grey","G-Motor","Double arm",2,3,6,1.1494252873563218E-2,210,"Yes"]
["3091031984-85",309103,null,null,null,null,"1984-85","Yes","IT",10,"x","France","SNCF","No","Passenger","With compartment","1° class","2'2'","N/A","Yes",1952,1992,"IV b","DEV AO Courte","A8","Series 1950","51 87 18-87 510-2","37 units, built between 1950-52 and numbered 51 87 18-xx 478/514 (xx could be code 37, 40, 47 or 87)","N/A","N/A","N/A","Encadré","C160","Green","Green","Green","Grey","Grey","Grey","N/A","N/A",0,2,4,1.1494252873563218E-2,270,"Yes"]
["3092231984-85",309223,null,null,null,null,"1984-85","Yes","IT",12,"x","France","SNCF","No","Passenger","Special","Cinema","2'2'","N/A","Yes",1979,2013,"IV b / V a / V b","Voitures restaurant unifiées","Restaurant rouge","SAV","51 87 89-90 067-2","1 unit, refurbished in the late 1970's from former Vru red dining car and numbered originally 61 87 88-70 028-3. For exhibition services","Spéciale Audio Visuelle","N/A","N/A","N/A","N/A","Brown","Grey","White","Brown","Grey","Grey","N/A","N/A",0,2,4,1.0416666666666666E-2,265,"Yes"]
["3093361984-85",309336,null,null,null,null,"1984-85","Yes","IT",13,"x","Germany","DB","No","Passenger","With compartment","2° & Baggage","2'2'","N/A","Yes",1975,1996,"IV b / V a","UIC-X","BDms 273","N/A","51 80 82-70 106-2","163 units, built between 1964-75 and numbered 82-40 150/179 & 82-70 001/133","N/A","N/A","N/A","Keks","Ivory-Blue","Cream","Grey","Blue","Cream","Bicolor","Grey","N/A","N/A",0,2,4,"1/100",265,"Yes"]
["3035201984-85",303520,null,null,null,null,"1984-85","Yes","IT",15,"x","South Africa","SAR","No","Freight","Open","With cargo",2,"N/A","Yes",1956,2005,"III b / IV a / IV b / V a / V b","E-type","Es 025","WT-3","N/A","Built in the mid 1950's. With coal load","N/A","N/A","N/A","N/A","N/A","Brown","N/A","Black","N/A","N/A","Grey","N/A","N/A",0,0,2,1.2048192771084338E-2,121,"Replace"]
["3031931984-85",303193,null,null,null,null,"1984-85","Yes","IT",15,"x","Germany","DB","No","Freight","Reefer","With ladder","2'2'","N/A","Yes",1950,1977,"IV a","I-type","Iaes","N/A","21 80 082 0 784-5","100 units, built in the late 1940's","Martini","N/A","N/A","N/A","N/A","White","Grey","Black","N/A","White","Grey","N/A","N/A",0,2,4,1.1494252873563218E-2,242,"Yes"]
["2010071985-86",201007,null,null,null,null,"1985-86","Yes","DE",4,"x","Switzerland","SBB/CFF","EMU","Passenger","With central corridor","1° class","2'2'","N/A","Yes",1961,2000,"III b / IV a / IV b","RAe TEE II","RAe TEE II","RABe","N/A","Intermediate of EMU RAe TEE II","Trans Europ Express","TEE","N/A","TEE","TEE","Red","Grey","Red","Cream","Grey","Red","N/A","N/A",0,2,4,0.01,250,"Yes"]
["149749P1985-86",149749,"P",null,null,null,"1985-86","Yes","DE",6,"x","Germany","DB","EMU","Passenger","Set","Regional service","Bo'Bo'+Bo'Bo'+Bo'Bo'+Bo'Bo'","Golden Series","Yes",1982,1993,"IV b / V a","BR-403","BR-403","N/A","N/A","4-unit train comprised of EMU Motor #201066, Intermediate #201067 and #201068, Driving trailer #201069. Operational between 1982-93","N/A","Lufthansa Airport Express","Donald Duck","Keks","Lufthansa","White","White","Yellow","N/A","Bicolor","Blue","G-Motor","Single arm",2,8,16,9.8039215686274508E-3,1072,"Yes"]
["201019LP1985-86",201019,"LP",null,null,null,"1985-86","Yes","DE",9,"x","Holland","NS","EMU","Locomotive","Electric","1° class","Bo'Bo'","N/A","Yes",1956,1996,"IV b / V a","Mat '54","Plan F/G","Materieel '54","N/A","Motor of EMU Mat '54 with 1° Class","N/A","Intercity","Hondekop","NS Double arrow","Grijs-geel","Yellow","Grey","Yellow","Blue","Bicolor","Red","G-Motor","Double arm",2,2,4,1.0526315789473684E-2,268,"Yes"]
["1038141985-86",103814,null,null,null,null,"1985-86","No",null,null,"x","South Africa","SAR","No","Passenger","Set","Express service","C'C'+2'2'+2'2'","Starter","Yes",1984,1986,"IV b","Metroblitz","Metroblitz","N/A","N/A","3-unit set comprised of Electric locomotive #208059, Passenger #309413 x 2, track and battery power pack","Metroblitz","Metroblitz","N/A","SAR Flying bird","Metroblitz","Light Blue","Grey","Red","Yellow","Tricolor","Blue","G-Motor","Double arm",2,6,12,1.1235955056179775E-2,702,"Yes"]
["2051811985-86",205181,null,null,null,null,"1985-86","Yes","DE",15,"x","UK","BR","DMU","Passenger","With central corridor","1° class","2'2'","N/A","Yes",1976,"Operational","IV b / V a","Mark III","TF","Trailer First (Open)",41121,"Intermediate of DMU HST-125","N/A","HST-125","N/A","N/A","Executive","Grey","Grey","White","Red","Bicolor","Red","N/A","N/A",0,2,4,1.3157894736842105E-2,303,"Yes"]
["208050LP1985-86",208050,"LP",null,null,null,"1985-86","Yes","DE",23,"x","France","SNCF","No","Locomotive","Electric","Express service","C'C'","N/A","Yes",1969,2004,"IV a","CC-6500","CC-6500","N/A",6501,"74 units, built between 1969-75 and numbered 6501/74. Focus on express Passenger services","N/A","N/A","Nez Cassé","Macaron","Grand Confort","White","Grey","White","Red","White","Red","G-Motor","Single arm",2,2,6,1.1235955056179775E-2,225,"Yes"]
["2010911985-86",201091,null,null,null,null,"1985-86","Yes","DE",26,"x","Germany","DB","No","Railcar","Trailer","2° class","2'B'","N/A","Yes",1974,2005,"IV b / V a / V b","BR-628","BR-628.0","BR-628","628 004-4","2° Class Trailer","N/A","BR-628","N/A","Keks","Ivory-Blue","Cream","Blue","Blue","Cream","Bicolor","Red","N/A","N/A",0,2,4,1.1494252873563218E-2,258,"Yes"]
["208130LP1985-86",208130,"LP",null,null,null,"1985-86","Yes","DE",31,"x","Norway","N.S.B.","No","Locomotive","Electric","Multipurpose","Co'Co'","N/A","Yes",1970,"Operational","IV a","NSB El","El 14","N/A","14 2171","30 units, built between 1968-73 and numbered 14.2164/90 & 14.2197 /2200. Focus on mixed-traffic services (regional Passenger and Freight)","N/A","N/A","N/A","NSB Svinghjul","Gammeldesign","Red","Grey","Red","Yellow","Red","Red","G-Motor","Double arm",2,2,6,1.1235955056179775E-2,200,"Yes"]
["3091691985-86",309169,null,null,null,null,"1985-86","Yes","DE",38,"x","Germany","DB","No","Passenger","With central corridor","Restaurant","2'2'","N/A","Yes",1965,1981,"IV a / IV b","UIC-X","WRmh 131","WR4üm-62","61 80 88-80 107-0","5 units, built between 1962-63 and numbered originally 11001/5 (after 1966 61 80 88-80 001/5). Erroneously numbered by LIMA. Number corresponds to Series WRmh 132. With \"hunch\"","N/A","TEE","N/A","Keks","TEE","Red","Grey","Red","Cream","Bicolor","Red","N/A","N/A",0,2,4,"1/100",265,"Yes"]
["3092331985-86",309233,null,null,null,null,"1985-86","Yes","DE",45,"x","Italy","FS","No","Passenger","With compartment","Sleeper","2'2'","N/A","Yes",1982,2016,"IV b / V a","T2S","WLABmz","Series 1982","61 83 75-71 484-6","80 units, built between 1980-82 and numbered 61 83 75-71 464/543","Trans Euro Nacht","N/A","N/A","Televisore","TEN","Blue","Grey","Blue","White","Grey","Red","N/A","N/A",0,2,4,1.020408163265306E-2,270,"Yes"]
["3092521985-86",309252,null,null,null,null,"1985-86","Yes","DE",45,"x","Switzerland","SBB/CFF","No","Passenger","With compartment","1° class","2'2'","N/A","Yes",1975,2005,"IV b / V a","UIC-Z1","Am","Eurofima VSE","61 85 19-90 519-7","20 units, built between 1973-76 and numbered 61 85 19-90 500/519","N/A","N/A","Eurofima","Doppelpfeil","C1","Orange","Grey","Orange","White","Bicolor","Red","N/A","N/A",0,2,4,"1/100",265,"Yes"]
["3090711985-86",309071,null,null,null,null,"1985-86","Yes","DE",52,"x","South Africa","SAR","No","Freight","Hopper","With opening roof","2'2'","N/A","Yes",1976,2009,"IV b","T-type","FCD-2","N/A","N/A","Built between 1975-76. For sugar transport. With yellow little wheel on the side","Sugar / Suiker","N/A","N/A","N/A","N/A","Brown","Brown","Brown","N/A","N/A","Red","N/A","N/A",0,2,4,1.1494252873563218E-2,170,"Yes"]
["3053681985-86",305368,null,null,null,null,"1985-86","Yes","EN",6,"x","UK","BR","DMU","Passenger","With central corridor","2° & Baggage","2'2'","N/A","Yes",1976,"Operational","IV b / V a","Mark III","TGS","Trailer Guard Standard",42252,"Intermediate of DMU HST-125","N/A","HST-125","N/A","N/A","Executive","Grey","Grey","White","Red","Bicolor","Red","N/A","N/A",0,2,4,1.3157894736842105E-2,303,"Yes"]
["3053671985-86",305367,null,null,null,null,"1985-86","Yes","EN",9,"x","UK","BR","DMU","Passenger","With compartment","Sleeper","2'2'","N/A","Yes",1982,"Operational","IV b","Mark III","SLE","Sleeper Either class","E10646","Intermediate of DMU HST-125","N/A","HST-125","N/A","N/A","BR-Intercity","Blue","Grey","Blue","Cream","Bicolor","Red","N/A","N/A",0,2,4,1.3157894736842105E-2,303,"Yes"]
["205121MG1985-86",205121,"MG",null,null,null,"1985-86","Yes","EN",30,"x","UK","BR","No","Locomotive","Diesel","Regional service","C'C'","N/A","Yes",1963,1975,"III b","Class 52","Class 52","N/A","D1016","74 units, built between 1961-64 and numbered D1000/73. Focus on express Passenger services","Western Gladiator","N/A","Western","Lion crest","Maroon","Red","Red","Red","N/A","Red","Red","G-Motor","N/A",0,2,4,1.3157894736842105E-2,272,"Yes"]
["3053121985-86",305312,null,null,null,null,"1985-86","Yes","EN",37,"x","UK","BR","No","Passenger","With compartment","1° & 2° class","2'2'","N/A","Yes",1951,1995,"III b","Mark I","CK","Composite Corridor","M25264","1268 units, built between 1951-53. Livery used between 1956-74 approx on former LMS & LNER lines","N/A","N/A","N/A","Lion crest","Maroon","Brown","Grey","Brown","Yellow","Brown","Red","N/A","N/A",0,2,4,1.3157894736842105E-2,255,"Yes"]
["3053081985-86",305308,null,null,null,null,"1985-86","Yes","EN",39,"x","UK","BR","No","Passenger","With central corridor","2° & Bar","2'2'","N/A","Yes",1976,1995,"IV b","Mark II","BSOT","Series Mk 2 original","E6524","8 units, refurbished in the early 1980's from former Mk 2 coaches and numbered 9100/7. Erroneously numbered by LIMA","N/A","Intercity","N/A","N/A","BR-Blue&Grey","Blue","Grey","Blue","Cream","Bicolor","Red","N/A","N/A",0,2,4,1.3157894736842105E-2,255,"Yes"]
["3053581985-86",305358,null,null,null,null,"1985-86","Yes","EN",46,"x","UK","BR","No","Passenger","Baggage","Baggage","2'2'","N/A","Yes",1956,1995,"III b / IV a","Mark I","GUV","General Utility Van","37762 ","907 units, built between 1956-60. Livery used between 1956-74 on former LMS & LNER lines","N/A","N/A","N/A","N/A","Maroon","Brown","Grey","Brown","N/A","Brown","Red","N/A","N/A",0,2,4,1.3157894736842105E-2,228,"Yes"]
["149801P1986-87",149801,"P",null,null,null,"1986-87","Yes","IT",10,"x","Germany","DB","EMU","Passenger","Set","Regional service","Bo'2'+2'2'+2'Bo'","Golden Series","Yes",1956,1984,"IV b","BR-430","BR-430","ET-30","N/A","3-unit train comprised of EMU Motor #201059, Intermediate #201060 and Driving trailer #201061","N/A","430-109","Eierköpfe","Keks","Ivory-Blue","Cream","Grey","Blue","Cream","Bicolor","Blue","G-Motor","Double arm",2,6,12,0.01,795,"Yes"]
["208160L1986-87",208160,"L",null,null,null,"1986-87","Yes","IT",37,"x","France","SNCF","No","Locomotive","Electric","Multipurpose","B'B'","N/A","Yes",1962,2000,"IV b / V a","BB-9400","BB-9400","Toiture \"haute\"",9491,"100 units, built between 1961-64 and numbered 9435/535. Focus on mixed-traffic services (regional Passenger and Freight)","N/A","N/A","Vespa","Encadré","Arzens","White","Brown","White","Brown","Bicolor","Red","G-Motor","Single arm",2,2,4,1.282051282051282E-2,185,"Yes"]
["208121L1986-87",208121,"L",null,null,null,"1986-87","Yes","IT",23,"x","Belgium","S.N.C.B.","No","Locomotive","Electric","Express service","Bo'Bo'","N/A","Yes",1974,1999,"IV a / IV b / V a / V b","Series 18","HLE 18","Series 18",1802,"6 units, built between 1973-74 based on a French CC-40100 locomotive design and numbered 1801/6. Focus on TEE express Passenger services on the PBA axis, replacing Series 15 locomotives","N/A","N/A","N/A","Oval B","Jaune-Bleue","White","White","White","Yellow","White","Red","G-Motor","Single arm",2,2,6,1.1494252873563218E-2,255,"Yes"]
["208181L1986-87",208181,"L",null,null,null,"1986-87","Yes","IT",38,"x","France","SNCF","No","Locomotive","Diesel","Multipurpose","B'B'","N/A","Yes",1967,"Operational","IV b / V a","BB-67000","BB-67300","N/A",67302,"70 units, built between 1967-68 and numbered 67301/67370. Focus on mixed-traffic services (Passenger and Freight)","N/A","N/A","N/A","Encadré","Bleu diesel","Blue","Blue","Blue","White","Blue","Red","Double cardan transmission","N/A",0,2,4,1.1494252873563218E-2,195,"Replace"]
["201632L1986-87",201632,"L",null,null,null,"1986-87","Yes","IT",46,"x","Germany","DB","No","Locomotive","Diesel","Regional service","B'B'","N/A","Yes",1974,2010,"IV b / V a","BR-218","BR-218","V-164","218 218-6","128 units, built between 1973-74 and numbered 218.171/298. Focus on mixed-traffic services (Passenger and Freight) on non-electrified lines","N/A","N/A","N/A","Keks","Ivory-Blue","Cream","Grey","Blue","Blue","Bicolor","Red","G-Motor","N/A",0,2,4,1.1235955056179775E-2,184,"Yes"]
["208117L1986-87",208117,"L",null,null,null,"1986-87","Yes","IT",55,"x","Switzerland","SBB/CFF","No","Locomotive","Electric","Multipurpose","2'Co1'","N/A","Yes",1921,1994,"II / III a / III b / IV a / IV b","Ae 3/6 I","Ae 3/6'","Ae 396",10683,"114 units, built between 1921-29 and numbered 10601/714. Originally used for express Passenger services on prairies","N/A","N/A","N/A","N/A","SBB-Grün","Green","Grey","Green","N/A","Green","Red","G-Motor","Double arm",2,1,6,1.1494252873563218E-2,170,"Yes"]
["3092881986-87",309288,null,null,null,null,"1986-87","Yes","IT",67,"x","Italy","FS","No","Passenger","With central corridor","2° class","2'2'","N/A","Yes",1986,"Operational","V a","MDVE","nB","Series 1982","50 83 21-78 578-6","710 units, built between 1982-87 and numbered 21-78 001/710","N/A","N/A","N/A","Losanga","MDVE","Grey","Grey","Grey","Orange","Bicolor","Red","N/A","N/A",0,2,4,1.1494252873563218E-2,303,"Yes"]
["3092851986-87",309285,null,null,null,null,"1986-87","Yes","IT",76,"x","Germany","DSG","No","Passenger","With central corridor","Restaurant","2'2'","N/A","Yes",1962,1981,"III b","UIC-X","WRmh 131","WR4üm-62",11101,"5 units, built between 1962-63 and numbered originally 11001/5 (after 1966 61 80 88-80 001/5). Ivory-Blue livery and DSG logo only used between 1962-67. With \"hunch\"","Speisewagen","Rheingold","N/A","Gefriergans","Ivory-Blue","Cream","Grey","Blue","Cream","Bicolor","Red","N/A","N/A",0,2,4,"1/100",265,"Yes"]
["3092801986-87",309280,null,null,null,null,"1986-87","Yes","IT",85,"x","Holland","NS","No","Passenger","With central corridor","2° class","2'2'","N/A","Yes",1986,"Operational","V a / V b / VI","ICR (Intercityrijtuig)","B","ICR-3","50 84 20-70 401-9","22 units, built between 1986-87 and numbered 50 84 20-70 401/422. Focus on Passenger services in Benelux","N/A","N/A","N/A","NS Double arrow","ICR-Benelux","Red","Grey","Yellow","N/A","Red","Red","N/A","N/A",0,2,4,0.01,265,"Yes"]
["3036261986-87",303626,null,null,null,null,"1986-87","Yes","IT",93,"x","Australia","NSW","No","Freight","Tank","With 3 domes","2'2'","N/A","No",1927,1990,"II / III a / III b / IV a / IV b / V a","Z-type","ICC-103","40'",3684,"Built in the mid 1920's","BP","N/A","N/A","N/A","N/A","Black","Black","Black","N/A","N/A","Red","N/A","N/A",0,2,4,1.3157894736842105E-2,145,"Replace"]
[{"$f":"+B7135&C7135&F7135&G7135","v":"201004L1987-88"},201004,"L",null,null,null,"1987-88","Yes","EN",5,"x","Switzerland","SBB/CFF","EMU","Locomotive","Dummy","1° class","2'2'","N/A","Yes",1961,2000,"III b / IV a / IV b","RAe TEE II","RAe TEE II","RABe","N/A","Driving trailer of EMU RAe TEE II with 1° Class","Trans Europ Express","TEE","N/A","TEE","TEE","Cream","Grey","Red","Cream","Grey","Red","N/A","N/A",0,2,4,0.01,250,"Yes"]
["2051571987-88",205157,null,null,null,null,"1987-88","Yes","EN",9,"x","UK","BR","No","Locomotive","Diesel","Freight","Bo'Bo'","N/A","Yes",1966,1990,"IV a / IV b","Class 20","Class 20/0","EE type 1",20183,"228 units, built between 1957-68 and numbered 20001/228. Focus on Freight services","N/A","N/A","Chopper","Double arrow","BR-Blue","Blue","Grey","Blue","Yellow","Blue","Red","G-Motor","N/A",0,2,4,1.3157894736842105E-2,186,"Yes"]
["2051941987-88",205194,null,null,null,null,"1987-88","Yes","EN",14,"x","UK","BR","No","Locomotive","Diesel","Multipurpose","Bo'Bo'","N/A","Yes",1967,1988,"V a","Class 73","Class 73/1","N/A",73142,"43 units, built in 1965-67 and numbered originally E6007/49 (after 1973 73101/42). Focus on mixed-traffic services (Passenger and Freight). With collector shoe for operating in third rail electrified lines. Name only used between 1980-88","Broadlands","Intercity","N/A","Double arrow","Executive","Black","Black","White","Red","Bicolor","Red","G-Motor","N/A",0,2,4,1.3157894736842105E-2,215,"Yes"]
["3053651987-88",305365,null,null,null,null,"1987-88","Yes","EN",20,"x","UK","BR","No","Passenger","With central corridor","2° class","2'2'","N/A","Yes",1951,1995,"III b","Mark I","TSO","Tourist Standard Open","S25916","1370 units, built between 1951-63. Livery used between 1956-64 approx on former SRW lines","N/A","N/A","N/A","N/A","Malachite Green","Green","Grey","Green","N/A","Green","Red","N/A","N/A",0,2,4,1.3157894736842105E-2,255,"Yes"]
["3053801987-88",305380,null,null,null,null,"1987-88","Yes","EN",26,"x","UK","BR","No","Passenger","With central corridor","1° class","2'2'","N/A","Yes",1972,"Operational","IV b / V a","Mark II","FO","Series Mk 2E","SC11008","55 units, built between 1972-74 and numbered 3221/75. Livery used between 1984-94 approx","N/A","N/A","N/A","N/A","Scotrail","Black","Black","White","Blue","Bicolor","Red","N/A","N/A",0,2,4,1.3157894736842105E-2,258,"Yes"]
["3056901987-88",305690,null,null,null,null,"1987-88","Yes","EN",28,"x","UK","BR","No","Freight","Open","Empty",2,"N/A","Yes",1910,1970,"III b / IV a / IV b","E-type","7 Plank Open","12 Ton",9191,"Built between 1904-25 for GWR and operational until the late 1960's","Austin Rover","N/A","N/A","N/A","N/A","Grey","N/A","Black","Bicolor","N/A","Red","N/A","N/A",0,0,2,1.3157894736842105E-2,83,"Yes"]
["3056601987-88",305660,null,null,null,null,"1987-88","Yes","EN",34,"x","UK","BR","No","Freight","Closed","N/A","2'2'","N/A","Yes",1970,1988,"IV a / IV b / V a","G-type","Bogie Pallet Van","82 Ton","N/A","Built since the early 1970's","Fisons","N/A","N/A","N/A","N/A","White","Black","Black","Green","White","Red","N/A","N/A",0,2,4,1.3157894736842105E-2,195,"Yes"]
["208146L1988-89",208146,"L","AC",null,null,"1988-89","Yes","IT",15,"x","Italy","FS","No","Locomotive","Electric","Multipurpose","B’B’B’","N/A","Yes",1982,2015,"IV b / V a","E-633","E-633.1","N/A","E633 043","75 units, built between 1981-84 and numbered E.633.005/079.Focus on mixed-traffic services (Passenger and heavy Freight)","N/A","N/A","Tigre","Televisore","Grigio perla-Blu orientale","White","White","Blue","Blue","White","Red","G-Motor","Double arm",2,3,6,1.1235955056179775E-2,200,"Yes"]
["3092731988-89",309273,null,null,null,null,"1988-89","Yes","IT",21,"x","Italy","FS","No","Passenger","With central corridor","2° & Driving trailer","2'2'","N/A","Yes",1981,"Operational","IV b / V a","MDVC","npBD","Series 1979 TE","50 83 82-79 804-1","56 units, built between 1981-83 and numbered 82-79 800/855. TE sub-series only used for \"Push-Pull\" Passenger services on Electric locomotives","N/A","N/A","Passante","Losanga","Navetta","White","Grey","Grey","Bicolor","Orange","Red","N/A","N/A",0,2,4,1.1494252873563218E-2,303,"Yes"]
["309278L1988-89",309278,"L",null,null,null,"1988-89","Yes","IT",28,"x","France","SNCF","No","Passenger","With central corridor","2° & Driving trailer","2'2'","N/A","Yes",1977,"Operational","IV b / V a / V b","Rame Inox de Banlieue","Bx","Series 1976","N/A","39 units, built between 1976-77 and numbered 50 87 22-37 570/608. For Rame Inox de Banlieue Passenger services in the Île-de-France region","N/A","RIB","N/A","Encadré","RIB","Grey","Grey","Grey","N/A","Grey","Red","N/A","N/A",0,2,4,0.01,258,"Yes"]
["3091491988-89",309149,null,null,null,null,"1988-89","Yes","IT",41,"x","France","SNCF","No","Passenger","With compartment","2° class","2'2'","N/A","Yes",1951,1992,"III a","DEV AO Courte","B8","Series 1950",10041,"37 units, built between 1950-52. Numbering system starting with 1 corresponds to Eastern lines","N/A","N/A","N/A","N/A","Verte","Green","Black","Green","N/A","Green","Red","N/A","N/A",0,2,4,1.1494252873563218E-2,270,"Yes"]
["208182L1988-89",208182,"L",null,null,null,"1988-89","Yes","IT",48,"x","Belgium","S.N.C.B.","No","Locomotive","Electric","Multipurpose","Bo'Bo'","N/A","Yes",1956,2012,"IV b / V a","Series 23","HLE 23","Series 23",2374,"83 units, built between 1955-57 and numbered originally 122.001/083 (after 1971 2301/83). Focus on mixed-traffic services (regional Passenger and Freight)","N/A","N/A","N/A","N/A","Jaune-Bleue","Yellow","Grey","Grey","Blue","Yellow","Red","G-Motor","Double arm",2,2,4,1.1111111111111112E-2,200,"Yes"]
["309268K1988-89",309268,"K",null,null,null,"1988-89","Yes","IT",58,"x","Switzerland","SBB/CFF","No","Passenger","With central corridor","2° class","2'2'","N/A","Yes",1958,"Operational","IV b / V a / V b / VI","EW-1 / VU-1","B","EW-1 / VU-1","50 85 20-34 053-2","1040 units, built between 1956-67 and numbered 50 85 20-33 100/419, 500/719, 730/739 & 20-34 000/459","N/A","N/A","N/A","SBB aktuelle","SBB-Grün","Green","Grey","Green","N/A","Yellow","Red","N/A","N/A",0,2,4,1.1494252873563218E-2,272,"Yes"]
["208142L1988-89",208142,"L","AC",null,null,"1988-89","Yes","IT",73,"x","Germany","DB","No","Locomotive","Electric","Multipurpose","Bo'Bo'","N/A","Yes",1988,"Operational","V a","BR-120","BR-120.1","BR-120","120 140-9","60 units built between 1985-89 and numbered 120.101/160. Focus on mixed-traffic services (regional Passenger and Freight)","N/A","N/A","N/A","Keks","Orientrot","Red","Red","Red","Grey","Red","Red","Double cardan transmission","Single arm",2,2,4,1.1494252873563218E-2,220,"Yes"]
["3091541988-89",309154,null,null,null,null,"1988-89","Yes","IT",77,"x","Germany","DB","No","Passenger","With compartment","2° class",2,"N/A","Yes",1929,1964,"III b","Donnerbüchse","Ci-29","Ci-29",26991,"450 units, built between 1929-30. Refurbished to 2° Class in 1956","N/A","N/A","N/A","Keks","DB-Grün","Green","Grey","Green","N/A","Green","Red","N/A","N/A",0,0,2,1.0752688172043012E-2,149,"Yes"]
["208189L1988-89",208189,"L",null,null,null,"1988-89","Yes","IT",87,"x","Holland","NS","No","Locomotive","Electric","Freight","Co'Co'","N/A","Yes",1956,2000,"V a / V b","NS 1300","Series 1300","CC-7100",1314,"16 units, built between 1952-56 based on a French CC-7100 locomotive design and numbered 1301/16. Focus on heavy Freight services","N/A","N/A","N/A","NS Double arrow","NS-Geel","Yellow","Grey","Grey","N/A","Yellow","Red","G-Motor","Single arm",2,2,6,1.1494252873563218E-2,217,"Yes"]
["3028561988-89",302856,null,null,null,null,"1988-89","Yes","IT",100,"x","Germany","DB","No","Freight","Flat","With 2 containers",2,"N/A","Yes",1969,1999,"IV a / IV b / V a / V b","L-type","Lgjs 573","Lss y 573","21 80 042 9 032-4","Built in the late 1960's","Danzas - Sea Land","N/A","N/A","N/A","N/A","Light Blue","White","Black","N/A","N/A","Red","N/A","N/A",0,0,2,1.1494252873563218E-2,170,"Yes"]
["3090651988-89",309065,null,null,null,null,"1988-89","Yes","IT",102,"x","France","SNCF","No","Freight","Open","Empty","2'2'","N/A","Yes",1960,1995,"III b / IV a / IV b / V a","E-type","Eaos","Góndola","31 87 596 6 505-8","Built since the late 1950's","N/A","N/A","N/A","N/A","N/A","Brown","N/A","Brown","N/A","N/A","Red","N/A","N/A",0,2,4,1.1494252873563218E-2,160,"Yes"]
["3090631988-89",309063,null,null,null,null,"1988-89","Yes","IT",110,"x","Germany","DB","No","Freight","Car transporter","With 6 cars",3,"N/A","Yes",1961,"Operational","III b / IV a / IV b / V a / V b","L-type","Laeqrss 545","Offehss 68","N/A","Built since the early 1960's. Two wagons joined together","Goth","N/A","N/A","N/A","N/A","Grey","Grey","Grey","N/A","N/A","Red","N/A","N/A",0,0,3,1.1494252873563218E-2,290,"Replace"]
["3090801988-89",309080,null,null,null,null,"1988-89","Yes","IT",115,"x","Germany","DB","No","Freight","Flat","With stakes","2'2'","N/A","Yes",1967,"Operational","IV a / IV b / V a","U-type","Uaik 721","SH 54","82 80 991 9 913-9","14 units, built between 1956-67 and numbered 82 80 991 9 900/913","N/A","N/A","N/A","N/A","N/A","Black","N/A","Black","N/A","N/A","Red","N/A","N/A",0,2,4,1.1494252873563218E-2,230,"Replace"]
["208150LP1989-90",208150,"LP",null,null,null,"1989-90","Yes","DE",9,"x","Italy","FS","No","Locomotive","Electric","Express service","Bo'Bo'Bo'","N/A","Yes",1964,2005,"IV b / V a","E-646","E-646","N/A","E646 049","198 units, built between 1961-67 and numbered E.646.021/210. Focus on Passenger services","N/A","N/A","N/A","E-646 4° series","Navetta","White","Grey","White","Bicolor","Orange","Red","G-Motor","Double arm",2,3,6,1.1494252873563218E-2,210,"Yes"]
[{"$f":"+B7771&C7771&F7771&G7771","v":"208127L1989-90"},208127,"L",null,null,null,"1989-90","Yes","DE",15,"x","France","SNCF","No","Locomotive","Electric","Express service","Bo'Bo'","N/A","Yes",1962,2005,"IV b","BB Jacquemin","BB-9200","N/A",9292,"2 units, built between 1963-64 and numbered 9291/2. Especially manufactured for Le Capitole services","N/A","Corail","Jacquemin","Encadré","Corail","Blue","White","White","Bicolor","Bicolor","Red","G-Motor","Double arm",2,2,4,1.1494252873563218E-2,185,"Yes"]
["3093871989-90",309387,null,null,null,null,"1989-90","Yes","DE",20,"x","France","SNCF","No","Passenger","Baggage","Baggage","2'2'","N/A","Yes",1978,"Operational","IV b / V a","MC 76","Dd2s","Series 1977","51 87 92-70 155-0","160 units, built between 1977-78 and numbered 92-70 001/160","N/A","Corail","Corail","Encadré","Corail","White","Grey","White","Grey","Orange","Red","N/A","N/A",0,2,4,1.0526315789473684E-2,211,"Yes"]
["208023LP1989-90",208023,"LP",null,null,null,"1989-90","Yes","DE",21,"x","Belgium","S.N.C.B.","No","Locomotive","Electric","Multipurpose","Bo'Bo'","N/A","Yes",1983,"Operational","IV b / V a","Series 27","HLE 27","Series 27",2735,"60 units, built between 1981-84 and numbered 2701/60. Focus on mixed-traffic services (regional Passenger and Freight)","N/A","N/A","N/A","Oval B","Jaune-Bleue","Blue","Grey","Blue","Yellow","Blue","Red","G-Motor","Single arm",2,2,4,1.1494252873563218E-2,215,"Yes"]
["208184L1989-90",208184,"L",null,null,null,"1989-90","Yes","DE",25,"x","Switzerland","SBB/CFF","No","Locomotive","Electric","Multipurpose","Bo’Bo’Bo’","N/A","Yes",1977,"Operational","IV b / V a / V b","Re 6/6","Re 6/6","Re 620",11637,"89 units, built between 1972–80 and numbered 11601/689. Focus on mixed-traffic services (Passenger and heavy Freight) on the Gothard axis","Sonceboz","N/A","N/A","Wappen","SBB-Rot","Red","Grey","Grey","White","Red","Red","Double cardan transmission","Single arm",2,3,6,1.1494252873563218E-2,219,"Yes"]
["3092451989-90",309245,null,null,null,null,"1989-90","Yes","DE",28,"x","Switzerland","SBB/CFF","No","Passenger","With central corridor","Restaurant","2'2'","N/A","Yes",1958,1985,"IV a / IV b","EW-1 / VU-1","WR","EW-1 / VU-1","50 85 88-33 612-5","7 units, built between 1958-61 and numbered WR 50 85 88-33 610/616","Self-Service","N/A","N/A","Doppelpfeil","SBB-Rot","Red","Grey","Red","White","Yellow","Red","N/A","Double arm",1,2,4,1.1235955056179775E-2,265,"Yes"]
["208141L1989-90",208141,"L",null,null,null,"1989-90","Yes","DE",29,"x","Austria","OBB","No","Locomotive","Diesel","Shunter","C","N/A","Yes",1967,2005,"V a / V b","ÖBB 2067","Series 2067","N/A","2067 057-6","111 units, built between 1959-75 and numbered 2067.01/111. Focus on shunting operation","N/A","N/A","N/A","Pflatsch","Blutorange","Orange","Grey","Black","Orange","Orange","Red","G-Motor","N/A",0,0,3,1.1494252873563218E-2,120,"Yes"]
["309346K1989-90",309346,"K",null,null,null,"1989-90","Yes","DE",35,"x","Germany","DB","No","Passenger","Baggage","Baggage","2'2'","N/A","Yes",1960,2001,"IV a / IV b","UIC-X","Dms 902","Pw4ümg-60","N/A","190 units, built between 1961-63 and numbered originally 106001/181 (after 1966 92-40 002/131, 95-40 001/051, 92-30 001/006, 95-30 001, 003/004)","N/A","N/A","N/A","Keks","DB-Grün","Green","Grey","Green","N/A","Green","Red","N/A","N/A",0,2,4,1.1494252873563218E-2,303,"Yes"]
["1497091989-90",149709,null,null,null,null,"1989-90","Yes","DE",39,"x","Holland","NS","EMU","Passenger","Set","Regional service","Bo'Bo'+2'2'+2'2'+Bo'Bo'","Golden Series","Yes",1956,1996,"IV b / V a","Mat '54","Plan F/G","Materieel '54","N/A","4-unit train comprised of EMU Motor #201019, Intermediate #201020 x 2 and Driving trailer #201021","N/A","Intercity","Hondekop","NS Double arrow","Grijs-geel","Yellow","Grey","Yellow","Blue","Bicolor","Blue","G-Motor","Double arm",2,8,16,1.0526315789473684E-2,1046,"Yes"]
["208052LP1989-90",208052,"LP",null,null,null,"1989-90","Yes","DE",43,"x","Sweden","SJ","No","Locomotive","Electric","Multipurpose","Bo'Bo'","N/A","Yes",1973,"Operational","IV a / IV b / V a","SJ RC2","Rc2","Rc2",1106,"100 units, built between 1969-75 and numbered 1027/1056 & 1067/1136. Focus on mixed-traffic services (regional Passenger and Freight)","N/A","N/A","N/A","SJ Svänghjul","N/A","Red","Grey","Black","White","Red","Red","G-Motor","Double arm",2,2,4,1.1494252873563218E-2,176,"Yes"]
["3031061989-90",303106,null,null,null,null,"1989-90","Yes","DE",46,"x","France","SNCF","No","Freight","Closed","N/A",2,"N/A","Yes",1963,"Operational","III b / IV a / IV b","G-type","Gs 216","Gos 70.6","N/A","7150 units, built between 1960-63 and numbered 21 87 150 0 000/21 87 150 7 149","Sernam","N/A","N/A","N/A","N/A","Brown","Grey","Black","N/A","Brown","Red","N/A","N/A",0,0,2,1.1494252873563218E-2,121,"Yes"]
["3032071989-90",303207,null,null,null,null,"1989-90","Yes","DE",50,"x","Italy","FS","No","Freight","Closed","With sliding door","2'2'","N/A","Yes",1975,"Operational","IV b / V a / V b / VI","H-type","Habis 339","N/A","N/A","Built in the mid 1970's","N/A","N/A","N/A","Losanga","N/A","Brown","Grey","Brown","N/A","Grey","Red","N/A","N/A",0,2,4,1.098901098901099E-2,242,"Replace"]
["3031131989-90",303113,null,null,null,null,"1989-90","Yes","DE",52,"x","Italy","FS","No","Freight","Reefer","N/A",2,"N/A","Yes",1942,1980,"III a / III b / IV a / IV b","I-type","Ibdlps 383","Hes 096","N/A","Built in the mid 1940's. With smooth panel","Coca-Cola","N/A","N/A","N/A","N/A","White","Grey","Black","N/A","White","Red","N/A","N/A",0,0,2,0.01,130,"Yes"]
["205197L1989-90",205197,"L",null,null,null,"1989-90","Yes","EN",7,"x","UK","BR","DMU","Locomotive","Diesel","Express service","Bo'Bo'","N/A","Yes",1977,"Operational","IV b / V a","Class 43","Class 43","HST-125",43053,"Motor of DMU HST-125","County Of Humberside","HST-125","N/A","Double arrow","Executive","Grey","Grey","Yellow","Red","Bicolor","Grey","G-Motor","N/A",0,2,4,1.3157894736842105E-2,235,"Yes"]
["2051581989-90",205158,null,null,null,null,"1989-90","Yes","EN",17,"x","UK","BR","No","Locomotive","Diesel","Freight","Bo'Bo'","N/A","Yes",1966,1989,"IV b / V a","Class 20","Class 20/0","EE type 1",20171,"228 units, built between 1957-68 and numbered 20001/228. Focus on Freight services","N/A","N/A","Chopper","Double arrow","Large Logo","Blue","Grey","Blue","Yellow","Yellow","Red","G-Motor","N/A",0,2,4,1.3157894736842105E-2,186,"Yes"]
["2052871989-90",205287,null,null,null,null,"1989-90","Yes","EN",22,"x","UK","BR","No","Locomotive","Diesel","Multipurpose","Co'Co'","N/A","Yes",1988,1998,"V a","Class 37","Class 37/3","English Electric Type 3",37350,"75 units, refurbished in the mid 1980's from former Class 37/0 locomotives and numbered 37310/85. Focus on mixed-traffic services (regional Passenger and Freight). Special edition with number D6700 also added","N/A","N/A","Tractor","Lion crest","BR-Green","Green","Grey","Black","Yellow","Green","Red","G-Motor","N/A",0,2,6,1.3157894736842105E-2,242,"Yes"]
["2050481989-90",205048,null,null,null,null,"1989-90","Yes","EN",29,"x","UK","BR","No","Locomotive","Diesel","Multipurpose","Co'Co'","N/A","Yes",1966,2007,"IV a / IV b","Class 47","Class 47/0","N/A",47298,"298 units, built between 1962-66 and numbered originally D1500/798 (after 1973 47001/298). Focus on mixed-traffic services (regional Passenger and Freight)","N/A","N/A","N/A","Double arrow","BR-Blue","Blue","Blue","Blue","Yellow","Bicolor","Red","G-Motor","N/A",0,2,6,1.3157894736842105E-2,254,"Yes"]
["2051541989-90",205154,null,null,null,null,"1989-90","Yes","EN",38,"x","UK","BR","DMU","Locomotive","Dummy","2° class","Bo'Bo'","N/A","Yes",1959,2000,"III b / IV a","Class 117","Class 117/2","DMBS","W51346","Driving trailer of DMU Class 117/2 with 2° Class","N/A","N/A","N/A","Double arrow","BR-Refurbished","White","Grey","White","Blue","Bicolor","Red","N/A","N/A",0,2,4,1.3157894736842105E-2,256,"Yes"]
["3053021989-90",305302,null,null,null,null,"1989-90","Yes","EN",50,"x","UK","BR","No","Passenger","With central corridor","2° class","2'2'","N/A","Yes",1969,2005,"IV a / IV b","Mark II","TSO","Series Mk 2B","W5449","64 units, built in 1969 and numbered 5434/97. Livery used between 1968-82 approx","N/A","Intercity","N/A","N/A","BR-Blue&Grey","Blue","Grey","Blue","Cream","Bicolor","Red","N/A","N/A",0,2,4,1.3157894736842105E-2,258,"Yes"]
["3056771989-90",305677,null,null,null,null,"1989-90","Yes","EN",61,"x","UK","BR","No","Freight","Open","Empty",2,"N/A","Yes",1910,1970,"III b / IV a / IV b","E-type","7 Plank Open","12 Ton",45,"Built between 1904-25 for GWR and operational until the late 1960's","Harrods","N/A","N/A","N/A","N/A","Brown","N/A","Black","White","N/A","Red","N/A","N/A",0,0,2,1.3157894736842105E-2,83,"Yes"]
["3056711989-90",305671,null,null,null,null,"1989-90","Yes","EN",66,"x","UK","MR","No","Freight","Open","Empty","2'2'","N/A","Yes",1971,2005,"IV a / IV b / V a","E-type","TPA","Góndola","N/A","458 units, built between 1971-77","Yeoman","N/A","N/A","N/A","N/A","White","N/A","White","N/A","N/A","Red","N/A","N/A",0,2,4,1.3157894736842105E-2,155,"Yes"]
["208114L1990",208114,"L","AC",null,null,1990,"Yes","IT",9,"x","Germany","DB","No","Locomotive","Diesel","Freight","Do'Do'","N/A","Yes",1942,1972,"IV a","BR-288","V-188","D-311","288 002-9","4 units, built between 1941-2 and numbered originally D.311.01/4 (after 1946 V188.001/3 and from 1968 288.001/3). Focus on heavy Freight services. Used for hauling Military trains during WWII","N/A","N/A","N/A","Keks","DB-Rot 1","Red","Grey","Black","White","Red","Red","G-Motor","N/A",0,2,8,1.1494252873563218E-2,258,"Yes"]
["201216LK1990",201216,"LK","AC",null,null,1990,"Yes","IT",10,"x","Germany","DB","No","Railcar","Trailer","2° class","2'2'","N/A","Yes",1958,1995,"III b","BR-515","BR-515","ESA-150","150 185","2° Class Trailer","N/A","BR-515","N/A","Keks","DB-Rot 1","Red","Grey","Red","Yellow","Red","Red","N/A","N/A",0,2,4,1.1111111111111112E-2,258,"Yes"]
["309562K1990",309562,"K",null,null,null,1990,"Yes","IT",14,"x","Germany","DB","No","Passenger","With compartment","1° class","2'2'","N/A","Yes",1965,2001,"V a","UIC-X","Avmz 111","Avmz 111.1","61 80 19-94 044-3","200 units, built between 1968-75. Focus on express Passenger services. Straight-edged roof (2° series after 1967)","N/A","Interregio","Steildach","Keks","IR 1","White","White","White","Blue","Bicolor","Red","N/A","N/A",0,2,4,1.1494252873563218E-2,303,"Yes"]
["309581K1990",309581,"K",null,null,null,1990,"Yes","IT",17,"x","Germany","DB","No","Passenger","With central corridor","1° class","2'2'","N/A","Yes",1965,1997,"V a","UIC-X","Apmz 121","Apmz 121.1","N/A","65 units, built between 1967-75. Focus on express Passenger services. Straight-edged roof (2° series after 1967)","N/A","Intercity","Steildach","Keks","IC 1","White","White","White","Red","Tricolor","Red","N/A","N/A",0,2,4,"1/100",265,"Yes"]
["309553K1990",309553,"K",null,null,null,1990,"Yes","IT",19,"x","Germany","DB","No","Passenger","With central corridor","Dome","2'2'","N/A","Yes",1963,1976,"III b","UIC-X","ADmh 101","AD4üm-62",10554,"5 units, built between 1962-63 and numbered originally 10551/5 (after 1968 61 80 81-80 001/005). Sold in 1976 to Apfelpfeil tourist agency. With panoramic dome","Rheingold","Rheingold","N/A","Keks","Ivory-Blue","Cream","Grey","Blue","Cream","Bicolor","Red","N/A","N/A",0,2,4,"1/100",265,"Replace"]
["303572K1990",303572,"K",null,null,null,1990,"Yes","IT",21,"x","Germany","DB","No","Freight","Set","Freight","2+2","N/A","Yes",1956,1985,"IV a","L-type","Laes 541","Offs 59","N/A","2-unit train comprised of Car transport Laes 541","N/A","N/A","N/A","Keks","N/A","Brown","Brown","Brown","N/A","N/A","Red","N/A","N/A",0,0,4,1.1494252873563218E-2,250,"Yes"]
["309513K1990",309513,"K",null,null,null,1990,"Yes","IT",26,"x","Switzerland","BLS","No","Passenger","With central corridor","1° class","2'2'","N/A","Yes",1960,"Operational","IV b / V a / V b / VI","EW-1 / VU-1","A","EW-1 / VU-1","50 63 18-33 806-2","13 units, built in the early 1960's","N/A","N/A","N/A","BLS","BLS","Cream","Grey","Blue","Cream","Cream","Red","N/A","N/A",0,2,4,1.1494252873563218E-2,272,"Yes"]
["208191L1990",208191,"L",null,null,null,1990,"Yes","IT",30,"x","Austria","OBB","No","Locomotive","Electric","Multipurpose","Bo'Bo'","N/A","Yes",1960,2008,"IV b / V a / V b / VI","ÖBB 1042","Series 1042","N/A","1042 060-2","257 units, built between 1963-77 and numbered 1042 001/060, 501/520 & 531/707. Focus on mixed-traffic services (Passenger and Freight) in mountainous areas","N/A","N/A","N/A","Pflatsch","Blutorange","Orange","Grey","Black","Cream","Orange","Red","Double cardan transmission","Single arm",2,2,6,1.1764705882352941E-2,187,"Yes"]
["201655L1990",201655,"L",null,null,null,1990,"Yes","IT",33,"x","Italy","FS","No","Locomotive","Diesel","Shunter","B","N/A","No",1950,1985,"III b / IV a / IV b / V a","Plymouth","MDT","N/A","N/A","Built in the early 1950's. Focus on light industrial use. FS never owned MDT locomotives, LIMA invention","N/A","N/A","N/A","Televisore","N/A","Green","Grey","Black","Yellow","Green","Red","G-Motor","N/A",0,0,2,1.1494252873563218E-2,119,"Yes"]
["3091331990",309133,null,null,null,null,1990,"Yes","IT",38,"x","Italy","FS","No","Passenger","With compartment","1° class","2'2'","N/A","Yes",1972,1989,"IV a / IV b / V a","TEE 69","Az","N/A","61 83 18-90 904-0","13 units, built between 1971-73 and numbered 18-90 900/12. TEE livery used until 1989","N/A","TEE","N/A","Televisore","TEE","Red","Grey","Red","Cream","Bicolor","Red","N/A","N/A",0,2,4,0.01,265,"Yes"]
["2010971990",201097,null,null,null,null,1990,"Yes","IT",40,"x","France","SNCF","EMU","Passenger","With central corridor","2° & Bar","2'","N/A","Yes",1980,"Operational","IV b / V a / V b","TGV Sud-Est","R4","N/A","N/A","Intermediate of EMU TGV","N/A","TGV Sud-Est","TGV","N/A","Orange","Orange","Grey","Orange","Bicolor","Bicolor","Red","N/A","N/A",0,1,2,1.1494252873563218E-2,215,"Yes"]
["309277S011990",309277,"S01",null,null,null,1990,"Yes","IT",44,"x","France","SNCF","No","Passenger","With central corridor","2° class","2'2'","N/A","Yes",1982,"Operational","IV b / V a","Rame Inox Omnibus ","Bz","Series 1982","N/A","25 units, built between 1982-86 and numbered 50 87 02-37 074/098. For Rame Inox Omnibus services in the main French cities excluding Paris","N/A","RIO","Provence","Spaghetti","Regionale Bleue","Grey","Grey","Grey","Blue","Grey","Red","N/A","N/A",0,2,4,0.01,240,"Yes"]
["2082401990",208240,null,null,null,null,1990,"Yes","IT",48,"x","Belgium","S.N.C.B.","No","Locomotive","Diesel","Shunter","C","N/A","Yes",1939,1967,"III a / III b","Series 91","Series 231","WR 360 C 14","231 001","1 unit, abandoned in 1945 by the Wehrmacht in Belgium and numbered 231.001. Focus on shunting operation","N/A","N/A","N/A","N/A","N/A","Black","Black","Black","Red","Black","Red","G-Motor","N/A",0,0,3,1.1494252873563218E-2,105,"Yes"]
[{"$f":"+B8794&C8794&F8794&G8794","v":"3091091990"},309109,null,null,null,null,1990,"Yes","IT",56,"x","Holland","NS","No","Passenger","With central corridor","1° class","2'2'","N/A","Yes",1955,1988,"IV b / V a","Plan E","A","N/A","50 84 18-37 201-9","46 units, built between 1954-55 and numbered originally 6501/46 (after 1968 del 50 84 18-37 201/246)","N/A","N/A","N/A","NS Double arrow","Pruisisch blauw","Blue","Grey","Blue","Light Blue","Blue","Red","N/A","N/A",0,2,4,0.01,253,"Yes"]
["208194L1990",208194,"L",null,null,null,1990,"Yes","IT",54,"x","Holland","NS","No","Locomotive","Electric","Multipurpose","Co'Co'","N/A","Yes",1952,1994,"III a","NS 1200","Series 1200","N/A",1220,"25 units, built between 1949-51 and numbered 1201/25. Focus on mixed-traffic services (regional Passenger and Freight)","N/A","N/A","Big nose","Gevleugeld spoorwiel","Rood-bruin","Brown","Brown","Brown","Orange","Brown","Red","G-Motor","Double arm",2,2,6,1.1904761904761904E-2,215,"Yes"]
["3092011990",309201,null,null,null,null,1990,"Yes","IT",61,"x","Belgium","CIWL","No","Passenger","Parlor","1° class","2'2'","N/A","Yes",1926,1971,"II / III a / III b","Pullman","Pullman","N/A",9042,"211 units, built between 1926-30","N/A","N/A","N/A","CIWL","CIWL","Blue","Grey","Blue","White","Blue","Red","N/A","N/A",0,2,4,0.01,216,"Yes"]
["3035681990",303568,null,null,null,null,1990,"Yes","IT",62,"x","Germany","DB","No","Freight","Hopper","With ladder",2,"N/A","Yes",1958,2000,"IV a / IV b / V a","T-type","Tds 925","Ktmm 60","21 80 574 1 441-7","1600 units, built between 1958-59","N/A","N/A","N/A","Keks","N/A","Brown","N/A","Brown","N/A","N/A","Red","N/A","N/A",0,0,2,1.2048192771084338E-2,110,"Yes"]
["3031111990",303111,null,null,null,null,1990,"Yes","IT",65,"x","Germany","DB","No","Freight","Reefer","With ladder",2,"N/A","Yes",1960,1995,"III b / IV a / IV b / V a","I-type","Ibps-v","Ichqrs 377",516972,"Built in the late 1950's. With smooth panel","Spatenbrau München","N/A","N/A","N/A","N/A","White","Grey","Black","N/A","White","Red","N/A","N/A",0,0,2,1.1494252873563218E-2,130,"Yes"]
["149820LK1991",149820,"LK","AC",null,null,1991,"Yes","ML",8,"x","Germany","DB","DMU","Passenger","Set","Regional service","B'2'+2'2'+2'2'","Lima Collection","Yes",1952,1985,"IV a","BR-613","BR-608","VT-08.5","N/A","4-unit train comprised of DMU Motor #201040, Intermediate #201041 x 2 and Driving trailer #201042","TEE","Intercity","N/A","TEE","DB-Rot 1","Red","Grey","Black","White","Red","Blue","Double cardan transmission","N/A",0,6,12,0.01,1040,"Yes"]
["201219LK1991",201219,"LK","AC",null,null,1991,"Yes","ML",12,"x","Germany","DB","No","Railcar","Trailer","2° class","2'2'","N/A","Yes",1958,1995,"IV b / V a","BR-515","BR-515","ESA-150","N/A","216 units, built between 1954-65 and numbered originally 150 001/216 (after 1968 815 601/816). Focus on regional Passenger services. Published on catalogue but never manufactured","N/A","BR-515","N/A","Keks","Ivory-Blue","Cream","Grey","Blue","Cream","Bicolor","Red","N/A","N/A",0,2,4,1.1111111111111112E-2,258,"Replace"]
["309624K1991",309624,"K",null,null,null,1991,"Yes","ML",15,"x","Germany","DRG","No","Passenger","Baggage","Baggage","2'2'","N/A","Yes",1939,1972,"II","Einheitswagen","Düe 941","Pw4ü-37",105834,"251 units, built in 1937. With \"hunch\" type panoramic dome coach","N/A","N/A","N/A","Adler","DB-Grün","Green","Grey","Green","N/A","Green","Red","N/A","N/A",0,2,4,1.1494252873563218E-2,250,"Replace"]
["309389K1991",309389,"K",null,null,null,1991,"Yes","ML",25,"x","Italy","FS","No","Passenger","Baggage","Baggage","2'2'","N/A","Yes",1977,"Operational","IV b / V a","UIC-X","D","Series 1975","N/A","93 units, built between 1975-82","N/A","N/A","N/A","Losanga","Bi grigio","Grey","Grey","Green","Yellow","Bicolor","Red","N/A","N/A",0,2,4,1.1494252873563218E-2,303,"Replace"]
["2082831991",208283,null,null,null,null,1991,"Yes","ML",30,"x","Sweden","TGOJ","No","Locomotive","Diesel","Shunter","B","N/A","Yes",1943,1975,"III b / IV a","Z49","Z49","Qaz","N/A","43 units, built between 1941-46 and numbered Z49.101/43. Sold between 1973-81 to private operators. Focus on shunting operation","N/A","N/A","N/A","TGOJ","N/A","Green","Green","Green","Yellow","Green","Red","G-Motor","N/A",0,0,2,1.1494252873563218E-2,101,"Replace"]
["208235L1991",208235,"L","AC",null,null,1991,"Yes","ML",54,"x","Germany","DB","No","Locomotive","Diesel","Shunter","C","N/A","Yes",1941,1978,"IV a / IV b","BR-236","V-36","WR 360 C 14","236 219-2","279 units, built between 1937-50. Focus on shunting operation. Originally employed by the Wehrmacht","N/A","N/A","N/A","Keks","DB-Rot 1","Red","Grey","Red","N/A","Red","Red","G-Motor","N/A",0,0,3,1.1494252873563218E-2,105,"Yes"]
["149743K1991",149743,"K",null,null,null,1991,"Yes","ML",63,"x","Germany","DB","No","Passenger","Set","Express service","2'2'+2'2'+2'2'+2'2'","Golden Series","Yes",1962,1976,"III b","UIC-X","TEE Rheingold","N/A","N/A","4-unit train comprised of Passenger #309165, #309181, #309183 and dining car #309182","N/A","Rheingold","N/A","Keks","Ivory-Blue","Cream","Grey","Blue","Cream","Bicolor","Blue","N/A","N/A",0,8,16,1.1494252873563218E-2,1220,"Yes"]
["309574K1991",309574,"K",null,null,null,1991,"Yes","ML",67,"x","Germany","DB","No","Passenger","With central corridor","1° & 2° class","2'2'","N/A","Yes",1976,2003,"IV b","n-Wagen","ABnrz 704.3","ABnrzb 704.3","50 80 31-34 359-5","250 units, built between 1971-76 and numbered 50 80 31-34 131/380. Used on Ludwigshafen-Frankfurt airport services","Airport Express","Airport","Silberling","Keks","Airport","White","Grey","Blue","White","Bicolor","Red","N/A","N/A",0,2,4,1.1494252873563218E-2,303,"Yes"]
["309178K1991",309178,"K",null,null,null,1991,"Yes","ML",69,"x","Germany","DB","No","Passenger","With compartment","2° class","2'2'","N/A","Yes",1962,1993,"III b","UIC-X","Bm 233","B4üm-61","N/A","97 units, built between 1962-63 and numbered originally 19238/334 (after 1966 60 80 22-40 900/996). Green livery used until 1973","N/A","N/A","N/A","Keks","DB-Grün","Green","Grey","Green","N/A","Green","Red","N/A","N/A",0,2,4,"1/100",265,"Yes"]
["208199L1991",208199,"L","AC",null,null,1991,"Yes","ML",78,"x","Switzerland","SBB/CFF","No","Locomotive","Electric","Multipurpose","Bo’Bo’Bo’","N/A","Yes",1976,"Operational","IV b / V a / V b","Re 6/6","Re 6/6","Re 620",11629,"89 units, built between 1972–80 and numbered 11601/689. Focus on mixed-traffic services (Passenger and heavy Freight) on the Gothard axis","Interlaken","N/A","N/A","Wappen","SBB-Grün","Green","Grey","Green","N/A","Green","Red","Double cardan transmission","Single arm",2,3,6,1.1494252873563218E-2,219,"Yes"]
["309297K1991",309297,"K",null,null,null,1991,"Yes","ML",80,"x","Switzerland","SBB/CFF","No","Passenger","With central corridor","1° class","2'2'","N/A","Yes",1958,"Operational","IV b / V a / V b","EW-1 / VU-1","A","EW-1 / VU-1","50 85 18-33 225-1","180 units, built between 1958-60 and numbered 50 85 18-33 200/319 & 500/559 & 650/655","N/A","N/A","N/A","SBB aktuelle","SBB-Grün","Green","Grey","Green","N/A","Yellow","Red","N/A","N/A",0,2,4,1.1494252873563218E-2,272,"Yes"]
["3091991991",309199,null,null,null,null,1991,"Yes","ML",93,"x","Italy","FS","No","Railcar","Trailer","1° & 2° class","2'2'","N/A","Yes",1983,"Operational","IV b / V a","ALn-663","ALn-663.1000","N/A","ALn-663 1015","1°/2° Class Trailer","N/A","Micetta","N/A","N/A","Grigio-Azzurro-Beige pergamena","White","White","Blue","Bicolor","Blue","Red","N/A","N/A",0,2,4,1.1494252873563218E-2,270,"Yes"]
["201085LK1991",201085,"LK","AC",null,null,1991,"Yes","ML",102,"x","France","SNCF","EMU","Locomotive","Electric","Express service","Bo'Bo'","N/A","Yes",1989,"Operational","V a / V b / VI","TGV Atlantique","M1","N/A",316,"Motor of EMU TGV","N/A","TGV Atlantique","TGV","Spaghetti","Grise-Bleue","Grey","Grey","Grey","Blue","Bicolor","Red","G-Motor","Single arm",1,2,4,1.1494252873563218E-2,255,"Yes"]
["309278S011991",309278,"S01",null,null,null,1991,"Yes","ML",109,"x","France","SNCF","No","Passenger","With central corridor","2° & Driving trailer","2'2'","N/A","Yes",1982,"Operational","IV b / V a","Rame Inox Omnibus ","Bx","Series 1982","N/A","25 units, built between 1982-86 and numbered 50 87 02-37 171/195. For Rame Inox Omnibus services in the main French cities excluding Paris","N/A","RIO","Provence","Spaghetti","Regionale Bleue","Grey","Grey","Grey","Blue","Grey","Red","N/A","N/A",0,2,4,0.01,258,"Yes"]
["208182L1991",208182,"L",null,null,null,1991,"Yes","ML",114,"x","Belgium","S.N.C.B.","No","Locomotive","Electric","Multipurpose","Bo'Bo'","N/A","Yes",1956,2012,"IV b / V a","Series 23","HLE 23","Series 23",2374,"83 units, built between 1955-57 and numbered originally 122.001/083 (after 1971 2301/83). Focus on mixed-traffic services (regional Passenger and Freight)","N/A","N/A","N/A","N/A","Jaune-Bleue","Yellow","Grey","Grey","Blue","Yellow","Red","G-Motor","Double arm",2,2,4,1.1111111111111112E-2,200,"Yes"]
["3092811991",309281,null,null,null,null,1991,"Yes","ML",123,"x","Holland","NS","No","Passenger","With central corridor","2° & Baggage","2'2'","N/A","Yes",1986,"Operational","V a / V b / VI","ICR (Intercityrijtuig)","BKD","ICR-3","50 84 82-70 971-6","12 units, built between 1986-87 and numbered 50 84 82-70 971/82. Focus on Passenger services in Benelux","N/A","N/A","N/A","NS Double arrow","ICR-Benelux","Red","Grey","Yellow","N/A","Red","Red","N/A","N/A",0,2,4,0.01,265,"Yes"]
["208139S21991",208139,"S2",null,null,null,1991,"No",null,null,"x","Germany","DRG","No","Locomotive","Diesel","Shunter","B","N/A","Yes",1942,1974,"II","BR-270","V-20","WR 200 B14","N/A","129 units, built between 1940-47. Focus on shunting operation. Originally employed by the Wehrmacht","N/A","Militar","N/A","N/A","Camouflage","Green","Green","Green","N/A","Green","Red","G-Motor","N/A",0,0,2,1.1494252873563218E-2,92,"Yes"]
["309277S021992",309277,"S02",null,null,null,1992,"Yes","NEW",4,"x","France","SNCF","No","Passenger","With central corridor","2° class","2'2'","N/A","Yes",1977,"Operational","IV b","Rame Inox Omnibus ","Bz","Series 1977","N/A","6 units, built in 1977 and numbered 50 87 02-37 001/006. For Rame Inox Omnibus services in the main French cities excluding Paris","N/A","RIO","Stelyrail","Spaghetti","Regionale Rouge","Grey","Grey","Grey","Red","Grey","Red","N/A","N/A",0,2,4,0.01,240,"Yes"]
["208068L1992",208068,"L",null,null,null,1992,"Yes","NEW",8,"x","Norway","N.S.B.","No","Locomotive","Electric","Multipurpose","Bo'Bo'","N/A","Yes",1957,1995,"IV b / V a","NSB El","El 13","N/A","13 2121","37 units, built between 1957-66 and numbered 13.2121/44 & 13.2151/63. Focus on mixed-traffic services (regional Passenger and Freight)","N/A","N/A","N/A","NSB Svinghjul","Mellomdesign","Red","Grey","Red","N/A","Red","Red","G-Motor","Double arm",2,2,4,1.1111111111111112E-2,167,"Yes"]
["309505K1992",309505,"K",null,null,null,1992,"Yes","NEW",11,"x","Italy","FS","No","Passenger","With compartment","1° class","2'2'","N/A","Yes",1988,2016,"V a / V b","UIC-Z1","A","Series 1985","61 83 19-90 136-8","70 units, built between 1986-88 and numbered 19-90 100/169","N/A","N/A","N/A","Losanga","Bi grigio","Grey","Grey","Grey","Cream","Bicolor","Red","N/A","N/A",0,2,4,1.1494252873563218E-2,303,"Yes"]
["3028021992",302802,null,null,null,null,1992,"Yes","NEW",13,"x","Switzerland","SBB/CFF","No","Freight","Set","Freight","2+2","Lima Collection","Yes",1957,2006,"IV b / V a / V b","U-type","Ucs 908","Kds 54","N/A","2-unit train comprised of Silo #302803 x 2","N/A","N/A","N/A","SBB aktuelle","N/A","White","N/A","Black","N/A","N/A","Blue","N/A","N/A",0,0,4,1.3513513513513514E-2,232,"Yes"]
["309657K1993",309657,"K",null,null,null,1993,"Yes","NEW",3,"x","Italy","FS","No","Railcar","Trailer","1° & 2° class","2'2'","N/A","Yes",1985,"Operational","IV b / V a","ALn-663","ALn-663.1100","N/A","ALn-663 1155","1°/2° Class Trailer","N/A","Micetta","N/A","N/A","Grigio-Azzurro-Beige pergamena","White","White","Blue","Bicolor","Blue","Grey","N/A","N/A",0,2,4,1.1494252873563218E-2,270,"Replace"]
["208406L1993",208406,"L",null,null,null,1993,"Yes","NEW",6,"x","Belgium","S.N.C.B.","No","Locomotive","Electric","Multipurpose","Bo'Bo'","N/A","Yes",1953,2009,"IV b / V a / V b / VI","Series 22","HLE 22","Series 22",2213,"50 units, built between 1953-54 and numbered originally 122.001/50 (after 1971 2201/50). Focus on mixed-traffic services (regional Passenger and Freight)","N/A","N/A","N/A","N/A","SNCB-Bleu 2","Blue","Grey","Grey","Yellow","Blue","Grey","Double cardan transmission","Double arm",2,2,4,1.1494252873563218E-2,205,"Replace"]
[{"$f":"+B9631&C9631&F9631&G9631","v":"208393LP1993"},208393,"LP","AC",null,null,1993,"Yes","NEW",9,"x","Switzerland","BN","No","Locomotive","Electric","Regional service","Bo'Bo'","N/A","Yes",1972,1997,"IV b / V a","Re 4/4 II","Re 4/4''","Re 420",180,"2 units, bought in 1982 a BLS and maintaining original number. Focus on regional Passenger services","Neuchâtel ","N/A","N/A","BN","N/A","Red","Grey","Red","N/A","Red","Grey","Double cardan transmission","Double arm",1,2,4,1.1494252873563218E-2,170,"Yes"]
["309667K1993",309667,"K",null,null,null,1993,"Yes","NEW",12,"x","France","SNCF","No","Passenger","With central corridor","2° class","2'2'","N/A","No",1975,"Operational","IV b","VTU","B11tu","Series 1975","50 87 21-97 577-1","75 units, built between 1975-77 and numbered originally 21-77 546/620. Erroneously numbered by LIMA","N/A","Corail","Corail","Encadré","Corail","White","Grey","White","Grey","Orange","Grey","N/A","N/A",0,2,4,1.1494252873563218E-2,303,"Replace"]
["309671K1993",309671,"K",null,null,null,1993,"Yes","NEW",14,"x","Germany","DB","No","Passenger","With central corridor","Dome","2'2'","N/A","Yes",1962,1976,"IV a","UIC-X","ADmh 101","AD4üm-62","61 80 81-80 003-8","5 units, built between 1962-63 and numbered originally 10551/5 (after 1968 61 80 81-80 001/005). Sold in 1976 to Apfelpfeil tourist agency. With panoramic dome","N/A","TEE","N/A","Keks","TEE","Red","Grey","Red","Cream","Bicolor","Grey","N/A","N/A",0,2,4,1.1494252873563218E-2,303,"Replace"]
["149717L1994",149717,"L",null,null,null,1994,"Yes","ML",3,"x","Italy","FS","EMU","Passenger","Set","Express service","Bo'1Ao'+1Ao'Bo'+Bo'1Ao'+1Ao'Bo'","Lima Collection","Yes",1962,1992,"III b / IV a / IV b / V a","ETR-200","ETR-220","N/A","ETR-230","4-unit train comprised of EMU Motor, Intermediate x 2 and Driving trailer","N/A","ETR-220","N/A","Alta Velocità","Grigio nebbia-Verde magnolia","Grey","Grey","Green","Green","Grey","Blue","Double cardan transmission","Double arm",2,8,16,0.01,838,"Yes"]
["203006L1994",203006,"L",null,null,null,1994,"Yes","ML",9,"x","France","SNCF","No","Locomotive","Steam","Shunter","0-4-0/4-4","N/A","No",1920,1957,"II / III a","PRR A5s","Class A5s","N/A","N/A","47 units, built between 1916-24. Focus on shunting operation. SNCF never owned PRR A5s locomotives, LIMA invention ","N/A","N/A","N/A","N/A","N/A","Black","Black","Black","N/A","Black","Grey","G-Motor","N/A",0,0,2,1.1494252873563218E-2,205,"Yes"]
["208392L1994",208392,"L",null,null,null,1994,"Yes","ML",13,"x","France","SNCF","No","Locomotive","Electric","Freight","B'B'","N/A","Yes",1966,"Operational","III b / IV a","BB Alsthom","BB-17000","N/A",17041,"105 units, built between 1964-68 and numbered 17001/105. Focus on Passenger services in the Île-de-France region","N/A","N/A","Danseuse","Macaron","Verte","Green","Green","Green","White","Green","Grey","Double cardan transmission","Single arm",2,2,4,1.1494252873563218E-2,172,"Replace"]
["208327L1994",208327,"L",null,null,null,1994,"Yes","ML",17,"x","Austria","OBB","No","Locomotive","Diesel","Freight","Bo'Bo'","N/A","Yes",1959,2003,"III b / IV a","ÖBB 2050","Series 2050.0","N/A","2050 09","10 units, built in 1958 and numbered 2050.01/10. Focus on mixed-traffic services (Passenger and Freight)","N/A","N/A","N/A","Flügelrad","OBB-Grün","Green","Grey","Black","White","Green","Grey","Double cardan transmission","N/A",0,2,6,1.0526315789473684E-2,187,"Replace"]
["208216L1994",208216,"L",null,null,null,1994,"Yes","ML",21,"x","Germany","DB","No","Locomotive","Diesel","Prototype","C'C'","N/A","Yes",1958,1975,"III b","BR-230","BR-230","V-300","V300 001","1 unit, built in 1958 as prototype based on a German V-200 locomotive design and numbered originally ML 3000 C'C ' (V300.001 after 1963 and 230.001 after 1968). Focus on express Passenger services. With 3 axle bogie due to request from JZ (Jugoslavian Railways)","N/A","N/A","N/A","Keks","DB-Rot 1","Red","Black","Black","White","Red","Grey","Double cardan transmission","N/A",0,2,4,1.1494252873563218E-2,232,"Yes"]
["201628L1994",201628,"L",null,null,null,1994,"Yes","ML",24,"x","Sweden","SJ","No","Locomotive","Diesel","Multipurpose","Bo'Bo'","N/A","Yes",1962,"Operational","IV b / V a","SJ T43","T-43","N/A","T43 241","50 units, built between 1961-63 and numbered T43.209/258. Focus on mixed-traffic services (regional Passenger and Freight). Livery used since the mid 1970's","N/A","N/A","N/A","SJ Gammal","N/A","Red","Grey","Grey","White","Red","Grey","G-Motor","N/A",0,2,4,1.1494252873563218E-2,164,"Yes"]
["309288K1994",309288,"K",null,null,null,1994,"Yes","ML",27,"x","Italy","FS","No","Passenger","With central corridor","2° class","2'2'","N/A","Yes",1982,"Operational","IV b / V a","MDVE","nB","Series 1982","50 83 21-78 051-4","710 units, built between 1982-87 and numbered 21-78 001/710","N/A","N/A","N/A","Losanga","MDVE","Grey","Grey","Grey","Orange","Bicolor","Grey","N/A","N/A",0,2,4,1.1494252873563218E-2,303,"Yes"]
["3092291994",309229,null,null,null,null,1994,"Yes","ML",29,"x","Italy","FS","No","Passenger","Double decker","2° & Driving trailer","2'2'","N/A","Yes",1981,2002,"IV b / V a","Doppio Piano 79","npB","VB2N","50 83 26-39 819-7","30 units, built between 1980-81 based on a French VB2N coach design and numbered 26-39 800/829","N/A","N/A","Casaralta","Losanga","Navetta","White","Grey","Grey","Bicolor","Orange","Grey","N/A","N/A",0,2,4,1.0638297872340425E-2,265,"Yes"]
["3091341994",309134,null,null,null,null,1994,"Yes","ML",32,"x","Belgium","S.N.C.B.","No","Passenger","With central corridor","1° class","2'2'","N/A","Yes",1982,"Operational","V a","M4","A","N/A","50 88 19-78 006-7","50 units, built between 1979-82 and numbered 50 88 19-78 001/050","N/A","N/A","N/A","Oval B","Bordeaux","Red","White","Red","White","Red","Grey","N/A","N/A",0,2,4,1.1494252873563218E-2,278,"Yes"]
["309698-2K1994","309698-2","K",null,null,null,1994,"No",null,null,"x","Germany","DB","No","Passenger","Couchette","2° class","2'2'","N/A","Yes",1957,1987,"III b","UIC-X","Bcm 251","Bc4ümg(K)-53","N/A","88 units, built between 1954-58. For travel agencies sleeper services","Touropa","Touropa","N/A","N/A","DB-Kobaltblau","Blue","Grey","Blue","N/A","Blue","Grey","N/A","N/A",0,2,4,1.1494252873563218E-2,303,"Replace"]
["309636K1994",309636,"K",null,null,null,1994,"Yes","ML",38,"x","Germany","DB","No","Passenger","With central corridor","2° & Driving trailer","2'2'","N/A","Yes",1987,1993,"V a","n-Wagen","BDnrzf 784.2","BDnrzf 740.1","50 80 82-34 056-5","4 units, refurbished between 1987-88 from former BDnrzf 740. With \"Karlsruhrer\" type rounded front design","N/A","Silberling","Silberling","Keks","Neue Bahn 2","Green","White","White","Green","Bicolor","Grey","N/A","N/A",0,2,4,1.1494252873563218E-2,303,"Yes"]
[{"$f":"+B10066&C10066&F10066&G10066","v":"3092451994"},309245,null,null,null,null,1994,"Yes","ML",41,"x","Switzerland","SBB/CFF","No","Passenger","With central corridor","Restaurant","2'2'","N/A","Yes",1958,1985,"IV a / IV b","EW-1 / VU-1","WR","EW-1 / VU-1","50 85 88-33 612-5","7 units, built between 1958-61 and numbered WR 50 85 88-33 610/616","Self-Service","N/A","N/A","Doppelpfeil","SBB-Rot","Red","Grey","Red","White","Yellow","Grey","N/A","Double arm",1,2,4,1.1235955056179775E-2,265,"Yes"]
["3092331994",309233,null,null,null,null,1994,"Yes","ML",42,"x","Italy","FS","No","Passenger","With compartment","Sleeper","2'2'","N/A","Yes",1982,2016,"IV b / V a","T2S","WLABmz","Series 1982","61 83 75-71 484-6","80 units, built between 1980-82 and numbered 61 83 75-71 464/543","Trans Euro Nacht","N/A","N/A","Televisore","TEN","Blue","Grey","Blue","White","Blue","Grey","N/A","N/A",0,2,4,1.020408163265306E-2,270,"Yes"]
["303595K1994",303595,"K",null,null,null,1994,"Yes","ML",46,"x","Belgium","S.N.C.B.","No","Freight","Hopper","With ladder",2,"N/A","Yes",1960,1999,"III b / IV a / IV b / V a / V b","T-type","Tds 925","Tds 60.2","21 88 573 0 648-2","Built since the early 1960's","Transcereales","N/A","N/A","N/A","N/A","Brown","N/A","Brown","N/A","N/A","Grey","N/A","N/A",0,0,2,1.2048192771084338E-2,110,"Replace"]
["303563K1994",303563,"K",null,null,null,1994,"Yes","ML",49,"x","Switzerland","SBB/CFF","No","Freight","Closed","With sliding door",2,"N/A","Yes",1971,"Operational","IV a / IV b / V a / V b","H-type","Hbis 297","N/A","N/A","2100 units, built between 1970-72","Cargo domicile","N/A","N/A","Doppelpfeil","N/A","Blue","Blue","Grey","N/A","Blue","Grey","N/A","N/A",0,0,2,1.1494252873563218E-2,160,"Yes"]
["3031021994",303102,null,null,null,null,1994,"Yes","ML",51,"x","Switzerland","SBB/CFF","No","Freight","Closed","Postal",2,"N/A","Yes",1960,1986,"III b / IV a / IV b","G-type","Gs 216","Gms 137-6","N/A","Built since the late 1950's","N/A","N/A","N/A","Wappen","N/A","Green","Grey","Black","N/A","Grey","Grey","N/A","N/A",0,0,2,1.1494252873563218E-2,121,"Yes"]
["105100T1994",105100,"T",null,null,null,1994,"Yes","TECH",5,"x","Belgium","CIWL","No","Passenger","Set","Regional service","B'B'+2'2'+2'2'","Technology","No",1960,1971,"III b / IV a","Pullman","N/A","N/A","N/A","3-unit set comprised of Diesel locomotive BR-280, Passenger #309201 x 2, track and electric power pack","N/A","N/A","N/A","CIWL","CIWL","Red","Red","Black","White","Bicolor","White","G-Motor","N/A",0,2,10,1.1494252873563218E-2,627,"Replace"]
["2050081994",205008,null,null,null,null,1994,"Yes","EN",15,"x","UK","BR","No","Locomotive","Diesel","Multipurpose","Bo'Bo'","N/A","Yes",1958,1992,"V a / V b","Class 26","Class 26","BRCW Type 2",26004,"47 units, built between 1958-59 and numbered 26001/46. Focus on mixed-traffic services (regional Passenger and Freight)","N/A","N/A","N/A","Double arrow","Civil engineering Dutch","Grey","Grey","Grey","Yellow","Grey","Grey","G-Motor","N/A",0,2,4,1.3157894736842105E-2,197,"Yes"]
["2050761994",205076,null,null,null,null,1994,"Yes","EN",21,"x","UK","BR","No","Locomotive","Diesel","Multipurpose","Co'Co'","N/A","Yes",1962,"Operational","V a / V b","Class 37","Class 37/0","English Electric Type 3",37069,"309 units, built between 1959-65 and numbered D6700/999 & D6600/8 (after 1973 37001/308). Focus on mixed-traffic services (regional Passenger and Freight) ","N/A","N/A","Tractor","Double arrow","Civil engineering Dutch","Grey","Grey","Grey","Yellow","Black","Grey","G-Motor","N/A",0,2,6,1.3157894736842105E-2,242,"Yes"]
["2052741994",205274,null,null,null,null,1994,"Yes","EN",32,"x","UK","BR","No","Locomotive","Diesel","Multipurpose","Bo'Bo'","N/A","Yes",1962,1993,"IV b / V a","Class 73","Class 73/0","N/A",73002,"6 units, built in 1962 and numbered originally E6001/6 (after 1973 73001/6). Focus on mixed-traffic services (Passenger and Freight). With collector shoe for operating in third rail electrified lines","N/A","N/A","N/A","Double arrow","Large Logo","Blue","Grey","Blue","Yellow","Blue","Grey","G-Motor","N/A",0,2,4,1.3157894736842105E-2,215,"Yes"]
["3053351994",305335,null,null,null,null,1994,"Yes","EN",45,"x","UK","BR","No","Passenger","With compartment","2° & Baggage","2'2'","N/A","Yes",1951,1995,"IV a / IV b","Mark I","BSK","Brake Standard Corridor","W43281","2216 units, built between 1951-63. Livery used between 1968-82 approx","N/A","Intercity","N/A","N/A","BR-Blue&Grey","Blue","Grey","Blue","Cream","Bicolor","Grey","N/A","N/A",0,2,4,1.3157894736842105E-2,255,"Yes"]
["3056201994",305620,null,null,null,null,1994,"Yes","EN",54,"x","UK","BR","No","Freight","Baggage","Brake van",2,"N/A","Yes",1905,1985,"III a / III b / IV a / IV b","CAO","Brake van","N/A","N/A","Built in the mid 1900's and operational until the late 1960's. In the UK \"brake van\" applies to 2 axle carriages while \"caboose\" for 4 axle ones","N/A","N/A","N/A","N/A","N/A","Red","Red","Red","N/A","Red","Grey","N/A","N/A",0,0,2,1.3157894736842105E-2,115,"Yes"]
["3056371994",305637,null,null,null,null,1994,"Yes","EN",55,"x","UK","ARC","No","Freight","Hopper","N/A",2,"N/A","Yes",1978,2003,"IV b / V a","F-type","PGA","50 Ton","N/A","235 units, built between 1969-85","ARC","N/A","N/A","N/A","N/A","Yellow","N/A","Grey","N/A","N/A","Grey","N/A","N/A",0,0,2,1.3157894736842105E-2,121,"Yes"]
["2048411994",204841,null,null,null,null,1994,"No",null,null,"x","UK","HRT","No","Locomotive","Diesel","Multipurpose","Bo'Bo'","N/A","Yes",1968,1993,"V a / V b","Class 33","Class 33/1","BRCW Type 3",33116,"19 units, refurbished between 1966-68 from former Class 33/0 locomotives and numbered 33101/19. Focus on \"Push-Pull\" Passenger regional services. Bought in 1993 by a heritage railway society","Hertfordshire Rail Tours","N/A","Crompton","Double arrow","BR-Blue","Blue","Blue","Blue","Yellow","Bicolor","Grey","G-Motor","N/A",0,2,4,1.3157894736842105E-2,201,"Yes"]
[{"$f":"+B10476&C10476&F10476&G10476","v":"208382LP1994-95"},208382,"LP",null,null,null,"1994-95","Yes","ML",7,"x","Italy","FS","No","Locomotive","Electric","Express service","Bo'Bo'","N/A","Yes",1987,1993,"IV b / V a","E-444","E-447","N/A","E447 100","18 units, refurbished between 1985-87 from former Series E444 locomotives and numbered E447.100/17. Refurbished in the 1990's to Series E-444R. Focus on express Passenger services","N/A","N/A","Tartaruga della Direttissima","E-444 1° series","Grigio perla-Blu orientale","White","White","Blue","Blue","Bicolor","Grey","Double cardan transmission","Double arm",2,2,4,1.1235955056179775E-2,190,"Yes"]
["208371LP1994-95",208371,"LP",null,null,null,"1994-95","Yes","ML",8,"x","Italy","FS","No","Locomotive","Electric","Multipurpose","Bo'Bo'","N/A","Yes",1949,1999,"III a / III b / IV a / IV b","E-424","E-424","N/A","E424 073","158 units, built between 1943-51 and numbered E.424.001/158. Focus on mixed-traffic services (Passenger and Freight)","N/A","N/A","N/A","N/A","Castano-Isabella ","Brown","Brown","Brown","N/A","Brown","Grey","Double cardan transmission","Double arm",2,2,4,1.1494252873563218E-2,178,"Yes"]
["208023L1994-95",208023,"L",null,null,null,"1994-95","Yes","ML",14,"x","Belgium","S.N.C.B.","No","Locomotive","Electric","Multipurpose","Bo'Bo'","N/A","Yes",1983,"Operational","IV b / V a","Series 27","HLE 27","Series 27",2735,"60 units, built between 1981-84 and numbered 2701/60. Focus on mixed-traffic services (regional Passenger and Freight)","N/A","N/A","N/A","Oval B","Jaune-Bleue","Blue","Grey","Blue","Yellow","Blue","Grey","G-Motor","Single arm",2,2,4,1.1494252873563218E-2,215,"Yes"]
["149833LK1994-95",149833,"LK",null,null,null,"1994-95","Yes","ML",18,"x","Germany","DRG","EMU","Passenger","Set","Regional service","Bo'Bo'+2'2'","Lima Collection","Yes",1927,1997,"II","BR-275","BR-275","ET-165","N/A","2-unit train comprised of EMU Motor and Trailer. For Berlin metro service","N/A","ET-165","N/A","N/A","DRG S-Bahn","Red","Grey","Red","Bicolor","Bicolor","Blue","Double cardan transmission","N/A",0,4,8,1.1494252873563218E-2,405,"Yes"]
[{"$f":"+B10577&C10577&F10577&G10577","v":"208234L1994-95"},208234,"L",null,null,null,"1994-95","Yes","ML",20,"x","Germany","DB","No","Locomotive","Diesel","Shunter","C","N/A","Yes",1948,1976,"III b","BR-236","V-36","WR 360 C 14","V36 257","279 units, built between 1937-50. Focus on shunting operation. Originally employed by the Wehrmacht","N/A","N/A","N/A","Keks","DB-Rot 1","Red","Grey","Red","N/A","Red","Grey","G-Motor","N/A",0,0,3,1.1494252873563218E-2,105,"Yes"]
["208334LP1994-95",208334,"LP","AC",null,null,"1994-95","Yes","ML",24,"x","Switzerland","BLS","No","Locomotive","Electric","Regional service","Bo'Bo'","N/A","Yes",1982,"Operational","IV b / V a / V b / VI","Re 4/4 I","Re 4/4'","Re 425",193,"6 units, built in 1982 and numbered 190/5. Focus on regional Passenger services","Steg","N/A","N/A","BLS","N/A","Red","Grey","Red","N/A","Red","Grey","Double cardan transmission","Single arm",1,2,4,1.1494252873563218E-2,170,"Yes"]
["2084611994-95",208461,null,null,null,null,"1994-95","Yes","ML",28,"x","Denmark","D.S.B.","No","Railcar","Trailer","2° class","2'B'","N/A","Yes",1979,"Operational","IV b / V a","MR","MRD","BR-628",4052,"2° Class Trailer","N/A","MR","N/A","DSB ny font","Rød ","Red","Grey","Grey","N/A","Red","Grey","N/A","N/A",0,2,4,1.1494252873563218E-2,258,"Replace"]
["309537K1994-95",309537,"K",null,null,null,"1994-95","Yes","ML",31,"x","Italy","FS","No","Passenger","With compartment","2° class","2'2'","N/A","Yes",1990,"Operational","V a / V b","UIC-Z1","B","Series 1985","61 83 21-90 386-5","385 units, built between 1987-89 and numbered 21-90 230/614","N/A","N/A","N/A","Losanga","Bandiera","Grey","Grey","Grey","Cream","Bicolor","Grey","N/A","N/A",0,2,4,1.1494252873563218E-2,303,"Yes"]
["3093741994-95",309374,null,null,null,null,"1994-95","Yes","ML",34,"x","France","SNCF","No","Passenger","Couchette","2° class","2'2'","N/A","Yes",1956,1998,"IV a / IV b","DEV AO Longue","B10c10","Series 1955","51 87 50-40 205-0","90 units, built in 1955 and numbered 50-xx 171/260 (xx could be code 30, 37, 40 or 47)","N/A","N/A","N/A","Encadré","Vert wagon","Green","Green","Green","N/A","Green","Blue","N/A","N/A",0,2,4,1.1494252873563218E-2,288,"Yes"]
["3091071994-95",309107,null,null,null,null,"1994-95","Yes","ML",38,"x","Holland","NS","No","Passenger","With central corridor","2° class","2'2'","N/A","Yes",1980,2001,"IV b / V a / V b","ICR (Intercityrijtuig)","B","ICR-1","50 84 20-70 813-5","74 units, built between 1980-82 and numbered 50 84 20-70 801/874. Focus on Passenger services in Benelux and Germany","N/A","Intercity","N/A","NS Double arrow","ICR-Buurland","Blue","Grey","Yellow","Blue","Bicolor","Grey","N/A","N/A",0,2,4,0.01,265,"Yes"]
["149792K1994-95",149792,"K",null,null,null,"1994-95","Yes","ML",40,"x","Germany","DB","No","Passenger","Set","Express service","2'2'+2'2'+2'2'+2'2'","Lima Collection","Yes",1957,1987,"IV a","UIC-X","Bcm 251","Bc4ümg(K)-53","N/A","4-unit train comprised of Passenger #309177 x 4","Scharnow - Reisen","Scharnow - Reisen","N/A","Keks","DB-Grün","Green","Grey","Green","N/A","Green","Blue","N/A","N/A",0,8,16,1.1494252873563218E-2,1212,"Replace"]
["309579K1994-95",309579,"K",null,null,null,"1994-95","Yes","ML",43,"x","Germany","DB","No","Passenger","With central corridor","2° class","2'2'","N/A","Yes",1973,1995,"V a","n-Wagen","Bnrz 725.2","Bnrz 725.2","50 80 22-34 179-8","450 units, built between 1971-77 and numbered 50 80 22-34 021/470. Focus on regional Passenger services","N/A","Silberling","Silberling","Keks","Silberling","Grey","Grey","Blue","N/A","Grey","Grey","N/A","N/A",0,2,4,1.1494252873563218E-2,303,"Yes"]
[{"$f":"+B10823&C10823&F10823&G10823","v":"309650K1994-95"},309650,"K",null,null,null,"1994-95","Yes","ML",46,"x","Switzerland","BT","No","Passenger","With central corridor","2° class","2'2'","N/A","Yes",1960,1997,"V a / V b","EW-1 / VU-1","B","EW-1 / VU-1",361,"13 units, built in the early 1960's and numbered 350/62","N/A","N/A","N/A","BT","N/A","Cream","Grey","Cream","Green","Bicolor","Grey","N/A","N/A",0,2,4,1.1494252873563218E-2,272,"Yes"]
["309679K1994-95",309679,"K",null,null,null,"1994-95","Yes","ML",49,"x","Portugal","CP","No","Passenger","With central corridor","2° class","2'2'","N/A","Yes",1986,"Operational","IV b / V a","VTU","B11tu","Alfa","50 94 21-74 026-7","37 units, built between 1985-86 based on a French VTU coach design and numbered 61 94 21-97 001/37. For Passenger services between Lisbon-Porto","N/A","Alfa","Corail","CP","N/A","Grey","Grey","Grey","N/A","Orange","Grey","N/A","N/A",0,2,4,1.1494252873563218E-2,303,"Yes"]
["302816K1994-95",302816,"K",null,null,null,"1994-95","Yes","ML",52,"x","Switzerland","SBB/CFF","No","Freight","Silo","With ladder",2,"N/A","Yes",1957,2006,"IV b / V a / V b","U-type","Ucs 908","Kds 54","N/A","Built in the mid 1950's","N/A","N/A","N/A","SBB aktuelle","N/A","Yellow","N/A","Black","N/A","N/A","Grey","N/A","N/A",0,0,2,1.3513513513513514E-2,116,"Replace"]
["303651K1994-95",303651,"K",null,null,null,"1994-95","Yes","ML",54,"x","France","SNCF","No","Freight","Open","Empty","2'2'","N/A","Yes",1960,1995,"III b / IV a / IV b / V a","E-type","Eaos","Góndola","N/A","Built since the late 1950's","N/A","N/A","N/A","N/A","N/A","Brown","N/A","Brown","N/A","N/A","Blue","N/A","N/A",0,2,4,1.1494252873563218E-2,160,"Yes"]
["3009901994-95",300990,null,null,null,null,"1994-95","Yes","ML",67,"x","Germany","DB","No","Freight","Flat","With truck","2'2'","N/A","Yes",1960,2000,"IV a / IV b","R-type","N/A","N/A","N/A","Built in the late 1950's. Piggy back system","N/A","N/A","N/A","N/A","N/A","Brown","White","Brown","N/A","N/A","Grey","N/A","N/A",0,2,4,1.1494252873563218E-2,145,"Yes"]
["149701LP1995",149701,"LP",null,null,null,1995,"Yes","NEW",5,"x","Italy","FS","EMU","Passenger","Set","Express service","(1A)(A1)+2'2'+2'2'+(1A)(A1)","Lima Collection","Yes",1994,"Operational","V a / V b","ETR-460","ETR-460","ETR-460","N/A","4-unit train comprised of EMU Motor, Intermediate x 2 and Driving trailer","N/A","ETR-460","Eurostar Italia","XMPR 1","Frecciabianca","White","White","White","Red","Bicolor","Grey","G-Motor","Double arm",2,8,16,0.01,1050,"Yes"]
["208502L1995",208502,"L",null,null,null,1995,"Yes","NEW",18,"x","Germany","MVGm","No","Railcar","Electric","Tram","B'2'B'","N/A","Yes",1965,1994,"IV a / IV b / V a","Düwag","GT6","N/A",232,"City tram of Mainz","N/A","N/A","N/A","MVGm","N/A","Orange","Grey","Brown","Cream","Tricolor","Grey","Simple cardan transmission","Double arm",1,3,6,1.1494252873563218E-2,232,"Yes"]
["149781K1995",149781,"K",null,null,null,1995,"Yes","NEW",32,"x","Germany","DB","No","Passenger","Set","Express service","2'2'+2'2'+2'2'+2'2'","N/A","Yes",1937,1963,"III a","Einheitswagen","N/A","N/A","N/A","4-unit train comprised of Passenger #309602, #309620 x 2 and #309402","N/A","N/A","N/A","Keks","DB-Grün","Green","Grey","Green","N/A","Grey","Blue","N/A","N/A",0,8,16,1.1494252873563218E-2,1020,"Replace"]
["303252K1995",303252,"K",null,null,null,1995,"Yes","NEW",39,"x","Austria","OBB","No","Freight","Closed","N/A",2,"N/A","Yes",1933,1972,"III a / III b","H-type","Hbck 290","Glt 19","221 501","Built since the early 1930's","N/A","N/A","N/A","N/A","N/A","Brown","Grey","Brown","N/A","Brown","Grey","N/A","N/A",0,0,2,1.1494252873563218E-2,172,"Replace"]
["309039K1995",309039,"K",null,null,null,1995,"Yes","NEW",42,"x","Germany","DB","No","Freight","Open","Empty","2'2'","N/A","Yes",1930,1970,"IV a","E-type","Oo 19","Góndola","N/A","Built since the early 1920's for SNCF, confiscated by Germany during WW II and operational until the late 1960's","N/A","N/A","N/A","N/A","N/A","Brown","N/A","Brown","N/A","N/A","Grey","N/A","N/A",0,2,4,1.1494252873563218E-2,206,"Replace"]
["2050661995",205066,null,null,null,null,1995,"Yes","EN",8,"x","UK","RFS","No","Locomotive","Diesel","Freight","Bo'Bo'","N/A","Yes",1966,2003,"V a","Class 20","Class 20/0","EE type 1",2014,"228 units, built between 1957-68 and numbered 20001/228. Focus on Freight services. 4 units sold to RFS in the early 1990's for the construction of the Eurotunnel","RFS","N/A","Chopper","N/A","RFS","Grey","Grey","Grey","Yellow","Grey","Grey","G-Motor","N/A",0,2,4,1.3157894736842105E-2,186,"Yes"]
["2050781995",205078,null,null,null,null,1995,"Yes","EN",12,"x","UK","BR","No","Locomotive","Diesel","Multipurpose","Co'Co'","N/A","Yes",1987,1995,"V a","Class 37","Class 37/5","English Electric Type 3",37506,"54 units, refurbished between 1986-87 from former Class 37/0 locomotives and numbered 37501/521 & 37667/99. Focus on mixed-traffic (regional Passeger and Freight) services. Name only used between 1987-95","British Steel Skinningrove","N/A","Tractor","Double arrow","Railfreight red stripe","Grey","Grey","Red","Yellow","Black","Grey","G-Motor","N/A",0,2,6,1.3157894736842105E-2,242,"Yes"]
["2052811995",205281,null,null,null,null,1995,"Yes","EN",14,"x","UK","RFD","No","Locomotive","Diesel","Express service","Co'Co'","N/A","Yes",1987,1989,"V a","Class 50","Class 50","DP2",50149,"1 unit, refurbished in 1987 for testing special freight services and operational for only 2 years","Defiance","N/A","Hoover","BR General","Three tone grey","Grey","Black","Grey","Yellow","Black","Grey","G-Motor","N/A",0,2,6,1.3157894736842105E-2,274,"Yes"]
["2050981995",205098,null,null,null,null,1995,"Yes","EN",19,"x","UK","NSE","DMU","Passenger","With central corridor","2° class","2'2'","N/A","Yes",1959,2000,"V a","Class 117","Class 117/2","TCL",59514,"Intermediate of DMU Class 117/2 with 2° Class","Network Southeast","N/A","N/A","Double arrow","Network Southeast","Light Blue","Grey","Grey","Bicolor","Tricolor","Grey","N/A","N/A",0,2,4,1.3157894736842105E-2,256,"Yes"]
["3053021995",305302,null,null,null,null,1995,"Yes","EN",24,"x","UK","BR","No","Passenger","With central corridor","2° class","2'2'","N/A","Yes",1969,2005,"IV a / IV b","Mark II","TSO","Series Mk 2B","W5449","64 units, built in 1969 and numbered 5434/97. Livery used between 1968-82 approx","N/A","Intercity","N/A","N/A","BR-Blue&Grey","Blue","Grey","Blue","Cream","Bicolor","Grey","N/A","N/A",0,2,4,1.3157894736842105E-2,258,"Yes"]
["3056751995",305675,null,null,null,null,1995,"Yes","EN",27,"x","UK","BR","No","Freight","Open","With cargo",2,"N/A","Yes",1910,1970,"III b / IV a / IV b","E-type","7 Plank Open","12 Ton","M3132","Built between 1904-25 for GWR and operational until the late 1960's. With coal load","N/A","N/A","N/A","N/A","N/A","Grey","N/A","Black","N/A","N/A","Grey","N/A","N/A",0,0,2,1.3157894736842105E-2,83,"Yes"]
["3056041995",305604,null,null,null,null,1995,"Yes","EN",30,"x","UK","BR","No","Freight","Tank","N/A",2,"N/A","Yes",1983,1999,"IV b / V a / V b","Z-type","PCA","Pressflo","TRL10529","Built in the mid 1960's and operational until the late 1990's. For cement and other powder transport","Albright & Wilson","N/A","N/A","N/A","N/A","Green","Green","Black","White","N/A","Grey","N/A","N/A",0,0,2,1.3157894736842105E-2,108,"Yes"]
["3056451995",305645,null,null,null,null,1995,"Yes","EN",32,"x","UK","BR","No","Freight","Tank","With ladder","2'2'","N/A","Yes",1982,"Operational","IV b / V a / V b / VI","Z-type","TEA","102 Ton","PR78537","Built since the early 1980's","Esso","N/A","N/A","N/A","N/A","White","White","White","Yellow","N/A","Grey","N/A","N/A",0,2,4,1.3157894736842105E-2,242,"Yes"]
["208379LK1995-96",208379,"LK",null,null,null,"1995-96","Yes","ML",6,"x","Italy","FS","No","Railcar","Diesel","1° & 2° class","(1A)(A1)","N/A","Yes",1979,"Operational","IV b / V a","ALn-668","ALn-668.1200","Aln-668 3° generazione","ALn-668 1207","Motor with 1°/2° Class","N/A","N/A","N/A","N/A","Inox","Grey","Grey","Red","N/A","Grey","Grey","Simple cardan transmission","N/A",0,2,4,1.1494252873563218E-2,270,"Yes"]
["208064L1995-96",208064,"L",null,null,null,"1995-96","Yes","ML",10,"x","Italy","FS","No","Locomotive","Electric","Express service","Bo'Bo'Bo'","Technology","Yes",1986,"Operational","V a","E-656","E-656.2","N/A","E656 519","150 units, built between 1984-87 and numbered E656.401/550. Focus on express Passenger services","N/A","N/A","Caimano","Televisore","Grigio perla-Blu orientale","White","White","Blue","Blue","White","Grey","G-Motor","Double arm",2,3,6,1.1494252873563218E-2,210,"Yes"]
["208439L1995-96",208439,"L",null,null,null,"1995-96","Yes","ML",14,"x","France","SNCF","No","Locomotive","Electric","Freight","B'B'","N/A","Yes",1966,2014,"IV b","BB Alsthom","BB-17000","N/A",17047,"105 units, built between 1964-68 and numbered 17001/105. Focus on Passenger services in the Île-de-France region","N/A","N/A","Danseuse","Spaghetti","Béton","Grey","Grey","Grey","Orange","Grey","Blue","Double cardan transmission","Single arm",2,2,4,1.1494252873563218E-2,172,"Yes"]
[{"$f":"+B11466&C11466&F11466&G11466","v":"149790LK1995-96"},149790,"LK","AC",null,null,"1995-96","Yes","ML",20,"x","Germany","DRG","No","Passenger","Set","Express service","4-6-4T/2'2'+2'2'+2'2'+2'2'","Lima Collection","Yes",1935,1951,"II","Einheitswagen","Henschel-Wegmann","N/A","N/A","5-unit train comprised of Steam locomotive BR-061, Passenger 2°/3° Class x 3 and dining car","N/A","Henschel - Wegmann","N/A","Adler","N/A","Blue","Grey","Grey","Cream","Bicolor","Blue","G-Motor","N/A",0,8,25,1.1494252873563218E-2,990,"Yes"]
[{"$f":"+B11507&C11507&F11507&G11507","v":"208487LP1995-96"},208487,"LP","AC",null,null,"1995-96","Yes","ML",27,"x","Germany","DB","No","Locomotive","Electric","Express service","Bo'Bo'","N/A","Yes",1979,2001,"V a","BR-120","BR-120.0","BR-120","120 002-1","5 units, built between 1978-79 and numbered 120.001/005. Focus on express Passenger services","AEG - Innovative Technik","N/A","N/A","Keks","Orientrot","Red","Red","Red","Grey","Red","Grey","Double cardan transmission","Single arm",2,2,4,1.1494252873563218E-2,220,"Yes"]
["208183L1995-96",208183,"L","AC",null,null,"1995-96","Yes","ML",29,"x","Switzerland","SBB/CFF","No","Locomotive","Electric","Multipurpose","Bo’Bo’Bo’","N/A","Yes",1975,"Operational","IV a / IV b / V a / V b","Re 6/6","Re 6/6","Re 620",11605,"89 units, built between 1972–80 and numbered 11601/689. Focus on mixed-traffic services (Passenger and heavy Freight) on the Gothard axis","Uster","N/A","N/A","Wappen","SBB-Grün","Green","Grey","Green","N/A","Green","Grey","Double cardan transmission","Single arm",2,3,6,1.1494252873563218E-2,219,"Yes"]
["208264LP1995-96",208264,"LP",null,null,null,"1995-96","Yes","ML",33,"x","Austria","OBB","No","Locomotive","Electric","Multipurpose","Bo'Bo'","N/A","Yes",1964,2006,"IV b / V a / V b","ÖBB 1042","Series 1042","N/A","1042 017-2","257 units, built between 1963-77 and numbered 1042 001/060, 501/520 & 531/707. Focus on mixed-traffic services (Passenger and Freight) in mountainous areas","N/A","N/A","N/A","Pflatsch","Blutorange","Orange","Grey","Black","Cream","Orange","Grey","Double cardan transmission","Double arm",2,2,6,1.1764705882352941E-2,187,"Yes"]
["309288K1995-96",309288,"K",null,null,null,"1995-96","Yes","ML",39,"x","Italy","FS","No","Passenger","With central corridor","2° class","2'2'","N/A","Yes",1982,"Operational","IV b / V a","MDVE","nB","Series 1982","50 83 21-78 051-4","710 units, built between 1982-87 and numbered 21-78 001/710","N/A","N/A","N/A","Losanga","MDVE","Grey","Grey","Grey","Orange","Bicolor","Grey","N/A","N/A",0,2,4,1.1494252873563218E-2,303,"Yes"]
["3096601995-96",309660,null,null,null,null,"1995-96","Yes","ML",40,"x","Italy","FNM","No","Passenger","Double decker","2° & Driving trailer","2'2'","Technology","Yes",1981,"Operational","IV b / V a","Doppio Piano 79","npB","VB2N","EA 850-02","Bought between 1980-91. Same livery as SNCF","N/A","N/A","Casaralta","FNM","2N original","White","White","White","Orange","White","Grey","N/A","N/A",0,2,4,1.0638297872340425E-2,265,"Yes"]
["309134K1995-96",309134,"K",null,null,null,"1995-96","Yes","ML",44,"x","Belgium","S.N.C.B.","No","Passenger","With central corridor","1° class","2'2'","N/A","Yes",1982,"Operational","V a","M4","A","N/A","50 88 19-78 006-7","50 units, built between 1979-82 and numbered 50 88 19-78 001/050","N/A","N/A","N/A","Oval B","Bordeaux","Red","White","Red","White","Red","Grey","N/A","N/A",0,2,4,1.1494252873563218E-2,278,"Yes"]
["309632K1995-96",309632,"K",null,null,null,"1995-96","Yes","ML",51,"x","Germany","DB","No","Passenger","Couchette","2° class","2'2'","N/A","Yes",1957,1973,"IV a","UIC-X","Bcm 241","Bc4ümg(K)-54","51 80 52-40 155-2","260 units, built between 1954-57. Kobaltblau livery used for Couchette coaches until the mid 1980's","N/A","N/A","N/A","Keks","DB-Kobaltblau","Blue","Grey","Blue","N/A","Blue","Blue","N/A","N/A",0,2,4,1.1494252873563218E-2,303,"Yes"]
["309518K1995-96",309518,"K",null,null,null,"1995-96","Yes","ML",54,"x","Switzerland","SBB/CFF","No","Passenger","With central corridor","2° class","2'2'","N/A","Yes",1958,"Operational","IV a / IV b","EW-1 / VU-1","B","EW-1 / VU-1","50 85 20-33 647-2","1040 units, built between 1956-67 and numbered 50 85 20-33 100/419, 500/719, 730/739 & 20-34 000/459","N/A","N/A","N/A","Wappen","SBB-Grün","Green","Green","Green","N/A","Green","Grey","N/A","N/A",0,2,4,1.1494252873563218E-2,272,"Yes"]
["309652-1K1995-96","309652-1","K",null,null,null,"1995-96","Yes","ML",55,"x","Switzerland","BT","No","Passenger","With central corridor","2° class","2'2'","N/A","Yes",1960,1997,"V a / V b","EW-1 / VU-1","B","EW-1 / VU-1",351,"13 units, built in the early 1960's and numbered 350/62","Bodensee - Toggenburg Bahn","N/A","N/A","BT","N/A","Green","Grey","Green","Cream","Bicolor","Grey","N/A","N/A",0,2,4,1.1494252873563218E-2,272,"Yes"]
["303214K1995-96",303214,"K",null,null,null,"1995-96","Yes","ML",59,"x","Italy","FS","No","Freight","Closed","N/A",2,"N/A","Yes",1963,2001,"V a","H-type","Hbcs 300","Hcs-uvwy","21 83 212 1 349-0","600 units, built between 1963-65","Vivere il Treno","N/A","N/A","N/A","Vivere il Treno","Green","Green","Black","N/A","Green","Blue","N/A","N/A",0,0,2,9.2592592592592587E-3,130,"Replace"]
["303252K1995-96",303252,"K",null,null,null,"1995-96","Yes","ML",60,"x","Austria","OBB","No","Freight","Closed","N/A",2,"N/A","Yes",1933,1972,"III a / III b","H-type","Hbck 290","Glt 19","221 501","Built since the early 1930's","N/A","N/A","N/A","N/A","N/A","Brown","Grey","Brown","N/A","Brown","Grey","N/A","N/A",0,0,2,1.1494252873563218E-2,172,"Replace"]
["303256K1995-96",303256,"K",null,null,null,"1995-96","Yes","ML",65,"x","Italy","FS","No","Freight","Open","Empty",2,"N/A","Yes",1956,2005,"III b","E-type","Es 025","Tipo 2","L 4 460 768","Built in the mid 1950's","N/A","N/A","N/A","N/A","N/A","Brown","N/A","Black","N/A","N/A","Grey","N/A","N/A",0,0,2,1.2048192771084338E-2,121,"Replace"]
["3028101995-96",302810,null,null,null,null,"1995-96","Yes","ML",68,"x","Germany","DB","No","Freight","Hopper","With tippable bascule",2,"Hobby Line","Yes",1960,1985,"III b / IV a / IV b","F-type","Btrnr","N/A","N/A","Never existed in any official roster. Based on a Märklin fantasy design","N/A","N/A","N/A","N/A","N/A","Red","N/A","Brown","N/A","N/A","Grey","N/A","N/A",0,0,2,0.01,102,"Yes"]
["208003LK1996",208003,"LK",null,null,null,1996,"Yes","NEW",7,"x","Italy","FS","No","Railcar","Diesel","1° & 2° class","(1A)(A1)","N/A","Yes",1983,"Operational","V a","ALn-668","ALn-668.3300","ALn-668 3° generazione","ALn-668 3313","Motor with 1°/2° Class","Kimbo","N/A","N/A","N/A","N/A","Red","White","Grey","White","Red","Grey","Simple cardan transmission","N/A",0,2,4,1.1494252873563218E-2,270,"Yes"]
["149848LKP1996",149848,"LKP","AC",null,null,1996,"Yes","NEW",16,"x","Germany","DB","EMU","Passenger","Set","Regional service","Bo'2'+2'2'+2'Bo'","Lima Collection","Yes",1956,1984,"III b","BR-430","BR-430","ET-30","N/A","3-unit train comprised of EMU Motor, Intermediate and Driving trailer","N/A","30 012","Eierköpfe","Keks","DB-Rot 1","Red","Grey","Black","White","Red","Blue","Double cardan transmission","Double arm",2,6,12,0.01,795,"Yes"]
["208453LP1996",208453,"LP",null,null,null,1996,"Yes","NEW",27,"x","Norway","N.S.B.","No","Locomotive","Electric","Express service","Bo'Bo'","N/A","Yes",1982,2003,"V a","NSB El","El 17","N/A",2221,"6 units, built between 1981-82 and numbered 2221/6. Focus on express Passenger services","N/A","N/A","N/A","NSB Krengetog","Nydesign","Red","Red","Red","Black","Red","Grey","Double cardan transmission","Single arm",2,2,4,1.1494252873563218E-2,187,"Replace"]
["309191K1996",309191,"K",null,null,null,1996,"Yes","NEW",37,"x","Switzerland","SBB/CFF","No","Passenger","With central corridor","1° & 2° with Driving trailer","2'2'","N/A","Yes",1959,"Operational","IV a / IV b","EW-1 / VU-1","ABt","EW-1 / VU-1","N/A","16 units, built in 1959 and numbered 50 85 38-33 906/921. Used with Re 4/4 locomotive or BDe 4/4 railcar","N/A","N/A","N/A","Wappen","SBB-Grün","Green","Grey","Green","N/A","Green","Grey","N/A","N/A",0,2,4,1.1494252873563218E-2,272,"Replace"]
["303225K1996",303225,"K",null,null,null,1996,"Yes","NEW",41,"x","Germany","DR","No","Freight","Closed","N/A",2,"N/A","Yes",1933,1972,"III a / III b","H-type","Hbck 290","Glt 19",90308,"Built since the early 1930's","N/A","N/A","N/A","DR","N/A","Brown","Grey","Brown","N/A","Brown","Grey","N/A","N/A",0,0,2,1.1494252873563218E-2,172,"Yes"]
["309331K1996",309331,"K",null,null,null,1996,"No",null,null,"x","Switzerland","SBB/CFF","No","Passenger","Baggage","Baggage","2'2'","N/A","Yes",1978,2004,"V a","MC 76","Dd2s","N/A","51 85 92-70 308-7","48 units, bought in the early 1990's to SNCF. Corail livery with SBB/CFF logo","N/A","N/A","Corail","SBB aktuelle","Corail","White","Grey","White","Grey","Orange","Grey","N/A","N/A",0,2,4,1.0526315789473684E-2,211,"Yes"]
["208001LMP1996-97",208001,"LMP",null,null,null,"1996-97","Yes","ML",16,"x","Italy","FS","No","Locomotive","Electric","Express service","Bo'Bo'","N/A","Yes",1974,1992,"IV a / IV b / V a","E-444","E-444.2","N/A","E444 093","60 units, built between 1973-74 and numbered E444.058/117. Refurbished between 1989-1997 to Series E-444R. Focus on express Passenger services","N/A","N/A","Tartaruga","E-444 1° series","Grigio perla-Blu orientale","White","White","Blue","Blue","Bicolor","Grey","Double cardan transmission","Double arm",2,2,4,1.1494252873563218E-2,194,"Yes"]
["208010L1996-97",208010,"L",null,null,null,"1996-97","Yes","ML",24,"x","France","SNCF","No","Locomotive","Diesel","Multipurpose","B'B'","N/A","Yes",1968,"Operational","IV b / V a","BB-67000","BB-67300","N/A",67309,"70 units, built between 1967-68 and numbered 67301/67370. Focus on mixed-traffic services (Passenger and Freight)","N/A","N/A","N/A","Macaron","Bleu diesel","Blue","Blue","Blue","White","Blue","Grey","Double cardan transmission","N/A",0,2,4,1.1494252873563218E-2,195,"Yes"]
["208187L1996-97",208187,"L",null,null,null,"1996-97","Yes","ML",37,"x","Holland","NS","No","Locomotive","Electric","Freight","Co'Co'","N/A","Yes",1956,2000,"V a / V b","NS 1300","Series 1300","CC-7100",1314,"16 units, built between 1952-56 based on a French CC-7100 locomotive design and numbered 1301/16. Focus on heavy Freight services","N/A","N/A","N/A","NS Double arrow","NS-Geel","Yellow","Grey","Grey","N/A","Yellow","Grey","G-Motor","Double arm",2,2,6,1.1494252873563218E-2,217,"Yes"]
["208418K1996-97",208418,"K",null,null,null,"1996-97","Yes","ML",45,"x","Germany","BVG","EMU","Passenger","Set","Regional service","Bo'Bo'+2'2'","Lima Collection","Yes",1927,1997,"IV a / IV b","BR-275","BR-275","ET-165","N/A","2-unit train comprised of EMU Driving trailer and Trailer. For Berlin metro service","N/A","ET-165","N/A","N/A","BVG","Red","Grey","Red","Cream","Bicolor","Blue","N/A","N/A",0,4,8,1.1494252873563218E-2,405,"Yes"]
["201009L1996-97",201009,"L",null,null,null,"1996-97","Yes","ML",56,"x","Switzerland","SBB/CFF","EMU","Locomotive","Dummy","1° class","2'2'","N/A","Yes",1961,2000,"III b / IV a / IV b","RAe TEE II","RAe TEE II","RABe","N/A","Driving trailer of EMU RAe TEE II with 1° Class","Trans Europ Express","TEE","N/A","TEE","TEE","Cream","Grey","Red","Cream","Grey","Grey","N/A","N/A",0,2,4,1.0869565217391304E-2,272,"Yes"]
["208200LMP1996-97",208200,"LMP","AC",null,null,"1996-97","Yes","ML",62,"x","Switzerland","SBB/CFF","No","Railcar","Electric","2° class","Bo'Bo'","N/A","Yes",1959,2005,"V a","RBe 4/4","RBe 4/4","RBe 540",1403,"Motor with 2° Class","N/A","N/A","N/A","SBB aktuelle","SBB-Grün","Green","Grey","Green","Red","Yellow","Grey","Double cardan transmission","Double arm",1,2,4,1.1494252873563218E-2,272,"Yes"]
["208488L1996-97",208488,"L","AC",null,null,"1996-97","Yes","ML",71,"x","Sweden","SJ","No","Locomotive","Diesel","Multipurpose","Bo'Bo'","N/A","Yes",1962,"Operational","IV b / V a","SJ T43","T-43","N/A","T43 224","50 units, built between 1961-63 and numbered T43.209/258. Focus on mixed-traffic services (regional Passenger and Freight). Livery used since the mid 1970's","N/A","N/A","N/A","SJ Gammal","N/A","Red","Grey","Grey","White","Red","Blue","G-Motor","N/A",0,2,4,1.1494252873563218E-2,164,"Yes"]
["3093731996-97",309373,null,null,null,null,"1996-97","Yes","ML",85,"x","France","SNCF","No","Passenger","With compartment","2° class","2'2'","N/A","Yes",1959,1998,"IV a / IV b","DEV AO Longue","B10","Series 1959","50 87 20-40 485-6","46 units, built in 1959 and numbered 20-40 451/496","N/A","N/A","N/A","Encadré","C160","Green","Green","Green","Grey","Grey","Blue","N/A","N/A",0,2,4,1.1494252873563218E-2,288,"Yes"]
["3091061996-97",309106,null,null,null,null,"1996-97","Yes","ML",93,"x","Holland","NS","No","Passenger","With central corridor","1° class","2'2'","N/A","Yes",1980,2001,"IV b / V a / V b","ICR (Intercityrijtuig)","A","ICR-1","50 84 10-70 661-0","36 units, built between 1980-82 and numbered 50 84 10-70 651/687. Focus on Passenger services between Benelux-Germany","N/A","Intercity","N/A","NS Double arrow","ICR-Buurland","Blue","Grey","Yellow","Blue","Bicolor","Grey","N/A","N/A",0,2,4,0.01,265,"Yes"]
["309170K1996-97",309170,"K",null,null,null,"1996-97","Yes","ML",101,"x","Germany","DB","No","Passenger","With central corridor","1° class","2'2'","N/A","Yes",1972,2002,"IV a / IV b","UIC-X","Apmz 121","Apmz 121.2","61 80 18-95 034-4","65 units, built between 1967-75. Focus on express Passenger services. Straight-edged roof (2° series after 1967)","N/A","TEE","Steildach","Keks","TEE","Red","Grey","Red","Cream","Bicolor","Blue","N/A","N/A",0,2,4,1.1494252873563218E-2,303,"Replace"]
["309670K1996-97",309670,"K",null,null,null,"1996-97","Yes","ML",107,"x","Switzerland","SBB/CFF","No","Passenger","With central corridor","2° class","2'2'","N/A","Yes",1958,"Operational","V a / V b","EW-1 / VU-1","B","EW-1 / VU-1","50 85 20-33 619-1","1040 units, built between 1956-67 and numbered 50 85 20-33 100/419, 500/719, 730/739 & 20-34 000/459","N/A","N/A","N/A","SBB aktuelle","NPZ","White","Grey","White","Blue","Yellow","Grey","N/A","N/A",0,2,4,1.1494252873563218E-2,272,"Yes"]
["309509K1996-97",309509,"K",null,null,null,"1996-97","Yes","ML",111,"x","Switzerland","SOB","No","Passenger","With central corridor","2° class","2'2'","N/A","Yes",1960,"Operational","IV b / V a","EW-1 / VU-1","B","EW-1 / VU-1",219,"10 units, built in the early 1960's and numbered 210/9","N/A","N/A","N/A","SOB","N/A","Green","Grey","Green","Cream","Grey","Grey","N/A","N/A",0,2,4,1.1494252873563218E-2,272,"Yes"]
["3092011996-97",309201,null,null,null,null,"1996-97","Yes","ML",120,"x","Belgium","CIWL","No","Passenger","Parlor","1° class","2'2'","N/A","Yes",1926,1971,"II / III a / III b","Pullman","Pullman","N/A",9042,"211 units, built between 1926-30","N/A","N/A","N/A","CIWL","CIWL","Blue","Grey","Blue","White","Blue","Grey","N/A","N/A",0,2,4,0.01,216,"Yes"]
["303252-1K1996-97","303252-1","K",null,null,null,"1996-97","Yes","ML",125,"x","Austria","OBB","No","Freight","Closed","N/A",2,"N/A","Yes",1933,1972,"III a / III b","H-type","Hbck 290","Glt 19","221 504","Built since the early 1930's","N/A","N/A","N/A","N/A","N/A","Brown","Grey","Brown","N/A","Brown","Grey","N/A","N/A",0,0,2,1.1494252873563218E-2,172,"Replace"]
["303236K1996-97",303236,"K",null,null,null,"1996-97","Yes","ML",129,"x","Holland","NS","No","Freight","Hopper","N/A","2'2'","N/A","Yes",1955,"Operational","V a / V b","F-type","Fal 167","OOtz 50","N/A","4200 units, built between 1954-65. With automatic load discharge","Kalksteen","N/A","N/A","NS Double arrow","N/A","Grey","N/A","Grey","N/A","N/A","Grey","N/A","N/A",0,2,4,1.2048192771084338E-2,139,"Yes"]
[{"$f":"+B12550&C12550&F12550&G12550","v":"303228K1996-97"},303228,"K",null,null,null,"1996-97","Yes","ML",137,"x","Austria","OBB","No","Freight","Hopper","With opening roof","2'2'","Technology","Yes",1974,"Operational","IV b / V a / V b","T-type","Tadgs 959","N/A","31 81 582 0 415-3","Built since the early 1970's","Rail Cargo Austria","N/A","N/A","Pflatsch","N/A","Brown","Brown","Brown","N/A","N/A","Grey","N/A","N/A",0,2,4,1.1494252873563218E-2,247,"Yes"]
["3035961996-97",303596,null,null,null,null,"1996-97","Yes","ML",142,"x","France","SNCF","No","Freight","Closed","With sliding door","2'2'","Technology","Yes",1975,"Operational","IV b / V a / V b / VI","H-type","Habis 339","H 81.6","N/A","Built in the mid 1970's","Fret","N/A","N/A","Fret","N/A","Grey","Grey","Grey","Green","Grey","Grey","N/A","N/A",0,2,4,1.098901098901099E-2,242,"Yes"]
["149748LMKP1997",149748,"LMKP",null,null,null,1997,"Yes","NEW",5,"x","France","SNCF","EMU","Passenger","Set","Express service","Bo'Bo'+2'+2'+Bo'Bo'","Lima Collection","Yes",1981,2013,"V a / V b","TGV Sud-Est","TGV","N/A",30,"4-unit train comprised of EMU Motor M1, Intermediate R1 and R8 and Driving trailer M2 ","N/A","TGV Sud-Est","TGV","Casquette","Grise-Bleue","Grey","Grey","Grey","Blue","Bicolor","Blue","Double cardan transmission","Single arm",2,7,14,1.1494252873563218E-2,1017,"Replace"]
["208600LMP1997",208600,"LMP",null,null,null,1997,"Yes","NEW",9,"x","Switzerland","BLT","No","Railcar","Electric","Tram","B'2'B'","N/A","Yes",1967,2001,"IV a / IV b","Düwag","GT6","N/A",612,"City tram of Basel","Agfa","N/A","N/A","BLT","N/A","Green","Grey","Green","White","Green","Grey","Simple cardan transmission","Single arm",1,3,6,1.1494252873563218E-2,232,"Yes"]
["208608LM1997",208608,"LM",null,null,null,1997,"Yes","NEW",12,"x","Germany","HGK","No","Locomotive","Diesel","Prototype","Co'Co'","N/A","Yes",1989,"Operational","V b / VI","BR-240","BR-240","DE-1024","DE 13","3 units, built in 1989 as prototype by MaK, Krupp & ABB consortium and numbered originally 240.001/3 (after 1997 DE 11/13). Focus on mixed-traffic services (Passenger and Freight)","N/A","N/A","N/A","N/A","MAK","Red","Red","Black","White","Red","Grey","Double cardan transmission","N/A",0,2,6,1.1494252873563218E-2,240,"Yes"]
["208052LM1997",208052,"LM",null,null,null,1997,"Yes","NEW",16,"x","Spain","RENFE","No","Locomotive","Diesel","Prototype","Bo'Bo'","N/A","Yes",1986,1997,"V a","Series 311","Series 311.0","N/A","311 001-2","1 unit, built in 1985 as prototype and numbered 311 001-2. Focus on shunting operation","N/A","N/A","Mabi","Galleta 2","Maniobras","Orange","Orange","Black","White","Orange","Grey","Double cardan transmission","N/A",0,2,4,1.1494252873563218E-2,163,"Yes"]
["309467K1997",309467,"K",null,null,null,1997,"Yes","NEW",19,"x","Germany","DB","No","Passenger","With compartment","1° & 2° class","2'2'","N/A","Yes",1956,1974,"III b","Einheitswagen","ABüe 330","BC4ü-35",15556,"34 units, built between 1935-36. Refurbished to 1°/2° Class in 1956","N/A","N/A","N/A","Keks","DB-Grün","Green","Grey","Green","N/A","Green","Grey","N/A","N/A",0,2,4,0.01,217,"Yes"]
["209899L1997",209899,"L",null,null,null,1997,"No",null,null,"x","Sweden","TGOJ","No","Locomotive","Diesel","Shunter","Bo'Bo'","N/A","Yes",1962,"Operational","V b","SJ T43","T-43","N/A","T43 243","13 units, bought in 1995 from SJ. Sold in 2010 to Green Cargo. Focus on shunting operation","N/A","N/A","N/A","TGOJ","N/A","Yellow","Grey","Grey","Blue","Yellow","Grey","G-Motor","N/A",0,2,4,1.1494252873563218E-2,164,"Yes"]
["303223K1997",303223,"K",null,null,null,1997,"Yes","NEW",24,"x","Germany","DB","No","Freight","Open","Empty","2'2'","N/A","Yes",1989,2000,"V b","E-type","Eas 070","Góndola","11 80 534 7 949-9","689 units, refurbished between 1987-89 from former Eals 5906 & 5908","DB Cargo","N/A","N/A","DB-AG","N/A","Red","N/A","Brown","N/A","N/A","Grey","N/A","N/A",0,2,4,1.1494252873563218E-2,160,"Yes"]
["208606LK1997-98",208606,"LK",null,null,null,"1997-98","Yes","ML",10,"x","Italy","FS","No","Railcar","Set","1° & 2° class","(1A)(A1)+2'2'","N/A","Yes",1982,"Operational","V a","ALn-668","ALn-668.3100","ALn-668 3° generazione","ALn-668 3206","2-unit train comprised of Motor and 1°/2° Class Trailer","N/A","N/A","N/A","XMPR 1","XMPR","White","Grey","Green","Red","Blue","Grey","Simple cardan transmission","N/A",0,4,8,1.1494252873563218E-2,540,"Yes"]
[{"$f":"+B12840&C12840&F12840&G12840","v":"208152L1997-98"},208152,"L",null,null,null,"1997-98","Yes","ML",21,"x","Italy","FS","No","Locomotive","Diesel","Regional service","B'B'","Hobby Line","Yes",1982,"Operational","IV b / V a / V b","D-445","D-445.2","N/A","D445 1041","20 units, built between 1979-81 and numbered 1036-55. Focus on regional Passenger services. With 3 headlights","N/A","N/A","N/A","Televisore","Navetta","White","Grey","White","Bicolor","Orange","Grey","G-Motor","N/A",0,2,4,1.1494252873563218E-2,162,"Yes"]
["208009L1997-98",208009,"L",null,null,null,"1997-98","Yes","ML",28,"x","France","SNCF","No","Locomotive","Diesel","Multipurpose","B'B'","N/A","Yes",1963,2004,"V a / V b","BB-67000","BB-67000","N/A",67061,"84 units, built between 1964-68 and numbered 67041/124. Focus on mixed-traffic services (Passenger and Freight)","N/A","N/A","N/A","Macaron","Bleu diesel","Blue","Blue","Blue","White","Blue","Grey","Double cardan transmission","N/A",0,2,4,1.1494252873563218E-2,195,"Yes"]
["208189L1997-98",208189,"L",null,null,null,"1997-98","Yes","ML",43,"x","Holland","NS","No","Locomotive","Electric","Freight","Co'Co'","N/A","Yes",1956,2000,"V a / V b","NS 1300","Series 1300","CC-7100",1314,"16 units, built between 1952-56 based on a French CC-7100 locomotive design and numbered 1301/16. Focus on heavy Freight services","N/A","N/A","N/A","NS Double arrow","NS-Geel","Yellow","Grey","Grey","N/A","Yellow","Grey","G-Motor","Single arm",2,2,6,1.1494252873563218E-2,217,"Yes"]
["208595LMP1997-98",208595,"LMP",null,null,null,"1997-98","Yes","ML",48,"x","Germany","BOGESTRA","No","Railcar","Electric","Tram","B'2'B'","N/A","Yes",1959,1992,"III b / IV a / IV b","Düwag","GT6","N/A",295,"City tram of Bochum","N/A","N/A","N/A","BOGESTRA","Kicker","Red","Red","Red","N/A","Red","Grey","Simple cardan transmission","Double arm",1,3,6,1.1494252873563218E-2,232,"Yes"]
["288401LM1997-98",288401,"LM","AC",null,null,"1997-98","Yes","ML",63,"x","Germany","DB","No","Locomotive","Diesel","Prototype","Co'Co'","N/A","Yes",1989,"Operational","V a","BR-240","BR-240","DE-1024","240 003-4","Similar to #208401 but AC only version","N/A","N/A","N/A","MAK","MAK","White","White","White","Red","Bicolor","Grey","Double cardan transmission","N/A",0,2,6,1.1494252873563218E-2,240,"Yes"]
["288584LMP1997-98",288584,"LMP","AC",null,null,"1997-98","Yes","ML",67,"x","Germany","DB","No","Locomotive","Electric","Freight","Bo'Bo'","N/A","Yes",1997,"Operational","V b","BR-152","BR-152","ES-64 F","152 001-4","Similar to #208584 but AC only version","DB Cargo","N/A","N/A","DB-AG","Verkehrsrot","Red","Grey","Grey","N/A","Red","Grey","Double cardan transmission","Single arm",2,2,4,1.1494252873563218E-2,225,"Yes"]
["208333LP1997-98",208333,"LP",null,null,null,"1997-98","Yes","ML",76,"x","Switzerland","BLS","No","Locomotive","Electric","Regional service","Bo'Bo'","N/A","Yes",1974,"Operational","IV a / IV b / V a / V b / VI","Re 4/4 I","Re 4/4'","Re 425",183,"9 units, built in 1974 and numbered 181/9. Focus on regional Passenger services","Kandersteg","N/A","N/A","BLS","N/A","Brown","Grey","Brown","N/A","Brown","Grey","Double cardan transmission","Double arm",1,2,4,1.1494252873563218E-2,170,"Yes"]
["208200LMP1997-98",208200,"LMP",null,null,null,"1997-98","Yes","ML",78,"x","Switzerland","SBB/CFF","No","Railcar","Electric","2° class","Bo'Bo'","N/A","Yes",1959,2005,"V a","RBe 4/4","RBe 4/4","RBe 540",1403,"Motor with 2° Class","N/A","N/A","N/A","SBB aktuelle","SBB-Grün","Green","Grey","Green","Red","Yellow","Grey","Double cardan transmission","Double arm",1,2,4,1.1494252873563218E-2,272,"Yes"]
["288455-1L1997-98","288455-1","L","AC",null,null,"1997-98","Yes","ML",86,"x","Denmark","D.S.B.","No","Locomotive","Diesel","Multipurpose","Co'Co'","N/A","Yes",1968,2003,"IV a / IV b / V a / V b","MZ","MZ I","MZ I",1402,"Similar to #208455-1 but AC only version","N/A","N/A","N/A","DSB ny font","Sort ","Black","Black","Black","Red","Red","Grey","G-Motor","N/A",0,2,6,1.1494252873563218E-2,240,"Yes"]
["309487K1997-98",309487,"K",null,null,null,"1997-98","Yes","ML",93,"x","Italy","FS","No","Passenger","With central corridor","2° class","2'2'","N/A","Yes",1983,"Operational","V b / VI","MDVE","nB","Series 1982","50 83 21-78 112-4","710 units, built between 1982-87 and numbered 21-78 001/710","N/A","N/A","N/A","XMPR 1","XMPR","White","Grey","Green","Blue","Blue","Grey","N/A","N/A",0,2,4,1.1494252873563218E-2,303,"Replace"]
["3091331997-98",309133,null,null,null,null,"1997-98","Yes","ML",97,"x","Italy","FS","No","Passenger","With compartment","1° class","2'2'","Hobby Line","Yes",1972,1989,"IV a / IV b / V a","TEE 69","Az","N/A","61 83 18-90 904-0","13 units, built between 1971-73 and numbered 18-90 900/12. TEE livery used until 1989","N/A","TEE","N/A","Televisore","TEE","Red","Grey","Red","Cream","Bicolor","Grey","N/A","N/A",0,2,4,0.01,265,"Yes"]
["309187K1997-98",309187,"K",null,null,null,"1997-98","Yes","ML",106,"x","Holland","NS","No","Passenger","Double decker","1° & 2° class","2'2'","N/A","Yes",1985,2010,"V a / V b / VI","DDM-1","Abv DDM-1","N/A","50 84 26-37 628-3","29 units, built between 1983-85 and numbered 50 84 36-37 601/35. Focus on regional Passenger services","N/A","DDM-1","Dubbeldekker","NS Double arrow","NS-Geel","Yellow","Grey","Yellow","Blue","Grey","Grey","N/A","N/A",0,2,4,0.01,264,"Yes"]
["149886K1997-98",149886,"K",null,null,null,"1997-98","Yes","ML",116,"x","Germany","DB","No","Passenger","Set","Regional service","2'2'+2'2'+2'2'","Lima Collection","Yes",1994,1999,"V b","n-Wagen","Silberling Era V","N/A","N/A","3-unit train comprised of Passenger #309471, #309472 and #309473","N/A","Silberling","Silberling","DB-AG","Neue Bahn 2","Green","White","White","Green","Bicolor","Blue","N/A","N/A",0,6,12,1.1494252873563218E-2,909,"Yes"]
["309671K1997-98",309671,"K",null,null,null,"1997-98","Yes","ML",122,"x","Germany","DB","No","Passenger","With central corridor","Dome","2'2'","N/A","Yes",1962,1976,"IV a","UIC-X","ADmh 101","AD4üm-62","61 80 81-80 003-8","5 units, built between 1962-63 and numbered originally 10551/5 (after 1968 61 80 81-80 001/005). Sold in 1976 to Apfelpfeil tourist agency. With panoramic dome","N/A","TEE","N/A","Keks","TEE","Red","Grey","Red","Cream","Bicolor","Grey","N/A","N/A",0,2,4,1.1494252873563218E-2,303,"Replace"]
["309516K1997-98",309516,"K",null,null,null,"1997-98","Yes","ML",129,"x","Switzerland","SBB/CFF","No","Passenger","With central corridor","1° class","2'2'","N/A","Yes",1958,"Operational","IV a / IV b","EW-1 / VU-1","A","EW-1 / VU-1","50 85 18-33 308-5","180 units, built between 1958-60 and numbered 50 85 18-33 200/319 & 500/559 & 650/655","N/A","N/A","N/A","Wappen","SBB-Grün","Green","Grey","Green","N/A","Yellow","Grey","N/A","N/A",0,2,4,1.1494252873563218E-2,272,"Yes"]
["309675K1997-98",309675,"K",null,null,null,"1997-98","Yes","ML",138,"x","Norway","N.S.B.","No","Passenger","With central corridor","1° class","2'2'","N/A","Yes",1967,2010,"III b / IV a","NSB A2","A2","N/A",24003,"6 units, built in 1967 and numbered 24002/7","N/A","N/A","N/A","NSB solo","Gammeldesign","Red","Grey","Red","Yellow","Red","Grey","N/A","N/A",0,2,4,1.1235955056179775E-2,265,"Replace"]
["303652K1997-98",303652,"K",null,null,null,"1997-98","Yes","ML",142,"x","France","SNCF","No","Freight","Closed","N/A",2,"N/A","Yes",1963,"Operational","III b / IV a / IV b","G-type","Gs 216","Gos 70.6",335666,"7150 units, built between 1960-63 and numbered 21 87 150 0 000/21 87 150 7 149","N/A","N/A","N/A","N/A","N/A","Black","Grey","Black","N/A","Black","Blue","N/A","N/A",0,0,2,1.1494252873563218E-2,121,"Yes"]
["302816K1997-98",302816,"K",null,null,null,"1997-98","Yes","ML",148,"x","Switzerland","SBB/CFF","No","Freight","Silo","With ladder",2,"N/A","Yes",1957,2006,"IV b / V a / V b","U-type","Ucs 908","Kds 54","N/A","Built in the mid 1950's","N/A","N/A","N/A","SBB aktuelle","N/A","Yellow","N/A","Black","N/A","N/A","Grey","N/A","N/A",0,0,2,1.3513513513513514E-2,116,"Replace"]
["303273K1997-98",303273,"K",null,null,null,"1997-98","Yes","ML",155,"x","Denmark","D.S.B.","No","Freight","Open","Empty",2,"N/A","Yes",1956,1976,"III b","E-type","E 039","Omm 53",52001,"8480 units, refurbished between 1954-56 from former E016 & E019 wagons","N/A","N/A","N/A","Classic Vingehjul","N/A","Brown","N/A","Brown","N/A","N/A","Grey","N/A","N/A",0,0,2,1.1494252873563218E-2,115,"Yes"]
["309083K1997-98",309083,"K",null,null,null,"1997-98","Yes","ML",161,"x","Germany","DB","No","Freight","Flat","With stakes","2'2'","N/A","Yes",1967,"Operational","IV a / IV b / V a","U-type","Uaik 721","SH 54","82 80 991 9 913-9","14 units, built between 1956-67 and numbered 82 80 991 9 900/913","N/A","N/A","N/A","N/A","N/A","Black","N/A","Black","N/A","N/A","Grey","N/A","N/A",0,2,4,1.1494252873563218E-2,230,"Yes"]
["3031031997-98",303103,null,null,null,null,"1997-98","Yes","ML",168,"x","Italy","FS","No","Freight","Reefer","With ladder",2,"Hobby Line","Yes",1960,1995,"III b / IV a / IV b / V a","I-type","Ibps-v","Ichqrs 377","11 83 083 0 543-2","Built in the late 1950's. With smooth panel","Interfrigo","N/A","N/A","N/A","N/A","White","Grey","Black","N/A","White","Grey","N/A","N/A",0,0,2,1.1494252873563218E-2,130,"Yes"]
["3090591997-98",309059,null,null,null,null,"1997-98","Yes","ML",172,"x","Germany","DB","No","Freight","Track & Maintenance","Crane","2'2'+4","Hobby Line","No",1910,1980,"III b / IV a / IV b / V a / V b","Industrial Brownhoist","X-1080","N/A","N/A","Built since the early 1910's and operational until the early 1980's","N/A","N/A","N/A","N/A","N/A","Brown","Brown","Brown","N/A","N/A","Grey","N/A","N/A",0,3,8,1.1494252873563218E-2,260,"Replace"]
["208581LMP1998",208581,"LMP",null,null,null,1998,"Yes","NEW",3,"x","France","SNCF","No","Locomotive","Electric","Multipurpose","B'B'","N/A","Yes",1975,"Operational","IV a","BB Alsthom","BB-25500","N/A",25679,"194 units, built between 1964-76 and numbered 25501/694. Focus on mixed-traffic services (regional Passenger and Freight)","N/A","N/A","Danseuse","Macaron","Verte","Green","Green","Green","Grey","Green","Grey","Double cardan transmission","Single arm",2,2,4,1.0869565217391304E-2,169,"Yes"]
[{"$f":"+B13553&C13553&F13553&G13553","v":"208625LP1998"},208625,"LP",null,null,null,1998,"Yes","NEW",5,"x","Spain","RENFE","No","Locomotive","Electric","Multipurpose","Co'Co'","Hobby Line","Yes",1957,1997,"V b","Series 276","Series 7600","CC-7100","276 052-8","136 units, built between 1952-65 based on a French CC-7100 locomotive design and numbered originally 7601/99 & 8601/37 (after 1971 276.001/099 & 101/137). Livery only used between 1995-97 by 2 units (276.031 & 052)","N/A","N/A","N/A","Galleta 2","Danone","White","Grey","Grey","Bicolor","Tricolor","Grey","Double cardan transmission","Single arm",2,2,6,1.1494252873563218E-2,217,"Yes"]
["309390K1998",309390,"K",null,null,null,1998,"Yes","NEW",6,"x","Germany","DB","No","Passenger","With central corridor","2° class","2'2'","Hobby Line","Yes",1997,2002,"V b","n-Wagen","Bn 447","Bn 447.4","50 80 22-33 969-3","156 units, refurbished in the late 1990's from former Bn 719 coaches. Focus on regional Passenger services","N/A","Silberling","Silberling","DB-AG","Neue Bahn 1","Red","Grey","White","White","White","Grey","N/A","N/A",0,2,4,1.1494252873563218E-2,303,"Yes"]
["309553K1998",309553,"K",null,null,null,1998,"Yes","ML",3,"x","Germany","DB","No","Passenger","With central corridor","Dome","2'2'","Hobby Line","Yes",1963,1976,"III b","UIC-X","ADmh 101","AD4üm-62",10554,"5 units, built between 1962-63 and numbered originally 10551/5 (after 1968 61 80 81-80 001/005). Sold in 1976 to Apfelpfeil tourist agency. With panoramic dome","Rheingold","Rheingold","N/A","Keks","Ivory-Blue","Cream","Grey","Blue","Cream","Bicolor","Grey","N/A","N/A",0,2,4,"1/100",265,"Replace"]
["3093151998",309315,null,null,null,null,1998,"Yes","ML",4,"x","Italy","FS","No","Passenger","Baggage","Baggage","2'2'","Hobby Line","No",1960,2004,"IV b / V a","UIC-X","Dms 902","Pw4üm-60","N/A","Never existed in any official roster. Based on a German UIC-X coach design. Item by LIMA has 1 window between the 2 sliding doors while real Italian coach has two instead. LIMA invention","N/A","N/A","N/A","Losanga","Rosso fegato - Grigio","Red","Grey","Red","White","Cream","Grey","N/A","N/A",0,2,4,0.01,268,"Yes"]
["3090501998",309050,null,null,null,null,1998,"Yes","ML",6,"x","Italy","FS","No","Freight","Car transporter","With 6 cars",3,"Hobby Line","Yes",1961,"Operational","III b / IV a / IV b / V a / V b","L-type","Laeqrss 545","Pay","N/A","Built since the early 1960's. Two wagons joined together","SITFA","N/A","N/A","N/A","N/A","Orange","Orange","Orange","N/A","N/A","Grey","N/A","N/A",0,0,3,1.1494252873563218E-2,290,"Replace"]
["3090591998",309059,null,null,null,null,1998,"Yes","ML",6,"x","Germany","DB","No","Freight","Track & Maintenance","Crane","2'2'+4","Hobby Line","No",1910,1980,"III b / IV a / IV b / V a / V b","Industrial Brownhoist","X-1080","N/A","N/A","Built since the early 1910's and operational until the early 1980's","N/A","N/A","N/A","Keks","N/A","Brown","Brown","Brown","N/A","N/A","Grey","N/A","N/A",0,3,8,1.1494252873563218E-2,260,"Yes"]
["149935K1999",149935,"K",null,null,null,1999,"Yes","NEW",16,"x","Germany","DB","No","Passenger","Set","Regional service","2'2'+2'2'","Lima Collection","Yes",1960,1973,"IV a","n-Wagen","Silberling Verde","N/A","N/A","2-unit train comprised of Passenger Abnb 701 and Bnb 712","N/A","Silberling","Silberling","Keks","DB-Grün","Green","Grey","Green","N/A","Green","Blue","N/A","N/A",0,4,8,1.1494252873563218E-2,610,"Yes"]
["309320K1999",309320,"K",null,null,null,1999,"Yes","NEW",22,"x","Switzerland","SBB/CFF","No","Passenger","Baggage","Baggage","2'2'","N/A","Yes",1978,2004,"IV b / V a","MC 76","Dd2s","N/A","50 85 92-75 324-0","48 units, bought in the early 1990's to SNCF","N/A","N/A","N/A","SBB aktuelle","SBB-Grün","Green","Grey","Green","N/A","Grey","Blue","N/A","N/A",0,2,4,1.1494252873563218E-2,211,"Yes"]
["208004L1999",208004,"L",null,null,null,1999,"Yes","NEW",30,"x","Italy","FS","No","Locomotive","Electric","Multipurpose","Bo'Bo'","Hobby Line","Yes",1986,2007,"V b / VI","E-424","E-424-200","N/A","E424 216","105 units, refurbished in 1987 from former E-424 locomotives and renumbered E.424.200/104. Focus on \"Push-Pull\" Passenger services","N/A","N/A","N/A","XMPR 1","XMPR","White","Green","Blue","Green","White","Blue","G-Motor","Double arm",2,2,4,1.1494252873563218E-2,178,"Yes"]
["2046661999-00",204666,null,null,null,null,"1999-00","Yes","EN",3,"x","UK","BR","No","Locomotive","Diesel","Regional service","Co'Co'","N/A","Yes",1962,1992,"IV b / V a","Class 47","Class 47/4a","N/A",47402,"154 units, refurbished in 1974 from former Class 47/0 locomotives and numbered 47401/533 & 549/555. Focus on regional Passenger services. Name only used between 1981-88","Gateshead","N/A","N/A","Double arrow","BR-Blue","Blue","Blue","Blue","Yellow","Bicolor","Blue","G-Motor","N/A",0,2,6,1.3157894736842105E-2,254,"Yes"]
["2046111999-00",204611,null,null,null,null,"1999-00","Yes","EN",10,"x","UK","NSE","No","Railcar","Diesel","2° class","Bo'2'","Lima Collection","Yes",1960,2001,"V a","Class 121","Class 121","Driving Motor Brake Second",55031,"Motor with 2° Class","N/A","N/A","Bubble car","N/A","Network Southeast","Light Blue","Black","Grey","Bicolor","Tricolor","Blue","G-Motor","N/A",0,2,4,1.3157894736842105E-2,259,"Yes"]
["3054061999-00",305406,null,null,null,null,"1999-00","Yes","EN",17,"x","UK","VT","DMU","Passenger","With central corridor","2° & Baggage","2'2'","Lima Collection","Yes",1976,"Operational","V b / VI","Mark III","TGS","Trailer Guard Standard",44060,"Intermediate of DMU HST-125","N/A","HST-125","N/A","Virgin","Virgin","Black","Black","Red","White","Black","Blue","N/A","N/A",0,2,4,1.3157894736842105E-2,303,"Yes"]
["1499181999-00",149918,null,null,null,null,"1999-00","Yes","EN",19,"x","UK","GNER","DMU","Passenger","Set","Express service","Bo'Bo'+2'2'+2'2'+Bo'Bo'","Lima Collection","Yes",1976,"Operational","V b","HST-125","HST-125","HST-125","N/A","4-unit train comprised of DMU Motor, Intermediate x 2 and Driving trailer","N/A","HST-125","N/A","N/A","GNER","Blue","Blue","Blue","Red","Bicolor","Blue","G-Motor","N/A",0,8,16,1.3157894736842105E-2,1076,"Yes"]
["2047681999-00",204768,null,null,null,null,"1999-00","Yes","EN",27,"x","UK","TR","No","Locomotive","Diesel","Freight","Co'Co'","Lima Collection","Yes",1991,"Operational","V a","Class 60","Class 60","N/A",60063,"100 units, built between 1989-93 and numbered 60001/100. Focus on heavy Freight services. Name only used after 1991","James Murray","N/A","Tug","Transrail","Three tone grey","Grey","Black","Grey","Grey","Grey","Blue","G-Motor","N/A",0,2,6,1.3157894736842105E-2,280,"Yes"]
["2046651999-00",204665,null,null,null,null,"1999-00","Yes","NEW",2,"x","UK","MR","No","Locomotive","Diesel","Freight","Co'Co'","Lima Collection","Yes",1990,"Operational","V b / VI","Class 59","Class 59/1","N/A",59103,"4 units, built in 1990 and numbered 59101/4. Focus on heavy Freight services","Village of Mells","N/A","N/A","N/A","Hanson Group","White","Red","White","Blue","Yellow","Blue","G-Motor","N/A",0,2,6,1.3157894736842105E-2,280,"Yes"]
["3053531999-00",305353,null,null,null,null,"1999-00","Yes","NEW",12,"x","UK","EWS","No","Freight","Hopper","N/A","2'2'","Lima Collection","Yes",1971,"Operational","V b","T-type","YGH","Seacow","DB980003","789 units, built between 1954-82 and numbered DB982440/927. With 3 tiny white wheels","Seacow","N/A","N/A","EWS","EWS","Brown","N/A","Brown","Yellow","N/A","Blue","N/A","N/A",0,2,4,1.3157894736842105E-2,147,"Replace"]
["149961K2000",149961,"K",null,null,null,2000,"Yes","NEW",8,"x","France","SNCF","EMU","Passenger","Set","Express service","2'+2'+2'","Lima Collection","Yes",1998,"Operational","V b / VI","TGV Pendulaire","TGV","N/A","N/A","3-unit train comprised of EMU Intermediate R3, R4 and R5","N/A","TGV Pendulaire","TGV","N/A","TGV P01","Grey","Grey","Grey","Orange","Bicolor","Blue","N/A","N/A",0,3,6,1.1494252873563218E-2,606,"Yes"]
["208654LMP2000",208654,"LMP",null,null,null,2000,"Yes","NEW",14,"x","Austria","OBB","No","Locomotive","Electric","Multipurpose","Bo'Bo'","N/A","Yes",1963,2002,"IV a","ÖBB 1042","Series 1042","N/A","1042 006","257 units, built between 1963-77 and numbered 1042 001/060, 501/520 & 531/707. Focus on mixed-traffic services (Passenger and Freight) in mountainous areas","N/A","N/A","N/A","Flügelrad","Blutorange","Orange","Grey","Black","Cream","Orange","Grey","Double cardan transmission","Double arm",2,2,6,1.1764705882352941E-2,187,"Yes"]
["189722LMKP2000",189722,"LMKP","AC","","",2000,"Yes","NEW",15,"x","Finland","VRY","EMU","Passenger","Set","Express service","(1A)(A1)+2'2'+2'2'+(1A)(A1)","Lima Collection","Yes",1995,"Operational","V b / VI","ETR-460","Sm3","S 220","N/A","4-unit train comprised of EMU Motor, Intermediate x 2 and Driving trailer (AC version of #149722)","N/A","Sm3","Pendolino","VR Double line","S 220","White","White","Grey","Red","Bicolor","Blue","Double cardan transmission","Double arm",2,8,16,0.01,1050,"Replace"]
["309099K2000",309099,"K",null,null,null,2000,"Yes","NEW",18,"x","Germany","DB","No","Passenger","With compartment","1° class","2'2'","N/A","Yes",1926,1962,"III b","Hechtwagen","A4ü-26","AB4ü-26",11311,"20 units, built in 1926","N/A","N/A","Schweineschnauzen","Keks","DB-Grün","Green","Grey","Green","N/A","Green","Blue","N/A","N/A",0,2,4,1.1111111111111112E-2,241,"Yes"]
["2050332000-01",205033,null,null,null,null,"2000-01","Yes","NEW",4,"x","UK","BR","No","Locomotive","Diesel","Multipurpose","Co'Co'","Lima Collection","Yes",1963,2015,"IV b / V a","Class 37","Class 37/0","English Electric Type 3",37207,"309 units, built between 1959-65 and numbered D6700/999 & D6600/8 (after 1973 37001/308). Focus on mixed-traffic services (regional Passenger and Freight). Name only used between 1982-86","William Cookworthy","N/A","Tractor","N/A","BR-Blue","Blue","Grey","Black","Yellow","Blue","Blue","G-Motor","N/A",0,2,6,1.3157894736842105E-2,242,"Yes"]
["2050362000-01",205036,null,null,null,null,"2000-01","Yes","NEW",8,"x","UK","ATN","DMU","Locomotive","Set","Regional service","Bo'Bo'+Bo'Bo'","Lima Collection","Yes",1988,"Operational","V b","Class 156","Class 156","Driving Motor Standard Lavatory (DMSL)",156490,"2-unit train comprised of DMU Motor and Trailer","Northern Spirit","N/A","Super Sprinter","Big N","Northern Turquoise","Blue","Black","Blue","Green","Blue","Blue","G-Motor","N/A",0,4,8,1.3157894736842105E-2,610,"Yes"]
["208628LMP2001",208628,"LMP",null,null,null,2001,"Yes","ML",33,"x","Italy","FS","No","Locomotive","Electric","Express service","Bo'Bo'","N/A","Yes",1997,"Operational","V b / VI","E-444","E-444R","N/A","E444 106","113 units, refurbished between 1989-97 from former E444P locomotives and maintaining same numbers. Focus on express Passenger services. With new front and motorization","N/A","N/A","Tartaruga Ribollita","XMPR 1","XMPR","White","Green","Blue","Green","White","Blue","Double cardan transmission","Double arm",2,2,4,1.1494252873563218E-2,194,"Yes"]
["303217K2001",303217,"K",null,null,null,2001,"Yes","ML",52,"x","Italy","FS","No","Freight","Hopper","N/A","2'2'","N/A","Yes",1973,2000,"IV b / V a","F-type","Fals 177","N/A","31 83 665 1 068-9","100 units, built between 1972-74 originally as Fads 177 (after 1980 Fals 177)","N/A","N/A","N/A","Losanga","N/A","Brown","N/A","Brown","N/A","N/A","Blue","N/A","N/A",0,2,4,1.2048192771084338E-2,139,"Yes"]
[{"$f":"+B14301&C14301&F14301&G14301","v":"149830-1LMKP2001"},"149830-1","LMKP",null,null,null,2001,"No",null,null,"x","Germany","DB","EMU","Passenger","Set","Regional service","Bo'2'+2'2'+2'Bo'","Lima Collection","Yes",1956,1982,"III b","BR-430","BR-430","ET-30","N/A","3-unit train comprised of EMU Motor, Intermediate and Driving trailer ","N/A","30 001","Eierköpfe","Keks","DB-Rot 1","Red","Grey","Black","White","Red","Blue","Double cardan transmission","Double arm",2,6,12,0.01,795,"Yes"]
["288526LM2001",288526,"LM","AC","","",2001,"Yes","ML",64,"x","Germany","DRG","No","Locomotive","Steam","Express service","4-6-4T","N/A","Yes",1935,1951,"II","BR-061","BR-061","DRG-061","61 001","Similar to #208526 but AC only version","N/A","Henschel - Wegmann","N/A","Adler","N/A","Black","Black","Black","White","Black","Blue","G-Motor","N/A",0,0,7,1.1494252873563218E-2,212,"Yes"]
["309099K2001",309099,"K",null,null,null,2001,"Yes","ML",74,"x","Germany","DB","No","Passenger","With compartment","1° class","2'2'","N/A","Yes",1926,1962,"III b","Hechtwagen","A4ü-26","AB4ü-26",11311,"20 units, built in 1926","N/A","N/A","Schweineschnauzen","Keks","DB-Grün","Green","Grey","Green","N/A","Green","Blue","N/A","N/A",0,2,4,1.1111111111111112E-2,241,"Yes"]
["309170K2001",309170,"K",null,null,null,2001,"Yes","ML",83,"x","Germany","DB","No","Passenger","With central corridor","1° class","2'2'","N/A","Yes",1972,2002,"IV a / IV b","UIC-X","Apmz 121","Apmz 121.2","61 80 18-95 034-4","65 units, built between 1967-75. Focus on express Passenger services. Straight-edged roof (2° series after 1967)","N/A","TEE","Steildach","Keks","TEE","Red","Grey","Red","Cream","Bicolor","Blue","N/A","N/A",0,2,4,1.1494252873563218E-2,303,"Replace"]
["309672K2001",309672,"K",null,null,null,2001,"Yes","ML",88,"x","Germany","DB","No","Passenger","With central corridor","Dome","2'2'","N/A","Yes",1963,1976,"III b","UIC-X","ADmh 101","AD4üm-62",10554,"5 units, built between 1962-63 and numbered originally 10551/5 (after 1968 61 80 81-80 001/005). Sold in 1976 to Apfelpfeil tourist agency. With panoramic dome","Deutsche Bundesbahn","Rheingold","N/A","Keks","Ivory-Blue","Cream","Grey","Blue","Cream","Bicolor","Blue","N/A","N/A",0,2,4,1.1494252873563218E-2,303,"Replace"]
["303639-2K2001","303639-2","K",null,null,null,2001,"Yes","ML",100,"x","Germany","DB","No","Freight","Silo","With ladder",2,"N/A","Yes",1958,2011,"IV a / IV b / V a","U-type","Ucs 909","Kds 56","44 80 908 5 004-9","2180 units, built between 1955-64","Hoechst","N/A","N/A","N/A","N/A","White","N/A","Black","N/A","N/A","Blue","N/A","N/A",0,0,2,1.1494252873563218E-2,105,"Yes"]
["303164K2001",303164,"K",null,null,null,2001,"Yes","ML",109,"x","Germany","DB","No","Freight","Flat","With 3 containers","2'2'","N/A","Yes",1972,"Operational","V b / VI","R-type","Rs 685","N/A","11 80 391 3 222-0","430 units, built between 1971-72 and numbered 11 80 391 3 000/429","IBC Bulk","N/A","N/A","N/A","N/A","Brown","N/A","Brown","N/A","N/A","Blue","N/A","N/A",0,2,4,1.1494252873563218E-2,230,"Replace"]
["149882K2001",149882,"K",null,null,null,2001,"Yes","ML",117,"x","France","SNCF","EMU","Passenger","Set","Express service","2'+2'+2'","Lima Collection","Yes",1983,"Operational","IV b / V a / V b","TGV Sud-Est","TGV","N/A","N/A","3-unit train comprised of EMU Intermediate R3, R4 and R5","N/A","TGV Sud-Est","TGV","N/A","Orange","Orange","Grey","Orange","Bicolor","Bicolor","Blue","N/A","N/A",0,4,6,1.1494252873563218E-2,606,"Yes"]
[{"$f":"+B14534&C14534&F14534&G14534","v":"149873LMKP2001"},149873,"LMKP",null,null,null,2001,"Yes","ML",124,"x","France","SNCF","EMU","Passenger","Set","Express service","Bo'Bo'+2'+2'+Bo'Bo'","Lima Collection","Yes",1998,"Operational","V b","TGV Pendulaire","TGV","N/A","N/A","4-unit train comprised of EMU Motor M1, Intermediate R1 and R8 and Driving trailer M2 ","P01","TGV Pendulaire","TGV","Casquette","TGV P01","Grey","Grey","Grey","Orange","Bicolor","Blue","Double cardan transmission","Single arm",2,7,14,1.1494252873563218E-2,1017,"Yes"]
["309452K2001",309452,"K",null,null,null,2001,"Yes","ML",138,"x","France","SNCF","No","Passenger","With central corridor","1° & 2° class","2'2'","N/A","Yes",1985,"Operational","V a","VTU","A5B5tu","Series 1984","50 87 30-97 010-2","100 units, built between 1984-85 and numbered 50 87 30-77 001/100","N/A","Corail","Corail","Casquette","Corail","White","Grey","White","Grey","Orange","Blue","N/A","N/A",0,2,4,1.1494252873563218E-2,303,"Yes"]
["309125LK2001",309125,"LK",null,null,null,2001,"Yes","ML",142,"x","France","SNCF","No","Passenger","With compartment","2° & Driving trailer","2'2'","N/A","Yes",1988,2005,"V b","VU","B6Dux","Series 1986","50 87 82-74 027-0","18 units, built in 1987 and numbered 82-74 011/029","Rhône-Alpes","TER","Corail","N/A","TER Regionale","Grey","Grey","Grey","N/A","Grey","Blue","N/A","N/A",0,2,4,1.1494252873563218E-2,303,"Replace"]
[{"$f":"+B14623&C14623&F14623&G14623","v":"189980LMKP2001"},189980,"LMKP","AC","","",2001,"Yes","ML",151,"x","Germany","DB","EMU","Passenger","Set","Express service","2'2'+2'2'","Lima Collection","Yes",1989,"Operational","V b / VI","ICE-T","T","BR-415","N/A","2-unit train comprised of EMU Motor T and Driving trailer T1 (AC version of #149980). For service between France-Switzerland","N/A","Intercity","ICE","DB-AG","ICE","White","White","White","Bicolor","Bicolor","Blue","Double cardan transmission","Single arm",2,4,8,1.1494252873563218E-2,630,"Replace"]
["208486LMP2001",208486,"LMP",null,null,null,2001,"Yes","ML",156,"x","Switzerland","SBB/CFF","No","Locomotive","Electric","Express service","Bo'Bo'","N/A","Yes",1951,1998,"IV a / IV b","Re 4/4 I","Re 4/4'","Re 410",10046,"50 units, built between 1946-51 and numbered 10001/050. Focus on express Passenger services. TEE livery only used by 4 units: #10033, 34, 46 & 50","N/A","N/A","N/A","TEE","SBB-Grün","Green","Grey","Green","N/A","Green","Blue","Double cardan transmission","Double arm",2,2,4,1.1494252873563218E-2,170,"Yes"]
["3092692001",309269,null,null,null,null,2001,"Yes","ML",164,"x","Switzerland","SBB/CFF","No","Passenger","With central corridor","2° class","2'2'","N/A","Yes",1958,"Operational","IV b / V a / V b / VI","EW-1 / VU-1","B","EW-1 / VU-1","50 85 20-33 432-9","1040 units, built between 1956-67 and numbered 50 85 20-33 100/419, 500/719, 730/739 & 20-34 000/459","N/A","N/A","N/A","SBB aktuelle","SBB-Grün","Green","Grey","Green","N/A","Yellow","Blue","N/A","N/A",0,2,4,1.1235955056179775E-2,265,"Yes"]
[{"$f":"+B14716&C14716&F14716&G14716","v":"288657LM2001"},288657,"LM","AC","","",2001,"Yes","ML",176,"x","Austria","OBB","No","Locomotive","Diesel","Regional service","B'B'","N/A","Yes",1976,2015,"V a / V b / VI","ÖBB 2043","Series 2043","N/A","2043 076-8","Similar to #208657 but AC only version","N/A","N/A","N/A","Pflatsch","Valousek","Red","Grey","Grey","Grey","Bicolor","Blue","Double cardan transmission","N/A",0,2,4,1.1235955056179775E-2,176,"Yes"]
["303166K2001",303166,"K",null,null,null,2001,"Yes","ML",184,"x","Belgium","S.N.C.B.","No","Freight","Flat","With stakes","2'2'","N/A","Yes",1967,1994,"III b / IV a","U-type","Uaik 721","SH 54","N/A","Built in the late 1960's","N/A","N/A","N/A","N/A","N/A","Black","N/A","Black","N/A","N/A","Blue","N/A","N/A",0,2,4,1.1494252873563218E-2,230,"Replace"]
["208688LM2001",208688,"LM",null,null,null,2001,"Yes","ML",200,"x","Spain","RENFE","No","Locomotive","Electric","Multipurpose","Co'Co'","N/A","Yes",1959,1993,"III b / IV a / IV b / V a","Series 276","Series 7600","CC-7100",7672,"136 units, built between 1952-65 based on a French CC-7100 locomotive design and numbered originally 7601/99 & 8601/37 (after 1971 276.001/099 & 101/137). Focus on express Passenger services","N/A","N/A","N/A","N/A","RENFE Verde","Green","Green","Green","N/A","Green","Blue","Double cardan transmission","Double arm",2,2,6,1.1494252873563218E-2,217,"Replace"]
["303145K2001",303145,"K",null,null,null,2001,"Yes","ML",205,"x","Norway","N.S.B.","No","Freight","Closed","N/A",2,"N/A","Yes",1958,2005,"V a / V b","F-type","Fb u","N/A","21 76 601 8 402-9","55 units, bought in 1990 to SJ and numbered 21 76 601 8 400/55. For wood chip transport","N/A","N/A","N/A","N/A","N/A","Brown","N/A","Brown","N/A","N/A","Blue","N/A","N/A",0,0,2,0.01,130,"Replace"]
[{"$f":"+B14826&C14826&F14826&G14826","v":"288574L2001"},288574,"L","AC","","",2001,"Yes","ML",213,"x","Denmark","D.S.B.","No","Railcar","Set","2° class","B'2'+2'B'","N/A","Yes",1984,"Operational","IV b / V a","MR","MR","BR-628","N/A","2-unit train comprised of Motor and Trailer (AC version of #208574)","N/A","MR","N/A","DSB ny font","Rød ","Red","Grey","Grey","N/A","Red","Blue","G-Motor","N/A",0,2,4,1.1494252873563218E-2,516,"Yes"]
["309126-32001","309126-3",null,null,null,null,2001,"Yes","ML",226,"x","Australia","SAU","No","Passenger","With central corridor","1° class","2'2'","N/A","Yes",1965,"Operational","IV a / IV b / V a","Budd","SSC","Stainless Steel Carriage","N/A","234 units, built between 1957-67 based on an American Budd coach design","The Overland","The Overland","N/A","N/A","N/A","Red","Red","Red","White","Red","Blue","N/A","N/A",0,2,4,1.0416666666666666E-2,270,"Replace"]
["203006L2001",203006,"L",null,null,null,2001,"Yes","ML",252,"x","France","SNCF","No","Locomotive","Steam","Shunter","0-4-0/4-4","N/A","No",1920,1957,"II / III a","PRR A5s","Class A5s","N/A","N/A","47 units, built between 1916-24. Focus on shunting operation. SNCF never owned PRR A5s locomotives, LIMA invention ","N/A","N/A","N/A","N/A","N/A","Black","Black","Black","N/A","Black","Blue","G-Motor","N/A",0,0,2,1.1494252873563218E-2,205,"Yes"]
["203005L2001",203005,"L",null,null,null,2001,"Yes","ML",252,"x","Italy","FS","No","Locomotive","Steam","Shunter","0-4-0T","N/A","No",1920,1957,"II / III a","PRR A5s","Class A5s","N/A","N/A","47 units, built between 1916-24. Focus on shunting operation. FS never owned PRR A5s locomotives, LIMA invention ","N/A","N/A","N/A","N/A","N/A","Black","Black","Black","N/A","Black","Blue","G-Motor","N/A",0,0,2,1.1494252873563218E-2,110,"Yes"]
["3031022001",303102,null,null,null,null,2001,"Yes","ML",260,"x","Switzerland","SBB/CFF","No","Freight","Closed","Postal",2,"N/A","Yes",1960,1986,"III b / IV a / IV b","G-type","Gs 216","Gms 137-6","N/A","Built since the late 1950's","N/A","N/A","N/A","Wappen","N/A","Green","Grey","Black","N/A","Grey","Blue","N/A","N/A",0,0,2,1.1494252873563218E-2,121,"Yes"]
["3031782001",303178,null,null,null,null,2001,"Yes","ML",268,"x","Germany","DB","No","Freight","Open","With tarpaulin",2,"N/A","Yes",1962,2000,"III b / IV a / IV b / V a / V b","E-type","El-u 061","Ommv 72","N/A","440 units, built in 1962","Volkswagen - Audi","N/A","N/A","N/A","N/A","Black","Black","Brown","N/A","N/A","Blue","N/A","N/A",0,0,2,1.1494252873563218E-2,121,"Yes"]
["2052592001",205259,null,null,null,null,2001,"Yes","ML",275,"x","UK","EWS","No","Locomotive","Diesel","Shunter","C","N/A","Yes",1960,2007,"V b","Class 08","Class 08","N/A",8720,"996 units, built between 1952-62 and numbered 08001/958. Focus on shunting operation","N/A","N/A","Gronk","EWS","EWS","Brown","Brown","Grey","Yellow","Brown","Blue","G-Motor","N/A",0,0,3,1.3157894736842105E-2,106,"Yes"]
["2049052001-02",204905,null,null,null,null,"2001-02","Yes","NEW",3,"x","UK","BR","No","Locomotive","Diesel","Freight","Bo'Bo'","Lima Collection","Yes",1957,1980,"III b","Class 20","Class 20/0","EE type 1","D8000","228 units, built between 1957-68 and numbered 20001/228. Focus on Freight services","N/A","N/A","Chopper","Lion crest","N/A","Green","Grey","Green","N/A","Green","Blue","Simple cardan transmission","N/A",0,2,4,1.3157894736842105E-2,186,"Yes"]
["2086992002",208699,null,null,null,null,2002,"Yes","NEW",6,"x","France","SNCF","No","Locomotive","Diesel","Shunter","C","N/A","Yes",1950,1985,"III a / III b / IV a / IV b","C-61000","C-61000","030 DA",61002,"48 units, built between 1950-53 and numbered 61000/48. Focus on shunting operation at ports","N/A","N/A","N/A","Macaron","Verte","Green","Green","Green","Yellow","Green","Blue","G-Motor","N/A",0,0,3,1.1494252873563218E-2,110,"Yes"]
["309154K2002",309154,"K",null,null,null,2002,"Yes","NEW",7,"x","Germany","DB","No","Passenger","With compartment","2° class",2,"N/A","Yes",1929,1964,"III b","Donnerbüchse","Ci-29","Ci-29",26991,"450 units, built between 1929-30. Refurbished to 2° Class in 1956","N/A","N/A","N/A","Keks","DB-Grün","Green","Grey","Green","N/A","Green","Blue","N/A","N/A",0,0,2,1.0752688172043012E-2,149,"Yes"]
["2000062003",200006,null,null,null,null,2003,"Yes","ML",82,"x","France","Etat","No","Locomotive","Steam","Shunter","0-8-0T","N/A","Yes",1921,1965,"II / III a / III b","040-TA","040 TA","Class 40000",112,"143 units, built between 1914-22 and numbered 1/143. Focus on shunting operation","N/A","N/A","N/A","N/A","N/A","Black","Black","Black","Green","Black","Blue","G-Motor","N/A",0,0,4,1.1494252873563218E-2,125,"Replace"]
["309119K2003",309119,"K",null,null,null,2003,"Yes","ML",83,"x","Italy","FS","No","Passenger","With central corridor","2° class","2'2'","N/A","No",1968,2005,"IV b / V a","CVPR","nB","Series 1965","50 83 22-39 484-4","153 units, built between 1965-68 and numbered originally 46.100-252 (afterwards22-38 000/152). Item erroneously numbered as 1973 series unit while being a 1965 one","N/A","N/A","N/A","Televisore","Navetta","White","Grey","White","Bicolor","Orange","Blue","N/A","N/A",0,2,4,0.01,265,"Yes"]
["149903LMKP2003",149903,"LMKP",null,null,null,2003,"Yes","ML",94,"x","France","SNCF","EMU","Passenger","Set","Express service","Bo'Bo'+2'+2'+Bo'Bo'","Lima Collection","Yes",1997,"Operational","V b","TGV Duplex","TGV","N/A",220,"4-unit train comprised of EMU Motor M1, Intermediate R1 and R8 and Driving trailer M2 ","N/A","TGV Duplex","TGV","Casquette","Grise-Bleue","Grey","Grey","Grey","Blue","Bicolor","Blue","Double cardan transmission","Single arm",2,7,14,1.1494252873563218E-2,1017,"Yes"]
["149986K2003",149986,"K",null,null,null,2003,"Yes","ML",110,"x","Germany","DR","No","Freight","Set","Military","2+2'2'+2","Lima Collection","Yes",1929,1967,"III a / III b","N/A","Militärzug","N/A","N/A","3-unit train comprised of Baggage car with \"hunch\" type panoramic dome, Flat with stakes and Flat","N/A","Militar","N/A","DR","N/A","Grey","Grey","Grey","N/A","Grey","Blue","N/A","N/A",0,2,8,"N/A",476,"Yes"]
["288552LM2003",288552,"LM","AC","","",2003,"Yes","ML",138,"x","Germany","DB","No","Locomotive","Diesel","Freight","Do'Do'","N/A","Yes",1942,1969,"III a","BR-288","V-188","D-311","V188 001","Similar to #208552 but AC only version","N/A","N/A","N/A","Deutsche Bundesbahn","DB-Grün","Green","Green","Black","N/A","Green","Blue","G-Motor","N/A",0,2,8,1.1494252873563218E-2,258,"Yes"]
["208354L2003",208354,"L",null,null,null,2003,"Yes","ML",165,"x","Italy","FS","EMU","Locomotive","Dummy","2° class","2'2'","N/A","Yes",1971,1997,"V a","ALe-601","Le-601","N/A","Le-601 055","Driving trailer of EMU ALe-601 with 2° Class","N/A","Alitalia Airport","N/A","Losanga","Alitalia","White","White","White","Green","Bicolor","Blue","N/A","N/A",0,2,4,1.1494252873563218E-2,314,"Yes"]
["3027502003",302750,null,null,null,null,2003,"Yes","ML",173,"x","France","SNCF","No","Passenger","Postal","Baggage","2'2'","N/A","Yes",1979,1995,"V a","OCEM RA","PEz","N/A","50 87 00-77 466-3","66 units, refurbished in the 1970's from Series 1924 mail vans and numbered 00-47 701/760. Erroneously numbered by LIMA","La Poste","N/A","N/A","Fusée postale","Jaune postale","Yellow","Grey","Yellow","White","Bicolor","Blue","N/A","N/A",0,2,4,1.1494252873563218E-2,212,"Yes"]
["309145KS2003",309145,"KS",null,null,null,2003,"Yes","ML",192,"x","Germany","DB","No","Passenger","With central corridor","1° & 2° class","2'2'","N/A","Yes",1962,1994,"IV a / IV b / V a","n-Wagen","ABn 703","AB4nb-59","50 80 31-53 100-9","808 units, built between 1960-67 and numbered 50 80 31-53 001/778, 801/804, 806/019 & 31-50 001/019. Focus on regional Passenger services","N/A","Silberling","Silberling","Keks","Silberling","Grey","Grey","Black","N/A","Grey","Blue","N/A","N/A",0,2,4,1.1494252873563218E-2,303,"Yes"]
["309352K2003",309352,"K",null,null,null,2003,"Yes","ML",199,"x","Germany","DB","No","Passenger","Couchette","2° class","2'2'","N/A","Yes",1957,1973,"III b","UIC-X","Bcm 241","Bc4ümg(K)-54",17677,"260 units, built between 1954-57. Kobaltblau livery used for Couchette coaches until the mid 1980's","N/A","N/A","N/A","Keks","DB-Kobaltblau","Blue","Grey","Blue","N/A","Blue","Blue","N/A","N/A",0,2,4,1.1494252873563218E-2,303,"Yes"]
["309079K2003",309079,"K",null,null,null,2003,"Yes","ML",232,"x","Denmark","D.S.B.","No","Freight","Flat","With 2 containers",2,"N/A","Yes",1969,1999,"V a / V b","L-type","Lgjs 573","Lss y 573","N/A","Built in the late 1960's","N/A","N/A","N/A","DSB ny font","N/A","Grey","Grey","Brown","N/A","N/A","Blue","N/A","N/A",0,0,2,1.1494252873563218E-2,170,"Replace"]
["302722K2003",302722,"K",null,null,null,2003,"Yes","ML",238,"x","Belgium","S.N.C.B.","No","Freight","Closed","With tarpaulin","2'2'","N/A","Yes",1976,"Operational","V b / VI","R-type","Rils 652","R.20","31 88 354 0 110-6","Built in the mid 1970's","B Cargo","N/A","N/A","Oval B","N/A","Blue","Blue","Brown","N/A","N/A","Blue","N/A","N/A",0,2,4,1.1494252873563218E-2,225,"Replace"]
["2083602004",208360,null,null,null,null,2004,"Yes","ML",66,"x","France","SNCF","No","Railcar","Diesel","2° & 3° class","B'2'","N/A","Yes",1953,1986,"III a / III b / IV a / IV b","Autorail","X-3800","U-300",3868,"Motor with 2°/3° Class","N/A","N/A","Picasso","N/A","Rouge-Crème","Red","Cream","Red","N/A","Bicolor","Blue","G-Motor","N/A",0,2,4,1.1494252873563218E-2,245,"Yes"]
["309729K2004",309729,"K",null,null,null,2004,"Yes","ML",68,"x","France","Etat","No","Passenger","With compartment","2° class",2,"N/A","Yes",1868,1925,"I / II","Ouest","B9x","Imperiale",20165,"Built in the late 1860's. Imperial type style with upper deck uncovered","N/A","N/A","N/A","N/A","N/A","Green","Black","Black","N/A","Green","Blue","N/A","N/A",0,0,2,1.1494252873563218E-2,93,"Yes"]
["208412LMP2004",208412,"LMP",null,null,null,2004,"Yes","ML",96,"x","Germany","DB","No","Locomotive","Electric","Prototype","Bo'Bo'","N/A","Yes",1992,"Operational","V a / V b","BR-152","BR-127","ES-64 P","127 001-6","1 unit, built in 1992 as prototype by Siemens and numbered originally ES-64 P (after 1993 127.001-6). Focus on mixed-traffic services (Passenger and Freight)","Euro Sprinter","N/A","N/A","Siemens","Euro Sprinter","Grey","Black","Black","Red","Grey","Blue","Double cardan transmission","Single arm",2,2,4,1.1494252873563218E-2,225,"Yes"]
["208573L2004",208573,"L",null,null,null,2004,"Yes","ML",103,"x","Denmark","D.S.B.","No","Railcar","Set","2° class","B'2'+2'B'","N/A","Yes",1978,"Operational","IV b / V a","MR","MR","BR-628",4007,"2-unit train comprised of Motor and Trailer","N/A","MR","N/A","DSB ny font","Rød ","Red","Grey","Grey","N/A","Red","Blue","G-Motor","N/A",0,2,4,1.1494252873563218E-2,516,"Yes"]
["309376K2004",309376,"K",null,null,null,2004,"Yes","ML",118,"x","Germany","DB","No","Freight","Baggage","Brake van",2,"N/A","Yes",1958,1990,"IV a / IV b","Donnerbüchse","Ibbis","N/A","03 80 809 5 012-4","Refurbished in the late 1950's from former DB baggage car. For crew use on Interfrigo services","Interfrigo","N/A","N/A","N/A","N/A","Blue","Grey","Blue","N/A","Blue","Blue","N/A","N/A",0,0,2,1.1494252873563218E-2,176,"Yes"]
["149780LK2004",149780,"LK",null,null,null,2004,"Yes","ML",122,"x","Germany","DB","No","Passenger","Set","Regional service","2'2'+2'2'","Lima Collection","Yes",1973,1987,"IV a / IV b","n-Wagen","Silberling Marfil-Azul","N/A","N/A","2-unit train comprised of Passenger Bnb 715 and BDnrzf 740","N/A","Silberling","Silberling","Keks","Ivory-Blue","Cream","Grey","Blue","Cream","Bicolor","Blue","N/A","N/A",0,4,8,1.1494252873563218E-2,610,"Yes"]
[{"$f":"+B15677&C15677&F15677&G15677","v":"302942K2004"},302942,"K",null,null,null,2004,"Yes","ML",136,"x","Germany","DB","No","Freight","Silo","With ladder",2,"N/A","Yes",1958,2011,"IV a / IV b / V a","U-type","Ucs 909","Kds 56","N/A","2180 units, built between 1955-64","Omya","N/A","N/A","N/A","N/A","White","N/A","Black","N/A","N/A","Blue","N/A","N/A",0,0,2,1.1494252873563218E-2,105,"Yes"]
["302722K2004",302722,"K",null,null,null,2004,"Yes","ML",144,"x","Belgium","S.N.C.B.","No","Freight","Closed","With tarpaulin","2'2'","N/A","Yes",1976,"Operational","V b / VI","R-type","Rils 652","R.20","31 88 354 0 110-6","Built in the mid 1970's","B Cargo","N/A","N/A","Oval B","N/A","Blue","Blue","Brown","N/A","N/A","Blue","N/A","N/A",0,2,4,1.1494252873563218E-2,225,"Replace"]
["208557LMP2004",208557,"LMP",null,null,null,2004,"Yes","ML",152,"x","Germany","BOGESTRA","No","Railcar","Electric","Tram","B'2'B'","N/A","Yes",1961,1996,"V a / V b","Düwag","GT6","N/A",50,"City tram of Bochum","Javaanse Jongens","N/A","N/A","BOGESTRA","N/A","Yellow","Grey","Yellow","Brown","Bicolor","Blue","Simple cardan transmission","Double arm",1,3,6,1.1494252873563218E-2,232,"Yes"]
["303524KHL60022006",303524,"K",null,null,"HL6002",2006,"Yes","ML",13,"x","Germany","DB","No","Freight","Flat","With 3 containers","2'2'","N/A","Yes",1972,"Operational","V b / VI","R-type","Rs 685","N/A","31 80 391 4 130-0","430 units, built between 1971-72 and numbered 11 80 391 3 000/429","DB Cargo","N/A","N/A","DB-AG","N/A","Red","N/A","Red","N/A","N/A","Blue","N/A","N/A",0,2,4,1.1494252873563218E-2,230,"Yes"]
["N/AHL60262008","N/A",null,null,null,"HL6026",2008,"Yes","ML",87,"x","Germany","DB","No","Freight","Set","Freight","2'2'+2'2'+2'2'","Lima Collection","Yes",1954,"Operational","III a / III b","T-type","Tad u 958","KKt 45","N/A","3-unit train comprised of Hopper with coal load #HL 6001 x 3","N/A","N/A","N/A","Keks","N/A","Brown","N/A","Brown","N/A","N/A","Blue","N/A","N/A",0,6,12,7.3529411764705881E-3,420,"Replace"]
["N/AHL60302008","N/A",null,null,null,"HL6030",2008,"Yes","ML",90,"x","Germany","DR","No","Freight","Silo","With ladder",2,"N/A","Yes",1958,2011,"III a / III b / IV a","U-type","Ucs 909","Kds 56","N/A","2180 units, built between 1955-64","N/A","N/A","N/A","N/A","N/A","Grey","N/A","Black","N/A","N/A","Blue","N/A","N/A",0,0,2,1.1494252873563218E-2,105,"Replace"]
["N/AHL60312008","N/A",null,null,null,"HL6031",2008,"Yes","ML",90,"x","Germany","DR","No","Freight","Closed","N/A",2,"N/A","Yes",1937,1994,"IV a / IV b / V a","G-type","Gs 216","Glrhs 12","21 50 100 2 166-9","Built since the late 1950's","N/A","N/A","N/A","N/A","N/A","Brown","Grey","Black","N/A","Brown","Blue","N/A","N/A",0,0,2,1.1494252873563218E-2,121,"Replace"]
["N/AHL60492008","N/A",null,null,null,"HL6049",2008,"Yes","ML",91,"x","Germany","DR","No","Freight","Set","Freight","2+2+2","Lima Collection","Yes",1937,1994,"IV a / IV b / V a","G-type","Stückgut Transport","Gms 137-6","N/A","3-unit train comprised of Closed #HL 6031 x 3","N/A","N/A","N/A","N/A","N/A","Brown","Grey","Black","N/A","Brown","Blue","N/A","N/A",0,0,6,1.1494252873563218E-2,370,"Replace"]
["303524KHL60022008",303524,"K",null,null,"HL6002",2008,"Yes","ML",91,"x","Germany","DB","No","Freight","Flat","With 3 containers","2'2'","N/A","Yes",1972,"Operational","V b / VI","R-type","Rs 685","N/A","31 80 391 4 130-0","430 units, built between 1971-72 and numbered 11 80 391 3 000/429","DB Cargo","N/A","N/A","DB-AG","N/A","Red","N/A","Red","N/A","N/A","Blue","N/A","N/A",0,2,4,1.1494252873563218E-2,230,"Yes"]
[{"$f":"+B15809&C15809&F15809&G15809","v":"303275KHL60102008"},303275,"K",null,null,"HL6010",2008,"Yes","ML",91,"x","Germany","DB","No","Freight","Flat","With stakes","2'2'","N/A","Yes",1982,"Operational","V b / VI","S-type","Snps 719","N/A","31 80 472 4 846-9","1960 units, built between 1980-82 and numbered 31 80 472 3 000/4 959. Focus on wooden logs and pipe transport","DB Cargo","N/A","N/A","N/A","N/A","Red","N/A","Red","N/A","N/A","Blue","N/A","N/A",0,2,4,1.1494252873563218E-2,230,"Yes"]
["303567KHL60042008",303567,"K",null,null,"HL6004",2008,"Yes","ML",91,"x","Germany","DB","No","Freight","Hopper","With opening roof","2'2'","N/A","Yes",1974,"Operational","V b / VI","T-type","Tadgs 959","N/A","31 80 584 4 699-4","1386 units, built between 1973-85","DB Cargo","N/A","N/A","DB-AG","N/A","Red","Red","Red","N/A","N/A","Blue","N/A","N/A",0,2,4,1.1494252873563218E-2,247,"Yes"]
["302900HL60252008",302900,null,null,null,"HL6025",2008,"Yes","ML",91,"x","France","SNCF","No","Freight","Tank","With ladder",2,"N/A","No",1957,2005,"III b / IV a / IV b / V a / V b","Z-type","Zcs 23","Uh","N/A","Never existed in any official roster. For track cleaning","VB","N/A","N/A","N/A","N/A","Red","Red","Black","White","N/A","Blue","N/A","N/A",0,0,2,"N/A",102,"Yes"]
["208259LHL20292008",208259,"L",null,null,"HL2029",2008,"Yes","ML",92,"x","Germany","DB","No","Locomotive","Diesel","Regional service","B'B'","N/A","Yes",1974,2010,"V b / VI","BR-218","BR-218","V-164","N/A","128 units, built between 1973-74 and numbered 218.171/298. Focus on mixed-traffic services (Passenger and Freight) on non-electrified lines","N/A","N/A","N/A","DB-AG","Verkehrsrot","Red","Grey","Black","N/A","Red","Blue","G-Motor","N/A",0,2,4,1.1235955056179775E-2,184,"Yes"]
["208163LHL20302008",208163,"L",null,null,"HL2030",2008,"Yes","ML",92,"x","Germany","DB","No","Locomotive","Electric","Express service","Bo'Bo'","N/A","Yes",1963,2002,"III b","BR-112","BR-112","E-10.12","E10 1269","6 units, built in 1963 and numbered E10.1265/1270. Focus on express Passenger services mainly Rheingold","N/A","N/A","N/A","Keks","Ivory-Blue","Cream","Cream","Blue","N/A","Bicolor","Blue","Double cardan transmission","Double arm",2,2,4,1.1494252873563218E-2,195,"Yes"]
["N/AHL60362008","N/A",null,null,null,"HL6036",2008,"Yes","ML",92,"x","Germany","DB","No","Freight","Flat","With 4 round containers",2,"N/A","Yes",1962,1988,"IV a / IV b / V a","L-type","Lbs 584","BTms 55","N/A","Built since the early 1960's","N/A","N/A","N/A","N/A","N/A","Grey","N/A","Brown","N/A","N/A","Blue","N/A","N/A",0,0,2,1.2500000000000001E-2,170,"Replace"]
["302846KHL60372008",302846,"K",null,null,"HL6037",2008,"Yes","ML",92,"x","Germany","DB","No","Freight","Flat","With 2 containers",2,"N/A","Yes",1969,1999,"IV a / IV b / V a / V b","L-type","Lgjs 573","Lss y 573","N/A","Built in the late 1960's","CTI - Hapag Lloyd","N/A","N/A","N/A","N/A","Yellow","Red","Brown","N/A","N/A","Blue","N/A","N/A",0,0,2,1.1494252873563218E-2,170,"Yes"]
["N/AHL60382008","N/A",null,null,null,"HL6038",2008,"Yes","ML",92,"x","Germany","DB","No","Freight","Reefer","N/A",2,"N/A","Yes",1979,"Operational","V a / V b / VI","I-type","Ibblps v","N/A","N/A","Built in the late 1970's","Stroner Sprudel","N/A","N/A","N/A","N/A","White","Grey","Black","Red","Bicolor","Blue","N/A","N/A",0,0,2,1.1494252873563218E-2,158,"Replace"]
["N/AHL10092008","N/A",null,null,null,"HL1009",2008,"Yes","ML",93,"x","Germany","DB","EMU","Passenger","Set","Express service","2'2'+(1A)(A1)+2'2'","Starter","Yes",1989,"Operational","V b / VI","ICE-T","T","BR-415","N/A","3-unit set comprised of EMU Motor T, Intermediate FM, Driving trailer T1, track and electric power pack","N/A","Intercity","ICE","DB-AG","ICE","White","White","White","Bicolor","Bicolor","Blue","Double cardan transmission","Single arm",2,6,12,1.1494252873563218E-2,945,"Yes"]
["208484LHL20172008",208484,"L",null,null,"HL2017",2008,"Yes","ML",93,"x","Australia","NSW","No","Locomotive","Steam","Express service","4-6-2/4-4","N/A","Yes",1943,1967,"II / III a","NSW C38","Class 38","Streamlined",3802,"5 units, built between 1943-45 and numbered 3801/05. Focus on express Passenger services","N/A","N/A","N/A","N/A","N/A","Black","Black","Black","Red","Black","Blue","G-Motor","N/A",0,0,6,1.1494252873563218E-2,270,"Yes"]
["208650LHL20162008",208650,"L",null,null,"HL2016",2008,"Yes","ML",93,"x","Australia","SRA","No","Locomotive","Diesel","Multipurpose","Co'Co'","N/A","Yes",1969,2010,"IV b / V a / V b","NSW C422","Class 422","N/A",42204,"20 units, built between 1969-70 and numbered 42201/20. Focus on mixed-traffic services (regional Passenger and Freight)","N/A","N/A","N/A","SRA","Candy","Red","Grey","Black","Yellow","Red","Blue","G-Motor","N/A",0,2,6,1.1494252873563218E-2,200,"Replace"]
["208123LGHL20312008",208123,"LG",null,null,"HL2031",2008,"Yes","ML",94,"x","Australia","ANR","No","Locomotive","Diesel","Multipurpose","Bo'Bo'","N/A","Yes",1965,1995,"IV b","Class GM","Class GM","EMD F7",32,"47 units, built between 1951-67 based on an American EMD F7 locomotive design and numbered GM1/47. Focus on mixed-traffic services (regional Passenger and Freight)","Australian National Railways","N/A","N/A","ANR","N/A","Red","Red","Red","White","Red","Blue","G-Motor","N/A",0,2,6,1.1494252873563218E-2,205,"Yes"]
["309173-1HL40102008","309173-1",null,null,null,"HL4010",2008,"Yes","ML",94,"x","Australia","NSW","No","Passenger","With compartment","2° class","3'3'","N/A","Yes",1908,1984,"I / II / III a / III b","E carriage","SE","N/A","N/A","19 units, built between 1908-28 and numbered originally SE 1/19. 2 or 3 axle per bogie versions available","N/A","N/A","N/A","N/A","N/A","Brown","Grey","Black","Cream","Red","Blue","N/A","N/A",0,2,6,1.1764705882352941E-2,260,"Replace"]
["309171-1HL40112008","309171-1",null,null,null,"HL4011",2008,"Yes","ML",94,"x","Australia","NSW","No","Passenger","With compartment","1° class","3'3'","N/A","Yes",1906,1990,"I / II / III a / III b","E carriage","AE","N/A","N/A","42 units, built between 1906-10 and numbered originally AE 1/42. 2 or 3 axle per bogie versions available","N/A","N/A","N/A","N/A","N/A","Brown","Grey","Black","Cream","Red","Blue","N/A","N/A",0,2,6,1.1764705882352941E-2,260,"Replace"]
["N/AHL40122008","N/A","",null,null,"HL4012",2008,"Yes","ML",94,"x","Australia","NSW","No","Passenger","With compartment","Sleeper","3'3'","N/A","Yes",1908,1984,"I / II / III a / III b","E carriage","SE","N/A","N/A","19 units, built between 1908-28 and numbered originally SE 1/19. 2 or 3 axle per bogie versions available","N/A","N/A","N/A","N/A","N/A","Brown","Grey","Black","Cream","Red","Blue","N/A","N/A",0,2,6,1.1764705882352941E-2,260,"Yes"]
["N/AHL40222008","N/A",null,null,null,"HL4022",2008,"Yes","ML",94,"x","Australia","NSW","No","Passenger","With central corridor","2° class","2'2'","N/A","Yes",1961,1993,"III b / IV a / IV b / V a","Budd","SSC","Stainless Steel Carriage","N/A","234 units, built between 1957-67 based on an American Budd coach design","N/A","Indian Pacific Express","N/A","N/A","N/A","Grey","Grey","Grey","N/A","Grey","Blue","N/A","N/A",0,2,4,0.01,260,"Yes"]
["N/AHL40232008","N/A",null,null,null,"HL4023",2008,"Yes","ML",95,"x","Australia","NSW","No","Passenger","With central corridor","Restaurant","2'2'","N/A","Yes",1961,1993,"III b / IV a / IV b / V a","Budd","SSC","Stainless Steel Carriage","N/A","234 units, built between 1957-67 based on an American Budd coach design","N/A","Indian Pacific Express","N/A","N/A","N/A","Grey","Grey","Grey","N/A","Grey","Blue","N/A","N/A",0,2,4,0.01,260,"Yes"]
["N/AHL40242008","N/A",null,null,null,"HL4024",2008,"Yes","ML",95,"x","Australia","NSW","No","Passenger","Power unit","Baggage","2'2'","N/A","Yes",1961,1993,"III b / IV a / IV b / V a","Budd","SSC","Stainless Steel Carriage","N/A","234 units, built between 1957-67 based on an American Budd coach design","N/A","Indian Pacific Express","N/A","N/A","N/A","Grey","Grey","Grey","Orange","Grey","Blue","N/A","N/A",0,2,4,0.01,260,"Yes"]
["N/AHL40252008","N/A",null,null,null,"HL4025",2008,"Yes","ML",95,"x","Australia","NSW","No","Passenger","With compartment","Sleeper","2'2'","N/A","Yes",1961,1993,"III b / IV a / IV b / V a","Budd","SSC","Stainless Steel Carriage","N/A","234 units, built between 1957-67 based on an American Budd coach design","N/A","The Overland","N/A","N/A","N/A","Red","Red","Red","White","Red","Blue","N/A","N/A",0,2,4,0.01,260,"Yes"]
["303522HL60222008",303522,null,null,null,"HL6022",2008,"Yes","ML",95,"x","Australia","NSW","No","Freight","Open","With tarpaulin",2,"N/A","No",1910,1965,"I / II / III a / III b","E-type","7 Plank Open","12 Ton","N/A","Built between 1904-25 for GWR and operational until the late 1960's","N/A","N/A","N/A","N/A","N/A","Yellow","Grey","Brown","N/A","N/A","Blue","N/A","N/A",0,0,2,1.1494252873563218E-2,72,"Replace"]
["N/AHL60232008","N/A",null,null,null,"HL6023",2008,"Yes","ML",95,"x","Australia","VR","No","Freight","Open","Empty","2'2'","N/A","Yes",1964,2005,"III b / IV a / IV b / V a","E-type","ELX","Góndola",529,"624 units, built between 1961-1980 and numbered 1/454 & 1001/104","VR","N/A","N/A","N/A","N/A","Green","N/A","Green","Yellow","N/A","Blue","N/A","N/A",0,2,4,1.1494252873563218E-2,163,"Yes"]
["N/AHL20262008","N/A",null,null,null,"HL2026",2008,"Yes","ML",96,"x","South Africa","SAR","No","Passenger","Set","Express service","Bo'Bo'+2'2'+2'2'+2'2'","Lima Collection","Yes",1968,1995,"IV a / IV b / V a","Trans Karoo","Trans Karoo","N/A","N/A","4-unit train comprised of Electric locomotive, Passenger 2° Class, dining car and Baggage car","N/A","Trans Karoo","N/A","SAR Oval","N/A","Brown","Grey","Brown","Grey","Brown","Blue","G-Motor","Double arm",2,8,18,1.1494252873563218E-2,1010,"Replace"]
["N/AHL40182008","N/A",null,null,null,"HL4018",2008,"Yes","ML",96,"x","South Africa","SAR","No","Passenger","With central corridor","2° class","2'2'","N/A","Yes",1968,1995,"IV a / IV b / V a","Sabie","N/A","N/A","N/A","For Trans-Karoo and Trans-Natal services","N/A","Trans Karoo","N/A","N/A","N/A","Brown","Grey","Brown","Grey","Brown","Blue","N/A","N/A",0,2,4,1.1494252873563218E-2,265,"Yes"]
["106502THL10132008",106502,"T",null,null,"HL1013",2008,"Yes","ML",97,"x","Italy","FS","EMU","Passenger","Set","Express service","(1A)(A1)+2'2'+2'2'+(1A)(A1)","Starter","Yes",1997,"Operational","V b / VI","ETR-480","ETR-480","N/A","N/A","4-unit set comprised of EMU Motor Bac1, Intermediate Bb1, Bb2, Driving trailer Bac2, track and electric power pack","N/A","ETR-480","Eurostar Italia","XMPR 1","Frecciabianca","White","White","White","Red","Bicolor","Blue","Double cardan transmission","Single arm",2,8,16,1.1494252873563218E-2,1230,"Yes"]
["N/AHL10082008","N/A",null,null,null,"HL1008",2008,"Yes","ML",97,"x","Switzerland","SBB/CFF","EMU","Passenger","Set","Express service","(1A)(A1)+2'2'+2'2'+(1A)(A1)","Starter","Yes",1994,"Operational","V b","ETR-470","ETR-470","N/A","N/A","4-unit set comprised of EMU Motor, Intermediate x 2, Driving trailer, track and electric power pack","N/A","ETR-470","Cisalpino","Cisalpino","Cisalpino","White","White","Blue","Blue","Bicolor","Blue","G-Motor","Single arm",2,8,16,0.01,1050,"Yes"]
["N/AHL10072008","N/A",null,null,null,"HL1007",2008,"Yes","ML",98,"x","Italy","FS","No","Freight","Set","Freight","B'B'+2+2+2","Starter","No",1975,2005,"IV b / V a / V b","D-445","Diesel merci","N/A","N/A","4-unit set comprised of Loco #HL 2010, Reefer #HL 6017, Tank #HL 6015, Flat #HL 6041, track and electric power pack","N/A","N/A","N/A","Televisore","Verde - Isabella","White","Grey","Black","Yellow","White","Blue","G-Motor","N/A",0,2,10,1.1494252873563218E-2,527,"Yes"]
["N/AHL10182008","N/A",null,null,null,"HL1018",2008,"Yes","ML",98,"x","Italy","FS","No","Passenger","Set","Regional service","Bo'Bo'+2'2'+2'2'","Starter","Yes",1986,2002,"V b","Doppio Piano 79","Diesel passeggeri","VB2N","N/A","3-unit set comprised of Electric locomotive #HL 2013, Passenger #HL 4006, #HL 4007, track and electric power pack","N/A","N/A","N/A","XMPR 1","XMPR","White","Grey","Green","Green","Blue","Blue","G-Motor","Double arm",2,6,12,1.1494252873563218E-2,736,"Yes"]
["208151LHL20102008",208151,"L",null,null,"HL2010",2008,"Yes","ML",99,"x","Italy","FS","No","Locomotive","Diesel","Regional service","B'B'","N/A","Yes",1975,"Operational","IV b / V a / V b","D-445","D-445.1","N/A","D445 1017","35 units, built between 1974-75 and numbered 1001-35. Focus on regional Passenger services. With 3 headlights","N/A","N/A","N/A","Televisore","Verde - Isabella","Green","Brown","Brown","N/A","Green","Blue","G-Motor","N/A",0,2,4,1.1494252873563218E-2,162,"Yes"]
["208034LHL20112008",208034,"L",null,null,"HL2011",2008,"Yes","ML",99,"x","Italy","FS","No","Locomotive","Electric","Express service","Bo'Bo'","N/A","Yes",1967,1986,"IV a / IV b","E-444","E-444P","N/A","E444 001","4 units, built in 1967 as prototype and numbered E.444.001/4. For express Passenger services. With squared front. Refurbished in the mid 1980's to Series E-444R","N/A","N/A","Tartaruga","E-444 1° series","Grigio perla-Blu orientale","White","White","Blue","Blue","Bicolor","Blue","G-Motor","Double arm",2,2,4,1.1494252873563218E-2,194,"Yes"]
["200008HL20122008",200008,null,null,null,"HL2012",2008,"Yes","ML",99,"x","Italy","FS","No","Locomotive","Diesel","Shunter","B","N/A","No",1950,1985,"III b / IV a / IV b / V a","Plymouth","MDT","N/A","N/A","Built in the early 1950's. Focus on light industrial use. FS never owned MDT locomotives, LIMA invention","N/A","N/A","N/A","N/A","N/A","Red","Red","Black","Yellow","Red","Blue","G-Motor","N/A",0,0,2,1.1494252873563218E-2,119,"Yes"]
["208004LHL20132008",208004,"L",null,null,"HL2013",2008,"Yes","ML",99,"x","Italy","FS","No","Locomotive","Electric","Multipurpose","Bo'Bo'","N/A","Yes",1986,2007,"V b / VI","E-424","E-424-200","N/A","E424 216","105 units, refurbished in 1987 from former E-424 locomotives and renumbered E.424.200/104. Focus on \"Push-Pull\" Passenger services","N/A","N/A","N/A","XMPR 1","XMPR","White","Green","Blue","Green","White","Blue","G-Motor","Double arm",2,2,4,1.1494252873563218E-2,178,"Yes"]
["309655HL40082008",309655,null,null,null,"HL4008",2008,"Yes","ML",99,"x","Italy","FS","No","Passenger","With compartment","1° class","2'2'","N/A","Yes",1978,2004,"V b","UIC-Z1","A","Eurofima VSE","61 83 19-90 002-2","30 units, bought between 1977-79 and numbered 19-90 000/029","N/A","N/A","N/A","XMPR 1","XMPR","White","Grey","Green","Green","Bicolor","Blue","N/A","N/A",0,2,4,"1/100",265,"Yes"]
["309656HL40092008",309656,null,null,null,"HL4009",2008,"Yes","ML",99,"x","Italy","FS","No","Passenger","With compartment","2° class","2'2'","N/A","Yes",1979,"Operational","V b / VI","UIC-Z1","B","Eurofima VSE","61 83 21-90 061-4","70 units, bought between 1977-79 and numbered 21-90 000/069","N/A","N/A","N/A","XMPR 1","XMPR","White","Grey","Green","Green","Bicolor","Blue","N/A","N/A",0,2,4,"1/100",265,"Yes"]
["309501HL40062008",309501,null,null,null,"HL4006",2008,"Yes","ML",100,"x","Italy","FS","No","Passenger","Double decker","2° & Driving trailer","2'2'","N/A","Yes",1981,2002,"V b","Doppio Piano 79","npB","VB2N","50 83 26-39 819-7","30 units, built between 1980-81 based on a French VB2N coach design and numbered 26-39 800/829","N/A","N/A","Casaralta","XMPR 2","XMPR","White","Grey","Green","Green","Blue","Blue","N/A","N/A",0,2,4,1.0638297872340425E-2,265,"Yes"]
["309500HL40072008",309500,null,null,null,"HL4007",2008,"Yes","ML",100,"x","Italy","FS","No","Passenger","Double decker","2° class","2'2'","N/A","Yes",1980,2001,"V b","Doppio Piano 79","nB","VB2N","50 83 26-39 008-7","120 units, built between 1980-81 based on a French VB2N coach design and numbered 26-39 000/119","N/A","N/A","Casaralta","XMPR 2","XMPR","White","Grey","Green","Green","Blue","Blue","N/A","N/A",0,2,4,1.0869565217391304E-2,265,"Yes"]
["149999KHL40202008",149999,"K",null,null,"HL4020",2008,"Yes","ML",100,"x","Italy","FS","EMU","Passenger","Set","Express service","2'2'+2'2'","Lima Collection","Yes",1997,"Operational","V b / VI","ETR-480","ETR-480","N/A","N/A","2-unit train comprised of EMU Intermediate Bb1 and Bb2","N/A","ETR-480","Eurostar Italia","XMPR 1","Frecciabianca","White","White","White","Red","Bicolor","Blue","N/A","N/A",0,4,8,1.1494252873563218E-2,595,"Yes"]
["149939-1KHL40212008","149939-1","K",null,null,"HL4021",2008,"Yes","ML",100,"x","Switzerland","SBB/CFF","EMU","Passenger","Set","Express service","2'2'+2'2'","Lima Collection","Yes",1994,"Operational","V b","ETR-470","ETR-470","N/A","N/A","2-unit train comprised of EMU Intermediate Ra2 and Rb","N/A","ETR-470","Cisalpino","Cisalpino","Cisalpino","White","White","Blue","Blue","Bicolor","Blue","N/A","Single arm",3,6,12,0.01,595,"Replace"]
["303161HL60142008",303161,null,null,null,"HL6014",2008,"Yes","ML",101,"x","Italy","FS","No","Freight","Closed","N/A",2,"N/A","Yes",1959,2000,"III b / IV a","G-type","Gs 216","Gms 137-6","F 1160106","Built since the late 1950's","N/A","N/A","N/A","N/A","N/A","Brown","Grey","Black","N/A","Brown","Blue","N/A","N/A",0,0,2,1.1494252873563218E-2,121,"Yes"]
["N/AHL60152008","N/A",null,null,null,"HL6015",2008,"Yes","ML",101,"x","Italy","FS","No","Freight","Tank","With ladder",2,"N/A","Yes",1957,2005,"III b / IV a / IV b / V a / V b","Z-type","Zcs 23","Uh","N/A","Built since the late 1950's","N/A","N/A","N/A","N/A","N/A","White","White","Black","Yellow","N/A","Blue","N/A","N/A",0,0,2,"N/A",116,"Yes"]
["303171HL60162008",303171,null,null,null,"HL6016",2008,"Yes","ML",101,"x","Italy","FS","No","Freight","Open","Empty",2,"N/A","Yes",1956,2005,"IV a / IV b / V a / V b","E-type","Es 025","Tipo 2","21 83 446 0 100-3","Built in the mid 1950's","N/A","N/A","N/A","N/A","N/A","Brown","N/A","Black","N/A","N/A","Blue","N/A","N/A",0,0,2,1.2048192771084338E-2,121,"Yes"]
["303103HL60172008",303103,null,null,null,"HL6017",2008,"Yes","ML",101,"x","France","SNCF","No","Freight","Reefer","With ladder",2,"N/A","Yes",1960,1995,"III b / IV a / IV b / V a","I-type","Ibps-v","Ichqrs 377","03 87 823 5 049-0","Built in the late 1950's. With smooth panel","Interfrigo","N/A","N/A","N/A","N/A","White","Grey","Black","N/A","White","Blue","N/A","N/A",0,0,2,1.1494252873563218E-2,130,"Yes"]
["302814HL60182008",302814,null,null,null,"HL6018",2008,"Yes","ML",101,"x","Italy","FS","No","Freight","Flat","Empty",2,"N/A","Yes",1925,1970,"III a / III b / IV a","K-type","O 10","P con garitta","N/A","Built in the mid 1920's","N/A","N/A","N/A","Televisore","N/A","Brown","N/A","Brown","N/A","N/A","Blue","N/A","N/A",0,0,2,1.1494252873563218E-2,116,"Yes"]
["N/AHL60392008","N/A",null,null,null,"HL6039",2008,"Yes","ML",101,"x","Italy","FS","No","Freight","Reefer","With ladder",2,"N/A","Yes",1960,1995,"V a","I-type","Ibps-v","Ichqrs 377","N/A","Built in the late 1950's. With smooth panel","N/A","N/A","N/A","N/A","N/A","White","Grey","Black","N/A","White","Blue","N/A","N/A",0,0,2,1.1494252873563218E-2,130,"Replace"]
["N/AHL60402008","N/A",null,null,null,"HL6040",2008,"Yes","ML",102,"x","Italy","FS","No","Freight","Reefer","With ladder",2,"N/A","Yes",1960,1995,"IV b / V a","I-type","Ibps-v","Ichqrs 377","N/A","Built in the late 1950's. With smooth panel","N/A","N/A","N/A","Losanga","N/A","White","Grey","Black","N/A","White","Blue","N/A","N/A",0,0,2,1.1494252873563218E-2,130,"Yes"]
["302811HL60412008",302811,null,null,null,"HL6041",2008,"Yes","ML",102,"x","Italy","FS","No","Freight","Flat","With pipes",2,"N/A","Yes",1925,1970,"III a / III b / IV a","K-type","O 10","P con garitta","P660513","Built in the mid 1920's","Dalmine","N/A","N/A","Televisore","N/A","White","N/A","Brown","N/A","N/A","Blue","N/A","N/A",0,0,2,1.1494252873563218E-2,116,"Yes"]
["303161HL60422008",303161,null,null,null,"HL6042",2008,"Yes","ML",102,"x","Italy","FS","No","Freight","Closed","N/A",2,"N/A","Yes",1959,2000,"III b / IV a","G-type","Gs 216","Gms 137-6","F 1160106","Built since the late 1950's","N/A","N/A","N/A","N/A","N/A","Brown","Grey","Black","N/A","Brown","Blue","N/A","N/A",0,0,2,1.1494252873563218E-2,121,"Yes"]
["302916HL60432008",302916,null,null,null,"HL6043",2008,"Yes","ML",102,"x","Italy","FS","No","Freight","Tank","With ladder","2'2'","N/A","Yes",1958,2004,"III b / IV a / IV b / V a / V b","Z-type","Zacs 33","Uah","N/A","Built since the late 1950's","Agip","N/A","N/A","N/A","N/A","White","White","Black","Yellow","N/A","Blue","N/A","N/A",0,2,4,"N/A",190,"Yes"]
["303596HL60442008",303596,null,null,null,"HL6044",2008,"Yes","ML",102,"x","France","SNCF","No","Freight","Closed","With sliding door","2'2'","N/A","Yes",1975,"Operational","IV b / V a / V b / VI","H-type","Habis 339","H 81.6","N/A","Built in the mid 1970's","Fret","N/A","N/A","Fret","N/A","Grey","Grey","Grey","Green","Grey","Blue","N/A","N/A",0,2,4,1.098901098901099E-2,242,"Yes"]
["N/AHL60452008","N/A",null,null,null,"HL6045",2008,"Yes","ML",102,"x","Germany","DB","No","Freight","Special","Pig iron torpedo","5'5'","N/A","Yes",1970,"Operational","III b / IV a / IV b / V a / V b / VI","U-type","Uaai 812","N/A","82 80 995 0 930-3","1 unit, built in 1970 and numbered originally 20 80 999 0 209-9. With \"torpedo\" type design","N/A","N/A","N/A","N/A","N/A","Yellow","Yellow","Brown","N/A","N/A","Blue","N/A","N/A",0,2,10,1.1494252873563218E-2,220,"Replace"]
["309063HL60462008",309063,null,null,null,"HL6046",2008,"Yes","ML",103,"x","Germany","DB","No","Freight","Car transporter","With 6 cars",3,"N/A","Yes",1961,"Operational","III b / IV a / IV b / V a / V b","L-type","Laeqrss 545","Offehss 68","N/A","Built since the early 1960's. Two wagons joined together","Goth","N/A","N/A","N/A","N/A","Grey","Grey","Grey","N/A","N/A","Blue","N/A","N/A",0,0,3,1.1494252873563218E-2,282,"Yes"]
["303121HL60472008",303121,null,null,null,"HL6047",2008,"Yes","ML",103,"x","Switzerland","SBB/CFF","No","Freight","Reefer","With ladder","2'2'","Hobby Line","Yes",1968,2003,"IV a / IV b / V a / V b","I-type","Iaes","N/A","N/A","100 units, built in the late 1940's","Interfrigo","N/A","N/A","N/A","N/A","Light Blue","Light Blue","Black","White","Light Blue","Blue","N/A","N/A",0,2,4,1.1494252873563218E-2,242,"Yes"]
["N/AHL10092008","N/A",null,null,null,"HL1009",2008,"Yes","ML",21,"x","Germany","DB","EMU","Passenger","Set","Express service","2'2'+(1A)(A1)+2'2'","Starter","Yes",1989,"Operational","V b / VI","ICE-T","T","BR-415","N/A","3-unit set comprised of EMU Motor T, Intermediate FM, Driving trailer T1, track and electric power pack","N/A","Intercity","ICE","DB-AG","ICE","White","White","White","Bicolor","Bicolor","Blue","Double cardan transmission","Single arm",2,6,12,1.1494252873563218E-2,945,"Yes"]
["N/AHL10242009","N/A",null,null,null,"HL1024",2009,"Yes","ML",21,"x","Italy","FS","EMU","Passenger","Set","Express service","(1A)(A1)+2'2'+2'2'+(1A)(A1)","Starter","Yes",1988,2013,"V a","ETR-450","ETR-450","N/A","N/A","3-unit set comprised of EMU Motor, Intermediate, Driving trailer, track and electric power pack","N/A","ETR-450","Pendolino","Losanga","Frecciabianca","White","White","White","Red","Bicolor","Blue","G-Motor","Double arm",2,6,12,0.01,754,"Yes"]
["N/AHL10252009","N/A",null,null,null,"HL1025",2009,"Yes","ML",22,"x","Italy","FS","No","Freight","Set","Freight","Bo'Bo'Bo'+2'2'+4+2+2","Starter","Yes",1986,"Operational","V a","E-656","Treno container","N/A","N/A","4-unit set comprised of Electric locomotive E-656, Flat with 2 containers #HL 6037, crane, track and electric power track","N/A","N/A","N/A","Televisore","N/A","Blue","White","Black","Grey","Grey","Blue","Double cardan transmission","Double arm",2,4,16,1.1494252873563218E-2,640,"Replace"]
["N/AHL10262009","N/A",null,null,null,"HL1026",2009,"Yes","ML",22,"x","Germany","DB","No","Freight","Set","Freight","B'B'+2+2","Starter","Yes",1974,1999,"V b","BR-218","Treno container","N/A","N/A","3-unit set comprised of Diesel locomotive #HL 2029, Flat with 2 containers #HL 6037 x 2, gantry crane, track and electric power pack","N/A","N/A","N/A","DB-AG","N/A","Red","Grey","Black","Orange","Red","Blue","G-Motor","N/A",0,2,8,1.1494252873563218E-2,524,"Replace"]
["106515THL10272009",106515,"T",null,null,"HL1027",2009,"Yes","ML",23,"x","France","SNCF","EMU","Passenger","Set","Express service","Bo'Bo'+2'+2'+Bo'Bo'","Starter","Yes",1989,"Operational","V a / V b","TGV Atlantique","TGV","N/A","N/A","4-unit set comprised of EMU Motor M1, Intermediate R1, R8, Driving trailer M2, track and electric power pack","N/A","TGV Atlantique","TGV","Casquette","Grise-Bleue","Grey","Grey","Grey","Blue","Bicolor","Blue","G-Motor","Single arm",2,7,14,1.1494252873563218E-2,1012,"Replace"]
["106502THL10132009",106502,"T",null,null,"HL1013",2009,"Yes","ML",23,"x","Italy","FS","EMU","Passenger","Set","Express service","(1A)(A1)+2'2'+2'2'+(1A)(A1)","Starter","Yes",1997,"Operational","V b / VI","ETR-480","ETR-480","N/A","N/A","4-unit set comprised of EMU Motor Bac1, Intermediate Bb1, Bb2, Driving trailer Bac2, track and electric power pack","N/A","ETR-480","Eurostar Italia","XMPR 1","Frecciabianca","White","White","White","Red","Bicolor","Blue","Double cardan transmission","Single arm",2,8,16,1.1494252873563218E-2,1230,"Yes"]
["N/AHL10082009","N/A","",null,null,"HL1008",2009,"Yes","ML",24,"x","Switzerland","SBB/CFF","EMU","Passenger","Set","Express service","(1A)(A1)+2'2'+2'2'+(1A)(A1)","Starter","Yes",1994,"Operational","V b","ETR-470","ETR-470","N/A","N/A","4-unit set comprised of EMU Motor, Intermediate x 2, Driving trailer, track and electric power pack","N/A","ETR-470","Cisalpino","Cisalpino","Cisalpino","White","White","Blue","Blue","Bicolor","Blue","G-Motor","Single arm",2,8,16,0.01,1050,"Yes"]
["N/AHL10072009","N/A","",null,null,"HL1007",2009,"Yes","ML",24,"x","Italy","FS","No","Freight","Set","Freight","B'B'+2+2+2","Starter","Yes",1983,2005,"IV b","D-445","Diesel merci","N/A","N/A","4-unit set comprised of Loco #HL 2010, Reefer #HL 6017, Tank #HL 6015, Flat #HL 6041, track and electric power pack","N/A","N/A","N/A","Televisore","Verde - Isabella","White","Grey","Black","Yellow","White","Blue","G-Motor","N/A",0,2,10,1.1494252873563218E-2,527,"Yes"]
["N/AHL10182009","N/A","",null,null,"HL1018",2009,"Yes","ML",25,"x","Italy","FS","No","Passenger","Set","Regional service","Bo'Bo'+2'2'+2'2'","Starter","Yes",1986,2002,"V b","Doppio Piano 79","Diesel passeggeri","VB2N","N/A","3-unit set comprised of Electric locomotive #HL 2013, Passenger #HL 4006, #HL 4007, track and electric power pack","N/A","N/A","N/A","XMPR 1","XMPR","White","Grey","Green","Green","Blue","Blue","G-Motor","Double arm",2,6,12,1.1494252873563218E-2,736,"Yes"]
["N/AHL20102009","N/A",null,null,null,"HL2010",2009,"Yes","ML",26,"x","Italy","FS","No","Locomotive","Diesel","Regional service","B'B'","N/A","Yes",1983,"Operational","V b / VI","D-445","D-445.2","N/A","D445 1052","20 units, built between 1979-81 and numbered 1036-55. Focus on regional Passenger services. With 3 headlights","N/A","N/A","N/A","XMPR 2","XMPR","White","Green","Green","Red","Bicolor","Blue","G-Motor","N/A",0,2,4,1.1494252873563218E-2,162,"Yes"]
["208034LHL20112009",208034,"L",null,null,"HL2011",2009,"Yes","ML",26,"x","Italy","FS","No","Locomotive","Electric","Express service","Bo'Bo'","N/A","Yes",1967,1986,"IV a / IV b","E-444","E-444P","N/A","E444 001","4 units, built in 1967 as prototype and numbered E.444.001/4. For express Passenger services. With squared front. Refurbished in the mid 1980's to Series E-444R","N/A","N/A","Tartaruga","E-444 1° series","Grigio perla-Blu orientale","White","White","Blue","Blue","Bicolor","Blue","G-Motor","Double arm",2,2,4,1.1494252873563218E-2,194,"Yes"]
["200008HL20122009",200008,null,null,null,"HL2012",2009,"Yes","ML",26,"x","Italy","FS","No","Locomotive","Diesel","Shunter","B","N/A","No",1950,1985,"III b / IV a / IV b / V a","Plymouth","MDT","N/A","N/A","Built in the early 1950's. Focus on light industrial use. FS never owned MDT locomotives, LIMA invention","N/A","N/A","N/A","N/A","N/A","Red","Red","Black","Yellow","Red","Blue","G-Motor","N/A",0,0,2,1.1494252873563218E-2,119,"Yes"]
["208004LHL20132009",208004,"L",null,null,"HL2013",2009,"Yes","ML",26,"x","Italy","FS","No","Locomotive","Electric","Multipurpose","Bo'Bo'","N/A","Yes",1986,2007,"V b / VI","E-424","E-424-200","N/A","E424 216","105 units, refurbished in 1987 from former E-424 locomotives and renumbered E.424.200/104. Focus on \"Push-Pull\" Passenger services","N/A","N/A","N/A","XMPR 1","XMPR","White","Green","Blue","Green","White","Blue","G-Motor","Double arm",2,2,4,1.1494252873563218E-2,178,"Yes"]
[{"$f":"+B15873&C15873&F15873&G15873","v":"309328HL40312009"},309328,null,null,null,"HL4031",2009,"Yes","ML",27,"x","Italy","FS","No","Passenger","Self Service","Restaurant","2'2'","N/A","Yes",1997,2015,"V b","Self Service","WR","Series 1979","61 83 88-90 151-3","20 units, built between 1980-81 and numbered 50 83 88-98 120/139. Refurbished in the mid 1990's as \"Snack Bar Ristorante\" and renumbered 61 83 88-90 150/170","Ristorante","N/A","N/A","XMPR 1","XMPR","White","Grey","Green","Red","Bicolor","Blue","N/A","N/A",0,2,4,0.01,265,"Yes"]
["309330HL40322009",309330,null,null,null,"HL4032",2009,"Yes","ML",27,"x","Italy","FS","No","Passenger","Couchette","2° class","2'2'","Hobby Line","Yes",1996,"Operational","V b / VI","UIC-X","T4","Series 1995","50 83 59-78 002-2","117 units, refurbished between 1996-2000 from former Series 1968/70 & 75 coaches","Treno Notte","N/A","N/A","XMPR 1","XMPR","Blue","Grey","Green","White","Tricolor","Blue","N/A","N/A",0,2,4,0.01,265,"Yes"]
["309655HL40082009",309655,null,null,null,"HL4008",2009,"Yes","ML",28,"x","Italy","FS","No","Passenger","With compartment","1° class","2'2'","N/A","Yes",1978,2004,"V b","UIC-Z1","A","Eurofima VSE","61 83 19-90 002-2","30 units, bought between 1977-79 and numbered 19-90 000/029","N/A","N/A","N/A","XMPR 1","XMPR","White","Grey","Green","Green","Bicolor","Blue","N/A","N/A",0,2,4,"1/100",265,"Yes"]
["309656HL40092009",309656,null,null,null,"HL4009",2009,"Yes","ML",28,"x","Italy","FS","No","Passenger","With compartment","2° class","2'2'","N/A","Yes",1979,"Operational","V b / VI","UIC-Z1","B","Eurofima VSE","61 83 21-90 061-4","70 units, bought between 1977-79 and numbered 21-90 000/069","N/A","N/A","N/A","XMPR 1","XMPR","White","Grey","Green","Green","Bicolor","Blue","N/A","N/A",0,2,4,"1/100",265,"Yes"]
["309501HL40062009",309501,null,null,null,"HL4006",2009,"Yes","ML",28,"x","Italy","FS","No","Passenger","Double decker","2° & Driving trailer","2'2'","N/A","Yes",1981,2002,"V b","Doppio Piano 79","npB","VB2N","50 83 26-39 819-7","30 units, built between 1980-81 based on a French VB2N coach design and numbered 26-39 800/829","N/A","N/A","Casaralta","XMPR 2","XMPR","White","Grey","Green","Green","Blue","Blue","N/A","N/A",0,2,4,1.0638297872340425E-2,265,"Yes"]
["309500HL40072009",309500,null,null,null,"HL4007",2009,"Yes","ML",28,"x","Italy","FS","No","Passenger","Double decker","2° class","2'2'","N/A","Yes",1980,2001,"V b","Doppio Piano 79","nB","VB2N","50 83 26-39 008-7","120 units, built between 1980-81 based on a French VB2N coach design and numbered 26-39 000/119","N/A","N/A","Casaralta","XMPR 2","XMPR","White","Grey","Green","Green","Blue","Blue","N/A","N/A",0,2,4,1.0869565217391304E-2,265,"Yes"]
["149999KHL40202009",149999,"K",null,null,"HL4020",2009,"Yes","ML",29,"x","Italy","FS","EMU","Passenger","Set","Express service","2'2'+2'2'","Lima Collection","Yes",1997,"Operational","V b / VI","ETR-480","ETR-480","N/A","N/A","2-unit train comprised of EMU Intermediate Bb1 and Bb2","N/A","ETR-480","Eurostar Italia","XMPR 1","Frecciabianca","White","White","White","Red","Bicolor","Blue","N/A","N/A",0,4,8,1.1494252873563218E-2,595,"Yes"]
["149939-1KHL40212009","149939-1","K",null,null,"HL4021",2009,"Yes","ML",29,"x","Switzerland","SBB/CFF","EMU","Passenger","Set","Express service","2'2'+2'2'","Lima Collection","Yes",1994,"Operational","V b","ETR-470","ETR-470","N/A","N/A","2-unit train comprised of EMU Intermediate Ra2 and Rb","N/A","ETR-470","Cisalpino","Cisalpino","Cisalpino","White","White","Blue","Blue","Bicolor","Blue","N/A","Single arm",3,6,12,0.01,595,"Replace"]
["303161HL60142009",303161,null,null,null,"HL6014",2009,"Yes","ML",29,"x","Italy","FS","No","Freight","Closed","N/A",2,"N/A","Yes",1959,2000,"III b / IV a","G-type","Gs 216","Gms 137-6","F 1160106","Built since the late 1950's","N/A","N/A","N/A","N/A","N/A","Brown","Grey","Black","N/A","Brown","Blue","N/A","N/A",0,0,2,1.1494252873563218E-2,121,"Yes"]
["N/AHL60152009","N/A",null,null,null,"HL6015",2009,"Yes","ML",29,"x","Italy","FS","No","Freight","Tank","With ladder",2,"N/A","Yes",1957,2005,"III b / IV a / IV b / V a / V b","Z-type","Zcs 23","Uh","N/A","Built since the late 1950's","N/A","N/A","N/A","N/A","N/A","White","White","Black","Yellow","N/A","Blue","N/A","N/A",0,0,2,"N/A",116,"Yes"]
["303171HL60162009",303171,null,null,null,"HL6016",2009,"Yes","ML",30,"x","Italy","FS","No","Freight","Open","Empty",2,"N/A","Yes",1956,2005,"IV a / IV b / V a / V b","E-type","Es 025","Tipo 2","21 83 446 0 100-3","Built in the mid 1950's","N/A","N/A","N/A","N/A","N/A","Brown","N/A","Black","N/A","N/A","Blue","N/A","N/A",0,0,2,1.2048192771084338E-2,121,"Yes"]
["303103HL60172009",303103,null,null,null,"HL6017",2009,"Yes","ML",30,"x","France","SNCF","No","Freight","Reefer","With ladder",2,"N/A","Yes",1960,1995,"III b / IV a / IV b / V a","I-type","Ibps-v","Ichqrs 377","03 87 823 5 049-0","Built in the late 1950's. With smooth panel","Interfrigo","N/A","N/A","N/A","N/A","White","Grey","Black","N/A","White","Blue","N/A","N/A",0,0,2,1.1494252873563218E-2,130,"Yes"]
["302814HL60182009",302814,null,null,null,"HL6018",2009,"Yes","ML",30,"x","Italy","FS","No","Freight","Flat","Empty",2,"N/A","Yes",1925,1970,"III a / III b / IV a","K-type","O 10","P con garitta","N/A","Built in the mid 1920's","N/A","N/A","N/A","Televisore","N/A","Brown","N/A","Brown","N/A","N/A","Blue","N/A","N/A",0,0,2,1.1494252873563218E-2,116,"Yes"]
["N/AHL60392009","N/A","",null,null,"HL6039",2009,"Yes","ML",30,"x","Italy","FS","No","Freight","Reefer","With ladder",2,"N/A","Yes",1960,1995,"V a","I-type","Ibps-v","Ichqrs 377","N/A","Built in the late 1950's. With smooth panel","N/A","N/A","N/A","N/A","N/A","White","Grey","Black","N/A","White","Blue","N/A","N/A",0,0,2,1.1494252873563218E-2,130,"Replace"]
["N/AHL60402009","N/A","",null,null,"HL6040",2009,"Yes","ML",31,"x","Italy","FS","No","Freight","Reefer","With ladder",2,"N/A","Yes",1960,1995,"IV b / V a","I-type","Ibps-v","Ichqrs 377","N/A","Built in the late 1950's. With smooth panel","N/A","N/A","N/A","Losanga","N/A","White","Grey","Black","N/A","White","Blue","N/A","N/A",0,0,2,1.1494252873563218E-2,130,"Yes"]
["302811HL60412009",302811,null,null,null,"HL6041",2009,"Yes","ML",31,"x","Italy","FS","No","Freight","Flat","With pipes",2,"N/A","Yes",1925,1970,"III a / III b / IV a","K-type","O 10","P con garitta","P660513","Built in the mid 1920's","Dalmine","N/A","N/A","Televisore","N/A","White","N/A","Brown","N/A","N/A","Blue","N/A","N/A",0,0,2,1.1494252873563218E-2,116,"Yes"]
["303161HL60422009",303161,null,null,null,"HL6042",2009,"Yes","ML",31,"x","Italy","FS","No","Freight","Closed","N/A",2,"N/A","Yes",1959,2000,"III b / IV a","G-type","Gs 216","Gms 137-6","F 1160106","Built since the late 1950's","N/A","N/A","N/A","N/A","N/A","Brown","Grey","Black","N/A","Brown","Blue","N/A","N/A",0,0,2,1.1494252873563218E-2,121,"Yes"]
["302916HL60432009",302916,null,null,null,"HL6043",2009,"Yes","ML",31,"x","Italy","FS","No","Freight","Tank","With ladder","2'2'","N/A","Yes",1958,2004,"III b / IV a / IV b / V a / V b","Z-type","Zacs 33","Uah","N/A","Built since the late 1950's","Agip","N/A","N/A","N/A","N/A","White","White","Black","Yellow","N/A","Blue","N/A","N/A",0,2,4,"N/A",190,"Yes"]
["303596HL60442009",303596,null,null,null,"HL6044",2009,"Yes","ML",32,"x","France","SNCF","No","Freight","Closed","With sliding door","2'2'","N/A","Yes",1975,"Operational","IV b / V a / V b / VI","H-type","Habis 339","H 81.6","N/A","Built in the mid 1970's","Fret","N/A","N/A","Fret","N/A","Grey","Grey","Grey","Green","Grey","Blue","N/A","N/A",0,2,4,1.098901098901099E-2,242,"Yes"]
["N/AHL60452009","N/A",null,null,null,"HL6045",2009,"Yes","ML",32,"x","Germany","DB","No","Freight","Special","Pig iron torpedo","5'5'","N/A","Yes",1970,"Operational","III b / IV a / IV b / V a / V b / VI","U-type","Uaai 812","N/A","82 80 995 0 930-3","1 unit, built in 1970 and numbered originally 20 80 999 0 209-9. With \"torpedo\" type design","N/A","N/A","N/A","N/A","N/A","Yellow","Yellow","Brown","N/A","N/A","Blue","N/A","N/A",0,2,10,1.1494252873563218E-2,220,"Replace"]
["309063HL60462009",309063,null,null,null,"HL6046",2009,"Yes","ML",32,"x","Germany","DB","No","Freight","Car transporter","With 6 cars",3,"N/A","Yes",1961,"Operational","III b / IV a / IV b / V a / V b","L-type","Laeqrss 545","Offehss 68","N/A","Built since the early 1960's. Two wagons joined together","Goth","N/A","N/A","N/A","N/A","Grey","Grey","Grey","N/A","N/A","Blue","N/A","N/A",0,0,3,1.1494252873563218E-2,290,"Yes"]
["303121HL60472009",303121,null,null,null,"HL6047",2009,"Yes","ML",32,"x","Switzerland","SBB/CFF","No","Freight","Reefer","With ladder","2'2'","Hobby Line","Yes",1968,2003,"IV a / IV b / V a / V b","I-type","Iaes","N/A","N/A","100 units, built in the late 1940's","Interfrigo","N/A","N/A","N/A","N/A","Light Blue","Light Blue","Black","White","Light Blue","Blue","N/A","N/A",0,2,4,1.1494252873563218E-2,242,"Yes"]
["208484LHL20172009",208484,"L",null,null,"HL2017",2009,"Yes","ML",34,"x","Australia","NSW","No","Locomotive","Steam","Express service","4-6-2/4-4","N/A","Yes",1943,1967,"II / III a","NSW C38","Class 38","Streamlined",3802,"5 units, built between 1943-45 and numbered 3801/05. Focus on express Passenger services","N/A","N/A","N/A","N/A","N/A","Black","Black","Black","Red","Black","Blue","G-Motor","N/A",0,0,6,1.1494252873563218E-2,270,"Yes"]
["208650LHL20162009",208650,"L",null,null,"HL2016",2009,"Yes","ML",34,"x","Australia","SRA","No","Locomotive","Diesel","Multipurpose","Co'Co'","N/A","Yes",1969,2010,"IV b / V a / V b","NSW C422","Class 422","N/A",42204,"20 units, built between 1969-70 and numbered 42201/20. Focus on mixed-traffic services (regional Passenger and Freight)","N/A","N/A","N/A","SRA","Candy","Red","Grey","Black","Yellow","Red","Blue","G-Motor","N/A",0,2,6,1.1494252873563218E-2,200,"Replace"]
["N/AHL20232009","N/A",null,null,null,"HL2023",2009,"Yes","ML",34,"x","Germany","DR","No","Locomotive","Diesel","Shunter","C","N/A","Yes",1944,1968,"III b","BR-270","V-20","WR 200 B14","V20 007","129 units, built between 1940-47. Focus on shunting operation. Originally employed by the Wehrmacht","N/A","N/A","N/A","DR","N/A","Green","Grey","Red","N/A","Green","Blue","G-Motor","N/A",0,0,3,1.1494252873563218E-2,92,"Yes"]
["N/AHL20332009","N/A",null,null,null,"HL2033",2009,"Yes","ML",34,"x","Germany","DR","No","Locomotive","Diesel","Shunter","C","N/A","Yes",1943,1981,"IV a / IV b","BR-236","V-36","WR 360 C 14","103 019-6","279 units, built between 1937-50. Focus on shunting operation. Originally employed by the Wehrmacht","N/A","N/A","N/A","DR","N/A","Green","Grey","Red","N/A","Green","Blue","G-Motor","N/A",0,0,3,1.1494252873563218E-2,92,"Yes"]
["N/AHL20152009","N/A",null,null,null,"HL2015",2009,"Yes","ML",35,"x","Germany","DB","No","Locomotive","Diesel","Shunter","C","N/A","Yes",1941,1977,"III b","BR-270","V-20","WR 200 B14","V20 021","129 units, built between 1940-47. Focus on shunting operation. Originally employed by the Wehrmacht","N/A","N/A","N/A","Keks","N/A","Black","Grey","Red","N/A","Black","Blue","G-Motor","N/A",0,0,3,1.1494252873563218E-2,92,"Yes"]
["N/AHL20142009","N/A",null,null,null,"HL2014",2009,"Yes","ML",35,"x","Germany","DB","No","Locomotive","Diesel","Shunter","C","N/A","Yes",1947,1977,"III b","BR-236","V-36","WR 360 C 14","V36 150","279 units, built between 1937-50. Focus on shunting operation. Originally employed by the Wehrmacht","N/A","N/A","N/A","Keks","N/A","Black","Grey","Red","N/A","Black","Blue","G-Motor","N/A",0,0,3,1.1494252873563218E-2,105,"Yes"]
["N/AHL28152009","N/A",null,null,null,"HL2815",2009,"Yes","ML",35,"x","Germany","DB","No","Locomotive","Diesel","Shunter","C","N/A","Yes",1943,1977,"III a / III b","BR-270","V-20","WR 200 B14","V20 040","129 units, built between 1940-47. Focus on shunting operation. Originally employed by the Wehrmacht. AC version only","N/A","N/A","N/A","Keks","N/A","Black","Grey","Red","N/A","Black","Blue","G-Motor","N/A",0,0,3,1.1494252873563218E-2,92,"Yes"]
["N/AHL28152009","N/A","","AC","","HL2815",2009,"Yes","ML",35,"x","Germany","DB","No","Locomotive","Diesel","Shunter","C","N/A","Yes",1943,1977,"III a / III b","BR-270","V-20","WR 200 B14","V20 040","Similar to #HL2815 but AC only version","N/A","N/A","N/A","Keks","N/A","Black","Grey","Red","N/A","Black","Blue","G-Motor","N/A",0,0,3,1.1494252873563218E-2,92,"Yes"]
["309127-3HL40272009","309127-3",null,null,null,"HL4027",2009,"Yes","ML",36,"x","Australia","SAU","No","Passenger","With central corridor","2° class","2'2'","N/A","Yes",1965,"Operational","V a / V b","Budd","SSC","Stainless Steel Carriage","N/A","234 units, built between 1957-67 based on an American Budd coach design","The Ghan","The Ghan","N/A","N/A","N/A","Grey","Grey","Grey","Yellow","Grey","Blue","N/A","N/A",0,2,4,0.01,260,"Replace"]
["N/AHL40292009","N/A",null,null,null,"HL4029",2009,"Yes","ML",37,"x","Australia","SAU","No","Passenger","Power unit","Baggage","2'2'","N/A","Yes",1965,"Operational","V a / V b","Budd","SSC","Stainless Steel Carriage","N/A","234 units, built between 1957-67 based on an American Budd coach design","The Ghan","The Ghan","N/A","N/A","N/A","Grey","Grey","Grey","Yellow","Grey","Blue","N/A","N/A",0,2,4,0.01,260,"Yes"]
["N/AHL40282009","N/A",null,null,null,"HL4028",2009,"Yes","ML",37,"x","Australia","SAU","No","Passenger","With central corridor","Restaurant","2'2'","N/A","Yes",1965,"Operational","V a / V b","Budd","SSC","Stainless Steel Carriage","N/A","234 units, built between 1957-67 based on an American Budd coach design","The Ghan","The Ghan","N/A","N/A","N/A","Grey","Grey","Grey","Yellow","Grey","Blue","N/A","N/A",0,2,4,0.01,260,"Yes"]
["N/AHL40302009","N/A",null,null,null,"HL4030",2009,"Yes","ML",38,"x","Australia","SAU","No","Passenger","With compartment","Sleeper","2'2'","N/A","Yes",1965,"Operational","V a / V b","Budd","SSC","Stainless Steel Carriage","N/A","234 units, built between 1957-67 based on an American Budd coach design","The Ghan","The Ghan","N/A","N/A","N/A","Grey","Grey","Grey","Yellow","Grey","Blue","N/A","N/A",0,2,4,0.01,260,"Yes"]
["309173-1HL40102009","309173-1",null,null,null,"HL4010",2009,"Yes","ML",38,"x","Australia","NSW","No","Passenger","With compartment","2° class","3'3'","N/A","Yes",1906,1990,"I / II / III a / III b","E carriage","BE","N/A","N/A","43 units, built between 1906-23 and numbered originally BE1/43. 2 or 3 axle per bogie versions available","N/A","N/A","N/A","N/A","N/A","Brown","Grey","Black","Cream","Red","Blue","N/A","N/A",0,2,6,1.1764705882352941E-2,260,"Replace"]
["309171-1HL40112009","309171-1",null,null,null,"HL4011",2009,"Yes","ML",38,"x","Australia","NSW","No","Passenger","With compartment","1° class","3'3'","N/A","Yes",1906,1990,"I / II / III a / III b","E carriage","AE","N/A","N/A","42 units, built between 1906-10 and numbered originally AE 1/42. 2 or 3 axle per bogie versions available","N/A","N/A","N/A","N/A","N/A","Brown","Grey","Black","Cream","Red","Blue","N/A","N/A",0,2,6,1.1764705882352941E-2,260,"Replace"]
["N/AHL40122009","N/A",null,null,null,"HL4012",2009,"Yes","ML",38,"x","Australia","NSW","No","Passenger","With compartment","Sleeper","3'3'","N/A","Yes",1908,1984,"I / II / III a / III b","E carriage","SE","N/A","N/A","19 units, built between 1908-28 and numbered originally SE 1/19. 2 or 3 axle per bogie versions available","N/A","N/A","N/A","N/A","N/A","Brown","Grey","Black","Cream","Red","Blue","N/A","N/A",0,2,6,1.1764705882352941E-2,260,"Yes"]
["N/AHL40222009","N/A",null,null,null,"HL4022",2009,"Yes","ML",39,"x","Australia","NSW","No","Passenger","With central corridor","2° class","2'2'","N/A","Yes",1961,1993,"III b / IV a / IV b / V a","Budd","SSC","Stainless Steel Carriage","N/A","234 units, built between 1957-67 based on an American Budd coach design","N/A","Indian Pacific Express","N/A","N/A","N/A","Grey","Grey","Grey","N/A","Grey","Blue","N/A","N/A",0,2,4,0.01,260,"Yes"]
["N/AHL40232009","N/A",null,null,null,"HL4023",2009,"Yes","ML",39,"x","Australia","NSW","No","Passenger","With central corridor","Restaurant","2'2'","N/A","Yes",1961,1993,"III b / IV a / IV b / V a","Budd","SSC","Stainless Steel Carriage","N/A","234 units, built between 1957-67 based on an American Budd coach design","N/A","Indian Pacific Express","N/A","N/A","N/A","Grey","Grey","Grey","N/A","Grey","Blue","N/A","N/A",0,2,4,0.01,260,"Yes"]
["N/AHL40242009","N/A",null,null,null,"HL4024",2009,"Yes","ML",39,"x","Australia","NSW","No","Passenger","Power unit","Baggage","2'2'","N/A","Yes",1961,1993,"III b / IV a / IV b / V a","Budd","SSC","Stainless Steel Carriage","N/A","234 units, built between 1957-67 based on an American Budd coach design","N/A","Indian Pacific Express","N/A","N/A","N/A","Grey","Grey","Grey","Orange","Grey","Blue","N/A","N/A",0,2,4,0.01,260,"Yes"]
["N/AHL40252009","N/A",null,null,null,"HL4025",2009,"Yes","ML",39,"x","Australia","NSW","No","Passenger","With compartment","Sleeper","2'2'","N/A","Yes",1961,1993,"III b / IV a / IV b / V a","Budd","SSC","Stainless Steel Carriage","N/A","234 units, built between 1957-67 based on an American Budd coach design","N/A","The Overland","N/A","N/A","N/A","Red","Red","Red","White","Red","Blue","N/A","N/A",0,2,4,0.01,260,"Yes"]
["N/AHL60262009","N/A","",null,null,"HL6026",2009,"Yes","ML",40,"x","Germany","DB","No","Freight","Set","Freight","2'2'+2'2'+2'2'","Lima Collection","Yes",1954,"Operational","III a / III b","T-type","Tad u 958","KKt 45","N/A","3-unit train comprised of Hopper with coal load #HL 6001 x 3","N/A","N/A","N/A","Keks","N/A","Brown","N/A","Brown","N/A","N/A","Blue","N/A","N/A",0,6,12,7.3529411764705881E-3,420,"Replace"]
["303202KHL60192009",303202,"K",null,null,"HL6019",2009,"Yes","ML",41,"x","Italy","FS","No","Freight","Closed","N/A",2,"N/A","Yes",1959,2000,"III b / IV a","G-type","Gs 216","Gms 137-6","F 1171103","Built since the late 1950's","N/A","N/A","N/A","N/A","N/A","Brown","Grey","Black","N/A","Brown","Blue","N/A","N/A",0,0,2,1.1494252873563218E-2,121,"Yes"]
["N/AHL60202009","N/A","",null,null,"HL6020",2009,"Yes","ML",41,"x","Germany","DB","No","Freight","Closed","N/A",2,"N/A","Yes",1957,2000,"III b / IV a / IV b / V a","G-type","Ibblps 395","Tnomhs 50","N/A","476 units, built between 1957-58. For transport of bananas","Bananen","N/A","N/A","N/A","N/A","Yellow","Grey","Brown","N/A","Yellow","Blue","N/A","N/A",0,0,2,1.1494252873563218E-2,121,"Yes"]
["303561KHL60212009",303561,"K",null,null,"HL6021",2009,"Yes","ML",41,"x","Germany","DB","No","Freight","Hopper","With ladder",2,"N/A","Yes",1959,2000,"IV a / IV b / V a / V b","T-type","Tds 925","Ktmm 60","21 80 574 1 441-7","1600 units, built between 1958-59","N/A","N/A","N/A","Keks","N/A","Brown","N/A","Brown","N/A","N/A","Blue","N/A","N/A",0,0,2,1.2048192771084338E-2,110,"Yes"]
["N/AHL60272009","N/A","",null,null,"HL6027",2009,"Yes","ML",41,"x","Germany","DR","No","Freight","Hopper","With ladder",2,"N/A","Yes",1971,1996,"IV a / IV b / V a","T-type","Tds 925","Tds 5730","21 50 634 3 928-9","3900 units, built between 1971-72","Getreide","N/A","N/A","N/A","N/A","Brown","N/A","Brown","N/A","N/A","Blue","N/A","N/A",0,0,2,1.2048192771084338E-2,110,"Replace"]
["303597KHL60052009",303597,"K",null,null,"HL6005",2009,"Yes","ML",42,"x","Germany","DB","No","Freight","Hopper","With opening roof","2'2'","N/A","Yes",1974,"Operational","IV a / IV b / V a","T-type","Tadgs 959","N/A","31 80 584 4 313-2","1386 units, built between 1973-85","N/A","N/A","N/A","Keks","N/A","Brown","Brown","Black","N/A","N/A","Blue","N/A","N/A",0,2,4,1.1494252873563218E-2,247,"Yes"]
["N/AHL60352009","N/A","",null,null,"HL6035",2009,"Yes","ML",42,"x","Germany","DR","No","Freight","Hopper","With opening roof","2'2'","N/A","Yes",1974,2010,"IV a / IV b / V a / V b / VI","T-type","Tadgs-y 958","Tadgs-y 5843","31 50 584 4 265-1","1500 units, built between 1976-79","Getreide","N/A","N/A","N/A","N/A","Brown","Brown","Black","N/A","N/A","Blue","N/A","N/A",0,2,4,1.1494252873563218E-2,247,"Yes"]
["N/AHL60302009","N/A","",null,null,"HL6030",2009,"Yes","ML",42,"x","Germany","DR","No","Freight","Silo","With ladder",2,"N/A","Yes",1958,2011,"III a / III b / IV a","U-type","Ucs 909","Kds 56","N/A","2180 units, built between 1955-64","N/A","N/A","N/A","N/A","N/A","Grey","N/A","Black","N/A","N/A","Blue","N/A","N/A",0,0,2,1.1494252873563218E-2,105,"Replace"]
["N/AHL60312009","N/A","",null,null,"HL6031",2009,"Yes","ML",42,"x","Germany","DR","No","Freight","Closed","N/A",2,"N/A","Yes",1937,1994,"IV a / IV b / V a","G-type","Gs 216","Glrhs 12","21 50 100 2 166-9","Built since the late 1950's","N/A","N/A","N/A","N/A","N/A","Brown","Grey","Black","N/A","Brown","Blue","N/A","N/A",0,0,2,1.1494252873563218E-2,121,"Replace"]
["N/AHL60492009","N/A","",null,null,"HL6049",2009,"Yes","ML",43,"x","Germany","DR","No","Freight","Set","Freight","2+2+2","Lima Collection","Yes",1937,1994,"IV a / IV b / V a","G-type","Stückgut Transport","Gms 137-6","N/A","3-unit train comprised of Closed #HL 6031 x 3","N/A","N/A","N/A","N/A","N/A","Brown","Grey","Black","N/A","Brown","Blue","N/A","N/A",0,0,6,1.1494252873563218E-2,370,"Replace"]
["303275KHL60102009",303275,"K",null,null,"HL6010",2009,"Yes","ML",43,"x","Germany","DB","No","Freight","Flat","With stakes","2'2'","N/A","Yes",1982,"Operational","V b / VI","S-type","Snps 719","N/A","31 80 472 4 846-9","1960 units, built between 1980-82 and numbered 31 80 472 3 000/4 959. Focus on wooden logs and pipe transport","DB Cargo","N/A","N/A","N/A","N/A","Red","N/A","Red","N/A","N/A","Blue","N/A","N/A",0,2,4,1.1494252873563218E-2,230,"Yes"]
["302900HL60252009",302900,null,null,null,"HL6025",2009,"Yes","ML",43,"x","France","SNCF","No","Freight","Tank","With ladder",2,"N/A","No",1957,2005,"III b / IV a / IV b / V a / V b","Z-type","Zcs 23","Uh","N/A","Never existed in any official roster. For track cleaning","VB","N/A","N/A","N/A","N/A","Red","Red","Black","White","N/A","Blue","N/A","N/A",0,0,2,"N/A",102,"Yes"]
["N/AHL60532009","N/A","",null,null,"HL6053",2009,"Yes","ML",44,"x","Italy","FS","No","Freight","Set","Freight","2+2","Lima Collection","Yes",1956,2005,"III b / IV a / IV b / V a / V b","E-type","Es 025","Tipo 2","N/A","2-unit train comprised of Open with coal load #303174 x 2","N/A","N/A","N/A","N/A","N/A","Brown","N/A","Black","N/A","N/A","Blue","N/A","N/A",0,0,4,1.2048192771084338E-2,242,"Replace"]
["N/AHL60482009","N/A","",null,null,"HL6048",2009,"Yes","ML",44,"x","Australia","ANR","No","Freight","Baggage","Brake van","2'2'","N/A","Yes",1962,1987,"IV a / IV b","Class 8300","Class 8300","AVAY","S329","94 units, built between 1947-71 and numbered 8300/94 (after 1982 AVAY 1/94)","N/A","N/A","N/A","N/A","N/A","Yellow","Yellow","Yellow","Green","Yellow","Blue","N/A","N/A",0,2,4,1.1494252873563218E-2,138,"Replace"]
["303522HL60222009",303522,null,null,null,"HL6022",2009,"Yes","ML",45,"x","Australia","NSW","No","Freight","Open","With tarpaulin",2,"N/A","No",1910,1965,"I / II / III a / III b","E-type","7 Plank Open","12 Ton","N/A","Built between 1904-25 for GWR and operational until the late 1960's","N/A","N/A","N/A","N/A","N/A","Yellow","Grey","Brown","N/A","N/A","Blue","N/A","N/A",0,0,2,1.1494252873563218E-2,72,"Replace"]
["N/AHL60232009","N/A","",null,null,"HL6023",2009,"Yes","ML",45,"x","Australia","VR","No","Freight","Open","Empty","2'2'","N/A","Yes",1964,2005,"III b / IV a / IV b / V a","E-type","ELX","Góndola",529,"624 units, built between 1961-1980 and numbered 1/454 & 1001/104","VR","N/A","N/A","N/A","N/A","Green","N/A","Green","Yellow","N/A","Blue","N/A","N/A",0,2,4,1.1494252873563218E-2,163,"Yes"]

{"sheet":"Roster Hornby","index":4,"n_rows":192,"n_cols":46,"rows_kept":192,"cut":false,"hidden":true,"merged":[]}
[1,{"$f":"+A1+1","v":2},{"$f":"+B1+1","v":3},4,5,6,7,8,9,10,11,12,{"$f":"+L1+1","v":13},{"$f":"+M1+1","v":14},{"$f":"+N1+1","v":15},{"$f":"+O1+1","v":16},{"$f":"+P1+1","v":17},{"$f":"+Q1+1","v":18},19,20,21,22,{"$f":"+V1+1","v":23},24,25,26,27,28,29,30,{"$f":"+AD1+1","v":31},32,33,34,35,36,37,38,39,40,41,42,43,44,45,46]
[{"$f":"+'Roster LIMA'!F2","v":"# Hornby article"},{"$f":"+'Roster LIMA'!G2","v":"Year"},{"$f":"+'Roster LIMA'!H2","v":"Catalogue"},{"$f":"+'Roster LIMA'!I2","v":"Edition"},{"$f":"+'Roster LIMA'!J2","v":"Page"},{"$f":"+'Roster LIMA'!K2","v":"Available"},{"$f":"+'Roster LIMA'!E2","v":"# Ancient article"},{"$f":"+'Roster LIMA'!B2","v":"# Article"},{"$f":"+'Roster LIMA'!C2","v":"Code"},{"$f":"+'Roster LIMA'!D2","v":"AC"},{"$f":"+'Roster LIMA'!L2","v":"Country"},{"$f":"+'Roster LIMA'!M2","v":"Operator"},{"$f":"+'Roster LIMA'!N2","v":"Multiple Unit"},{"$f":"+'Roster LIMA'!O2","v":"Type"},{"$f":"+'Roster LIMA'!P2","v":"Category"},{"$f":"+'Roster LIMA'!Q2","v":"Sub-category"},{"$f":"+'Roster LIMA'!R2","v":"Wheel arrangement"},{"$f":"+'Roster LIMA'!S2","v":"Collection"},{"$f":"+'Roster LIMA'!T2","v":"Veridical"},{"$f":"+'Roster LIMA'!U2","v":"Commission"},{"$f":"+'Roster LIMA'!V2","v":"Withdrawal"},{"$f":"+'Roster LIMA'!W2","v":"Era"},{"$f":"+'Roster LIMA'!X2","v":"Series"},{"$f":"+'Roster LIMA'!Y2","v":"Usual name"},{"$f":"+'Roster LIMA'!Z2","v":"Alternative name"},{"$f":"+'Roster LIMA'!AA2","v":"Number"},{"$f":"+'Roster LIMA'!AB2","v":"Description"},{"$f":"+'Roster LIMA'!AC2","v":"Legend"},{"$f":"+'Roster LIMA'!AD2","v":"Service"},{"$f":"+'Roster LIMA'!AE2","v":"Nick"},{"$f":"+'Roster LIMA'!AF2","v":"Logo"},{"$f":"+'Roster LIMA'!AG2","v":"Livery"},{"$f":"+'Roster LIMA'!AH2","v":"Bodywork"},{"$f":"+'Roster LIMA'!AI2","v":"Roof"},{"$f":"+'Roster LIMA'!AJ2","v":"Floor"},{"$f":"+'Roster LIMA'!AK2","v":"Stripes"},{"$f":"+'Roster LIMA'!AL2","v":"Doors"},{"$f":"+'Roster LIMA'!AM2","v":"Box"},{"$f":"+'Roster LIMA'!AN2","v":"Motor"},{"$f":"+'Roster LIMA'!AO2","v":"Pantograph type"},{"$f":"+'Roster LIMA'!AP2","v":"# Pantograph"},{"$f":"+'Roster LIMA'!AQ2","v":"Bogies"},{"$f":"+'Roster LIMA'!AR2","v":"Axle"},{"$f":"+'Roster LIMA'!AS2","v":"Scale"},{"$f":"+'Roster LIMA'!AT2","v":"Length (mm)"},{"$f":"+'Roster LIMA'!AU2","v":"Photo"}]
[{"$f":"+'Roster LIMA'!F15737","v":"HL2008"},{"$f":"+'Roster LIMA'!G15737","v":2006},{"$f":"+'Roster LIMA'!H15737","v":"Yes"},{"$f":"+'Roster LIMA'!I15737","v":"ML"},{"$f":"+'Roster LIMA'!J15737","v":2},{"$f":"+'Roster LIMA'!K15737","v":"x"},{"$f":"+'Roster LIMA'!E15737","v":0},{"$f":"+'Roster LIMA'!B15737","v":208619},{"$f":"+'Roster LIMA'!C15737","v":"LM"},{"$f":"+'Roster LIMA'!D15737","v":0},{"$f":"+'Roster LIMA'!L15737","v":"Germany"},{"$f":"+'Roster LIMA'!M15737","v":"DB"},{"$f":"+'Roster LIMA'!N15737","v":"No"},{"$f":"+'Roster LIMA'!O15737","v":"Locomotive"},{"$f":"+'Roster LIMA'!P15737","v":"Diesel"},{"$f":"+'Roster LIMA'!Q15737","v":"Prototype"},{"$f":"+'Roster LIMA'!R15737","v":"C'C'"},{"$f":"+'Roster LIMA'!S15737","v":"N/A"},{"$f":"+'Roster LIMA'!T15737","v":"Yes"},{"$f":"+'Roster LIMA'!U15737","v":1958},{"$f":"+'Roster LIMA'!V15737","v":1975},{"$f":"+'Roster LIMA'!W15737","v":"IV a"},{"$f":"+'Roster LIMA'!X15737","v":"BR-230"},{"$f":"+'Roster LIMA'!Y15737","v":"BR-230"},{"$f":"+'Roster LIMA'!Z15737","v":"V-300"},{"$f":"+'Roster LIMA'!AA15737","v":"230 001-0"},{"$f":"+'Roster LIMA'!AB15737","v":"1 unit, built in 1958 as prototype based on a German V-200 locomotive design and numbered originally ML 3000 C'C ' (V300.001 after 1963 and 230.001 after 1968). Focus on express Passenger services. With 3 axle bogie due to request from JZ (Jugoslavian Railways)"},{"$f":"+'Roster LIMA'!AC15737","v":"N/A"},{"$f":"+'Roster LIMA'!AD15737","v":"N/A"},{"$f":"+'Roster LIMA'!AE15737","v":"N/A"},{"$f":"+'Roster LIMA'!AF15737","v":"Keks"},{"$f":"+'Roster LIMA'!AG15737","v":"DB-Rot 1"},{"$f":"+'Roster LIMA'!AH15737","v":"Red"},{"$f":"+'Roster LIMA'!AI15737","v":"Black"},{"$f":"+'Roster LIMA'!AJ15737","v":"Black"},{"$f":"+'Roster LIMA'!AK15737","v":"White"},{"$f":"+'Roster LIMA'!AL15737","v":"Red"},{"$f":"+'Roster LIMA'!AM15737","v":"Blue"},{"$f":"+'Roster LIMA'!AN15737","v":"Double cardan transmission"},{"$f":"+'Roster LIMA'!AO15737","v":"N/A"},{"$f":"+'Roster LIMA'!AP15737","v":0},{"$f":"+'Roster LIMA'!AQ15737","v":2},{"$f":"+'Roster LIMA'!AR15737","v":4},{"$f":"+'Roster LIMA'!AS15737","v":1.1494252873563218E-2},{"$f":"+'Roster LIMA'!AT15737","v":232},{"$f":"+'Roster LIMA'!AU15737","v":"Yes"}]
[{"$f":"+'Roster LIMA'!F15739","v":"HL2005"},{"$f":"+'Roster LIMA'!G15739","v":2006},{"$f":"+'Roster LIMA'!H15739","v":"Yes"},{"$f":"+'Roster LIMA'!I15739","v":"ML"},{"$f":"+'Roster LIMA'!J15739","v":3},{"$f":"+'Roster LIMA'!K15739","v":"x"},{"$f":"+'Roster LIMA'!E15739","v":0},{"$f":"+'Roster LIMA'!B15739","v":208350},{"$f":"+'Roster LIMA'!C15739","v":"L"},{"$f":"+'Roster LIMA'!D15739","v":0},{"$f":"+'Roster LIMA'!L15739","v":"Germany"},{"$f":"+'Roster LIMA'!M15739","v":"DB"},{"$f":"+'Roster LIMA'!N15738","v":"No"},{"$f":"+'Roster LIMA'!O15739","v":"Locomotive"},{"$f":"+'Roster LIMA'!P15739","v":"Diesel"},{"$f":"+'Roster LIMA'!Q15739","v":"Prototype"},{"$f":"+'Roster LIMA'!R15739","v":"C'C'"},{"$f":"+'Roster LIMA'!S15739","v":"N/A"},{"$f":"+'Roster LIMA'!T15739","v":"Yes"},{"$f":"+'Roster LIMA'!U15739","v":1958},{"$f":"+'Roster LIMA'!V15739","v":1975},{"$f":"+'Roster LIMA'!W15739","v":"III b"},{"$f":"+'Roster LIMA'!X15739","v":"BR-230"},{"$f":"+'Roster LIMA'!Y15739","v":"BR-230"},{"$f":"+'Roster LIMA'!Z15739","v":"V-300"},{"$f":"+'Roster LIMA'!AA15739","v":"ML3000 C´C´"},{"$f":"+'Roster LIMA'!AB15739","v":"1 unit, built in 1958 as prototype based on a German V-200 locomotive design and numbered originally ML 3000 C'C ' (V300.001 after 1963 and 230.001 after 1968). Focus on express Passenger services. With 3 axle bogie due to request from JZ (Jugoslavian Railways)"},{"$f":"+'Roster LIMA'!AC15739","v":"Krauss Maffei AG"},{"$f":"+'Roster LIMA'!AD15739","v":"N/A"},{"$f":"+'Roster LIMA'!AE15739","v":"N/A"},{"$f":"+'Roster LIMA'!AF15739","v":"N/A"},{"$f":"+'Roster LIMA'!AG15739","v":"Ivory-Blue"},{"$f":"+'Roster LIMA'!AH15739","v":"Blue"},{"$f":"+'Roster LIMA'!AI15739","v":"Cream"},{"$f":"+'Roster LIMA'!AJ15739","v":"Grey"},{"$f":"+'Roster LIMA'!AK15739","v":"Grey"},{"$f":"+'Roster LIMA'!AL15739","v":"Bicolor"},{"$f":"+'Roster LIMA'!AM15739","v":"Blue"},{"$f":"+'Roster LIMA'!AN15739","v":"Double cardan transmission"},{"$f":"+'Roster LIMA'!AO15739","v":"N/A"},{"$f":"+'Roster LIMA'!AP15739","v":0},{"$f":"+'Roster LIMA'!AQ15739","v":2},{"$f":"+'Roster LIMA'!AR15739","v":4},{"$f":"+'Roster LIMA'!AS15739","v":1.1494252873563218E-2},{"$f":"+'Roster LIMA'!AT15739","v":232},{"$f":"+'Roster LIMA'!AU15739","v":"Yes"}]
[{"$f":"+'Roster LIMA'!F15741","v":"HL2014"},{"$f":"+'Roster LIMA'!G15741","v":2006},{"$f":"+'Roster LIMA'!H15741","v":"Yes"},{"$f":"+'Roster LIMA'!I15741","v":"ML"},{"$f":"+'Roster LIMA'!J15741","v":4},{"$f":"+'Roster LIMA'!K15741","v":"x"},{"$f":"+'Roster LIMA'!E15741","v":0},{"$f":"+'Roster LIMA'!B15741","v":"N/A"},{"$f":"+'Roster LIMA'!C15741","v":0},{"$f":"+'Roster LIMA'!D15741","v":0},{"$f":"+'Roster LIMA'!L15741","v":"Germany"},{"$f":"+'Roster LIMA'!M15741","v":"DB"},{"$f":"+'Roster LIMA'!N15739","v":"No"},{"$f":"+'Roster LIMA'!O15741","v":"Locomotive"},{"$f":"+'Roster LIMA'!P15741","v":"Diesel"},{"$f":"+'Roster LIMA'!Q15741","v":"Shunter"},{"$f":"+'Roster LIMA'!R15741","v":"C"},{"$f":"+'Roster LIMA'!S15741","v":"N/A"},{"$f":"+'Roster LIMA'!T15741","v":"Yes"},{"$f":"+'Roster LIMA'!U15741","v":1947},{"$f":"+'Roster LIMA'!V15741","v":1977},{"$f":"+'Roster LIMA'!W15741","v":"III b"},{"$f":"+'Roster LIMA'!X15741","v":"BR-236"},{"$f":"+'Roster LIMA'!Y15741","v":"V-36"},{"$f":"+'Roster LIMA'!Z15741","v":"WR 360 C 14"},{"$f":"+'Roster LIMA'!AA15741","v":"V36 150"},{"$f":"+'Roster LIMA'!AB15741","v":"279 units, built between 1937-50. Focus on shunting operation. Originally employed by the Wehrmacht"},{"$f":"+'Roster LIMA'!AC15741","v":"N/A"},{"$f":"+'Roster LIMA'!AD15741","v":"N/A"},{"$f":"+'Roster LIMA'!AE15741","v":"N/A"},{"$f":"+'Roster LIMA'!AF15741","v":"Keks"},{"$f":"+'Roster LIMA'!AG15741","v":"N/A"},{"$f":"+'Roster LIMA'!AH15741","v":"Black"},{"$f":"+'Roster LIMA'!AI15741","v":"Grey"},{"$f":"+'Roster LIMA'!AJ15741","v":"Red"},{"$f":"+'Roster LIMA'!AK15741","v":"N/A"},{"$f":"+'Roster LIMA'!AL15741","v":"Black"},{"$f":"+'Roster LIMA'!AM15741","v":"Blue"},{"$f":"+'Roster LIMA'!AN15741","v":"G-Motor"},{"$f":"+'Roster LIMA'!AO15741","v":"N/A"},{"$f":"+'Roster LIMA'!AP15741","v":0},{"$f":"+'Roster LIMA'!AQ15741","v":0},{"$f":"+'Roster LIMA'!AR15741","v":3},{"$f":"+'Roster LIMA'!AS15741","v":1.1494252873563218E-2},{"$f":"+'Roster LIMA'!AT15741","v":105},{"$f":"+'Roster LIMA'!AU15741","v":"Yes"}]
[{"$f":"+'Roster LIMA'!F15742","v":"HL2015"},{"$f":"+'Roster LIMA'!G15742","v":2006},{"$f":"+'Roster LIMA'!H15742","v":"Yes"},{"$f":"+'Roster LIMA'!I15742","v":"ML"},{"$f":"+'Roster LIMA'!J15742","v":4},{"$f":"+'Roster LIMA'!K15742","v":"x"},{"$f":"+'Roster LIMA'!E15742","v":0},{"$f":"+'Roster LIMA'!B15742","v":"N/A"},{"$f":"+'Roster LIMA'!C15742","v":0},{"$f":"+'Roster LIMA'!D15742","v":0},{"$f":"+'Roster LIMA'!L15742","v":"Germany"},{"$f":"+'Roster LIMA'!M15742","v":"DB"},{"$f":"+'Roster LIMA'!N15740","v":"No"},{"$f":"+'Roster LIMA'!O15742","v":"Locomotive"},{"$f":"+'Roster LIMA'!P15742","v":"Diesel"},{"$f":"+'Roster LIMA'!Q15742","v":"Shunter"},{"$f":"+'Roster LIMA'!R15742","v":"C"},{"$f":"+'Roster LIMA'!S15742","v":"N/A"},{"$f":"+'Roster LIMA'!T15742","v":"Yes"},{"$f":"+'Roster LIMA'!U15742","v":1941},{"$f":"+'Roster LIMA'!V15742","v":1977},{"$f":"+'Roster LIMA'!W15742","v":"III b"},{"$f":"+'Roster LIMA'!X15742","v":"BR-270"},{"$f":"+'Roster LIMA'!Y15742","v":"V-20"},{"$f":"+'Roster LIMA'!Z15742","v":"WR 200 B14"},{"$f":"+'Roster LIMA'!AA15742","v":"V20 021"},{"$f":"+'Roster LIMA'!AB15742","v":"129 units, built between 1940-47. Focus on shunting operation. Originally employed by the Wehrmacht"},{"$f":"+'Roster LIMA'!AC15742","v":"N/A"},{"$f":"+'Roster LIMA'!AD15742","v":"N/A"},{"$f":"+'Roster LIMA'!AE15742","v":"N/A"},{"$f":"+'Roster LIMA'!AF15742","v":"Keks"},{"$f":"+'Roster LIMA'!AG15742","v":"N/A"},{"$f":"+'Roster LIMA'!AH15742","v":"Black"},{"$f":"+'Roster LIMA'!AI15742","v":"Grey"},{"$f":"+'Roster LIMA'!AJ15742","v":"Red"},{"$f":"+'Roster LIMA'!AK15742","v":"N/A"},{"$f":"+'Roster LIMA'!AL15742","v":"Black"},{"$f":"+'Roster LIMA'!AM15742","v":"Blue"},{"$f":"+'Roster LIMA'!AN15742","v":"G-Motor"},{"$f":"+'Roster LIMA'!AO15742","v":"N/A"},{"$f":"+'Roster LIMA'!AP15742","v":0},{"$f":"+'Roster LIMA'!AQ15742","v":0},{"$f":"+'Roster LIMA'!AR15742","v":3},{"$f":"+'Roster LIMA'!AS15742","v":1.1494252873563218E-2},{"$f":"+'Roster LIMA'!AT15742","v":92},{"$f":"+'Roster LIMA'!AU15742","v":"Yes"}]
[{"$f":"+'Roster LIMA'!F15743","v":"HL2815"},{"$f":"+'Roster LIMA'!G15743","v":2006},{"$f":"+'Roster LIMA'!H15743","v":"Yes"},{"$f":"+'Roster LIMA'!I15743","v":"ML"},{"$f":"+'Roster LIMA'!J15743","v":4},{"$f":"+'Roster LIMA'!K15743","v":"x"},{"$f":"+'Roster LIMA'!E15743","v":0},{"$f":"+'Roster LIMA'!B15743","v":"N/A"},{"$f":"+'Roster LIMA'!C15743","v":0},{"$f":"+'Roster LIMA'!D15743","v":"AC"},{"$f":"+'Roster LIMA'!L15743","v":"Germany"},{"$f":"+'Roster LIMA'!M15743","v":"DB"},{"$f":"+'Roster LIMA'!N15741","v":"No"},{"$f":"+'Roster LIMA'!O15743","v":"Locomotive"},{"$f":"+'Roster LIMA'!P15743","v":"Diesel"},{"$f":"+'Roster LIMA'!Q15743","v":"Shunter"},{"$f":"+'Roster LIMA'!R15743","v":"C"},{"$f":"+'Roster LIMA'!S15743","v":"N/A"},{"$f":"+'Roster LIMA'!T15743","v":"Yes"},{"$f":"+'Roster LIMA'!U15743","v":1943},{"$f":"+'Roster LIMA'!V15743","v":1977},{"$f":"+'Roster LIMA'!W15743","v":"III a / III b"},{"$f":"+'Roster LIMA'!X15743","v":"BR-270"},{"$f":"+'Roster LIMA'!Y15743","v":"V-20"},{"$f":"+'Roster LIMA'!Z15743","v":"WR 200 B14"},{"$f":"+'Roster LIMA'!AA15743","v":"V20 040"},{"$f":"+'Roster LIMA'!AB15743","v":"129 units, built between 1940-47. Focus on shunting operation. Originally employed by the Wehrmacht. AC version only"},{"$f":"+'Roster LIMA'!AC15743","v":"N/A"},{"$f":"+'Roster LIMA'!AD15743","v":"N/A"},{"$f":"+'Roster LIMA'!AE15743","v":"N/A"},{"$f":"+'Roster LIMA'!AF15743","v":"Keks"},{"$f":"+'Roster LIMA'!AG15743","v":"N/A"},{"$f":"+'Roster LIMA'!AH15743","v":"Black"},{"$f":"+'Roster LIMA'!AI15743","v":"Grey"},{"$f":"+'Roster LIMA'!AJ15743","v":"Red"},{"$f":"+'Roster LIMA'!AK15743","v":"N/A"},{"$f":"+'Roster LIMA'!AL15743","v":"Black"},{"$f":"+'Roster LIMA'!AM15743","v":"Blue"},{"$f":"+'Roster LIMA'!AN15743","v":"G-Motor"},{"$f":"+'Roster LIMA'!AO15743","v":"N/A"},{"$f":"+'Roster LIMA'!AP15743","v":0},{"$f":"+'Roster LIMA'!AQ15743","v":0},{"$f":"+'Roster LIMA'!AR15743","v":3},{"$f":"+'Roster LIMA'!AS15743","v":1.1494252873563218E-2},{"$f":"+'Roster LIMA'!AT15743","v":92},{"$f":"+'Roster LIMA'!AU15743","v":"Yes"}]
[{"$f":"+'Roster LIMA'!F15744","v":"HL2007"},{"$f":"+'Roster LIMA'!G15744","v":2006},{"$f":"+'Roster LIMA'!H15744","v":"Yes"},{"$f":"+'Roster LIMA'!I15744","v":"ML"},{"$f":"+'Roster LIMA'!J15744","v":5},{"$f":"+'Roster LIMA'!K15744","v":"x"},{"$f":"+'Roster LIMA'!E15744","v":0},{"$f":"+'Roster LIMA'!B15744","v":208032},{"$f":"+'Roster LIMA'!C15744","v":"LMP"},{"$f":"+'Roster LIMA'!D15744","v":0},{"$f":"+'Roster LIMA'!L15744","v":"Germany"},{"$f":"+'Roster LIMA'!M15744","v":"DB"},{"$f":"+'Roster LIMA'!N15742","v":"No"},{"$f":"+'Roster LIMA'!O15744","v":"Locomotive"},{"$f":"+'Roster LIMA'!P15744","v":"Electric"},{"$f":"+'Roster LIMA'!Q15744","v":"Express service"},{"$f":"+'Roster LIMA'!R15744","v":"Bo'Bo'"},{"$f":"+'Roster LIMA'!S15744","v":"N/A"},{"$f":"+'Roster LIMA'!T15744","v":"Yes"},{"$f":"+'Roster LIMA'!U15744","v":1952},{"$f":"+'Roster LIMA'!V15744","v":1979},{"$f":"+'Roster LIMA'!W15744","v":"III a / III b"},{"$f":"+'Roster LIMA'!X15744","v":"BR-110"},{"$f":"+'Roster LIMA'!Y15744","v":"BR-110"},{"$f":"+'Roster LIMA'!Z15744","v":"E-10.0"},{"$f":"+'Roster LIMA'!AA15744","v":"E10 005"},{"$f":"+'Roster LIMA'!AB15744","v":"5 units, built between 1952-53 and numbered originally E10.001/005 (after 1968 110.001/005). Focus on express Passenger services"},{"$f":"+'Roster LIMA'!AC15744","v":"N/A"},{"$f":"+'Roster LIMA'!AD15744","v":"N/A"},{"$f":"+'Roster LIMA'!AE15744","v":"N/A"},{"$f":"+'Roster LIMA'!AF15744","v":"Deutsche Bundesbahn"},{"$f":"+'Roster LIMA'!AG15744","v":"DB-Kobaltblau"},{"$f":"+'Roster LIMA'!AH15744","v":"Blue"},{"$f":"+'Roster LIMA'!AI15744","v":"Grey"},{"$f":"+'Roster LIMA'!AJ15744","v":"Black"},{"$f":"+'Roster LIMA'!AK15744","v":"Grey"},{"$f":"+'Roster LIMA'!AL15744","v":"Blue"},{"$f":"+'Roster LIMA'!AM15744","v":"Blue"},{"$f":"+'Roster LIMA'!AN15744","v":"Double cardan transmission"},{"$f":"+'Roster LIMA'!AO15744","v":"Double arm"},{"$f":"+'Roster LIMA'!AP15744","v":2},{"$f":"+'Roster LIMA'!AQ15744","v":2},{"$f":"+'Roster LIMA'!AR15744","v":4},{"$f":"+'Roster LIMA'!AS15744","v":1.1494252873563218E-2},{"$f":"+'Roster LIMA'!AT15744","v":183},{"$f":"+'Roster LIMA'!AU15744","v":"Yes"}]
[{"$f":"+'Roster LIMA'!F15745","v":"HL2003"},{"$f":"+'Roster LIMA'!G15745","v":2006},{"$f":"+'Roster LIMA'!H15745","v":"Yes"},{"$f":"+'Roster LIMA'!I15745","v":"ML"},{"$f":"+'Roster LIMA'!J15745","v":5},{"$f":"+'Roster LIMA'!K15745","v":"x"},{"$f":"+'Roster LIMA'!E15745","v":0},{"$f":"+'Roster LIMA'!B15745","v":"N/A"},{"$f":"+'Roster LIMA'!C15745","v":"LMP"},{"$f":"+'Roster LIMA'!D15745","v":0},{"$f":"+'Roster LIMA'!L15745","v":"Germany"},{"$f":"+'Roster LIMA'!M15745","v":"DB"},{"$f":"+'Roster LIMA'!N15743","v":"No"},{"$f":"+'Roster LIMA'!O15745","v":"Locomotive"},{"$f":"+'Roster LIMA'!P15745","v":"Electric"},{"$f":"+'Roster LIMA'!Q15745","v":"Express service"},{"$f":"+'Roster LIMA'!R15745","v":"Bo'Bo'"},{"$f":"+'Roster LIMA'!S15745","v":"N/A"},{"$f":"+'Roster LIMA'!T15745","v":"Yes"},{"$f":"+'Roster LIMA'!U15745","v":1953},{"$f":"+'Roster LIMA'!V15745","v":1976},{"$f":"+'Roster LIMA'!W15745","v":"IV a"},{"$f":"+'Roster LIMA'!X15745","v":"BR-110"},{"$f":"+'Roster LIMA'!Y15745","v":"BR-110"},{"$f":"+'Roster LIMA'!Z15745","v":"E-10.0"},{"$f":"+'Roster LIMA'!AA15745","v":"110 004-9"},{"$f":"+'Roster LIMA'!AB15745","v":"5 units, built between 1952-53 and numbered originally E10.001/005 (after 1968 110.001/005). Focus on express Passenger services"},{"$f":"+'Roster LIMA'!AC15745","v":"N/A"},{"$f":"+'Roster LIMA'!AD15745","v":"N/A"},{"$f":"+'Roster LIMA'!AE15745","v":"N/A"},{"$f":"+'Roster LIMA'!AF15745","v":"Deutsche Bundesbahn"},{"$f":"+'Roster LIMA'!AG15745","v":"DB-Kobaltblau"},{"$f":"+'Roster LIMA'!AH15745","v":"Blue"},{"$f":"+'Roster LIMA'!AI15745","v":"Grey"},{"$f":"+'Roster LIMA'!AJ15745","v":"Black"},{"$f":"+'Roster LIMA'!AK15745","v":"Grey"},{"$f":"+'Roster LIMA'!AL15745","v":"Blue"},{"$f":"+'Roster LIMA'!AM15745","v":"Blue"},{"$f":"+'Roster LIMA'!AN15745","v":"Double cardan transmission"},{"$f":"+'Roster LIMA'!AO15745","v":"Double arm"},{"$f":"+'Roster LIMA'!AP15745","v":2},{"$f":"+'Roster LIMA'!AQ15745","v":2},{"$f":"+'Roster LIMA'!AR15745","v":4},{"$f":"+'Roster LIMA'!AS15745","v":1.1494252873563218E-2},{"$f":"+'Roster LIMA'!AT15745","v":183},{"$f":"+'Roster LIMA'!AU15745","v":"Yes"}]
[{"$f":"+'Roster LIMA'!F15746","v":"HL4001"},{"$f":"+'Roster LIMA'!G15746","v":2006},{"$f":"+'Roster LIMA'!H15746","v":"Yes"},{"$f":"+'Roster LIMA'!I15746","v":"ML"},{"$f":"+'Roster LIMA'!J15746","v":6},{"$f":"+'Roster LIMA'!K15746","v":"x"},{"$f":"+'Roster LIMA'!E15746","v":0},{"$f":"+'Roster LIMA'!B15746","v":149795},{"$f":"+'Roster LIMA'!C15746","v":"K"},{"$f":"+'Roster LIMA'!D15746","v":0},{"$f":"+'Roster LIMA'!L15746","v":"Germany"},{"$f":"+'Roster LIMA'!M15746","v":"DB"},{"$f":"+'Roster LIMA'!N15744","v":"No"},{"$f":"+'Roster LIMA'!O15746","v":"Passenger"},{"$f":"+'Roster LIMA'!P15746","v":"Set"},{"$f":"+'Roster LIMA'!Q15746","v":"Express service"},{"$f":"+'Roster LIMA'!R15746","v":"2'2'+2'2'+2'2'+2'2'"},{"$f":"+'Roster LIMA'!S15746","v":"Lima Collection"},{"$f":"+'Roster LIMA'!T15746","v":"Yes"},{"$f":"+'Roster LIMA'!U15746","v":1963},{"$f":"+'Roster LIMA'!V15746","v":1976},{"$f":"+'Roster LIMA'!W15746","v":"III b"},{"$f":"+'Roster LIMA'!X15746","v":"UIC-X"},{"$f":"+'Roster LIMA'!Y15746","v":"TEE Rheingold"},{"$f":"+'Roster LIMA'!Z15746","v":"N/A"},{"$f":"+'Roster LIMA'!AA15746","v":"N/A"},{"$f":"+'Roster LIMA'!AB15746","v":"4-unit train comprised of Passenger #309165, #309181, #309672 and dining car #309182"},{"$f":"+'Roster LIMA'!AC15746","v":"N/A"},{"$f":"+'Roster LIMA'!AD15746","v":"Rheingold"},{"$f":"+'Roster LIMA'!AE15746","v":"N/A"},{"$f":"+'Roster LIMA'!AF15746","v":"Keks"},{"$f":"+'Roster LIMA'!AG15746","v":"Ivory-Blue"},{"$f":"+'Roster LIMA'!AH15746","v":"Cream"},{"$f":"+'Roster LIMA'!AI15746","v":"Grey"},{"$f":"+'Roster LIMA'!AJ15746","v":"Blue"},{"$f":"+'Roster LIMA'!AK15746","v":"Cream"},{"$f":"+'Roster LIMA'!AL15746","v":"Bicolor"},{"$f":"+'Roster LIMA'!AM15746","v":"Blue"},{"$f":"+'Roster LIMA'!AN15746","v":"N/A"},{"$f":"+'Roster LIMA'!AO15746","v":"N/A"},{"$f":"+'Roster LIMA'!AP15746","v":0},{"$f":"+'Roster LIMA'!AQ15746","v":8},{"$f":"+'Roster LIMA'!AR15746","v":16},{"$f":"+'Roster LIMA'!AS15746","v":1.1494252873563218E-2},{"$f":"+'Roster LIMA'!AT15746","v":1212},{"$f":"+'Roster LIMA'!AU15746","v":"Yes"}]
[{"$f":"+'Roster LIMA'!F15747","v":"HL4002"},{"$f":"+'Roster LIMA'!G15747","v":2006},{"$f":"+'Roster LIMA'!H15747","v":"Yes"},{"$f":"+'Roster LIMA'!I15747","v":"ML"},{"$f":"+'Roster LIMA'!J15747","v":7},{"$f":"+'Roster LIMA'!K15747","v":"x"},{"$f":"+'Roster LIMA'!E15747","v":0},{"$f":"+'Roster LIMA'!B15747","v":309639},{"$f":"+'Roster LIMA'!C15747","v":"K"},{"$f":"+'Roster LIMA'!D15747","v":0},{"$f":"+'Roster LIMA'!L15747","v":"Germany"},{"$f":"+'Roster LIMA'!M15747","v":"DB"},{"$f":"+'Roster LIMA'!N15745","v":"No"},{"$f":"+'Roster LIMA'!O15747","v":"Passenger"},{"$f":"+'Roster LIMA'!P15747","v":"With compartment"},{"$f":"+'Roster LIMA'!Q15747","v":"1° class"},{"$f":"+'Roster LIMA'!R15747","v":"2'2'"},{"$f":"+'Roster LIMA'!S15747","v":"N/A"},{"$f":"+'Roster LIMA'!T15747","v":"Yes"},{"$f":"+'Roster LIMA'!U15747","v":1963},{"$f":"+'Roster LIMA'!V15747","v":1983},{"$f":"+'Roster LIMA'!W15747","v":"III b"},{"$f":"+'Roster LIMA'!X15747","v":"UIC-X"},{"$f":"+'Roster LIMA'!Y15747","v":"Avmz 111"},{"$f":"+'Roster LIMA'!Z15747","v":"Av4üm-63"},{"$f":"+'Roster LIMA'!AA15747","v":10412},{"$f":"+'Roster LIMA'!AB15747","v":"12 units, built in 1963 and numbered originally 10411/22 (after 1966 19-80 011/22). Ivory-Blue livery used between 1963-68. Rounded-edged roof (1° series before 1967)"},{"$f":"+'Roster LIMA'!AC15747","v":"N/A"},{"$f":"+'Roster LIMA'!AD15747","v":"Rheinpfeil"},{"$f":"+'Roster LIMA'!AE15747","v":"Runddach"},{"$f":"+'Roster LIMA'!AF15747","v":"Keks"},{"$f":"+'Roster LIMA'!AG15747","v":"Ivory-Blue"},{"$f":"+'Roster LIMA'!AH15747","v":"Cream"},{"$f":"+'Roster LIMA'!AI15747","v":"Grey"},{"$f":"+'Roster LIMA'!AJ15747","v":"Blue"},{"$f":"+'Roster LIMA'!AK15747","v":"Cream"},{"$f":"+'Roster LIMA'!AL15747","v":"Bicolor"},{"$f":"+'Roster LIMA'!AM15747","v":"Blue"},{"$f":"+'Roster LIMA'!AN15747","v":"N/A"},{"$f":"+'Roster LIMA'!AO15747","v":"N/A"},{"$f":"+'Roster LIMA'!AP15747","v":0},{"$f":"+'Roster LIMA'!AQ15747","v":2},{"$f":"+'Roster LIMA'!AR15747","v":4},{"$f":"+'Roster LIMA'!AS15747","v":1.1494252873563218E-2},{"$f":"+'Roster LIMA'!AT15747","v":303},{"$f":"+'Roster LIMA'!AU15747","v":"Replace"}]
[{"$f":"+'Roster LIMA'!F15748","v":"HL4003"},{"$f":"+'Roster LIMA'!G15748","v":2006},{"$f":"+'Roster LIMA'!H15748","v":"Yes"},{"$f":"+'Roster LIMA'!I15748","v":"ML"},{"$f":"+'Roster LIMA'!J15748","v":7},{"$f":"+'Roster LIMA'!K15748","v":"x"},{"$f":"+'Roster LIMA'!E15748","v":0},{"$f":"+'Roster LIMA'!B15748","v":309640},{"$f":"+'Roster LIMA'!C15748","v":"K"},{"$f":"+'Roster LIMA'!D15748","v":0},{"$f":"+'Roster LIMA'!L15748","v":"Germany"},{"$f":"+'Roster LIMA'!M15748","v":"DB"},{"$f":"+'Roster LIMA'!N15746","v":"No"},{"$f":"+'Roster LIMA'!O15748","v":"Passenger"},{"$f":"+'Roster LIMA'!P15748","v":"With central corridor"},{"$f":"+'Roster LIMA'!Q15748","v":"1° class"},{"$f":"+'Roster LIMA'!R15748","v":"2'2'"},{"$f":"+'Roster LIMA'!S15748","v":"N/A"},{"$f":"+'Roster LIMA'!T15748","v":"Yes"},{"$f":"+'Roster LIMA'!U15748","v":1963},{"$f":"+'Roster LIMA'!V15748","v":2001},{"$f":"+'Roster LIMA'!W15748","v":"III b"},{"$f":"+'Roster LIMA'!X15748","v":"UIC-X"},{"$f":"+'Roster LIMA'!Y15748","v":"Apmz 121"},{"$f":"+'Roster LIMA'!Z15748","v":"Ap4üm-63"},{"$f":"+'Roster LIMA'!AA15748","v":10506},{"$f":"+'Roster LIMA'!AB15748","v":"6 units, built in 1963 and numbered originally 10506/11 (after 1966 18-80 006/11). Focus on Rheinpfeil Passenger services. Ivory-Blue livery used between 1963-68. Rounded-edged roof (1° series before 1967)"},{"$f":"+'Roster LIMA'!AC15748","v":"N/A"},{"$f":"+'Roster LIMA'!AD15748","v":"Rheinpfeil"},{"$f":"+'Roster LIMA'!AE15748","v":"Runddach"},{"$f":"+'Roster LIMA'!AF15748","v":"Keks"},{"$f":"+'Roster LIMA'!AG15748","v":"Ivory-Blue"},{"$f":"+'Roster LIMA'!AH15748","v":"Cream"},{"$f":"+'Roster LIMA'!AI15748","v":"Grey"},{"$f":"+'Roster LIMA'!AJ15748","v":"Blue"},{"$f":"+'Roster LIMA'!AK15748","v":"Cream"},{"$f":"+'Roster LIMA'!AL15748","v":"Bicolor"},{"$f":"+'Roster LIMA'!AM15748","v":"Blue"},{"$f":"+'Roster LIMA'!AN15748","v":"N/A"},{"$f":"+'Roster LIMA'!AO15748","v":"N/A"},{"$f":"+'Roster LIMA'!AP15748","v":0},{"$f":"+'Roster LIMA'!AQ15748","v":2},{"$f":"+'Roster LIMA'!AR15748","v":4},{"$f":"+'Roster LIMA'!AS15748","v":1.1494252873563218E-2},{"$f":"+'Roster LIMA'!AT15748","v":303},{"$f":"+'Roster LIMA'!AU15748","v":"Replace"}]
[{"$f":"+'Roster LIMA'!F15749","v":"HL4000"},{"$f":"+'Roster LIMA'!G15749","v":2006},{"$f":"+'Roster LIMA'!H15749","v":"Yes"},{"$f":"+'Roster LIMA'!I15749","v":"ML"},{"$f":"+'Roster LIMA'!J15749","v":8},{"$f":"+'Roster LIMA'!K15749","v":"x"},{"$f":"+'Roster LIMA'!E15749","v":0},{"$f":"+'Roster LIMA'!B15749","v":149794},{"$f":"+'Roster LIMA'!C15749","v":"K"},{"$f":"+'Roster LIMA'!D15749","v":0},{"$f":"+'Roster LIMA'!L15749","v":"Germany"},{"$f":"+'Roster LIMA'!M15749","v":"DB"},{"$f":"+'Roster LIMA'!N15747","v":"No"},{"$f":"+'Roster LIMA'!O15749","v":"Passenger"},{"$f":"+'Roster LIMA'!P15749","v":"Set"},{"$f":"+'Roster LIMA'!Q15749","v":"Express service"},{"$f":"+'Roster LIMA'!R15749","v":"2'2'+2'2'+2'2'+2'2'"},{"$f":"+'Roster LIMA'!S15749","v":"Lima Collection"},{"$f":"+'Roster LIMA'!T15749","v":"Yes"},{"$f":"+'Roster LIMA'!U15749","v":1965},{"$f":"+'Roster LIMA'!V15749","v":1976},{"$f":"+'Roster LIMA'!W15749","v":"IV a"},{"$f":"+'Roster LIMA'!X15749","v":"UIC-X"},{"$f":"+'Roster LIMA'!Y15749","v":"TEE Rheingold"},{"$f":"+'Roster LIMA'!Z15749","v":"N/A"},{"$f":"+'Roster LIMA'!AA15749","v":"N/A"},{"$f":"+'Roster LIMA'!AB15749","v":"4-unit train comprised of Passenger Avümh 111, Apümh 121, dining car Wrümh 131 and Panoramic dome Adümh 101"},{"$f":"+'Roster LIMA'!AC15749","v":"N/A"},{"$f":"+'Roster LIMA'!AD15749","v":"TEE"},{"$f":"+'Roster LIMA'!AE15749","v":"N/A"},{"$f":"+'Roster LIMA'!AF15749","v":"Keks"},{"$f":"+'Roster LIMA'!AG15749","v":"TEE"},{"$f":"+'Roster LIMA'!AH15749","v":"Red"},{"$f":"+'Roster LIMA'!AI15749","v":"Grey"},{"$f":"+'Roster LIMA'!AJ15749","v":"Red"},{"$f":"+'Roster LIMA'!AK15749","v":"Cream"},{"$f":"+'Roster LIMA'!AL15749","v":"Bicolor"},{"$f":"+'Roster LIMA'!AM15749","v":"Blue"},{"$f":"+'Roster LIMA'!AN15749","v":"N/A"},{"$f":"+'Roster LIMA'!AO15749","v":"N/A"},{"$f":"+'Roster LIMA'!AP15749","v":0},{"$f":"+'Roster LIMA'!AQ15749","v":8},{"$f":"+'Roster LIMA'!AR15749","v":16},{"$f":"+'Roster LIMA'!AS15749","v":1.1494252873563218E-2},{"$f":"+'Roster LIMA'!AT15749","v":1220},{"$f":"+'Roster LIMA'!AU15749","v":"Yes"}]
[{"$f":"+'Roster LIMA'!F15750","v":"HL4004"},{"$f":"+'Roster LIMA'!G15750","v":2006},{"$f":"+'Roster LIMA'!H15750","v":"Yes"},{"$f":"+'Roster LIMA'!I15750","v":"ML"},{"$f":"+'Roster LIMA'!J15750","v":8},{"$f":"+'Roster LIMA'!K15750","v":"x"},{"$f":"+'Roster LIMA'!E15750","v":0},{"$f":"+'Roster LIMA'!B15750","v":309634},{"$f":"+'Roster LIMA'!C15750","v":"K"},{"$f":"+'Roster LIMA'!D15750","v":0},{"$f":"+'Roster LIMA'!L15750","v":"Germany"},{"$f":"+'Roster LIMA'!M15750","v":"DB"},{"$f":"+'Roster LIMA'!N15748","v":"No"},{"$f":"+'Roster LIMA'!O15750","v":"Passenger"},{"$f":"+'Roster LIMA'!P15750","v":"With compartment"},{"$f":"+'Roster LIMA'!Q15750","v":"1° class"},{"$f":"+'Roster LIMA'!R15750","v":"2'2'"},{"$f":"+'Roster LIMA'!S15750","v":"N/A"},{"$f":"+'Roster LIMA'!T15750","v":"Yes"},{"$f":"+'Roster LIMA'!U15750","v":1963},{"$f":"+'Roster LIMA'!V15750","v":1995},{"$f":"+'Roster LIMA'!W15750","v":"IV a / IV b"},{"$f":"+'Roster LIMA'!X15750","v":"UIC-X"},{"$f":"+'Roster LIMA'!Y15750","v":"Avmz 111"},{"$f":"+'Roster LIMA'!Z15750","v":"Av4üm-63"},{"$f":"+'Roster LIMA'!AA15750","v":"61 80 19-80 011-8"},{"$f":"+'Roster LIMA'!AB15750","v":"12 units, built in 1963 and numbered originally 10411/22 (after 1966 19-80 011/22). Focus on TEE Passenger services. Rounded-edged roof (1° series before 1967)"},{"$f":"+'Roster LIMA'!AC15750","v":"N/A"},{"$f":"+'Roster LIMA'!AD15750","v":"TEE"},{"$f":"+'Roster LIMA'!AE15750","v":"Runddach"},{"$f":"+'Roster LIMA'!AF15750","v":"Keks"},{"$f":"+'Roster LIMA'!AG15750","v":"TEE"},{"$f":"+'Roster LIMA'!AH15750","v":"Red"},{"$f":"+'Roster LIMA'!AI15750","v":"Grey"},{"$f":"+'Roster LIMA'!AJ15750","v":"Red"},{"$f":"+'Roster LIMA'!AK15750","v":"Cream"},{"$f":"+'Roster LIMA'!AL15750","v":"Bicolor"},{"$f":"+'Roster LIMA'!AM15750","v":"Blue"},{"$f":"+'Roster LIMA'!AN15750","v":"N/A"},{"$f":"+'Roster LIMA'!AO15750","v":"N/A"},{"$f":"+'Roster LIMA'!AP15750","v":0},{"$f":"+'Roster LIMA'!AQ15750","v":2},{"$f":"+'Roster LIMA'!AR15750","v":4},{"$f":"+'Roster LIMA'!AS15750","v":1.1494252873563218E-2},{"$f":"+'Roster LIMA'!AT15750","v":303},{"$f":"+'Roster LIMA'!AU15750","v":"Replace"}]
[{"$f":"+'Roster LIMA'!F15751","v":"HL4005"},{"$f":"+'Roster LIMA'!G15751","v":2006},{"$f":"+'Roster LIMA'!H15751","v":"Yes"},{"$f":"+'Roster LIMA'!I15751","v":"ML"},{"$f":"+'Roster LIMA'!J15751","v":8},{"$f":"+'Roster LIMA'!K15751","v":"x"},{"$f":"+'Roster LIMA'!E15751","v":0},{"$f":"+'Roster LIMA'!B15751","v":309635},{"$f":"+'Roster LIMA'!C15751","v":"K"},{"$f":"+'Roster LIMA'!D15751","v":0},{"$f":"+'Roster LIMA'!L15751","v":"Germany"},{"$f":"+'Roster LIMA'!M15751","v":"DB"},{"$f":"+'Roster LIMA'!N15749","v":"No"},{"$f":"+'Roster LIMA'!O15751","v":"Passenger"},{"$f":"+'Roster LIMA'!P15751","v":"With central corridor"},{"$f":"+'Roster LIMA'!Q15751","v":"1° class"},{"$f":"+'Roster LIMA'!R15751","v":"2'2'"},{"$f":"+'Roster LIMA'!S15751","v":"N/A"},{"$f":"+'Roster LIMA'!T15751","v":"Yes"},{"$f":"+'Roster LIMA'!U15751","v":1963},{"$f":"+'Roster LIMA'!V15751","v":1977},{"$f":"+'Roster LIMA'!W15751","v":"IV a / IV b"},{"$f":"+'Roster LIMA'!X15751","v":"UIC-X"},{"$f":"+'Roster LIMA'!Y15751","v":"Apmz 121"},{"$f":"+'Roster LIMA'!Z15751","v":"Ap4üm-63"},{"$f":"+'Roster LIMA'!AA15751","v":"61 80 18-80 011-9"},{"$f":"+'Roster LIMA'!AB15751","v":"6 units, built in 1963 and numbered originally 10506/11 (after 1966 18-80 006/11). Focus on Rheinpfeil Passenger services. Rounded-edged roof (1° series before 1967)"},{"$f":"+'Roster LIMA'!AC15751","v":"N/A"},{"$f":"+'Roster LIMA'!AD15751","v":"TEE"},{"$f":"+'Roster LIMA'!AE15751","v":"Runddach"},{"$f":"+'Roster LIMA'!AF15751","v":"Keks"},{"$f":"+'Roster LIMA'!AG15751","v":"TEE"},{"$f":"+'Roster LIMA'!AH15751","v":"Red"},{"$f":"+'Roster LIMA'!AI15751","v":"Grey"},{"$f":"+'Roster LIMA'!AJ15751","v":"Red"},{"$f":"+'Roster LIMA'!AK15751","v":"Cream"},{"$f":"+'Roster LIMA'!AL15751","v":"Bicolor"},{"$f":"+'Roster LIMA'!AM15751","v":"Blue"},{"$f":"+'Roster LIMA'!AN15751","v":"N/A"},{"$f":"+'Roster LIMA'!AO15751","v":"N/A"},{"$f":"+'Roster LIMA'!AP15751","v":0},{"$f":"+'Roster LIMA'!AQ15751","v":2},{"$f":"+'Roster LIMA'!AR15751","v":4},{"$f":"+'Roster LIMA'!AS15751","v":1.1494252873563218E-2},{"$f":"+'Roster LIMA'!AT15751","v":303},{"$f":"+'Roster LIMA'!AU15751","v":"Replace"}]
[{"$f":"+'Roster LIMA'!F15752","v":"HL6019"},{"$f":"+'Roster LIMA'!G15752","v":2006},{"$f":"+'Roster LIMA'!H15752","v":"Yes"},{"$f":"+'Roster LIMA'!I15752","v":"ML"},{"$f":"+'Roster LIMA'!J15752","v":9},{"$f":"+'Roster LIMA'!K15752","v":"x"},{"$f":"+'Roster LIMA'!E15752","v":0},{"$f":"+'Roster LIMA'!B15752","v":303202},{"$f":"+'Roster LIMA'!C15752","v":"K"},{"$f":"+'Roster LIMA'!D15752","v":0},{"$f":"+'Roster LIMA'!L15752","v":"Italy"},{"$f":"+'Roster LIMA'!M15752","v":"FS"},{"$f":"+'Roster LIMA'!N15750","v":"No"},{"$f":"+'Roster LIMA'!O15752","v":"Freight"},{"$f":"+'Roster LIMA'!P15752","v":"Closed"},{"$f":"+'Roster LIMA'!Q15752","v":"N/A"},{"$f":"+'Roster LIMA'!R15752","v":2},{"$f":"+'Roster LIMA'!S15752","v":"N/A"},{"$f":"+'Roster LIMA'!T15752","v":"Yes"},{"$f":"+'Roster LIMA'!U15752","v":1959},{"$f":"+'Roster LIMA'!V15752","v":2000},{"$f":"+'Roster LIMA'!W15752","v":"III b / IV a"},{"$f":"+'Roster LIMA'!X15752","v":"G-type"},{"$f":"+'Roster LIMA'!Y15752","v":"Gs 216"},{"$f":"+'Roster LIMA'!Z15752","v":"Gms 137-6"},{"$f":"+'Roster LIMA'!AA15752","v":"F 1171103"},{"$f":"+'Roster LIMA'!AB15752","v":"Built since the late 1950's"},{"$f":"+'Roster LIMA'!AC15752","v":"N/A"},{"$f":"+'Roster LIMA'!AD15752","v":"N/A"},{"$f":"+'Roster LIMA'!AE15752","v":"N/A"},{"$f":"+'Roster LIMA'!AF15752","v":"N/A"},{"$f":"+'Roster LIMA'!AG15752","v":"N/A"},{"$f":"+'Roster LIMA'!AH15752","v":"Brown"},{"$f":"+'Roster LIMA'!AI15752","v":"Grey"},{"$f":"+'Roster LIMA'!AJ15752","v":"Black"},{"$f":"+'Roster LIMA'!AK15752","v":"N/A"},{"$f":"+'Roster LIMA'!AL15752","v":"Brown"},{"$f":"+'Roster LIMA'!AM15752","v":"Blue"},{"$f":"+'Roster LIMA'!AN15752","v":"N/A"},{"$f":"+'Roster LIMA'!AO15752","v":"N/A"},{"$f":"+'Roster LIMA'!AP15752","v":0},{"$f":"+'Roster LIMA'!AQ15752","v":0},{"$f":"+'Roster LIMA'!AR15752","v":2},{"$f":"+'Roster LIMA'!AS15752","v":1.1494252873563218E-2},{"$f":"+'Roster LIMA'!AT15752","v":121},{"$f":"+'Roster LIMA'!AU15752","v":"Yes"}]
[{"$f":"+'Roster LIMA'!F15753","v":"HL6020"},{"$f":"+'Roster LIMA'!G15753","v":2006},{"$f":"+'Roster LIMA'!H15753","v":"Yes"},{"$f":"+'Roster LIMA'!I15753","v":"ML"},{"$f":"+'Roster LIMA'!J15753","v":9},{"$f":"+'Roster LIMA'!K15753","v":"x"},{"$f":"+'Roster LIMA'!E15753","v":0},{"$f":"+'Roster LIMA'!B15753","v":"N/A"},{"$f":"+'Roster LIMA'!C15753","v":0},{"$f":"+'Roster LIMA'!D15753","v":0},{"$f":"+'Roster LIMA'!L15753","v":"Germany"},{"$f":"+'Roster LIMA'!M15753","v":"DB"},{"$f":"+'Roster LIMA'!N15751","v":"No"},{"$f":"+'Roster LIMA'!O15753","v":"Freight"},{"$f":"+'Roster LIMA'!P15753","v":"Closed"},{"$f":"+'Roster LIMA'!Q15753","v":"N/A"},{"$f":"+'Roster LIMA'!R15753","v":2},{"$f":"+'Roster LIMA'!S15753","v":"N/A"},{"$f":"+'Roster LIMA'!T15753","v":"Yes"},{"$f":"+'Roster LIMA'!U15753","v":1957},{"$f":"+'Roster LIMA'!V15753","v":2000},{"$f":"+'Roster LIMA'!W15753","v":"III b / IV a / IV b / V a"},{"$f":"+'Roster LIMA'!X15753","v":"G-type"},{"$f":"+'Roster LIMA'!Y15753","v":"Ibblps 395"},{"$f":"+'Roster LIMA'!Z15753","v":"Tnomhs 50"},{"$f":"+'Roster LIMA'!AA15753","v":"N/A"},{"$f":"+'Roster LIMA'!AB15753","v":"476 units, built between 1957-58. For transport of bananas"},{"$f":"+'Roster LIMA'!AC15753","v":"Bananen"},{"$f":"+'Roster LIMA'!AD15753","v":"N/A"},{"$f":"+'Roster LIMA'!AE15753","v":"N/A"},{"$f":"+'Roster LIMA'!AF15753","v":"N/A"},{"$f":"+'Roster LIMA'!AG15753","v":"N/A"},{"$f":"+'Roster LIMA'!AH15753","v":"Yellow"},{"$f":"+'Roster LIMA'!AI15753","v":"Grey"},{"$f":"+'Roster LIMA'!AJ15753","v":"Brown"},{"$f":"+'Roster LIMA'!AK15753","v":"N/A"},{"$f":"+'Roster LIMA'!AL15753","v":"Yellow"},{"$f":"+'Roster LIMA'!AM15753","v":"Blue"},{"$f":"+'Roster LIMA'!AN15753","v":"N/A"},{"$f":"+'Roster LIMA'!AO15753","v":"N/A"},{"$f":"+'Roster LIMA'!AP15753","v":0},{"$f":"+'Roster LIMA'!AQ15753","v":0},{"$f":"+'Roster LIMA'!AR15753","v":2},{"$f":"+'Roster LIMA'!AS15753","v":1.1494252873563218E-2},{"$f":"+'Roster LIMA'!AT15753","v":121},{"$f":"+'Roster LIMA'!AU15753","v":"Yes"}]
[{"$f":"+'Roster LIMA'!F15754","v":"HL6021"},{"$f":"+'Roster LIMA'!G15754","v":2006},{"$f":"+'Roster LIMA'!H15754","v":"Yes"},{"$f":"+'Roster LIMA'!I15754","v":"ML"},{"$f":"+'Roster LIMA'!J15754","v":9},{"$f":"+'Roster LIMA'!K15754","v":"x"},{"$f":"+'Roster LIMA'!E15754","v":0},{"$f":"+'Roster LIMA'!B15754","v":303561},{"$f":"+'Roster LIMA'!C15754","v":"K"},{"$f":"+'Roster LIMA'!D15754","v":0},{"$f":"+'Roster LIMA'!L15754","v":"Germany"},{"$f":"+'Roster LIMA'!M15754","v":"DB"},{"$f":"+'Roster LIMA'!N15752","v":"No"},{"$f":"+'Roster LIMA'!O15754","v":"Freight"},{"$f":"+'Roster LIMA'!P15754","v":"Hopper"},{"$f":"+'Roster LIMA'!Q15754","v":"With ladder"},{"$f":"+'Roster LIMA'!R15754","v":2},{"$f":"+'Roster LIMA'!S15754","v":"N/A"},{"$f":"+'Roster LIMA'!T15754","v":"Yes"},{"$f":"+'Roster LIMA'!U15754","v":1959},{"$f":"+'Roster LIMA'!V15754","v":2000},{"$f":"+'Roster LIMA'!W15754","v":"IV a / IV b / V a / V b"},{"$f":"+'Roster LIMA'!X15754","v":"T-type"},{"$f":"+'Roster LIMA'!Y15754","v":"Tds 925"},{"$f":"+'Roster LIMA'!Z15754","v":"Ktmm 60"},{"$f":"+'Roster LIMA'!AA15754","v":"21 80 574 1 441-7"},{"$f":"+'Roster LIMA'!AB15754","v":"1600 units, built between 1958-59"},{"$f":"+'Roster LIMA'!AC15754","v":"N/A"},{"$f":"+'Roster LIMA'!AD15754","v":"N/A"},{"$f":"+'Roster LIMA'!AE15754","v":"N/A"},{"$f":"+'Roster LIMA'!AF15754","v":"Keks"},{"$f":"+'Roster LIMA'!AG15754","v":"N/A"},{"$f":"+'Roster LIMA'!AH15754","v":"Brown"},{"$f":"+'Roster LIMA'!AI15754","v":"N/A"},{"$f":"+'Roster LIMA'!AJ15754","v":"Brown"},{"$f":"+'Roster LIMA'!AK15754","v":"N/A"},{"$f":"+'Roster LIMA'!AL15754","v":"N/A"},{"$f":"+'Roster LIMA'!AM15754","v":"Blue"},{"$f":"+'Roster LIMA'!AN15754","v":"N/A"},{"$f":"+'Roster LIMA'!AO15754","v":"N/A"},{"$f":"+'Roster LIMA'!AP15754","v":0},{"$f":"+'Roster LIMA'!AQ15754","v":0},{"$f":"+'Roster LIMA'!AR15754","v":2},{"$f":"+'Roster LIMA'!AS15754","v":1.2048192771084338E-2},{"$f":"+'Roster LIMA'!AT15754","v":110},{"$f":"+'Roster LIMA'!AU15754","v":"Yes"}]
[{"$f":"+'Roster LIMA'!F15755","v":"HL6001"},{"$f":"+'Roster LIMA'!G15755","v":2006},{"$f":"+'Roster LIMA'!H15755","v":"Yes"},{"$f":"+'Roster LIMA'!I15755","v":"ML"},{"$f":"+'Roster LIMA'!J15755","v":10},{"$f":"+'Roster LIMA'!K15755","v":"x"},{"$f":"+'Roster LIMA'!E15755","v":0},{"$f":"+'Roster LIMA'!B15755","v":302918},{"$f":"+'Roster LIMA'!C15755","v":"K"},{"$f":"+'Roster LIMA'!D15755","v":0},{"$f":"+'Roster LIMA'!L15755","v":"Germany"},{"$f":"+'Roster LIMA'!M15755","v":"DB"},{"$f":"+'Roster LIMA'!N15753","v":"No"},{"$f":"+'Roster LIMA'!O15755","v":"Freight"},{"$f":"+'Roster LIMA'!P15755","v":"Hopper"},{"$f":"+'Roster LIMA'!Q15755","v":"N/A"},{"$f":"+'Roster LIMA'!R15755","v":"2'2'"},{"$f":"+'Roster LIMA'!S15755","v":"N/A"},{"$f":"+'Roster LIMA'!T15755","v":"Yes"},{"$f":"+'Roster LIMA'!U15755","v":1954},{"$f":"+'Roster LIMA'!V15755","v":"Operational"},{"$f":"+'Roster LIMA'!W15755","v":"III a / III b"},{"$f":"+'Roster LIMA'!X15755","v":"T-type"},{"$f":"+'Roster LIMA'!Y15755","v":"Tad-u 958"},{"$f":"+'Roster LIMA'!Z15755","v":"KKt 45"},{"$f":"+'Roster LIMA'!AA15755","v":"355 031"},{"$f":"+'Roster LIMA'!AB15755","v":"Built in the mid 1950's"},{"$f":"+'Roster LIMA'!AC15755","v":"N/A"},{"$f":"+'Roster LIMA'!AD15755","v":"N/A"},{"$f":"+'Roster LIMA'!AE15755","v":"N/A"},{"$f":"+'Roster LIMA'!AF15755","v":"Deutsche Bundesbahn"},{"$f":"+'Roster LIMA'!AG15755","v":"N/A"},{"$f":"+'Roster LIMA'!AH15755","v":"Brown"},{"$f":"+'Roster LIMA'!AI15755","v":"N/A"},{"$f":"+'Roster LIMA'!AJ15755","v":"Brown"},{"$f":"+'Roster LIMA'!AK15755","v":"N/A"},{"$f":"+'Roster LIMA'!AL15755","v":"N/A"},{"$f":"+'Roster LIMA'!AM15755","v":"Blue"},{"$f":"+'Roster LIMA'!AN15755","v":"N/A"},{"$f":"+'Roster LIMA'!AO15755","v":"N/A"},{"$f":"+'Roster LIMA'!AP15755","v":0},{"$f":"+'Roster LIMA'!AQ15755","v":2},{"$f":"+'Roster LIMA'!AR15755","v":4},{"$f":"+'Roster LIMA'!AS15755","v":7.3529411764705881E-3},{"$f":"+'Roster LIMA'!AT15755","v":139},{"$f":"+'Roster LIMA'!AU15755","v":"Yes"}]
[{"$f":"+'Roster LIMA'!F15756","v":"HL6011"},{"$f":"+'Roster LIMA'!G15756","v":2006},{"$f":"+'Roster LIMA'!H15756","v":"Yes"},{"$f":"+'Roster LIMA'!I15756","v":"ML"},{"$f":"+'Roster LIMA'!J15756","v":10},{"$f":"+'Roster LIMA'!K15756","v":"x"},{"$f":"+'Roster LIMA'!E15756","v":0},{"$f":"+'Roster LIMA'!B15756","v":"N/A"},{"$f":"+'Roster LIMA'!C15756","v":0},{"$f":"+'Roster LIMA'!D15756","v":0},{"$f":"+'Roster LIMA'!L15756","v":"Germany"},{"$f":"+'Roster LIMA'!M15756","v":"DB"},{"$f":"+'Roster LIMA'!N15754","v":"No"},{"$f":"+'Roster LIMA'!O15756","v":"Passenger"},{"$f":"+'Roster LIMA'!P15756","v":"Postal"},{"$f":"+'Roster LIMA'!Q15756","v":"Baggage"},{"$f":"+'Roster LIMA'!R15756","v":2},{"$f":"+'Roster LIMA'!S15756","v":"N/A"},{"$f":"+'Roster LIMA'!T15756","v":"Yes"},{"$f":"+'Roster LIMA'!U15756","v":1955},{"$f":"+'Roster LIMA'!V15756","v":1977},{"$f":"+'Roster LIMA'!W15756","v":"IV a / IV b"},{"$f":"+'Roster LIMA'!X15756","v":"2a / 14"},{"$f":"+'Roster LIMA'!Y15756","v":"2a / 14"},{"$f":"+'Roster LIMA'!Z15756","v":"N/A"},{"$f":"+'Roster LIMA'!AA15756","v":"50 80 00-11 127-0"},{"$f":"+'Roster LIMA'!AB15756","v":"254 units, built in the 1950's. Used for postal services"},{"$f":"+'Roster LIMA'!AC15756","v":"Bundespost"},{"$f":"+'Roster LIMA'!AD15756","v":"N/A"},{"$f":"+'Roster LIMA'!AE15756","v":"N/A"},{"$f":"+'Roster LIMA'!AF15756","v":"Post horn"},{"$f":"+'Roster LIMA'!AG15756","v":"DB-Grün"},{"$f":"+'Roster LIMA'!AH15756","v":"Green"},{"$f":"+'Roster LIMA'!AI15756","v":"Grey"},{"$f":"+'Roster LIMA'!AJ15756","v":"Black"},{"$f":"+'Roster LIMA'!AK15756","v":"N/A"},{"$f":"+'Roster LIMA'!AL15756","v":"Green"},{"$f":"+'Roster LIMA'!AM15756","v":"Blue"},{"$f":"+'Roster LIMA'!AN15756","v":"N/A"},{"$f":"+'Roster LIMA'!AO15756","v":"N/A"},{"$f":"+'Roster LIMA'!AP15756","v":0},{"$f":"+'Roster LIMA'!AQ15756","v":0},{"$f":"+'Roster LIMA'!AR15756","v":2},{"$f":"+'Roster LIMA'!AS15756","v":1.1494252873563218E-2},{"$f":"+'Roster LIMA'!AT15756","v":176},{"$f":"+'Roster LIMA'!AU15756","v":"Yes"}]
[{"$f":"+'Roster LIMA'!F15757","v":"HL6000"},{"$f":"+'Roster LIMA'!G15757","v":2006},{"$f":"+'Roster LIMA'!H15757","v":"Yes"},{"$f":"+'Roster LIMA'!I15757","v":"ML"},{"$f":"+'Roster LIMA'!J15757","v":10},{"$f":"+'Roster LIMA'!K15757","v":"x"},{"$f":"+'Roster LIMA'!E15757","v":0},{"$f":"+'Roster LIMA'!B15757","v":302928},{"$f":"+'Roster LIMA'!C15757","v":"K"},{"$f":"+'Roster LIMA'!D15757","v":0},{"$f":"+'Roster LIMA'!L15757","v":"Germany"},{"$f":"+'Roster LIMA'!M15757","v":"RAG"},{"$f":"+'Roster LIMA'!N15755","v":"No"},{"$f":"+'Roster LIMA'!O15757","v":"Freight"},{"$f":"+'Roster LIMA'!P15757","v":"Hopper"},{"$f":"+'Roster LIMA'!Q15757","v":"N/A"},{"$f":"+'Roster LIMA'!R15757","v":"2'2'"},{"$f":"+'Roster LIMA'!S15757","v":"N/A"},{"$f":"+'Roster LIMA'!T15757","v":"Yes"},{"$f":"+'Roster LIMA'!U15757","v":1954},{"$f":"+'Roster LIMA'!V15757","v":1998},{"$f":"+'Roster LIMA'!W15757","v":"III a / III b / IV a / IV b / V a / V b"},{"$f":"+'Roster LIMA'!X15757","v":"F-type"},{"$f":"+'Roster LIMA'!Y15757","v":"Fal 167"},{"$f":"+'Roster LIMA'!Z15757","v":"OOtz 50"},{"$f":"+'Roster LIMA'!AA15757","v":"21 80 066 0 216-1"},{"$f":"+'Roster LIMA'!AB15757","v":"4200 units, built between 1954-65. With automatic load discharge"},{"$f":"+'Roster LIMA'!AC15757","v":"RAG"},{"$f":"+'Roster LIMA'!AD15757","v":"N/A"},{"$f":"+'Roster LIMA'!AE15757","v":"N/A"},{"$f":"+'Roster LIMA'!AF15757","v":"RAG"},{"$f":"+'Roster LIMA'!AG15757","v":"N/A"},{"$f":"+'Roster LIMA'!AH15757","v":"Brown"},{"$f":"+'Roster LIMA'!AI15757","v":"N/A"},{"$f":"+'Roster LIMA'!AJ15757","v":"Brown"},{"$f":"+'Roster LIMA'!AK15757","v":"N/A"},{"$f":"+'Roster LIMA'!AL15757","v":"N/A"},{"$f":"+'Roster LIMA'!AM15757","v":"Blue"},{"$f":"+'Roster LIMA'!AN15757","v":"N/A"},{"$f":"+'Roster LIMA'!AO15757","v":"N/A"},{"$f":"+'Roster LIMA'!AP15757","v":0},{"$f":"+'Roster LIMA'!AQ15757","v":2},{"$f":"+'Roster LIMA'!AR15757","v":4},{"$f":"+'Roster LIMA'!AS15757","v":1.2048192771084338E-2},{"$f":"+'Roster LIMA'!AT15757","v":139},{"$f":"+'Roster LIMA'!AU15757","v":"Yes"}]
[{"$f":"+'Roster LIMA'!F15758","v":"HL6008"},{"$f":"+'Roster LIMA'!G15758","v":2006},{"$f":"+'Roster LIMA'!H15758","v":"Yes"},{"$f":"+'Roster LIMA'!I15758","v":"ML"},{"$f":"+'Roster LIMA'!J15758","v":11},{"$f":"+'Roster LIMA'!K15758","v":"x"},{"$f":"+'Roster LIMA'!E15758","v":0},{"$f":"+'Roster LIMA'!B15758","v":302929},{"$f":"+'Roster LIMA'!C15758","v":"K"},{"$f":"+'Roster LIMA'!D15758","v":0},{"$f":"+'Roster LIMA'!L15758","v":"Germany"},{"$f":"+'Roster LIMA'!M15758","v":"DB"},{"$f":"+'Roster LIMA'!N15756","v":"No"},{"$f":"+'Roster LIMA'!O15758","v":"Freight"},{"$f":"+'Roster LIMA'!P15758","v":"Hopper"},{"$f":"+'Roster LIMA'!Q15758","v":"N/A"},{"$f":"+'Roster LIMA'!R15758","v":"2'2'"},{"$f":"+'Roster LIMA'!S15758","v":"N/A"},{"$f":"+'Roster LIMA'!T15758","v":"Yes"},{"$f":"+'Roster LIMA'!U15758","v":1954},{"$f":"+'Roster LIMA'!V15758","v":1998},{"$f":"+'Roster LIMA'!W15758","v":"III a / III b / IV a / IV b / V a / V b"},{"$f":"+'Roster LIMA'!X15758","v":"F-type"},{"$f":"+'Roster LIMA'!Y15758","v":"Fal 167"},{"$f":"+'Roster LIMA'!Z15758","v":"OOtz 50"},{"$f":"+'Roster LIMA'!AA15758","v":"N/A"},{"$f":"+'Roster LIMA'!AB15758","v":"4200 units, built between 1954-65. With automatic load discharge"},{"$f":"+'Roster LIMA'!AC15758","v":"Erz IIId"},{"$f":"+'Roster LIMA'!AD15758","v":"N/A"},{"$f":"+'Roster LIMA'!AE15758","v":"N/A"},{"$f":"+'Roster LIMA'!AF15758","v":"N/A"},{"$f":"+'Roster LIMA'!AG15758","v":"N/A"},{"$f":"+'Roster LIMA'!AH15758","v":"Brown"},{"$f":"+'Roster LIMA'!AI15758","v":"N/A"},{"$f":"+'Roster LIMA'!AJ15758","v":"Brown"},{"$f":"+'Roster LIMA'!AK15758","v":"N/A"},{"$f":"+'Roster LIMA'!AL15758","v":"N/A"},{"$f":"+'Roster LIMA'!AM15758","v":"Blue"},{"$f":"+'Roster LIMA'!AN15758","v":"N/A"},{"$f":"+'Roster LIMA'!AO15758","v":"N/A"},{"$f":"+'Roster LIMA'!AP15758","v":0},{"$f":"+'Roster LIMA'!AQ15758","v":2},{"$f":"+'Roster LIMA'!AR15758","v":4},{"$f":"+'Roster LIMA'!AS15758","v":1.2048192771084338E-2},{"$f":"+'Roster LIMA'!AT15758","v":139},{"$f":"+'Roster LIMA'!AU15758","v":"Yes"}]
[{"$f":"+'Roster LIMA'!F15759","v":"HL6003"},{"$f":"+'Roster LIMA'!G15759","v":2006},{"$f":"+'Roster LIMA'!H15759","v":"Yes"},{"$f":"+'Roster LIMA'!I15759","v":"ML"},{"$f":"+'Roster LIMA'!J15759","v":11},{"$f":"+'Roster LIMA'!K15759","v":"x"},{"$f":"+'Roster LIMA'!E15759","v":0},{"$f":"+'Roster LIMA'!B15759","v":303557},{"$f":"+'Roster LIMA'!C15759","v":"K"},{"$f":"+'Roster LIMA'!D15759","v":0},{"$f":"+'Roster LIMA'!L15759","v":"Germany"},{"$f":"+'Roster LIMA'!M15759","v":"DR"},{"$f":"+'Roster LIMA'!N15757","v":"No"},{"$f":"+'Roster LIMA'!O15759","v":"Freight"},{"$f":"+'Roster LIMA'!P15759","v":"Hopper"},{"$f":"+'Roster LIMA'!Q15759","v":"With opening roof"},{"$f":"+'Roster LIMA'!R15759","v":"2'2'"},{"$f":"+'Roster LIMA'!S15759","v":"N/A"},{"$f":"+'Roster LIMA'!T15759","v":"Yes"},{"$f":"+'Roster LIMA'!U15759","v":1974},{"$f":"+'Roster LIMA'!V15759","v":2010},{"$f":"+'Roster LIMA'!W15759","v":"IV a / IV b / V a / V b / VI"},{"$f":"+'Roster LIMA'!X15759","v":"T-type"},{"$f":"+'Roster LIMA'!Y15759","v":"Tadgs-y 958"},{"$f":"+'Roster LIMA'!Z15759","v":"Tadgs-y 5843"},{"$f":"+'Roster LIMA'!AA15759","v":"31 50 584 3 661-1"},{"$f":"+'Roster LIMA'!AB15759","v":"1500 units, built between 1976-79"},{"$f":"+'Roster LIMA'!AC15759","v":"N/A"},{"$f":"+'Roster LIMA'!AD15759","v":"N/A"},{"$f":"+'Roster LIMA'!AE15759","v":"N/A"},{"$f":"+'Roster LIMA'!AF15759","v":"N/A"},{"$f":"+'Roster LIMA'!AG15759","v":"N/A"},{"$f":"+'Roster LIMA'!AH15759","v":"Brown"},{"$f":"+'Roster LIMA'!AI15759","v":"Brown"},{"$f":"+'Roster LIMA'!AJ15759","v":"Black"},{"$f":"+'Roster LIMA'!AK15759","v":"N/A"},{"$f":"+'Roster LIMA'!AL15759","v":"N/A"},{"$f":"+'Roster LIMA'!AM15759","v":"Blue"},{"$f":"+'Roster LIMA'!AN15759","v":"N/A"},{"$f":"+'Roster LIMA'!AO15759","v":"N/A"},{"$f":"+'Roster LIMA'!AP15759","v":0},{"$f":"+'Roster LIMA'!AQ15759","v":2},{"$f":"+'Roster LIMA'!AR15759","v":4},{"$f":"+'Roster LIMA'!AS15759","v":1.1494252873563218E-2},{"$f":"+'Roster LIMA'!AT15759","v":247},{"$f":"+'Roster LIMA'!AU15759","v":"Yes"}]
[{"$f":"+'Roster LIMA'!F15760","v":"HL6005"},{"$f":"+'Roster LIMA'!G15760","v":2006},{"$f":"+'Roster LIMA'!H15760","v":"Yes"},{"$f":"+'Roster LIMA'!I15760","v":"ML"},{"$f":"+'Roster LIMA'!J15760","v":11},{"$f":"+'Roster LIMA'!K15760","v":"x"},{"$f":"+'Roster LIMA'!E15760","v":0},{"$f":"+'Roster LIMA'!B15760","v":303597},{"$f":"+'Roster LIMA'!C15760","v":"K"},{"$f":"+'Roster LIMA'!D15760","v":0},{"$f":"+'Roster LIMA'!L15760","v":"Germany"},{"$f":"+'Roster LIMA'!M15760","v":"DB"},{"$f":"+'Roster LIMA'!N15758","v":"No"},{"$f":"+'Roster LIMA'!O15760","v":"Freight"},{"$f":"+'Roster LIMA'!P15760","v":"Hopper"},{"$f":"+'Roster LIMA'!Q15760","v":"With opening roof"},{"$f":"+'Roster LIMA'!R15760","v":"2'2'"},{"$f":"+'Roster LIMA'!S15760","v":"N/A"},{"$f":"+'Roster LIMA'!T15760","v":"Yes"},{"$f":"+'Roster LIMA'!U15760","v":1974},{"$f":"+'Roster LIMA'!V15760","v":"Operational"},{"$f":"+'Roster LIMA'!W15760","v":"IV a / IV b / V a"},{"$f":"+'Roster LIMA'!X15760","v":"T-type"},{"$f":"+'Roster LIMA'!Y15760","v":"Tadgs 959"},{"$f":"+'Roster LIMA'!Z15760","v":"N/A"},{"$f":"+'Roster LIMA'!AA15760","v":"31 80 584 4 313-2"},{"$f":"+'Roster LIMA'!AB15760","v":"1386 units, built between 1973-85"},{"$f":"+'Roster LIMA'!AC15760","v":"N/A"},{"$f":"+'Roster LIMA'!AD15760","v":"N/A"},{"$f":"+'Roster LIMA'!AE15760","v":"N/A"},{"$f":"+'Roster LIMA'!AF15760","v":"Keks"},{"$f":"+'Roster LIMA'!AG15760","v":"N/A"},{"$f":"+'Roster LIMA'!AH15760","v":"Brown"},{"$f":"+'Roster LIMA'!AI15760","v":"Brown"},{"$f":"+'Roster LIMA'!AJ15760","v":"Black"},{"$f":"+'Roster LIMA'!AK15760","v":"N/A"},{"$f":"+'Roster LIMA'!AL15760","v":"N/A"},{"$f":"+'Roster LIMA'!AM15760","v":"Blue"},{"$f":"+'Roster LIMA'!AN15760","v":"N/A"},{"$f":"+'Roster LIMA'!AO15760","v":"N/A"},{"$f":"+'Roster LIMA'!AP15760","v":0},{"$f":"+'Roster LIMA'!AQ15760","v":2},{"$f":"+'Roster LIMA'!AR15760","v":4},{"$f":"+'Roster LIMA'!AS15760","v":1.1494252873563218E-2},{"$f":"+'Roster LIMA'!AT15760","v":247},{"$f":"+'Roster LIMA'!AU15760","v":"Yes"}]
[{"$f":"+'Roster LIMA'!F15761","v":"HL6006"},{"$f":"+'Roster LIMA'!G15761","v":2006},{"$f":"+'Roster LIMA'!H15761","v":"Yes"},{"$f":"+'Roster LIMA'!I15761","v":"ML"},{"$f":"+'Roster LIMA'!J15761","v":12},{"$f":"+'Roster LIMA'!K15761","v":"x"},{"$f":"+'Roster LIMA'!E15761","v":0},{"$f":"+'Roster LIMA'!B15761","v":"N/A"},{"$f":"+'Roster LIMA'!C15761","v":0},{"$f":"+'Roster LIMA'!D15761","v":0},{"$f":"+'Roster LIMA'!L15761","v":"Germany"},{"$f":"+'Roster LIMA'!M15761","v":"DB"},{"$f":"+'Roster LIMA'!N15759","v":"No"},{"$f":"+'Roster LIMA'!O15761","v":"Passenger"},{"$f":"+'Roster LIMA'!P15761","v":"Internal service"},{"$f":"+'Roster LIMA'!Q15761","v":"Baggage"},{"$f":"+'Roster LIMA'!R15761","v":2},{"$f":"+'Roster LIMA'!S15761","v":"N/A"},{"$f":"+'Roster LIMA'!T15761","v":"Yes"},{"$f":"+'Roster LIMA'!U15761","v":1978},{"$f":"+'Roster LIMA'!V15761","v":1985},{"$f":"+'Roster LIMA'!W15761","v":"IV a / IV b"},{"$f":"+'Roster LIMA'!X15761","v":"2a / 14"},{"$f":"+'Roster LIMA'!Y15761","v":"2a / 14"},{"$f":"+'Roster LIMA'!Z15761","v":"N/A"},{"$f":"+'Roster LIMA'!AA15761","v":"60 80 99-11 106-4"},{"$f":"+'Roster LIMA'!AB15761","v":"1 unit, refurbished in 1978 from former mail van. Focus on Departmental services"},{"$f":"+'Roster LIMA'!AC15761","v":"N/A"},{"$f":"+'Roster LIMA'!AD15761","v":"N/A"},{"$f":"+'Roster LIMA'!AE15761","v":"N/A"},{"$f":"+'Roster LIMA'!AF15761","v":"Keks"},{"$f":"+'Roster LIMA'!AG15761","v":"DB-Kobaltblau"},{"$f":"+'Roster LIMA'!AH15761","v":"Blue"},{"$f":"+'Roster LIMA'!AI15761","v":"Grey"},{"$f":"+'Roster LIMA'!AJ15761","v":"Black"},{"$f":"+'Roster LIMA'!AK15761","v":"N/A"},{"$f":"+'Roster LIMA'!AL15761","v":"Blue"},{"$f":"+'Roster LIMA'!AM15761","v":"Blue"},{"$f":"+'Roster LIMA'!AN15761","v":"N/A"},{"$f":"+'Roster LIMA'!AO15761","v":"N/A"},{"$f":"+'Roster LIMA'!AP15761","v":0},{"$f":"+'Roster LIMA'!AQ15761","v":0},{"$f":"+'Roster LIMA'!AR15761","v":2},{"$f":"+'Roster LIMA'!AS15761","v":1.1494252873563218E-2},{"$f":"+'Roster LIMA'!AT15761","v":176},{"$f":"+'Roster LIMA'!AU15761","v":"Yes"}]
[{"$f":"+'Roster LIMA'!F15762","v":"HL6009"},{"$f":"+'Roster LIMA'!G15762","v":2006},{"$f":"+'Roster LIMA'!H15762","v":"Yes"},{"$f":"+'Roster LIMA'!I15762","v":"ML"},{"$f":"+'Roster LIMA'!J15762","v":12},{"$f":"+'Roster LIMA'!K15762","v":"x"},{"$f":"+'Roster LIMA'!E15762","v":0},{"$f":"+'Roster LIMA'!B15762","v":"N/A"},{"$f":"+'Roster LIMA'!C15762","v":0},{"$f":"+'Roster LIMA'!D15762","v":0},{"$f":"+'Roster LIMA'!L15762","v":"Germany"},{"$f":"+'Roster LIMA'!M15762","v":"DB"},{"$f":"+'Roster LIMA'!N15760","v":"No"},{"$f":"+'Roster LIMA'!O15762","v":"Freight"},{"$f":"+'Roster LIMA'!P15762","v":"Hopper"},{"$f":"+'Roster LIMA'!Q15762","v":"N/A"},{"$f":"+'Roster LIMA'!R15762","v":"2'2'"},{"$f":"+'Roster LIMA'!S15762","v":"N/A"},{"$f":"+'Roster LIMA'!T15762","v":"Yes"},{"$f":"+'Roster LIMA'!U15762","v":1954},{"$f":"+'Roster LIMA'!V15762","v":"Operational"},{"$f":"+'Roster LIMA'!W15762","v":"III a"},{"$f":"+'Roster LIMA'!X15762","v":"T-type"},{"$f":"+'Roster LIMA'!Y15762","v":"Tad-u 958"},{"$f":"+'Roster LIMA'!Z15762","v":"KKt 45"},{"$f":"+'Roster LIMA'!AA15762","v":"N/A"},{"$f":"+'Roster LIMA'!AB15762","v":"Built in the mid 1950's"},{"$f":"+'Roster LIMA'!AC15762","v":"N/A"},{"$f":"+'Roster LIMA'!AD15762","v":"N/A"},{"$f":"+'Roster LIMA'!AE15762","v":"N/A"},{"$f":"+'Roster LIMA'!AF15762","v":"N/A"},{"$f":"+'Roster LIMA'!AG15762","v":"N/A"},{"$f":"+'Roster LIMA'!AH15762","v":"Brown"},{"$f":"+'Roster LIMA'!AI15762","v":"N/A"},{"$f":"+'Roster LIMA'!AJ15762","v":"Brown"},{"$f":"+'Roster LIMA'!AK15762","v":"N/A"},{"$f":"+'Roster LIMA'!AL15762","v":"N/A"},{"$f":"+'Roster LIMA'!AM15762","v":"Blue"},{"$f":"+'Roster LIMA'!AN15762","v":"N/A"},{"$f":"+'Roster LIMA'!AO15762","v":"N/A"},{"$f":"+'Roster LIMA'!AP15762","v":0},{"$f":"+'Roster LIMA'!AQ15762","v":2},{"$f":"+'Roster LIMA'!AR15762","v":4},{"$f":"+'Roster LIMA'!AS15762","v":7.3529411764705881E-3},{"$f":"+'Roster LIMA'!AT15762","v":139},{"$f":"+'Roster LIMA'!AU15762","v":"Replace"}]
[{"$f":"+'Roster LIMA'!F15763","v":"HL6012"},{"$f":"+'Roster LIMA'!G15763","v":2006},{"$f":"+'Roster LIMA'!H15763","v":"Yes"},{"$f":"+'Roster LIMA'!I15763","v":"ML"},{"$f":"+'Roster LIMA'!J15763","v":12},{"$f":"+'Roster LIMA'!K15763","v":"x"},{"$f":"+'Roster LIMA'!E15763","v":0},{"$f":"+'Roster LIMA'!B15763","v":"N/A"},{"$f":"+'Roster LIMA'!C15763","v":0},{"$f":"+'Roster LIMA'!D15763","v":0},{"$f":"+'Roster LIMA'!L15763","v":"Germany"},{"$f":"+'Roster LIMA'!M15763","v":"DB"},{"$f":"+'Roster LIMA'!N15761","v":"No"},{"$f":"+'Roster LIMA'!O15763","v":"Freight"},{"$f":"+'Roster LIMA'!P15763","v":"Hopper"},{"$f":"+'Roster LIMA'!Q15763","v":"N/A"},{"$f":"+'Roster LIMA'!R15763","v":"2'2'"},{"$f":"+'Roster LIMA'!S15763","v":"N/A"},{"$f":"+'Roster LIMA'!T15763","v":"Yes"},{"$f":"+'Roster LIMA'!U15763","v":1986},{"$f":"+'Roster LIMA'!V15763","v":2002},{"$f":"+'Roster LIMA'!W15763","v":"V a / V b"},{"$f":"+'Roster LIMA'!X15763","v":"U-type"},{"$f":"+'Roster LIMA'!Y15763","v":"Uacs 947"},{"$f":"+'Roster LIMA'!Z15763","v":"N/A"},{"$f":"+'Roster LIMA'!AA15763","v":"21 80 097 0 117-6"},{"$f":"+'Roster LIMA'!AB15763","v":"13 units, rented between 1985-02 from VTG"},{"$f":"+'Roster LIMA'!AC15763","v":"STIV"},{"$f":"+'Roster LIMA'!AD15763","v":"N/A"},{"$f":"+'Roster LIMA'!AE15763","v":"N/A"},{"$f":"+'Roster LIMA'!AF15763","v":"N/A"},{"$f":"+'Roster LIMA'!AG15763","v":"N/A"},{"$f":"+'Roster LIMA'!AH15763","v":"Grey"},{"$f":"+'Roster LIMA'!AI15763","v":"Grey"},{"$f":"+'Roster LIMA'!AJ15763","v":"Grey"},{"$f":"+'Roster LIMA'!AK15763","v":"Green"},{"$f":"+'Roster LIMA'!AL15763","v":"N/A"},{"$f":"+'Roster LIMA'!AM15763","v":"Blue"},{"$f":"+'Roster LIMA'!AN15763","v":"N/A"},{"$f":"+'Roster LIMA'!AO15763","v":"N/A"},{"$f":"+'Roster LIMA'!AP15763","v":0},{"$f":"+'Roster LIMA'!AQ15763","v":2},{"$f":"+'Roster LIMA'!AR15763","v":4},{"$f":"+'Roster LIMA'!AS15763","v":1.1235955056179775E-2},{"$f":"+'Roster LIMA'!AT15763","v":170},{"$f":"+'Roster LIMA'!AU15763","v":"Yes"}]
[{"$f":"+'Roster LIMA'!F15764","v":"HL6002"},{"$f":"+'Roster LIMA'!G15764","v":2006},{"$f":"+'Roster LIMA'!H15764","v":"Yes"},{"$f":"+'Roster LIMA'!I15764","v":"ML"},{"$f":"+'Roster LIMA'!J15764","v":13},{"$f":"+'Roster LIMA'!K15764","v":"x"},{"$f":"+'Roster LIMA'!E15764","v":0},{"$f":"+'Roster LIMA'!B15764","v":303524},{"$f":"+'Roster LIMA'!C15764","v":"K"},{"$f":"+'Roster LIMA'!D15764","v":0},{"$f":"+'Roster LIMA'!L15764","v":"Germany"},{"$f":"+'Roster LIMA'!M15764","v":"DB"},{"$f":"+'Roster LIMA'!N15762","v":"No"},{"$f":"+'Roster LIMA'!O15764","v":"Freight"},{"$f":"+'Roster LIMA'!P15764","v":"Flat"},{"$f":"+'Roster LIMA'!Q15764","v":"With 3 containers"},{"$f":"+'Roster LIMA'!R15764","v":"2'2'"},{"$f":"+'Roster LIMA'!S15764","v":"N/A"},{"$f":"+'Roster LIMA'!T15764","v":"Yes"},{"$f":"+'Roster LIMA'!U15764","v":1972},{"$f":"+'Roster LIMA'!V15764","v":"Operational"},{"$f":"+'Roster LIMA'!W15764","v":"V b / VI"},{"$f":"+'Roster LIMA'!X15764","v":"R-type"},{"$f":"+'Roster LIMA'!Y15764","v":"Rs 685"},{"$f":"+'Roster LIMA'!Z15764","v":"N/A"},{"$f":"+'Roster LIMA'!AA15764","v":"31 80 391 4 130-0"},{"$f":"+'Roster LIMA'!AB15764","v":"430 units, built between 1971-72 and numbered 11 80 391 3 000/429"},{"$f":"+'Roster LIMA'!AC15764","v":"DB Cargo"},{"$f":"+'Roster LIMA'!AD15764","v":"N/A"},{"$f":"+'Roster LIMA'!AE15764","v":"N/A"},{"$f":"+'Roster LIMA'!AF15764","v":"DB-AG"},{"$f":"+'Roster LIMA'!AG15764","v":"N/A"},{"$f":"+'Roster LIMA'!AH15764","v":"Red"},{"$f":"+'Roster LIMA'!AI15764","v":"N/A"},{"$f":"+'Roster LIMA'!AJ15764","v":"Red"},{"$f":"+'Roster LIMA'!AK15764","v":"N/A"},{"$f":"+'Roster LIMA'!AL15764","v":"N/A"},{"$f":"+'Roster LIMA'!AM15764","v":"Blue"},{"$f":"+'Roster LIMA'!AN15764","v":"N/A"},{"$f":"+'Roster LIMA'!AO15764","v":"N/A"},{"$f":"+'Roster LIMA'!AP15764","v":0},{"$f":"+'Roster LIMA'!AQ15764","v":2},{"$f":"+'Roster LIMA'!AR15764","v":4},{"$f":"+'Roster LIMA'!AS15764","v":1.1494252873563218E-2},{"$f":"+'Roster LIMA'!AT15764","v":230},{"$f":"+'Roster LIMA'!AU15764","v":"Yes"}]
[{"$f":"+'Roster LIMA'!F15765","v":"HL6010"},{"$f":"+'Roster LIMA'!G15765","v":2006},{"$f":"+'Roster LIMA'!H15765","v":"Yes"},{"$f":"+'Roster LIMA'!I15765","v":"ML"},{"$f":"+'Roster LIMA'!J15765","v":13},{"$f":"+'Roster LIMA'!K15765","v":"x"},{"$f":"+'Roster LIMA'!E15765","v":0},{"$f":"+'Roster LIMA'!B15765","v":303275},{"$f":"+'Roster LIMA'!C15765","v":"K"},{"$f":"+'Roster LIMA'!D15765","v":0},{"$f":"+'Roster LIMA'!L15765","v":"Germany"},{"$f":"+'Roster LIMA'!M15765","v":"DB"},{"$f":"+'Roster LIMA'!N15763","v":"No"},{"$f":"+'Roster LIMA'!O15765","v":"Freight"},{"$f":"+'Roster LIMA'!P15765","v":"Flat"},{"$f":"+'Roster LIMA'!Q15765","v":"With stakes"},{"$f":"+'Roster LIMA'!R15765","v":"2'2'"},{"$f":"+'Roster LIMA'!S15765","v":"N/A"},{"$f":"+'Roster LIMA'!T15765","v":"Yes"},{"$f":"+'Roster LIMA'!U15765","v":1982},{"$f":"+'Roster LIMA'!V15765","v":"Operational"},{"$f":"+'Roster LIMA'!W15765","v":"V b / VI"},{"$f":"+'Roster LIMA'!X15765","v":"S-type"},{"$f":"+'Roster LIMA'!Y15765","v":"Snps 719"},{"$f":"+'Roster LIMA'!Z15765","v":"N/A"},{"$f":"+'Roster LIMA'!AA15765","v":"31 80 472 4 846-9"},{"$f":"+'Roster LIMA'!AB15765","v":"1960 units, built between 1980-82 and numbered 31 80 472 3 000/4 959. Focus on wooden logs and pipe transport"},{"$f":"+'Roster LIMA'!AC15765","v":"DB Cargo"},{"$f":"+'Roster LIMA'!AD15765","v":"N/A"},{"$f":"+'Roster LIMA'!AE15765","v":"N/A"},{"$f":"+'Roster LIMA'!AF15765","v":"N/A"},{"$f":"+'Roster LIMA'!AG15765","v":"N/A"},{"$f":"+'Roster LIMA'!AH15765","v":"Red"},{"$f":"+'Roster LIMA'!AI15765","v":"N/A"},{"$f":"+'Roster LIMA'!AJ15765","v":"Red"},{"$f":"+'Roster LIMA'!AK15765","v":"N/A"},{"$f":"+'Roster LIMA'!AL15765","v":"N/A"},{"$f":"+'Roster LIMA'!AM15765","v":"Blue"},{"$f":"+'Roster LIMA'!AN15765","v":"N/A"},{"$f":"+'Roster LIMA'!AO15765","v":"N/A"},{"$f":"+'Roster LIMA'!AP15765","v":0},{"$f":"+'Roster LIMA'!AQ15765","v":2},{"$f":"+'Roster LIMA'!AR15765","v":4},{"$f":"+'Roster LIMA'!AS15765","v":1.1494252873563218E-2},{"$f":"+'Roster LIMA'!AT15765","v":230},{"$f":"+'Roster LIMA'!AU15765","v":"Yes"}]
[{"$f":"+'Roster LIMA'!F15766","v":"HL6004"},{"$f":"+'Roster LIMA'!G15766","v":2006},{"$f":"+'Roster LIMA'!H15766","v":"Yes"},{"$f":"+'Roster LIMA'!I15766","v":"ML"},{"$f":"+'Roster LIMA'!J15766","v":13},{"$f":"+'Roster LIMA'!K15766","v":"x"},{"$f":"+'Roster LIMA'!E15766","v":0},{"$f":"+'Roster LIMA'!B15766","v":303567},{"$f":"+'Roster LIMA'!C15766","v":"K"},{"$f":"+'Roster LIMA'!D15766","v":0},{"$f":"+'Roster LIMA'!L15766","v":"Germany"},{"$f":"+'Roster LIMA'!M15766","v":"DB"},{"$f":"+'Roster LIMA'!N15764","v":"No"},{"$f":"+'Roster LIMA'!O15766","v":"Freight"},{"$f":"+'Roster LIMA'!P15766","v":"Hopper"},{"$f":"+'Roster LIMA'!Q15766","v":"With opening roof"},{"$f":"+'Roster LIMA'!R15766","v":"2'2'"},{"$f":"+'Roster LIMA'!S15766","v":"N/A"},{"$f":"+'Roster LIMA'!T15766","v":"Yes"},{"$f":"+'Roster LIMA'!U15766","v":1974},{"$f":"+'Roster LIMA'!V15766","v":"Operational"},{"$f":"+'Roster LIMA'!W15766","v":"V b / VI"},{"$f":"+'Roster LIMA'!X15766","v":"T-type"},{"$f":"+'Roster LIMA'!Y15766","v":"Tadgs 959"},{"$f":"+'Roster LIMA'!Z15766","v":"N/A"},{"$f":"+'Roster LIMA'!AA15766","v":"31 80 584 4 699-4"},{"$f":"+'Roster LIMA'!AB15766","v":"1386 units, built between 1973-85"},{"$f":"+'Roster LIMA'!AC15766","v":"DB Cargo"},{"$f":"+'Roster LIMA'!AD15766","v":"N/A"},{"$f":"+'Roster LIMA'!AE15766","v":"N/A"},{"$f":"+'Roster LIMA'!AF15766","v":"DB-AG"},{"$f":"+'Roster LIMA'!AG15766","v":"N/A"},{"$f":"+'Roster LIMA'!AH15766","v":"Red"},{"$f":"+'Roster LIMA'!AI15766","v":"Red"},{"$f":"+'Roster LIMA'!AJ15766","v":"Red"},{"$f":"+'Roster LIMA'!AK15766","v":"N/A"},{"$f":"+'Roster LIMA'!AL15766","v":"N/A"},{"$f":"+'Roster LIMA'!AM15766","v":"Blue"},{"$f":"+'Roster LIMA'!AN15766","v":"N/A"},{"$f":"+'Roster LIMA'!AO15766","v":"N/A"},{"$f":"+'Roster LIMA'!AP15766","v":0},{"$f":"+'Roster LIMA'!AQ15766","v":2},{"$f":"+'Roster LIMA'!AR15766","v":4},{"$f":"+'Roster LIMA'!AS15766","v":1.1494252873563218E-2},{"$f":"+'Roster LIMA'!AT15766","v":247},{"$f":"+'Roster LIMA'!AU15766","v":"Yes"}]
[{"$f":"+'Roster LIMA'!F15767","v":"HL2001"},{"$f":"+'Roster LIMA'!G15767","v":2006},{"$f":"+'Roster LIMA'!H15767","v":"Yes"},{"$f":"+'Roster LIMA'!I15767","v":"ML"},{"$f":"+'Roster LIMA'!J15767","v":14},{"$f":"+'Roster LIMA'!K15767","v":"x"},{"$f":"+'Roster LIMA'!E15767","v":0},{"$f":"+'Roster LIMA'!B15767","v":149874},{"$f":"+'Roster LIMA'!C15767","v":"LMKP"},{"$f":"+'Roster LIMA'!D15767","v":0},{"$f":"+'Roster LIMA'!L15767","v":"France"},{"$f":"+'Roster LIMA'!M15767","v":"SNCF"},{"$f":"+'Roster LIMA'!N15765","v":"No"},{"$f":"+'Roster LIMA'!O15767","v":"Passenger"},{"$f":"+'Roster LIMA'!P15767","v":"Set"},{"$f":"+'Roster LIMA'!Q15767","v":"Express service"},{"$f":"+'Roster LIMA'!R15767","v":"Bo'Bo'+2'+2'+Bo'Bo'"},{"$f":"+'Roster LIMA'!S15767","v":"Lima Collection"},{"$f":"+'Roster LIMA'!T15767","v":"Yes"},{"$f":"+'Roster LIMA'!U15767","v":1996},{"$f":"+'Roster LIMA'!V15767","v":"Operational"},{"$f":"+'Roster LIMA'!W15767","v":"V b / VI"},{"$f":"+'Roster LIMA'!X15767","v":"TGV PBKA"},{"$f":"+'Roster LIMA'!Y15767","v":"TGV"},{"$f":"+'Roster LIMA'!Z15767","v":"N/A"},{"$f":"+'Roster LIMA'!AA15767","v":4341},{"$f":"+'Roster LIMA'!AB15767","v":"4-unit train comprised of EMU Motor M1, Intermediate R1 and R8 and Driving trailer M2 "},{"$f":"+'Roster LIMA'!AC15767","v":"N/A"},{"$f":"+'Roster LIMA'!AD15767","v":"Thalys"},{"$f":"+'Roster LIMA'!AE15767","v":"Thalys"},{"$f":"+'Roster LIMA'!AF15767","v":"Thalys"},{"$f":"+'Roster LIMA'!AG15767","v":"Thalys"},{"$f":"+'Roster LIMA'!AH15767","v":"Red"},{"$f":"+'Roster LIMA'!AI15767","v":"Red"},{"$f":"+'Roster LIMA'!AJ15767","v":"Grey"},{"$f":"+'Roster LIMA'!AK15767","v":"White"},{"$f":"+'Roster LIMA'!AL15767","v":"Red"},{"$f":"+'Roster LIMA'!AM15767","v":"Blue"},{"$f":"+'Roster LIMA'!AN15767","v":"Double cardan transmission"},{"$f":"+'Roster LIMA'!AO15767","v":"Single arm"},{"$f":"+'Roster LIMA'!AP15767","v":2},{"$f":"+'Roster LIMA'!AQ15767","v":7},{"$f":"+'Roster LIMA'!AR15767","v":14},{"$f":"+'Roster LIMA'!AS15767","v":1.1494252873563218E-2},{"$f":"+'Roster LIMA'!AT15767","v":1017},{"$f":"+'Roster LIMA'!AU15767","v":"Yes"}]
[{"$f":"+'Roster LIMA'!F15768","v":"HL2012"},{"$f":"+'Roster LIMA'!G15768","v":2006},{"$f":"+'Roster LIMA'!H15768","v":"Yes"},{"$f":"+'Roster LIMA'!I15768","v":"ML"},{"$f":"+'Roster LIMA'!J15768","v":15},{"$f":"+'Roster LIMA'!K15768","v":"x"},{"$f":"+'Roster LIMA'!E15768","v":0},{"$f":"+'Roster LIMA'!B15768","v":200008},{"$f":"+'Roster LIMA'!C15768","v":0},{"$f":"+'Roster LIMA'!D15768","v":0},{"$f":"+'Roster LIMA'!L15768","v":"Italy"},{"$f":"+'Roster LIMA'!M15768","v":"FS"},{"$f":"+'Roster LIMA'!N15766","v":"No"},{"$f":"+'Roster LIMA'!O15768","v":"Locomotive"},{"$f":"+'Roster LIMA'!P15768","v":"Diesel"},{"$f":"+'Roster LIMA'!Q15768","v":"Shunter"},{"$f":"+'Roster LIMA'!R15768","v":"B"},{"$f":"+'Roster LIMA'!S15768","v":"N/A"},{"$f":"+'Roster LIMA'!T15768","v":"No"},{"$f":"+'Roster LIMA'!U15768","v":1950},{"$f":"+'Roster LIMA'!V15768","v":1985},{"$f":"+'Roster LIMA'!W15768","v":"III b / IV a / IV b / V a"},{"$f":"+'Roster LIMA'!X15768","v":"Plymouth"},{"$f":"+'Roster LIMA'!Y15768","v":"MDT"},{"$f":"+'Roster LIMA'!Z15768","v":"N/A"},{"$f":"+'Roster LIMA'!AA15768","v":"N/A"},{"$f":"+'Roster LIMA'!AB15768","v":"Built in the early 1950's. Focus on light industrial use. FS never owned MDT locomotives, LIMA invention"},{"$f":"+'Roster LIMA'!AC15768","v":"N/A"},{"$f":"+'Roster LIMA'!AD15768","v":"N/A"},{"$f":"+'Roster LIMA'!AE15768","v":"N/A"},{"$f":"+'Roster LIMA'!AF15768","v":"N/A"},{"$f":"+'Roster LIMA'!AG15768","v":"N/A"},{"$f":"+'Roster LIMA'!AH15768","v":"Red"},{"$f":"+'Roster LIMA'!AI15768","v":"Red"},{"$f":"+'Roster LIMA'!AJ15768","v":"Black"},{"$f":"+'Roster LIMA'!AK15768","v":"Yellow"},{"$f":"+'Roster LIMA'!AL15768","v":"Red"},{"$f":"+'Roster LIMA'!AM15768","v":"Blue"},{"$f":"+'Roster LIMA'!AN15768","v":"G-Motor"},{"$f":"+'Roster LIMA'!AO15768","v":"N/A"},{"$f":"+'Roster LIMA'!AP15768","v":0},{"$f":"+'Roster LIMA'!AQ15768","v":0},{"$f":"+'Roster LIMA'!AR15768","v":2},{"$f":"+'Roster LIMA'!AS15768","v":1.1494252873563218E-2},{"$f":"+'Roster LIMA'!AT15768","v":119},{"$f":"+'Roster LIMA'!AU15768","v":"Yes"}]
[{"$f":"+'Roster LIMA'!F15769","v":"HL2010"},{"$f":"+'Roster LIMA'!G15769","v":2006},{"$f":"+'Roster LIMA'!H15769","v":"Yes"},{"$f":"+'Roster LIMA'!I15769","v":"ML"},{"$f":"+'Roster LIMA'!J15769","v":15},{"$f":"+'Roster LIMA'!K15769","v":"x"},{"$f":"+'Roster LIMA'!E15769","v":0},{"$f":"+'Roster LIMA'!B15769","v":208151},{"$f":"+'Roster LIMA'!C15769","v":"L"},{"$f":"+'Roster LIMA'!D15769","v":0},{"$f":"+'Roster LIMA'!L15769","v":"Italy"},{"$f":"+'Roster LIMA'!M15769","v":"FS"},{"$f":"+'Roster LIMA'!N15767","v":"EMU"},{"$f":"+'Roster LIMA'!O15769","v":"Locomotive"},{"$f":"+'Roster LIMA'!P15769","v":"Diesel"},{"$f":"+'Roster LIMA'!Q15769","v":"Regional service"},{"$f":"+'Roster LIMA'!R15769","v":"B'B'"},{"$f":"+'Roster LIMA'!S15769","v":"N/A"},{"$f":"+'Roster LIMA'!T15769","v":"Yes"},{"$f":"+'Roster LIMA'!U15769","v":1975},{"$f":"+'Roster LIMA'!V15769","v":"Operational"},{"$f":"+'Roster LIMA'!W15769","v":"IV b / V a / V b"},{"$f":"+'Roster LIMA'!X15769","v":"D-445"},{"$f":"+'Roster LIMA'!Y15769","v":"D-445.1"},{"$f":"+'Roster LIMA'!Z15769","v":"N/A"},{"$f":"+'Roster LIMA'!AA15769","v":"D445 1017"},{"$f":"+'Roster LIMA'!AB15769","v":"35 units, built between 1974-75 and numbered 1001-35. Focus on regional Passenger services. With 3 headlights"},{"$f":"+'Roster LIMA'!AC15769","v":"N/A"},{"$f":"+'Roster LIMA'!AD15769","v":"N/A"},{"$f":"+'Roster LIMA'!AE15769","v":"N/A"},{"$f":"+'Roster LIMA'!AF15769","v":"Televisore"},{"$f":"+'Roster LIMA'!AG15769","v":"Verde - Isabella"},{"$f":"+'Roster LIMA'!AH15769","v":"Green"},{"$f":"+'Roster LIMA'!AI15769","v":"Brown"},{"$f":"+'Roster LIMA'!AJ15769","v":"Brown"},{"$f":"+'Roster LIMA'!AK15769","v":"N/A"},{"$f":"+'Roster LIMA'!AL15769","v":"Green"},{"$f":"+'Roster LIMA'!AM15769","v":"Blue"},{"$f":"+'Roster LIMA'!AN15769","v":"G-Motor"},{"$f":"+'Roster LIMA'!AO15769","v":"N/A"},{"$f":"+'Roster LIMA'!AP15769","v":0},{"$f":"+'Roster LIMA'!AQ15769","v":2},{"$f":"+'Roster LIMA'!AR15769","v":4},{"$f":"+'Roster LIMA'!AS15769","v":1.1494252873563218E-2},{"$f":"+'Roster LIMA'!AT15769","v":162},{"$f":"+'Roster LIMA'!AU15769","v":"Yes"}]
[{"$f":"+'Roster LIMA'!F15770","v":"HL2011"},{"$f":"+'Roster LIMA'!G15770","v":2006},{"$f":"+'Roster LIMA'!H15770","v":"Yes"},{"$f":"+'Roster LIMA'!I15770","v":"ML"},{"$f":"+'Roster LIMA'!J15770","v":15},{"$f":"+'Roster LIMA'!K15770","v":"x"},{"$f":"+'Roster LIMA'!E15770","v":0},{"$f":"+'Roster LIMA'!B15770","v":208034},{"$f":"+'Roster LIMA'!C15770","v":"L"},{"$f":"+'Roster LIMA'!D15770","v":0},{"$f":"+'Roster LIMA'!L15770","v":"Italy"},{"$f":"+'Roster LIMA'!M15770","v":"FS"},{"$f":"+'Roster LIMA'!N15768","v":"No"},{"$f":"+'Roster LIMA'!O15770","v":"Locomotive"},{"$f":"+'Roster LIMA'!P15770","v":"Electric"},{"$f":"+'Roster LIMA'!Q15770","v":"Express service"},{"$f":"+'Roster LIMA'!R15770","v":"Bo'Bo'"},{"$f":"+'Roster LIMA'!S15770","v":"N/A"},{"$f":"+'Roster LIMA'!T15770","v":"Yes"},{"$f":"+'Roster LIMA'!U15770","v":1967},{"$f":"+'Roster LIMA'!V15770","v":1986},{"$f":"+'Roster LIMA'!W15770","v":"IV a / IV b"},{"$f":"+'Roster LIMA'!X15770","v":"E-444"},{"$f":"+'Roster LIMA'!Y15770","v":"E-444P"},{"$f":"+'Roster LIMA'!Z15770","v":"N/A"},{"$f":"+'Roster LIMA'!AA15770","v":"E444 001"},{"$f":"+'Roster LIMA'!AB15770","v":"4 units, built in 1967 as prototype and numbered E.444.001/4. For express Passenger services. With squared front. Refurbished in the mid 1980's to Series E-444R"},{"$f":"+'Roster LIMA'!AC15770","v":"N/A"},{"$f":"+'Roster LIMA'!AD15770","v":"N/A"},{"$f":"+'Roster LIMA'!AE15770","v":"Tartaruga"},{"$f":"+'Roster LIMA'!AF15770","v":"E-444 1° series"},{"$f":"+'Roster LIMA'!AG15770","v":"Grigio perla-Blu orientale"},{"$f":"+'Roster LIMA'!AH15770","v":"White"},{"$f":"+'Roster LIMA'!AI15770","v":"White"},{"$f":"+'Roster LIMA'!AJ15770","v":"Blue"},{"$f":"+'Roster LIMA'!AK15770","v":"Blue"},{"$f":"+'Roster LIMA'!AL15770","v":"Bicolor"},{"$f":"+'Roster LIMA'!AM15770","v":"Blue"},{"$f":"+'Roster LIMA'!AN15770","v":"G-Motor"},{"$f":"+'Roster LIMA'!AO15770","v":"Double arm"},{"$f":"+'Roster LIMA'!AP15770","v":2},{"$f":"+'Roster LIMA'!AQ15770","v":2},{"$f":"+'Roster LIMA'!AR15770","v":4},{"$f":"+'Roster LIMA'!AS15770","v":1.1494252873563218E-2},{"$f":"+'Roster LIMA'!AT15770","v":194},{"$f":"+'Roster LIMA'!AU15770","v":"Yes"}]
[{"$f":"+'Roster LIMA'!F15771","v":"HL2013"},{"$f":"+'Roster LIMA'!G15771","v":2006},{"$f":"+'Roster LIMA'!H15771","v":"Yes"},{"$f":"+'Roster LIMA'!I15771","v":"ML"},{"$f":"+'Roster LIMA'!J15771","v":15},{"$f":"+'Roster LIMA'!K15771","v":"x"},{"$f":"+'Roster LIMA'!E15771","v":0},{"$f":"+'Roster LIMA'!B15771","v":208004},{"$f":"+'Roster LIMA'!C15771","v":"L"},{"$f":"+'Roster LIMA'!D15771","v":0},{"$f":"+'Roster LIMA'!L15771","v":"Italy"},{"$f":"+'Roster LIMA'!M15771","v":"FS"},{"$f":"+'Roster LIMA'!N15769","v":"No"},{"$f":"+'Roster LIMA'!O15771","v":"Locomotive"},{"$f":"+'Roster LIMA'!P15771","v":"Electric"},{"$f":"+'Roster LIMA'!Q15771","v":"Multipurpose"},{"$f":"+'Roster LIMA'!R15771","v":"Bo'Bo'"},{"$f":"+'Roster LIMA'!S15771","v":"N/A"},{"$f":"+'Roster LIMA'!T15771","v":"Yes"},{"$f":"+'Roster LIMA'!U15771","v":1986},{"$f":"+'Roster LIMA'!V15771","v":2007},{"$f":"+'Roster LIMA'!W15771","v":"V b / VI"},{"$f":"+'Roster LIMA'!X15771","v":"E-424"},{"$f":"+'Roster LIMA'!Y15771","v":"E-424-200"},{"$f":"+'Roster LIMA'!Z15771","v":"N/A"},{"$f":"+'Roster LIMA'!AA15771","v":"E424 216"},{"$f":"+'Roster LIMA'!AB15771","v":"105 units, refurbished in 1987 from former E-424 locomotives and renumbered E.424.200/104. Focus on \"Push-Pull\" Passenger services"},{"$f":"+'Roster LIMA'!AC15771","v":"N/A"},{"$f":"+'Roster LIMA'!AD15771","v":"N/A"},{"$f":"+'Roster LIMA'!AE15771","v":"N/A"},{"$f":"+'Roster LIMA'!AF15771","v":"XMPR 1"},{"$f":"+'Roster LIMA'!AG15771","v":"XMPR"},{"$f":"+'Roster LIMA'!AH15771","v":"White"},{"$f":"+'Roster LIMA'!AI15771","v":"Green"},{"$f":"+'Roster LIMA'!AJ15771","v":"Blue"},{"$f":"+'Roster LIMA'!AK15771","v":"Green"},{"$f":"+'Roster LIMA'!AL15771","v":"White"},{"$f":"+'Roster LIMA'!AM15771","v":"Blue"},{"$f":"+'Roster LIMA'!AN15771","v":"G-Motor"},{"$f":"+'Roster LIMA'!AO15771","v":"Double arm"},{"$f":"+'Roster LIMA'!AP15771","v":2},{"$f":"+'Roster LIMA'!AQ15771","v":2},{"$f":"+'Roster LIMA'!AR15771","v":4},{"$f":"+'Roster LIMA'!AS15771","v":1.1494252873563218E-2},{"$f":"+'Roster LIMA'!AT15771","v":178},{"$f":"+'Roster LIMA'!AU15771","v":"Yes"}]
[{"$f":"+'Roster LIMA'!F15772","v":"HL4008"},{"$f":"+'Roster LIMA'!G15772","v":2006},{"$f":"+'Roster LIMA'!H15772","v":"Yes"},{"$f":"+'Roster LIMA'!I15772","v":"ML"},{"$f":"+'Roster LIMA'!J15772","v":16},{"$f":"+'Roster LIMA'!K15772","v":"x"},{"$f":"+'Roster LIMA'!E15772","v":0},{"$f":"+'Roster LIMA'!B15772","v":309655},{"$f":"+'Roster LIMA'!C15772","v":0},{"$f":"+'Roster LIMA'!D15772","v":0},{"$f":"+'Roster LIMA'!L15772","v":"Italy"},{"$f":"+'Roster LIMA'!M15772","v":"FS"},{"$f":"+'Roster LIMA'!N15770","v":"No"},{"$f":"+'Roster LIMA'!O15772","v":"Passenger"},{"$f":"+'Roster LIMA'!P15772","v":"With compartment"},{"$f":"+'Roster LIMA'!Q15772","v":"1° class"},{"$f":"+'Roster LIMA'!R15772","v":"2'2'"},{"$f":"+'Roster LIMA'!S15772","v":"N/A"},{"$f":"+'Roster LIMA'!T15772","v":"Yes"},{"$f":"+'Roster LIMA'!U15772","v":1978},{"$f":"+'Roster LIMA'!V15772","v":2004},{"$f":"+'Roster LIMA'!W15772","v":"V b"},{"$f":"+'Roster LIMA'!X15772","v":"UIC-Z1"},{"$f":"+'Roster LIMA'!Y15772","v":"A"},{"$f":"+'Roster LIMA'!Z15772","v":"Eurofima VSE"},{"$f":"+'Roster LIMA'!AA15772","v":"61 83 19-90 002-2"},{"$f":"+'Roster LIMA'!AB15772","v":"30 units, bought between 1977-79 and numbered 19-90 000/029"},{"$f":"+'Roster LIMA'!AC15772","v":"N/A"},{"$f":"+'Roster LIMA'!AD15772","v":"N/A"},{"$f":"+'Roster LIMA'!AE15772","v":"N/A"},{"$f":"+'Roster LIMA'!AF15772","v":"XMPR 1"},{"$f":"+'Roster LIMA'!AG15772","v":"XMPR"},{"$f":"+'Roster LIMA'!AH15772","v":"White"},{"$f":"+'Roster LIMA'!AI15772","v":"Grey"},{"$f":"+'Roster LIMA'!AJ15772","v":"Green"},{"$f":"+'Roster LIMA'!AK15772","v":"Green"},{"$f":"+'Roster LIMA'!AL15772","v":"Bicolor"},{"$f":"+'Roster LIMA'!AM15772","v":"Blue"},{"$f":"+'Roster LIMA'!AN15772","v":"N/A"},{"$f":"+'Roster LIMA'!AO15772","v":"N/A"},{"$f":"+'Roster LIMA'!AP15772","v":0},{"$f":"+'Roster LIMA'!AQ15772","v":2},{"$f":"+'Roster LIMA'!AR15772","v":4},{"$f":"+'Roster LIMA'!AS15772","v":"1/100"},{"$f":"+'Roster LIMA'!AT15772","v":265},{"$f":"+'Roster LIMA'!AU15772","v":"Yes"}]
[{"$f":"+'Roster LIMA'!F15773","v":"HL4009"},{"$f":"+'Roster LIMA'!G15773","v":2006},{"$f":"+'Roster LIMA'!H15773","v":"Yes"},{"$f":"+'Roster LIMA'!I15773","v":"ML"},{"$f":"+'Roster LIMA'!J15773","v":16},{"$f":"+'Roster LIMA'!K15773","v":"x"},{"$f":"+'Roster LIMA'!E15773","v":0},{"$f":"+'Roster LIMA'!B15773","v":309656},{"$f":"+'Roster LIMA'!C15773","v":0},{"$f":"+'Roster LIMA'!D15773","v":0},{"$f":"+'Roster LIMA'!L15773","v":"Italy"},{"$f":"+'Roster LIMA'!M15773","v":"FS"},{"$f":"+'Roster LIMA'!N15771","v":"No"},{"$f":"+'Roster LIMA'!O15773","v":"Passenger"},{"$f":"+'Roster LIMA'!P15773","v":"With compartment"},{"$f":"+'Roster LIMA'!Q15773","v":"2° class"},{"$f":"+'Roster LIMA'!R15773","v":"2'2'"},{"$f":"+'Roster LIMA'!S15773","v":"N/A"},{"$f":"+'Roster LIMA'!T15773","v":"Yes"},{"$f":"+'Roster LIMA'!U15773","v":1979},{"$f":"+'Roster LIMA'!V15773","v":"Operational"},{"$f":"+'Roster LIMA'!W15773","v":"V b / VI"},{"$f":"+'Roster LIMA'!X15773","v":"UIC-Z1"},{"$f":"+'Roster LIMA'!Y15773","v":"B"},{"$f":"+'Roster LIMA'!Z15773","v":"Eurofima VSE"},{"$f":"+'Roster LIMA'!AA15773","v":"61 83 21-90 061-4"},{"$f":"+'Roster LIMA'!AB15773","v":"70 units, bought between 1977-79 and numbered 21-90 000/069"},{"$f":"+'Roster LIMA'!AC15773","v":"N/A"},{"$f":"+'Roster LIMA'!AD15773","v":"N/A"},{"$f":"+'Roster LIMA'!AE15773","v":"N/A"},{"$f":"+'Roster LIMA'!AF15773","v":"XMPR 1"},{"$f":"+'Roster LIMA'!AG15773","v":"XMPR"},{"$f":"+'Roster LIMA'!AH15773","v":"White"},{"$f":"+'Roster LIMA'!AI15773","v":"Grey"},{"$f":"+'Roster LIMA'!AJ15773","v":"Green"},{"$f":"+'Roster LIMA'!AK15773","v":"Green"},{"$f":"+'Roster LIMA'!AL15773","v":"Bicolor"},{"$f":"+'Roster LIMA'!AM15773","v":"Blue"},{"$f":"+'Roster LIMA'!AN15773","v":"N/A"},{"$f":"+'Roster LIMA'!AO15773","v":"N/A"},{"$f":"+'Roster LIMA'!AP15773","v":0},{"$f":"+'Roster LIMA'!AQ15773","v":2},{"$f":"+'Roster LIMA'!AR15773","v":4},{"$f":"+'Roster LIMA'!AS15773","v":"1/100"},{"$f":"+'Roster LIMA'!AT15773","v":265},{"$f":"+'Roster LIMA'!AU15773","v":"Yes"}]
[{"$f":"+'Roster LIMA'!F15774","v":"HL4006"},{"$f":"+'Roster LIMA'!G15774","v":2006},{"$f":"+'Roster LIMA'!H15774","v":"Yes"},{"$f":"+'Roster LIMA'!I15774","v":"ML"},{"$f":"+'Roster LIMA'!J15774","v":16},{"$f":"+'Roster LIMA'!K15774","v":"x"},{"$f":"+'Roster LIMA'!E15774","v":0},{"$f":"+'Roster LIMA'!B15774","v":309501},{"$f":"+'Roster LIMA'!C15774","v":0},{"$f":"+'Roster LIMA'!D15774","v":0},{"$f":"+'Roster LIMA'!L15774","v":"Italy"},{"$f":"+'Roster LIMA'!M15774","v":"FS"},{"$f":"+'Roster LIMA'!N15772","v":"No"},{"$f":"+'Roster LIMA'!O15774","v":"Passenger"},{"$f":"+'Roster LIMA'!P15774","v":"Double decker"},{"$f":"+'Roster LIMA'!Q15774","v":"2° & Driving trailer"},{"$f":"+'Roster LIMA'!R15774","v":"2'2'"},{"$f":"+'Roster LIMA'!S15774","v":"N/A"},{"$f":"+'Roster LIMA'!T15774","v":"Yes"},{"$f":"+'Roster LIMA'!U15774","v":1981},{"$f":"+'Roster LIMA'!V15774","v":2002},{"$f":"+'Roster LIMA'!W15774","v":"V b"},{"$f":"+'Roster LIMA'!X15774","v":"Doppio Piano 79"},{"$f":"+'Roster LIMA'!Y15774","v":"npB"},{"$f":"+'Roster LIMA'!Z15774","v":"VB2N"},{"$f":"+'Roster LIMA'!AA15774","v":"50 83 26-39 819-7"},{"$f":"+'Roster LIMA'!AB15774","v":"30 units, built between 1980-81 based on a French VB2N coach design and numbered 26-39 800/829"},{"$f":"+'Roster LIMA'!AC15774","v":"N/A"},{"$f":"+'Roster LIMA'!AD15774","v":"N/A"},{"$f":"+'Roster LIMA'!AE15774","v":"Casaralta"},{"$f":"+'Roster LIMA'!AF15774","v":"XMPR 2"},{"$f":"+'Roster LIMA'!AG15774","v":"XMPR"},{"$f":"+'Roster LIMA'!AH15774","v":"White"},{"$f":"+'Roster LIMA'!AI15774","v":"Grey"},{"$f":"+'Roster LIMA'!AJ15774","v":"Green"},{"$f":"+'Roster LIMA'!AK15774","v":"Green"},{"$f":"+'Roster LIMA'!AL15774","v":"Blue"},{"$f":"+'Roster LIMA'!AM15774","v":"Blue"},{"$f":"+'Roster LIMA'!AN15774","v":"N/A"},{"$f":"+'Roster LIMA'!AO15774","v":"N/A"},{"$f":"+'Roster LIMA'!AP15774","v":0},{"$f":"+'Roster LIMA'!AQ15774","v":2},{"$f":"+'Roster LIMA'!AR15774","v":4},{"$f":"+'Roster LIMA'!AS15774","v":1.0638297872340425E-2},{"$f":"+'Roster LIMA'!AT15774","v":265},{"$f":"+'Roster LIMA'!AU15774","v":"Yes"}]
[{"$f":"+'Roster LIMA'!F15775","v":"HL4007"},{"$f":"+'Roster LIMA'!G15775","v":2006},{"$f":"+'Roster LIMA'!H15775","v":"Yes"},{"$f":"+'Roster LIMA'!I15775","v":"ML"},{"$f":"+'Roster LIMA'!J15775","v":16},{"$f":"+'Roster LIMA'!K15775","v":"x"},{"$f":"+'Roster LIMA'!E15775","v":0},{"$f":"+'Roster LIMA'!B15775","v":309500},{"$f":"+'Roster LIMA'!C15775","v":0},{"$f":"+'Roster LIMA'!D15775","v":0},{"$f":"+'Roster LIMA'!L15775","v":"Italy"},{"$f":"+'Roster LIMA'!M15775","v":"FS"},{"$f":"+'Roster LIMA'!N15773","v":"No"},{"$f":"+'Roster LIMA'!O15775","v":"Passenger"},{"$f":"+'Roster LIMA'!P15775","v":"Double decker"},{"$f":"+'Roster LIMA'!Q15775","v":"2° class"},{"$f":"+'Roster LIMA'!R15775","v":"2'2'"},{"$f":"+'Roster LIMA'!S15775","v":"N/A"},{"$f":"+'Roster LIMA'!T15775","v":"Yes"},{"$f":"+'Roster LIMA'!U15775","v":1980},{"$f":"+'Roster LIMA'!V15775","v":2001},{"$f":"+'Roster LIMA'!W15775","v":"V b"},{"$f":"+'Roster LIMA'!X15775","v":"Doppio Piano 79"},{"$f":"+'Roster LIMA'!Y15775","v":"nB"},{"$f":"+'Roster LIMA'!Z15775","v":"VB2N"},{"$f":"+'Roster LIMA'!AA15775","v":"50 83 26-39 008-7"},{"$f":"+'Roster LIMA'!AB15775","v":"120 units, built between 1980-81 based on a French VB2N coach design and numbered 26-39 000/119"},{"$f":"+'Roster LIMA'!AC15775","v":"N/A"},{"$f":"+'Roster LIMA'!AD15775","v":"N/A"},{"$f":"+'Roster LIMA'!AE15775","v":"Casaralta"},{"$f":"+'Roster LIMA'!AF15775","v":"XMPR 2"},{"$f":"+'Roster LIMA'!AG15775","v":"XMPR"},{"$f":"+'Roster LIMA'!AH15775","v":"White"},{"$f":"+'Roster LIMA'!AI15775","v":"Grey"},{"$f":"+'Roster LIMA'!AJ15775","v":"Green"},{"$f":"+'Roster LIMA'!AK15775","v":"Green"},{"$f":"+'Roster LIMA'!AL15775","v":"Blue"},{"$f":"+'Roster LIMA'!AM15775","v":"Blue"},{"$f":"+'Roster LIMA'!AN15775","v":"N/A"},{"$f":"+'Roster LIMA'!AO15775","v":"N/A"},{"$f":"+'Roster LIMA'!AP15775","v":0},{"$f":"+'Roster LIMA'!AQ15775","v":2},{"$f":"+'Roster LIMA'!AR15775","v":4},{"$f":"+'Roster LIMA'!AS15775","v":1.0869565217391304E-2},{"$f":"+'Roster LIMA'!AT15775","v":265},{"$f":"+'Roster LIMA'!AU15775","v":"Yes"}]
[{"$f":"+'Roster LIMA'!F15776","v":"HL6014"},{"$f":"+'Roster LIMA'!G15776","v":2006},{"$f":"+'Roster LIMA'!H15776","v":"Yes"},{"$f":"+'Roster LIMA'!I15776","v":"ML"},{"$f":"+'Roster LIMA'!J15776","v":17},{"$f":"+'Roster LIMA'!K15776","v":"x"},{"$f":"+'Roster LIMA'!E15776","v":0},{"$f":"+'Roster LIMA'!B15776","v":303161},{"$f":"+'Roster LIMA'!C15776","v":0},{"$f":"+'Roster LIMA'!D15776","v":0},{"$f":"+'Roster LIMA'!L15776","v":"Italy"},{"$f":"+'Roster LIMA'!M15776","v":"FS"},{"$f":"+'Roster LIMA'!N15774","v":"No"},{"$f":"+'Roster LIMA'!O15776","v":"Freight"},{"$f":"+'Roster LIMA'!P15776","v":"Closed"},{"$f":"+'Roster LIMA'!Q15776","v":"N/A"},{"$f":"+'Roster LIMA'!R15776","v":2},{"$f":"+'Roster LIMA'!S15776","v":"N/A"},{"$f":"+'Roster LIMA'!T15776","v":"Yes"},{"$f":"+'Roster LIMA'!U15776","v":1959},{"$f":"+'Roster LIMA'!V15776","v":2000},{"$f":"+'Roster LIMA'!W15776","v":"III b / IV a"},{"$f":"+'Roster LIMA'!X15776","v":"G-type"},{"$f":"+'Roster LIMA'!Y15776","v":"Gs 216"},{"$f":"+'Roster LIMA'!Z15776","v":"Gms 137-6"},{"$f":"+'Roster LIMA'!AA15776","v":"F 1160106"},{"$f":"+'Roster LIMA'!AB15776","v":"Built since the late 1950's"},{"$f":"+'Roster LIMA'!AC15776","v":"N/A"},{"$f":"+'Roster LIMA'!AD15776","v":"N/A"},{"$f":"+'Roster LIMA'!AE15776","v":"N/A"},{"$f":"+'Roster LIMA'!AF15776","v":"N/A"},{"$f":"+'Roster LIMA'!AG15776","v":"N/A"},{"$f":"+'Roster LIMA'!AH15776","v":"Brown"},{"$f":"+'Roster LIMA'!AI15776","v":"Grey"},{"$f":"+'Roster LIMA'!AJ15776","v":"Black"},{"$f":"+'Roster LIMA'!AK15776","v":"N/A"},{"$f":"+'Roster LIMA'!AL15776","v":"Brown"},{"$f":"+'Roster LIMA'!AM15776","v":"Blue"},{"$f":"+'Roster LIMA'!AN15776","v":"N/A"},{"$f":"+'Roster LIMA'!AO15776","v":"N/A"},{"$f":"+'Roster LIMA'!AP15776","v":0},{"$f":"+'Roster LIMA'!AQ15776","v":0},{"$f":"+'Roster LIMA'!AR15776","v":2},{"$f":"+'Roster LIMA'!AS15776","v":1.1494252873563218E-2},{"$f":"+'Roster LIMA'!AT15776","v":121},{"$f":"+'Roster LIMA'!AU15776","v":"Yes"}]
[{"$f":"+'Roster LIMA'!F15777","v":"HL6015"},{"$f":"+'Roster LIMA'!G15777","v":2006},{"$f":"+'Roster LIMA'!H15777","v":"Yes"},{"$f":"+'Roster LIMA'!I15777","v":"ML"},{"$f":"+'Roster LIMA'!J15777","v":17},{"$f":"+'Roster LIMA'!K15777","v":"x"},{"$f":"+'Roster LIMA'!E15777","v":0},{"$f":"+'Roster LIMA'!B15777","v":"N/A"},{"$f":"+'Roster LIMA'!C15777","v":0},{"$f":"+'Roster LIMA'!D15777","v":0},{"$f":"+'Roster LIMA'!L15777","v":"Italy"},{"$f":"+'Roster LIMA'!M15777","v":"FS"},{"$f":"+'Roster LIMA'!N15775","v":"No"},{"$f":"+'Roster LIMA'!O15777","v":"Freight"},{"$f":"+'Roster LIMA'!P15777","v":"Tank"},{"$f":"+'Roster LIMA'!Q15777","v":"With ladder"},{"$f":"+'Roster LIMA'!R15777","v":2},{"$f":"+'Roster LIMA'!S15777","v":"N/A"},{"$f":"+'Roster LIMA'!T15777","v":"Yes"},{"$f":"+'Roster LIMA'!U15777","v":1957},{"$f":"+'Roster LIMA'!V15777","v":2005},{"$f":"+'Roster LIMA'!W15777","v":"III b / IV a / IV b / V a / V b"},{"$f":"+'Roster LIMA'!X15777","v":"Z-type"},{"$f":"+'Roster LIMA'!Y15777","v":"Zcs 23"},{"$f":"+'Roster LIMA'!Z15777","v":"Uh"},{"$f":"+'Roster LIMA'!AA15777","v":"N/A"},{"$f":"+'Roster LIMA'!AB15777","v":"Built since the late 1950's"},{"$f":"+'Roster LIMA'!AC15777","v":"N/A"},{"$f":"+'Roster LIMA'!AD15777","v":"N/A"},{"$f":"+'Roster LIMA'!AE15777","v":"N/A"},{"$f":"+'Roster LIMA'!AF15777","v":"N/A"},{"$f":"+'Roster LIMA'!AG15777","v":"N/A"},{"$f":"+'Roster LIMA'!AH15777","v":"White"},{"$f":"+'Roster LIMA'!AI15777","v":"White"},{"$f":"+'Roster LIMA'!AJ15777","v":"Black"},{"$f":"+'Roster LIMA'!AK15777","v":"Yellow"},{"$f":"+'Roster LIMA'!AL15777","v":"N/A"},{"$f":"+'Roster LIMA'!AM15777","v":"Blue"},{"$f":"+'Roster LIMA'!AN15777","v":"N/A"},{"$f":"+'Roster LIMA'!AO15777","v":"N/A"},{"$f":"+'Roster LIMA'!AP15777","v":0},{"$f":"+'Roster LIMA'!AQ15777","v":0},{"$f":"+'Roster LIMA'!AR15777","v":2},{"$f":"+'Roster LIMA'!AS15777","v":"N/A"},{"$f":"+'Roster LIMA'!AT15777","v":116},{"$f":"+'Roster LIMA'!AU15777","v":"Yes"}]
[{"$f":"+'Roster LIMA'!F15778","v":"HL6016"},{"$f":"+'Roster LIMA'!G15778","v":2006},{"$f":"+'Roster LIMA'!H15778","v":"Yes"},{"$f":"+'Roster LIMA'!I15778","v":"ML"},{"$f":"+'Roster LIMA'!J15778","v":17},{"$f":"+'Roster LIMA'!K15778","v":"x"},{"$f":"+'Roster LIMA'!E15778","v":0},{"$f":"+'Roster LIMA'!B15778","v":303171},{"$f":"+'Roster LIMA'!C15778","v":0},{"$f":"+'Roster LIMA'!D15778","v":0},{"$f":"+'Roster LIMA'!L15778","v":"Italy"},{"$f":"+'Roster LIMA'!M15778","v":"FS"},{"$f":"+'Roster LIMA'!N15776","v":"No"},{"$f":"+'Roster LIMA'!O15778","v":"Freight"},{"$f":"+'Roster LIMA'!P15778","v":"Open"},{"$f":"+'Roster LIMA'!Q15778","v":"Empty"},{"$f":"+'Roster LIMA'!R15778","v":2},{"$f":"+'Roster LIMA'!S15778","v":"N/A"},{"$f":"+'Roster LIMA'!T15778","v":"Yes"},{"$f":"+'Roster LIMA'!U15778","v":1956},{"$f":"+'Roster LIMA'!V15778","v":2005},{"$f":"+'Roster LIMA'!W15778","v":"IV a / IV b / V a / V b"},{"$f":"+'Roster LIMA'!X15778","v":"E-type"},{"$f":"+'Roster LIMA'!Y15778","v":"Es 025"},{"$f":"+'Roster LIMA'!Z15778","v":"Tipo 2"},{"$f":"+'Roster LIMA'!AA15778","v":"21 83 446 0 100-3"},{"$f":"+'Roster LIMA'!AB15778","v":"Built in the mid 1950's"},{"$f":"+'Roster LIMA'!AC15778","v":"N/A"},{"$f":"+'Roster LIMA'!AD15778","v":"N/A"},{"$f":"+'Roster LIMA'!AE15778","v":"N/A"},{"$f":"+'Roster LIMA'!AF15778","v":"N/A"},{"$f":"+'Roster LIMA'!AG15778","v":"N/A"},{"$f":"+'Roster LIMA'!AH15778","v":"Brown"},{"$f":"+'Roster LIMA'!AI15778","v":"N/A"},{"$f":"+'Roster LIMA'!AJ15778","v":"Black"},{"$f":"+'Roster LIMA'!AK15778","v":"N/A"},{"$f":"+'Roster LIMA'!AL15778","v":"N/A"},{"$f":"+'Roster LIMA'!AM15778","v":"Blue"},{"$f":"+'Roster LIMA'!AN15778","v":"N/A"},{"$f":"+'Roster LIMA'!AO15778","v":"N/A"},{"$f":"+'Roster LIMA'!AP15778","v":0},{"$f":"+'Roster LIMA'!AQ15778","v":0},{"$f":"+'Roster LIMA'!AR15778","v":2},{"$f":"+'Roster LIMA'!AS15778","v":1.2048192771084338E-2},{"$f":"+'Roster LIMA'!AT15778","v":121},{"$f":"+'Roster LIMA'!AU15778","v":"Yes"}]
[{"$f":"+'Roster LIMA'!F15779","v":"HL6017"},{"$f":"+'Roster LIMA'!G15779","v":2006},{"$f":"+'Roster LIMA'!H15779","v":"Yes"},{"$f":"+'Roster LIMA'!I15779","v":"ML"},{"$f":"+'Roster LIMA'!J15779","v":18},{"$f":"+'Roster LIMA'!K15779","v":"x"},{"$f":"+'Roster LIMA'!E15779","v":0},{"$f":"+'Roster LIMA'!B15779","v":303103},{"$f":"+'Roster LIMA'!C15779","v":0},{"$f":"+'Roster LIMA'!D15779","v":0},{"$f":"+'Roster LIMA'!L15779","v":"France"},{"$f":"+'Roster LIMA'!M15779","v":"SNCF"},{"$f":"+'Roster LIMA'!N15777","v":"No"},{"$f":"+'Roster LIMA'!O15779","v":"Freight"},{"$f":"+'Roster LIMA'!P15779","v":"Reefer"},{"$f":"+'Roster LIMA'!Q15779","v":"With ladder"},{"$f":"+'Roster LIMA'!R15779","v":2},{"$f":"+'Roster LIMA'!S15779","v":"N/A"},{"$f":"+'Roster LIMA'!T15779","v":"Yes"},{"$f":"+'Roster LIMA'!U15779","v":1960},{"$f":"+'Roster LIMA'!V15779","v":1995},{"$f":"+'Roster LIMA'!W15779","v":"III b / IV a / IV b / V a"},{"$f":"+'Roster LIMA'!X15779","v":"I-type"},{"$f":"+'Roster LIMA'!Y15779","v":"Ibps-v"},{"$f":"+'Roster LIMA'!Z15779","v":"Ichqrs 377"},{"$f":"+'Roster LIMA'!AA15779","v":"03 87 823 5 049-0"},{"$f":"+'Roster LIMA'!AB15779","v":"Built in the late 1950's. With smooth panel"},{"$f":"+'Roster LIMA'!AC15779","v":"Interfrigo"},{"$f":"+'Roster LIMA'!AD15779","v":"N/A"},{"$f":"+'Roster LIMA'!AE15779","v":"N/A"},{"$f":"+'Roster LIMA'!AF15779","v":"N/A"},{"$f":"+'Roster LIMA'!AG15779","v":"N/A"},{"$f":"+'Roster LIMA'!AH15779","v":"White"},{"$f":"+'Roster LIMA'!AI15779","v":"Grey"},{"$f":"+'Roster LIMA'!AJ15779","v":"Black"},{"$f":"+'Roster LIMA'!AK15779","v":"N/A"},{"$f":"+'Roster LIMA'!AL15779","v":"White"},{"$f":"+'Roster LIMA'!AM15779","v":"Blue"},{"$f":"+'Roster LIMA'!AN15779","v":"N/A"},{"$f":"+'Roster LIMA'!AO15779","v":"N/A"},{"$f":"+'Roster LIMA'!AP15779","v":0},{"$f":"+'Roster LIMA'!AQ15779","v":0},{"$f":"+'Roster LIMA'!AR15779","v":2},{"$f":"+'Roster LIMA'!AS15779","v":1.1494252873563218E-2},{"$f":"+'Roster LIMA'!AT15779","v":130},{"$f":"+'Roster LIMA'!AU15779","v":"Yes"}]
[{"$f":"+'Roster LIMA'!F15780","v":"HL6018"},{"$f":"+'Roster LIMA'!G15780","v":2006},{"$f":"+'Roster LIMA'!H15780","v":"Yes"},{"$f":"+'Roster LIMA'!I15780","v":"ML"},{"$f":"+'Roster LIMA'!J15780","v":18},{"$f":"+'Roster LIMA'!K15780","v":"x"},{"$f":"+'Roster LIMA'!E15780","v":0},{"$f":"+'Roster LIMA'!B15780","v":302814},{"$f":"+'Roster LIMA'!C15780","v":0},{"$f":"+'Roster LIMA'!D15780","v":0},{"$f":"+'Roster LIMA'!L15780","v":"Italy"},{"$f":"+'Roster LIMA'!M15780","v":"FS"},{"$f":"+'Roster LIMA'!N15778","v":"No"},{"$f":"+'Roster LIMA'!O15780","v":"Freight"},{"$f":"+'Roster LIMA'!P15780","v":"Flat"},{"$f":"+'Roster LIMA'!Q15780","v":"Empty"},{"$f":"+'Roster LIMA'!R15780","v":2},{"$f":"+'Roster LIMA'!S15780","v":"N/A"},{"$f":"+'Roster LIMA'!T15780","v":"Yes"},{"$f":"+'Roster LIMA'!U15780","v":1925},{"$f":"+'Roster LIMA'!V15780","v":1970},{"$f":"+'Roster LIMA'!W15780","v":"III a / III b / IV a"},{"$f":"+'Roster LIMA'!X15780","v":"K-type"},{"$f":"+'Roster LIMA'!Y15780","v":"O 10"},{"$f":"+'Roster LIMA'!Z15780","v":"P con garitta"},{"$f":"+'Roster LIMA'!AA15780","v":"N/A"},{"$f":"+'Roster LIMA'!AB15780","v":"Built in the mid 1920's"},{"$f":"+'Roster LIMA'!AC15780","v":"N/A"},{"$f":"+'Roster LIMA'!AD15780","v":"N/A"},{"$f":"+'Roster LIMA'!AE15780","v":"N/A"},{"$f":"+'Roster LIMA'!AF15780","v":"Televisore"},{"$f":"+'Roster LIMA'!AG15780","v":"N/A"},{"$f":"+'Roster LIMA'!AH15780","v":"Brown"},{"$f":"+'Roster LIMA'!AI15780","v":"N/A"},{"$f":"+'Roster LIMA'!AJ15780","v":"Brown"},{"$f":"+'Roster LIMA'!AK15780","v":"N/A"},{"$f":"+'Roster LIMA'!AL15780","v":"N/A"},{"$f":"+'Roster LIMA'!AM15780","v":"Blue"},{"$f":"+'Roster LIMA'!AN15780","v":"N/A"},{"$f":"+'Roster LIMA'!AO15780","v":"N/A"},{"$f":"+'Roster LIMA'!AP15780","v":0},{"$f":"+'Roster LIMA'!AQ15780","v":0},{"$f":"+'Roster LIMA'!AR15780","v":2},{"$f":"+'Roster LIMA'!AS15780","v":1.1494252873563218E-2},{"$f":"+'Roster LIMA'!AT15780","v":116},{"$f":"+'Roster LIMA'!AU15780","v":"Yes"}]
[{"$f":"+'Roster LIMA'!F15781","v":"HL2023"},{"$f":"+'Roster LIMA'!G15781","v":2008},{"$f":"+'Roster LIMA'!H15781","v":"Yes"},{"$f":"+'Roster LIMA'!I15781","v":"ML"},{"$f":"+'Roster LIMA'!J15781","v":84},{"$f":"+'Roster LIMA'!K15781","v":"x"},{"$f":"+'Roster LIMA'!E15781","v":0},{"$f":"+'Roster LIMA'!B15781","v":"N/A"},{"$f":"+'Roster LIMA'!C15781","v":0},{"$f":"+'Roster LIMA'!D15781","v":0},{"$f":"+'Roster LIMA'!L15781","v":"Germany"},{"$f":"+'Roster LIMA'!M15781","v":"DR"},{"$f":"+'Roster LIMA'!N15779","v":"No"},{"$f":"+'Roster LIMA'!O15781","v":"Locomotive"},{"$f":"+'Roster LIMA'!P15781","v":"Diesel"},{"$f":"+'Roster LIMA'!Q15781","v":"Shunter"},{"$f":"+'Roster LIMA'!R15781","v":"C"},{"$f":"+'Roster LIMA'!S15781","v":"N/A"},{"$f":"+'Roster LIMA'!T15781","v":"Yes"},{"$f":"+'Roster LIMA'!U15781","v":1944},{"$f":"+'Roster LIMA'!V15781","v":1968},{"$f":"+'Roster LIMA'!W15781","v":"III b"},{"$f":"+'Roster LIMA'!X15781","v":"BR-270"},{"$f":"+'Roster LIMA'!Y15781","v":"V-20"},{"$f":"+'Roster LIMA'!Z15781","v":"WR 200 B14"},{"$f":"+'Roster LIMA'!AA15781","v":"V20 007"},{"$f":"+'Roster LIMA'!AB15781","v":"129 units, built between 1940-47. Focus on shunting operation. Originally employed by the Wehrmacht"},{"$f":"+'Roster LIMA'!AC15781","v":"N/A"},{"$f":"+'Roster LIMA'!AD15781","v":"N/A"},{"$f":"+'Roster LIMA'!AE15781","v":"N/A"},{"$f":"+'Roster LIMA'!AF15781","v":"DR"},{"$f":"+'Roster LIMA'!AG15781","v":"N/A"},{"$f":"+'Roster LIMA'!AH15781","v":"Green"},{"$f":"+'Roster LIMA'!AI15781","v":"Grey"},{"$f":"+'Roster LIMA'!AJ15781","v":"Red"},{"$f":"+'Roster LIMA'!AK15781","v":"N/A"},{"$f":"+'Roster LIMA'!AL15781","v":"Green"},{"$f":"+'Roster LIMA'!AM15781","v":"Blue"},{"$f":"+'Roster LIMA'!AN15781","v":"G-Motor"},{"$f":"+'Roster LIMA'!AO15781","v":"N/A"},{"$f":"+'Roster LIMA'!AP15781","v":0},{"$f":"+'Roster LIMA'!AQ15781","v":0},{"$f":"+'Roster LIMA'!AR15781","v":3},{"$f":"+'Roster LIMA'!AS15781","v":1.1494252873563218E-2},{"$f":"+'Roster LIMA'!AT15781","v":92},{"$f":"+'Roster LIMA'!AU15781","v":"Yes"}]
[{"$f":"+'Roster LIMA'!F15782","v":"HL2015"},{"$f":"+'Roster LIMA'!G15782","v":2008},{"$f":"+'Roster LIMA'!H15782","v":"Yes"},{"$f":"+'Roster LIMA'!I15782","v":"ML"},{"$f":"+'Roster LIMA'!J15782","v":84},{"$f":"+'Roster LIMA'!K15782","v":"x"},{"$f":"+'Roster LIMA'!E15782","v":0},{"$f":"+'Roster LIMA'!B15782","v":"N/A"},{"$f":"+'Roster LIMA'!C15782","v":0},{"$f":"+'Roster LIMA'!D15782","v":0},{"$f":"+'Roster LIMA'!L15782","v":"Germany"},{"$f":"+'Roster LIMA'!M15782","v":"DB"},{"$f":"+'Roster LIMA'!N15780","v":"No"},{"$f":"+'Roster LIMA'!O15782","v":"Locomotive"},{"$f":"+'Roster LIMA'!P15782","v":"Diesel"},{"$f":"+'Roster LIMA'!Q15782","v":"Shunter"},{"$f":"+'Roster LIMA'!R15782","v":"C"},{"$f":"+'Roster LIMA'!S15782","v":"N/A"},{"$f":"+'Roster LIMA'!T15782","v":"Yes"},{"$f":"+'Roster LIMA'!U15782","v":1941},{"$f":"+'Roster LIMA'!V15782","v":1977},{"$f":"+'Roster LIMA'!W15782","v":"III b"},{"$f":"+'Roster LIMA'!X15782","v":"BR-270"},{"$f":"+'Roster LIMA'!Y15782","v":"V-20"},{"$f":"+'Roster LIMA'!Z15782","v":"WR 200 B14"},{"$f":"+'Roster LIMA'!AA15782","v":"V20 021"},{"$f":"+'Roster LIMA'!AB15782","v":"129 units, built between 1940-47. Focus on shunting operation. Originally employed by the Wehrmacht"},{"$f":"+'Roster LIMA'!AC15782","v":"N/A"},{"$f":"+'Roster LIMA'!AD15782","v":"N/A"},{"$f":"+'Roster LIMA'!AE15782","v":"N/A"},{"$f":"+'Roster LIMA'!AF15782","v":"Keks"},{"$f":"+'Roster LIMA'!AG15782","v":"N/A"},{"$f":"+'Roster LIMA'!AH15782","v":"Black"},{"$f":"+'Roster LIMA'!AI15782","v":"Grey"},{"$f":"+'Roster LIMA'!AJ15782","v":"Red"},{"$f":"+'Roster LIMA'!AK15782","v":"N/A"},{"$f":"+'Roster LIMA'!AL15782","v":"Black"},{"$f":"+'Roster LIMA'!AM15782","v":"Blue"},{"$f":"+'Roster LIMA'!AN15782","v":"G-Motor"},{"$f":"+'Roster LIMA'!AO15782","v":"N/A"},{"$f":"+'Roster LIMA'!AP15782","v":0},{"$f":"+'Roster LIMA'!AQ15782","v":0},{"$f":"+'Roster LIMA'!AR15782","v":3},{"$f":"+'Roster LIMA'!AS15782","v":1.1494252873563218E-2},{"$f":"+'Roster LIMA'!AT15782","v":92},{"$f":"+'Roster LIMA'!AU15782","v":"Yes"}]
[{"$f":"+'Roster LIMA'!F15783","v":"HL2014"},{"$f":"+'Roster LIMA'!G15783","v":2008},{"$f":"+'Roster LIMA'!H15783","v":"Yes"},{"$f":"+'Roster LIMA'!I15783","v":"ML"},{"$f":"+'Roster LIMA'!J15783","v":84},{"$f":"+'Roster LIMA'!K15783","v":"x"},{"$f":"+'Roster LIMA'!E15783","v":0},{"$f":"+'Roster LIMA'!B15783","v":"N/A"},{"$f":"+'Roster LIMA'!C15783","v":0},{"$f":"+'Roster LIMA'!D15783","v":0},{"$f":"+'Roster LIMA'!L15783","v":"Germany"},{"$f":"+'Roster LIMA'!M15783","v":"DB"},{"$f":"+'Roster LIMA'!N15781","v":"No"},{"$f":"+'Roster LIMA'!O15783","v":"Locomotive"},{"$f":"+'Roster LIMA'!P15783","v":"Diesel"},{"$f":"+'Roster LIMA'!Q15783","v":"Shunter"},{"$f":"+'Roster LIMA'!R15783","v":"C"},{"$f":"+'Roster LIMA'!S15783","v":"N/A"},{"$f":"+'Roster LIMA'!T15783","v":"Yes"},{"$f":"+'Roster LIMA'!U15783","v":1947},{"$f":"+'Roster LIMA'!V15783","v":1977},{"$f":"+'Roster LIMA'!W15783","v":"III b"},{"$f":"+'Roster LIMA'!X15783","v":"BR-236"},{"$f":"+'Roster LIMA'!Y15783","v":"V-36"},{"$f":"+'Roster LIMA'!Z15783","v":"WR 360 C 14"},{"$f":"+'Roster LIMA'!AA15783","v":"V36 150"},{"$f":"+'Roster LIMA'!AB15783","v":"279 units, built between 1937-50. Focus on shunting operation. Originally employed by the Wehrmacht"},{"$f":"+'Roster LIMA'!AC15783","v":"N/A"},{"$f":"+'Roster LIMA'!AD15783","v":"N/A"},{"$f":"+'Roster LIMA'!AE15783","v":"N/A"},{"$f":"+'Roster LIMA'!AF15783","v":"Keks"},{"$f":"+'Roster LIMA'!AG15783","v":"N/A"},{"$f":"+'Roster LIMA'!AH15783","v":"Black"},{"$f":"+'Roster LIMA'!AI15783","v":"Grey"},{"$f":"+'Roster LIMA'!AJ15783","v":"Red"},{"$f":"+'Roster LIMA'!AK15783","v":"N/A"},{"$f":"+'Roster LIMA'!AL15783","v":"Black"},{"$f":"+'Roster LIMA'!AM15783","v":"Blue"},{"$f":"+'Roster LIMA'!AN15783","v":"G-Motor"},{"$f":"+'Roster LIMA'!AO15783","v":"N/A"},{"$f":"+'Roster LIMA'!AP15783","v":0},{"$f":"+'Roster LIMA'!AQ15783","v":0},{"$f":"+'Roster LIMA'!AR15783","v":3},{"$f":"+'Roster LIMA'!AS15783","v":1.1494252873563218E-2},{"$f":"+'Roster LIMA'!AT15783","v":105},{"$f":"+'Roster LIMA'!AU15783","v":"Yes"}]
[{"$f":"+'Roster LIMA'!F15784","v":"HL2033"},{"$f":"+'Roster LIMA'!G15784","v":2008},{"$f":"+'Roster LIMA'!H15784","v":"Yes"},{"$f":"+'Roster LIMA'!I15784","v":"ML"},{"$f":"+'Roster LIMA'!J15784","v":85},{"$f":"+'Roster LIMA'!K15784","v":"x"},{"$f":"+'Roster LIMA'!E15784","v":0},{"$f":"+'Roster LIMA'!B15784","v":"N/A"},{"$f":"+'Roster LIMA'!C15784","v":0},{"$f":"+'Roster LIMA'!D15784","v":0},{"$f":"+'Roster LIMA'!L15784","v":"Germany"},{"$f":"+'Roster LIMA'!M15784","v":"DR"},{"$f":"+'Roster LIMA'!N15782","v":"No"},{"$f":"+'Roster LIMA'!O15784","v":"Locomotive"},{"$f":"+'Roster LIMA'!P15784","v":"Diesel"},{"$f":"+'Roster LIMA'!Q15784","v":"Shunter"},{"$f":"+'Roster LIMA'!R15784","v":"C"},{"$f":"+'Roster LIMA'!S15784","v":"N/A"},{"$f":"+'Roster LIMA'!T15784","v":"Yes"},{"$f":"+'Roster LIMA'!U15784","v":1943},{"$f":"+'Roster LIMA'!V15784","v":1981},{"$f":"+'Roster LIMA'!W15784","v":"IV a / IV b"},{"$f":"+'Roster LIMA'!X15784","v":"BR-236"},{"$f":"+'Roster LIMA'!Y15784","v":"V-36"},{"$f":"+'Roster LIMA'!Z15784","v":"WR 360 C 14"},{"$f":"+'Roster LIMA'!AA15784","v":"103 019-6"},{"$f":"+'Roster LIMA'!AB15784","v":"279 units, built between 1937-50. Focus on shunting operation. Originally employed by the Wehrmacht"},{"$f":"+'Roster LIMA'!AC15784","v":"N/A"},{"$f":"+'Roster LIMA'!AD15784","v":"N/A"},{"$f":"+'Roster LIMA'!AE15784","v":"N/A"},{"$f":"+'Roster LIMA'!AF15784","v":"DR"},{"$f":"+'Roster LIMA'!AG15784","v":"N/A"},{"$f":"+'Roster LIMA'!AH15784","v":"Green"},{"$f":"+'Roster LIMA'!AI15784","v":"Grey"},{"$f":"+'Roster LIMA'!AJ15784","v":"Red"},{"$f":"+'Roster LIMA'!AK15784","v":"N/A"},{"$f":"+'Roster LIMA'!AL15784","v":"Green"},{"$f":"+'Roster LIMA'!AM15784","v":"Blue"},{"$f":"+'Roster LIMA'!AN15784","v":"G-Motor"},{"$f":"+'Roster LIMA'!AO15784","v":"N/A"},{"$f":"+'Roster LIMA'!AP15784","v":0},{"$f":"+'Roster LIMA'!AQ15784","v":0},{"$f":"+'Roster LIMA'!AR15784","v":3},{"$f":"+'Roster LIMA'!AS15784","v":1.1494252873563218E-2},{"$f":"+'Roster LIMA'!AT15784","v":92},{"$f":"+'Roster LIMA'!AU15784","v":"Yes"}]
[{"$f":"+'Roster LIMA'!F15785","v":"HL2034"},{"$f":"+'Roster LIMA'!G15785","v":2008},{"$f":"+'Roster LIMA'!H15785","v":"Yes"},{"$f":"+'Roster LIMA'!I15785","v":"ML"},{"$f":"+'Roster LIMA'!J15785","v":85},{"$f":"+'Roster LIMA'!K15785","v":"x"},{"$f":"+'Roster LIMA'!E15785","v":0},{"$f":"+'Roster LIMA'!B15785","v":"N/A"},{"$f":"+'Roster LIMA'!C15785","v":0},{"$f":"+'Roster LIMA'!D15785","v":"AC"},{"$f":"+'Roster LIMA'!L15785","v":"Germany"},{"$f":"+'Roster LIMA'!M15785","v":"DR"},{"$f":"+'Roster LIMA'!N15783","v":"No"},{"$f":"+'Roster LIMA'!O15785","v":"Locomotive"},{"$f":"+'Roster LIMA'!P15785","v":"Diesel"},{"$f":"+'Roster LIMA'!Q15785","v":"Shunter"},{"$f":"+'Roster LIMA'!R15785","v":"C"},{"$f":"+'Roster LIMA'!S15785","v":"N/A"},{"$f":"+'Roster LIMA'!T15785","v":"Yes"},{"$f":"+'Roster LIMA'!U15785","v":1943},{"$f":"+'Roster LIMA'!V15785","v":1981},{"$f":"+'Roster LIMA'!W15785","v":"IV a / IV b"},{"$f":"+'Roster LIMA'!X15785","v":"BR-236"},{"$f":"+'Roster LIMA'!Y15785","v":"V-36"},{"$f":"+'Roster LIMA'!Z15785","v":"WR 360 C 14"},{"$f":"+'Roster LIMA'!AA15785","v":"103 019-6"},{"$f":"+'Roster LIMA'!AB15785","v":"Similar to #HL2033 but AC only version "},{"$f":"+'Roster LIMA'!AC15785","v":"N/A"},{"$f":"+'Roster LIMA'!AD15785","v":"N/A"},{"$f":"+'Roster LIMA'!AE15785","v":"N/A"},{"$f":"+'Roster LIMA'!AF15785","v":"DR"},{"$f":"+'Roster LIMA'!AG15785","v":"N/A"},{"$f":"+'Roster LIMA'!AH15785","v":"Green"},{"$f":"+'Roster LIMA'!AI15785","v":"Grey"},{"$f":"+'Roster LIMA'!AJ15785","v":"Red"},{"$f":"+'Roster LIMA'!AK15785","v":"N/A"},{"$f":"+'Roster LIMA'!AL15785","v":"Green"},{"$f":"+'Roster LIMA'!AM15785","v":"Blue"},{"$f":"+'Roster LIMA'!AN15785","v":"G-Motor"},{"$f":"+'Roster LIMA'!AO15785","v":"N/A"},{"$f":"+'Roster LIMA'!AP15785","v":0},{"$f":"+'Roster LIMA'!AQ15785","v":0},{"$f":"+'Roster LIMA'!AR15785","v":3},{"$f":"+'Roster LIMA'!AS15785","v":1.1494252873563218E-2},{"$f":"+'Roster LIMA'!AT15785","v":92},{"$f":"+'Roster LIMA'!AU15785","v":"Yes"}]
[{"$f":"+'Roster LIMA'!F15786","v":"HL2025"},{"$f":"+'Roster LIMA'!G15786","v":2008},{"$f":"+'Roster LIMA'!H15786","v":"Yes"},{"$f":"+'Roster LIMA'!I15786","v":"ML"},{"$f":"+'Roster LIMA'!J15786","v":85},{"$f":"+'Roster LIMA'!K15786","v":"x"},{"$f":"+'Roster LIMA'!E15786","v":0},{"$f":"+'Roster LIMA'!B15786","v":"N/A"},{"$f":"+'Roster LIMA'!C15786","v":0},{"$f":"+'Roster LIMA'!D15786","v":0},{"$f":"+'Roster LIMA'!L15786","v":"Germany"},{"$f":"+'Roster LIMA'!M15786","v":"DB"},{"$f":"+'Roster LIMA'!N15784","v":"No"},{"$f":"+'Roster LIMA'!O15786","v":"Mixed"},{"$f":"+'Roster LIMA'!P15786","v":"Set"},{"$f":"+'Roster LIMA'!Q15786","v":"Regional service"},{"$f":"+'Roster LIMA'!R15786","v":"B'+2+2+2"},{"$f":"+'Roster LIMA'!S15786","v":"Lima Collection"},{"$f":"+'Roster LIMA'!T15786","v":"Yes"},{"$f":"+'Roster LIMA'!U15786","v":1952},{"$f":"+'Roster LIMA'!V15786","v":1962},{"$f":"+'Roster LIMA'!W15786","v":"III a"},{"$f":"+'Roster LIMA'!X15786","v":"Donnerbüchse"},{"$f":"+'Roster LIMA'!Y15786","v":"Coburger Landbote"},{"$f":"+'Roster LIMA'!Z15786","v":"N/A"},{"$f":"+'Roster LIMA'!AA15786","v":"N/A"},{"$f":"+'Roster LIMA'!AB15786","v":"4-unit train comprised of Diesel locomotive V-80, 2 axle Passenger coach and Flat with tractor"},{"$f":"+'Roster LIMA'!AC15786","v":"N/A"},{"$f":"+'Roster LIMA'!AD15786","v":"N/A"},{"$f":"+'Roster LIMA'!AE15786","v":"N/A"},{"$f":"+'Roster LIMA'!AF15786","v":"Deutsche Bundesbahn"},{"$f":"+'Roster LIMA'!AG15786","v":"N/A"},{"$f":"+'Roster LIMA'!AH15786","v":"Green"},{"$f":"+'Roster LIMA'!AI15786","v":"Grey"},{"$f":"+'Roster LIMA'!AJ15786","v":"Black"},{"$f":"+'Roster LIMA'!AK15786","v":"N/A"},{"$f":"+'Roster LIMA'!AL15786","v":"Green"},{"$f":"+'Roster LIMA'!AM15786","v":"Blue"},{"$f":"+'Roster LIMA'!AN15786","v":"G-Motor"},{"$f":"+'Roster LIMA'!AO15786","v":"N/A"},{"$f":"+'Roster LIMA'!AP15786","v":0},{"$f":"+'Roster LIMA'!AQ15786","v":0},{"$f":"+'Roster LIMA'!AR15786","v":10},{"$f":"+'Roster LIMA'!AS15786","v":"N/A"},{"$f":"+'Roster LIMA'!AT15786","v":612},{"$f":"+'Roster LIMA'!AU15786","v":"Replace"}]
[{"$f":"+'Roster LIMA'!F15787","v":"HL2035"},{"$f":"+'Roster LIMA'!G15787","v":2008},{"$f":"+'Roster LIMA'!H15787","v":"Yes"},{"$f":"+'Roster LIMA'!I15787","v":"ML"},{"$f":"+'Roster LIMA'!J15787","v":86},{"$f":"+'Roster LIMA'!K15787","v":"x"},{"$f":"+'Roster LIMA'!E15787","v":0},{"$f":"+'Roster LIMA'!B15787","v":"N/A"},{"$f":"+'Roster LIMA'!C15787","v":0},{"$f":"+'Roster LIMA'!D15787","v":0},{"$f":"+'Roster LIMA'!L15787","v":"Germany"},{"$f":"+'Roster LIMA'!M15787","v":"DB"},{"$f":"+'Roster LIMA'!N15785","v":"No"},{"$f":"+'Roster LIMA'!O15787","v":"Locomotive"},{"$f":"+'Roster LIMA'!P15787","v":"Electric"},{"$f":"+'Roster LIMA'!Q15787","v":"Express service"},{"$f":"+'Roster LIMA'!R15787","v":"Bo'Bo'"},{"$f":"+'Roster LIMA'!S15787","v":"N/A"},{"$f":"+'Roster LIMA'!T15787","v":"Yes"},{"$f":"+'Roster LIMA'!U15787","v":1979},{"$f":"+'Roster LIMA'!V15787","v":2004},{"$f":"+'Roster LIMA'!W15787","v":"IV b / V a"},{"$f":"+'Roster LIMA'!X15787","v":"BR-120"},{"$f":"+'Roster LIMA'!Y15787","v":"BR-120.0"},{"$f":"+'Roster LIMA'!Z15787","v":"BR-120"},{"$f":"+'Roster LIMA'!AA15787","v":"120 001-3"},{"$f":"+'Roster LIMA'!AB15787","v":"5 units, built between 1978-79 and numbered 120.001/005. Focus on express Passenger services. Published on catalogue but never manufactured"},{"$f":"+'Roster LIMA'!AC15787","v":"N/A"},{"$f":"+'Roster LIMA'!AD15787","v":"TEE"},{"$f":"+'Roster LIMA'!AE15787","v":"N/A"},{"$f":"+'Roster LIMA'!AF15787","v":"Keks"},{"$f":"+'Roster LIMA'!AG15787","v":"TEE"},{"$f":"+'Roster LIMA'!AH15787","v":"Cream"},{"$f":"+'Roster LIMA'!AI15787","v":"Red"},{"$f":"+'Roster LIMA'!AJ15787","v":"Red"},{"$f":"+'Roster LIMA'!AK15787","v":"Grey"},{"$f":"+'Roster LIMA'!AL15787","v":"Cream"},{"$f":"+'Roster LIMA'!AM15787","v":"Blue"},{"$f":"+'Roster LIMA'!AN15787","v":"Double cardan transmission"},{"$f":"+'Roster LIMA'!AO15787","v":"Single arm"},{"$f":"+'Roster LIMA'!AP15787","v":2},{"$f":"+'Roster LIMA'!AQ15787","v":2},{"$f":"+'Roster LIMA'!AR15787","v":4},{"$f":"+'Roster LIMA'!AS15787","v":1.1494252873563218E-2},{"$f":"+'Roster LIMA'!AT15787","v":220},{"$f":"+'Roster LIMA'!AU15787","v":"Replace"}]
[{"$f":"+'Roster LIMA'!F15788","v":"HL2036"},{"$f":"+'Roster LIMA'!G15788","v":2008},{"$f":"+'Roster LIMA'!H15788","v":"Yes"},{"$f":"+'Roster LIMA'!I15788","v":"ML"},{"$f":"+'Roster LIMA'!J15788","v":86},{"$f":"+'Roster LIMA'!K15788","v":"x"},{"$f":"+'Roster LIMA'!E15788","v":0},{"$f":"+'Roster LIMA'!B15788","v":208665},{"$f":"+'Roster LIMA'!C15788","v":"MP"},{"$f":"+'Roster LIMA'!D15788","v":0},{"$f":"+'Roster LIMA'!L15788","v":"Germany"},{"$f":"+'Roster LIMA'!M15788","v":"Railion"},{"$f":"+'Roster LIMA'!N15786","v":"No"},{"$f":"+'Roster LIMA'!O15788","v":"Locomotive"},{"$f":"+'Roster LIMA'!P15788","v":"Electric"},{"$f":"+'Roster LIMA'!Q15788","v":"Freight"},{"$f":"+'Roster LIMA'!R15788","v":"Bo'Bo'"},{"$f":"+'Roster LIMA'!S15788","v":"N/A"},{"$f":"+'Roster LIMA'!T15788","v":"Yes"},{"$f":"+'Roster LIMA'!U15788","v":1999},{"$f":"+'Roster LIMA'!V15788","v":"Operational"},{"$f":"+'Roster LIMA'!W15788","v":"V b / VI"},{"$f":"+'Roster LIMA'!X15788","v":"BR-152"},{"$f":"+'Roster LIMA'!Y15788","v":"BR-152"},{"$f":"+'Roster LIMA'!Z15788","v":"ES-64 F"},{"$f":"+'Roster LIMA'!AA15788","v":"152 087-3"},{"$f":"+'Roster LIMA'!AB15788","v":"170 units, built between 1995-01 and numbered 152.001/170. Focus on heavy Freight services"},{"$f":"+'Roster LIMA'!AC15788","v":"Railion"},{"$f":"+'Roster LIMA'!AD15788","v":"N/A"},{"$f":"+'Roster LIMA'!AE15788","v":"N/A"},{"$f":"+'Roster LIMA'!AF15788","v":"Railion"},{"$f":"+'Roster LIMA'!AG15788","v":"Verkehrsrot"},{"$f":"+'Roster LIMA'!AH15788","v":"Red"},{"$f":"+'Roster LIMA'!AI15788","v":"Grey"},{"$f":"+'Roster LIMA'!AJ15788","v":"Grey"},{"$f":"+'Roster LIMA'!AK15788","v":"N/A"},{"$f":"+'Roster LIMA'!AL15788","v":"Red"},{"$f":"+'Roster LIMA'!AM15788","v":"Blue"},{"$f":"+'Roster LIMA'!AN15788","v":"Double cardan transmission"},{"$f":"+'Roster LIMA'!AO15788","v":"Single arm"},{"$f":"+'Roster LIMA'!AP15788","v":2},{"$f":"+'Roster LIMA'!AQ15788","v":2},{"$f":"+'Roster LIMA'!AR15788","v":4},{"$f":"+'Roster LIMA'!AS15788","v":1.1494252873563218E-2},{"$f":"+'Roster LIMA'!AT15788","v":225},{"$f":"+'Roster LIMA'!AU15788","v":"Yes"}]
[{"$f":"+'Roster LIMA'!F15789","v":"HL2001"},{"$f":"+'Roster LIMA'!G15789","v":2008},{"$f":"+'Roster LIMA'!H15789","v":"Yes"},{"$f":"+'Roster LIMA'!I15789","v":"ML"},{"$f":"+'Roster LIMA'!J15789","v":86},{"$f":"+'Roster LIMA'!K15789","v":"x"},{"$f":"+'Roster LIMA'!E15789","v":0},{"$f":"+'Roster LIMA'!B15789","v":149874},{"$f":"+'Roster LIMA'!C15789","v":"LMKP"},{"$f":"+'Roster LIMA'!D15789","v":0},{"$f":"+'Roster LIMA'!L15789","v":"France"},{"$f":"+'Roster LIMA'!M15789","v":"SNCF"},{"$f":"+'Roster LIMA'!N15787","v":"No"},{"$f":"+'Roster LIMA'!O15789","v":"Passenger"},{"$f":"+'Roster LIMA'!P15789","v":"Set"},{"$f":"+'Roster LIMA'!Q15789","v":"Express service"},{"$f":"+'Roster LIMA'!R15789","v":"Bo'Bo'+2'+2'+Bo'Bo'"},{"$f":"+'Roster LIMA'!S15789","v":"Lima Collection"},{"$f":"+'Roster LIMA'!T15789","v":"Yes"},{"$f":"+'Roster LIMA'!U15789","v":1996},{"$f":"+'Roster LIMA'!V15789","v":"Operational"},{"$f":"+'Roster LIMA'!W15789","v":"V b / VI"},{"$f":"+'Roster LIMA'!X15789","v":"TGV PBKA"},{"$f":"+'Roster LIMA'!Y15789","v":"TGV"},{"$f":"+'Roster LIMA'!Z15789","v":"N/A"},{"$f":"+'Roster LIMA'!AA15789","v":4341},{"$f":"+'Roster LIMA'!AB15789","v":"4-unit train comprised of EMU Motor M1, Intermediate R1 and R8 and Driving trailer M2 "},{"$f":"+'Roster LIMA'!AC15789","v":"N/A"},{"$f":"+'Roster LIMA'!AD15789","v":"Thalys"},{"$f":"+'Roster LIMA'!AE15789","v":"Thalys"},{"$f":"+'Roster LIMA'!AF15789","v":"Thalys"},{"$f":"+'Roster LIMA'!AG15789","v":"Thalys"},{"$f":"+'Roster LIMA'!AH15789","v":"Red"},{"$f":"+'Roster LIMA'!AI15789","v":"Red"},{"$f":"+'Roster LIMA'!AJ15789","v":"Grey"},{"$f":"+'Roster LIMA'!AK15789","v":"White"},{"$f":"+'Roster LIMA'!AL15789","v":"Red"},{"$f":"+'Roster LIMA'!AM15789","v":"Blue"},{"$f":"+'Roster LIMA'!AN15789","v":"Double cardan transmission"},{"$f":"+'Roster LIMA'!AO15789","v":"Single arm"},{"$f":"+'Roster LIMA'!AP15789","v":2},{"$f":"+'Roster LIMA'!AQ15789","v":7},{"$f":"+'Roster LIMA'!AR15789","v":14},{"$f":"+'Roster LIMA'!AS15789","v":1.1494252873563218E-2},{"$f":"+'Roster LIMA'!AT15789","v":1017},{"$f":"+'Roster LIMA'!AU15789","v":"Yes"}]
[{"$f":"+'Roster LIMA'!F15790","v":"HL2007"},{"$f":"+'Roster LIMA'!G15790","v":2008},{"$f":"+'Roster LIMA'!H15790","v":"Yes"},{"$f":"+'Roster LIMA'!I15790","v":"ML"},{"$f":"+'Roster LIMA'!J15790","v":87},{"$f":"+'Roster LIMA'!K15790","v":"x"},{"$f":"+'Roster LIMA'!E15790","v":0},{"$f":"+'Roster LIMA'!B15790","v":208032},{"$f":"+'Roster LIMA'!C15790","v":"LMP"},{"$f":"+'Roster LIMA'!D15790","v":0},{"$f":"+'Roster LIMA'!L15790","v":"Germany"},{"$f":"+'Roster LIMA'!M15790","v":"DB"},{"$f":"+'Roster LIMA'!N15788","v":"No"},{"$f":"+'Roster LIMA'!O15790","v":"Locomotive"},{"$f":"+'Roster LIMA'!P15790","v":"Electric"},{"$f":"+'Roster LIMA'!Q15790","v":"Express service"},{"$f":"+'Roster LIMA'!R15790","v":"Bo'Bo'"},{"$f":"+'Roster LIMA'!S15790","v":"N/A"},{"$f":"+'Roster LIMA'!T15790","v":"Yes"},{"$f":"+'Roster LIMA'!U15790","v":1952},{"$f":"+'Roster LIMA'!V15790","v":1979},{"$f":"+'Roster LIMA'!W15790","v":"III a / III b"},{"$f":"+'Roster LIMA'!X15790","v":"BR-110"},{"$f":"+'Roster LIMA'!Y15790","v":"BR-110"},{"$f":"+'Roster LIMA'!Z15790","v":"E-10.0"},{"$f":"+'Roster LIMA'!AA15790","v":"E10 005"},{"$f":"+'Roster LIMA'!AB15790","v":"5 units, built between 1952-53 and numbered originally E10.001/005 (after 1968 110.001/005). Focus on express Passenger services"},{"$f":"+'Roster LIMA'!AC15790","v":"N/A"},{"$f":"+'Roster LIMA'!AD15790","v":"N/A"},{"$f":"+'Roster LIMA'!AE15790","v":"N/A"},{"$f":"+'Roster LIMA'!AF15790","v":"Deutsche Bundesbahn"},{"$f":"+'Roster LIMA'!AG15790","v":"DB-Kobaltblau"},{"$f":"+'Roster LIMA'!AH15790","v":"Blue"},{"$f":"+'Roster LIMA'!AI15790","v":"Grey"},{"$f":"+'Roster LIMA'!AJ15790","v":"Black"},{"$f":"+'Roster LIMA'!AK15790","v":"Grey"},{"$f":"+'Roster LIMA'!AL15790","v":"Blue"},{"$f":"+'Roster LIMA'!AM15790","v":"Blue"},{"$f":"+'Roster LIMA'!AN15790","v":"Double cardan transmission"},{"$f":"+'Roster LIMA'!AO15790","v":"Double arm"},{"$f":"+'Roster LIMA'!AP15790","v":2},{"$f":"+'Roster LIMA'!AQ15790","v":2},{"$f":"+'Roster LIMA'!AR15790","v":4},{"$f":"+'Roster LIMA'!AS15790","v":1.1494252873563218E-2},{"$f":"+'Roster LIMA'!AT15790","v":183},{"$f":"+'Roster LIMA'!AU15790","v":"Yes"}]
[{"$f":"+'Roster LIMA'!F15791","v":"HL2003"},{"$f":"+'Roster LIMA'!G15791","v":2008},{"$f":"+'Roster LIMA'!H15791","v":"Yes"},{"$f":"+'Roster LIMA'!I15791","v":"ML"},{"$f":"+'Roster LIMA'!J15791","v":87},{"$f":"+'Roster LIMA'!K15791","v":"x"},{"$f":"+'Roster LIMA'!E15791","v":0},{"$f":"+'Roster LIMA'!B15791","v":"N/A"},{"$f":"+'Roster LIMA'!C15791","v":"LMP"},{"$f":"+'Roster LIMA'!D15791","v":0},{"$f":"+'Roster LIMA'!L15791","v":"Germany"},{"$f":"+'Roster LIMA'!M15791","v":"DB"},{"$f":"+'Roster LIMA'!N15789","v":"EMU"},{"$f":"+'Roster LIMA'!O15791","v":"Locomotive"},{"$f":"+'Roster LIMA'!P15791","v":"Electric"},{"$f":"+'Roster LIMA'!Q15791","v":"Express service"},{"$f":"+'Roster LIMA'!R15791","v":"Bo'Bo'"},{"$f":"+'Roster LIMA'!S15791","v":"N/A"},{"$f":"+'Roster LIMA'!T15791","v":"Yes"},{"$f":"+'Roster LIMA'!U15791","v":1953},{"$f":"+'Roster LIMA'!V15791","v":1976},{"$f":"+'Roster LIMA'!W15791","v":"IV a"},{"$f":"+'Roster LIMA'!X15791","v":"BR-110"},{"$f":"+'Roster LIMA'!Y15791","v":"BR-110"},{"$f":"+'Roster LIMA'!Z15791","v":"E-10.0"},{"$f":"+'Roster LIMA'!AA15791","v":"110 004-9"},{"$f":"+'Roster LIMA'!AB15791","v":"5 units, built between 1952-53 and numbered originally E10.001/005 (after 1968 110.001/005). Focus on express Passenger services"},{"$f":"+'Roster LIMA'!AC15791","v":"N/A"},{"$f":"+'Roster LIMA'!AD15791","v":"N/A"},{"$f":"+'Roster LIMA'!AE15791","v":"N/A"},{"$f":"+'Roster LIMA'!AF15791","v":"Deutsche Bundesbahn"},{"$f":"+'Roster LIMA'!AG15791","v":"DB-Kobaltblau"},{"$f":"+'Roster LIMA'!AH15791","v":"Blue"},{"$f":"+'Roster LIMA'!AI15791","v":"Grey"},{"$f":"+'Roster LIMA'!AJ15791","v":"Black"},{"$f":"+'Roster LIMA'!AK15791","v":"Grey"},{"$f":"+'Roster LIMA'!AL15791","v":"Blue"},{"$f":"+'Roster LIMA'!AM15791","v":"Blue"},{"$f":"+'Roster LIMA'!AN15791","v":"Double cardan transmission"},{"$f":"+'Roster LIMA'!AO15791","v":"Double arm"},{"$f":"+'Roster LIMA'!AP15791","v":2},{"$f":"+'Roster LIMA'!AQ15791","v":2},{"$f":"+'Roster LIMA'!AR15791","v":4},{"$f":"+'Roster LIMA'!AS15791","v":1.1494252873563218E-2},{"$f":"+'Roster LIMA'!AT15791","v":183},{"$f":"+'Roster LIMA'!AU15791","v":"Yes"}]
[{"$f":"+'Roster LIMA'!F15792","v":"HL6026"},{"$f":"+'Roster LIMA'!G15792","v":2008},{"$f":"+'Roster LIMA'!H15792","v":"Yes"},{"$f":"+'Roster LIMA'!I15792","v":"ML"},{"$f":"+'Roster LIMA'!J15792","v":87},{"$f":"+'Roster LIMA'!K15792","v":"x"},{"$f":"+'Roster LIMA'!E15792","v":0},{"$f":"+'Roster LIMA'!B15792","v":"N/A"},{"$f":"+'Roster LIMA'!C15792","v":0},{"$f":"+'Roster LIMA'!D15792","v":0},{"$f":"+'Roster LIMA'!L15792","v":"Germany"},{"$f":"+'Roster LIMA'!M15792","v":"DB"},{"$f":"+'Roster LIMA'!N15790","v":"No"},{"$f":"+'Roster LIMA'!O15792","v":"Freight"},{"$f":"+'Roster LIMA'!P15792","v":"Set"},{"$f":"+'Roster LIMA'!Q15792","v":"Freight"},{"$f":"+'Roster LIMA'!R15792","v":"2'2'+2'2'+2'2'"},{"$f":"+'Roster LIMA'!S15792","v":"Lima Collection"},{"$f":"+'Roster LIMA'!T15792","v":"Yes"},{"$f":"+'Roster LIMA'!U15792","v":1954},{"$f":"+'Roster LIMA'!V15792","v":"Operational"},{"$f":"+'Roster LIMA'!W15792","v":"III a / III b"},{"$f":"+'Roster LIMA'!X15792","v":"T-type"},{"$f":"+'Roster LIMA'!Y15792","v":"Tad u 958"},{"$f":"+'Roster LIMA'!Z15792","v":"KKt 45"},{"$f":"+'Roster LIMA'!AA15792","v":"N/A"},{"$f":"+'Roster LIMA'!AB15792","v":"3-unit train comprised of Hopper with coal load #HL 6001 x 3"},{"$f":"+'Roster LIMA'!AC15792","v":"N/A"},{"$f":"+'Roster LIMA'!AD15792","v":"N/A"},{"$f":"+'Roster LIMA'!AE15792","v":"N/A"},{"$f":"+'Roster LIMA'!AF15792","v":"Keks"},{"$f":"+'Roster LIMA'!AG15792","v":"N/A"},{"$f":"+'Roster LIMA'!AH15792","v":"Brown"},{"$f":"+'Roster LIMA'!AI15792","v":"N/A"},{"$f":"+'Roster LIMA'!AJ15792","v":"Brown"},{"$f":"+'Roster LIMA'!AK15792","v":"N/A"},{"$f":"+'Roster LIMA'!AL15792","v":"N/A"},{"$f":"+'Roster LIMA'!AM15792","v":"Blue"},{"$f":"+'Roster LIMA'!AN15792","v":"N/A"},{"$f":"+'Roster LIMA'!AO15792","v":"N/A"},{"$f":"+'Roster LIMA'!AP15792","v":0},{"$f":"+'Roster LIMA'!AQ15792","v":6},{"$f":"+'Roster LIMA'!AR15792","v":12},{"$f":"+'Roster LIMA'!AS15792","v":7.3529411764705881E-3},{"$f":"+'Roster LIMA'!AT15792","v":420},{"$f":"+'Roster LIMA'!AU15792","v":"Replace"}]
[{"$f":"+'Roster LIMA'!F15793","v":"HL6019"},{"$f":"+'Roster LIMA'!G15793","v":2008},{"$f":"+'Roster LIMA'!H15793","v":"Yes"},{"$f":"+'Roster LIMA'!I15793","v":"ML"},{"$f":"+'Roster LIMA'!J15793","v":88},{"$f":"+'Roster LIMA'!K15793","v":"x"},{"$f":"+'Roster LIMA'!E15793","v":0},{"$f":"+'Roster LIMA'!B15793","v":303202},{"$f":"+'Roster LIMA'!C15793","v":"K"},{"$f":"+'Roster LIMA'!D15793","v":0},{"$f":"+'Roster LIMA'!L15793","v":"Italy"},{"$f":"+'Roster LIMA'!M15793","v":"FS"},{"$f":"+'Roster LIMA'!N15791","v":"No"},{"$f":"+'Roster LIMA'!O15793","v":"Freight"},{"$f":"+'Roster LIMA'!P15793","v":"Closed"},{"$f":"+'Roster LIMA'!Q15793","v":"N/A"},{"$f":"+'Roster LIMA'!R15793","v":2},{"$f":"+'Roster LIMA'!S15793","v":"N/A"},{"$f":"+'Roster LIMA'!T15793","v":"Yes"},{"$f":"+'Roster LIMA'!U15793","v":1959},{"$f":"+'Roster LIMA'!V15793","v":2000},{"$f":"+'Roster LIMA'!W15793","v":"III b / IV a"},{"$f":"+'Roster LIMA'!X15793","v":"G-type"},{"$f":"+'Roster LIMA'!Y15793","v":"Gs 216"},{"$f":"+'Roster LIMA'!Z15793","v":"Gms 137-6"},{"$f":"+'Roster LIMA'!AA15793","v":"F 1171103"},{"$f":"+'Roster LIMA'!AB15793","v":"Built since the late 1950's"},{"$f":"+'Roster LIMA'!AC15793","v":"N/A"},{"$f":"+'Roster LIMA'!AD15793","v":"N/A"},{"$f":"+'Roster LIMA'!AE15793","v":"N/A"},{"$f":"+'Roster LIMA'!AF15793","v":"N/A"},{"$f":"+'Roster LIMA'!AG15793","v":"N/A"},{"$f":"+'Roster LIMA'!AH15793","v":"Brown"},{"$f":"+'Roster LIMA'!AI15793","v":"Grey"},{"$f":"+'Roster LIMA'!AJ15793","v":"Black"},{"$f":"+'Roster LIMA'!AK15793","v":"N/A"},{"$f":"+'Roster LIMA'!AL15793","v":"Brown"},{"$f":"+'Roster LIMA'!AM15793","v":"Blue"},{"$f":"+'Roster LIMA'!AN15793","v":"N/A"},{"$f":"+'Roster LIMA'!AO15793","v":"N/A"},{"$f":"+'Roster LIMA'!AP15793","v":0},{"$f":"+'Roster LIMA'!AQ15793","v":0},{"$f":"+'Roster LIMA'!AR15793","v":2},{"$f":"+'Roster LIMA'!AS15793","v":1.1494252873563218E-2},{"$f":"+'Roster LIMA'!AT15793","v":121},{"$f":"+'Roster LIMA'!AU15793","v":"Yes"}]
[{"$f":"+'Roster LIMA'!F15794","v":"HL6020"},{"$f":"+'Roster LIMA'!G15794","v":2008},{"$f":"+'Roster LIMA'!H15794","v":"Yes"},{"$f":"+'Roster LIMA'!I15794","v":"ML"},{"$f":"+'Roster LIMA'!J15794","v":88},{"$f":"+'Roster LIMA'!K15794","v":"x"},{"$f":"+'Roster LIMA'!E15794","v":0},{"$f":"+'Roster LIMA'!B15794","v":"N/A"},{"$f":"+'Roster LIMA'!C15794","v":0},{"$f":"+'Roster LIMA'!D15794","v":0},{"$f":"+'Roster LIMA'!L15794","v":"Germany"},{"$f":"+'Roster LIMA'!M15794","v":"DB"},{"$f":"+'Roster LIMA'!N15792","v":"No"},{"$f":"+'Roster LIMA'!O15794","v":"Freight"},{"$f":"+'Roster LIMA'!P15794","v":"Closed"},{"$f":"+'Roster LIMA'!Q15794","v":"N/A"},{"$f":"+'Roster LIMA'!R15794","v":2},{"$f":"+'Roster LIMA'!S15794","v":"N/A"},{"$f":"+'Roster LIMA'!T15794","v":"Yes"},{"$f":"+'Roster LIMA'!U15794","v":1957},{"$f":"+'Roster LIMA'!V15794","v":2000},{"$f":"+'Roster LIMA'!W15794","v":"III b / IV a / IV b / V a"},{"$f":"+'Roster LIMA'!X15794","v":"G-type"},{"$f":"+'Roster LIMA'!Y15794","v":"Ibblps 395"},{"$f":"+'Roster LIMA'!Z15794","v":"Tnomhs 50"},{"$f":"+'Roster LIMA'!AA15794","v":"N/A"},{"$f":"+'Roster LIMA'!AB15794","v":"476 units, built between 1957-58. For transport of bananas"},{"$f":"+'Roster LIMA'!AC15794","v":"Bananen"},{"$f":"+'Roster LIMA'!AD15794","v":"N/A"},{"$f":"+'Roster LIMA'!AE15794","v":"N/A"},{"$f":"+'Roster LIMA'!AF15794","v":"N/A"},{"$f":"+'Roster LIMA'!AG15794","v":"N/A"},{"$f":"+'Roster LIMA'!AH15794","v":"Yellow"},{"$f":"+'Roster LIMA'!AI15794","v":"Grey"},{"$f":"+'Roster LIMA'!AJ15794","v":"Brown"},{"$f":"+'Roster LIMA'!AK15794","v":"N/A"},{"$f":"+'Roster LIMA'!AL15794","v":"Yellow"},{"$f":"+'Roster LIMA'!AM15794","v":"Blue"},{"$f":"+'Roster LIMA'!AN15794","v":"N/A"},{"$f":"+'Roster LIMA'!AO15794","v":"N/A"},{"$f":"+'Roster LIMA'!AP15794","v":0},{"$f":"+'Roster LIMA'!AQ15794","v":0},{"$f":"+'Roster LIMA'!AR15794","v":2},{"$f":"+'Roster LIMA'!AS15794","v":1.1494252873563218E-2},{"$f":"+'Roster LIMA'!AT15794","v":121},{"$f":"+'Roster LIMA'!AU15794","v":"Yes"}]
[{"$f":"+'Roster LIMA'!F15795","v":"HL6021"},{"$f":"+'Roster LIMA'!G15795","v":2008},{"$f":"+'Roster LIMA'!H15795","v":"Yes"},{"$f":"+'Roster LIMA'!I15795","v":"ML"},{"$f":"+'Roster LIMA'!J15795","v":88},{"$f":"+'Roster LIMA'!K15795","v":"x"},{"$f":"+'Roster LIMA'!E15795","v":0},{"$f":"+'Roster LIMA'!B15795","v":303561},{"$f":"+'Roster LIMA'!C15795","v":"K"},{"$f":"+'Roster LIMA'!D15795","v":0},{"$f":"+'Roster LIMA'!L15795","v":"Germany"},{"$f":"+'Roster LIMA'!M15795","v":"DB"},{"$f":"+'Roster LIMA'!N15793","v":"No"},{"$f":"+'Roster LIMA'!O15795","v":"Freight"},{"$f":"+'Roster LIMA'!P15795","v":"Hopper"},{"$f":"+'Roster LIMA'!Q15795","v":"With ladder"},{"$f":"+'Roster LIMA'!R15795","v":2},{"$f":"+'Roster LIMA'!S15795","v":"N/A"},{"$f":"+'Roster LIMA'!T15795","v":"Yes"},{"$f":"+'Roster LIMA'!U15795","v":1959},{"$f":"+'Roster LIMA'!V15795","v":2000},{"$f":"+'Roster LIMA'!W15795","v":"IV a / IV b / V a / V b"},{"$f":"+'Roster LIMA'!X15795","v":"T-type"},{"$f":"+'Roster LIMA'!Y15795","v":"Tds 925"},{"$f":"+'Roster LIMA'!Z15795","v":"Ktmm 60"},{"$f":"+'Roster LIMA'!AA15795","v":"21 80 574 1 441-7"},{"$f":"+'Roster LIMA'!AB15795","v":"1600 units, built between 1958-59"},{"$f":"+'Roster LIMA'!AC15795","v":"N/A"},{"$f":"+'Roster LIMA'!AD15795","v":"N/A"},{"$f":"+'Roster LIMA'!AE15795","v":"N/A"},{"$f":"+'Roster LIMA'!AF15795","v":"Keks"},{"$f":"+'Roster LIMA'!AG15795","v":"N/A"},{"$f":"+'Roster LIMA'!AH15795","v":"Brown"},{"$f":"+'Roster LIMA'!AI15795","v":"N/A"},{"$f":"+'Roster LIMA'!AJ15795","v":"Brown"},{"$f":"+'Roster LIMA'!AK15795","v":"N/A"},{"$f":"+'Roster LIMA'!AL15795","v":"N/A"},{"$f":"+'Roster LIMA'!AM15795","v":"Blue"},{"$f":"+'Roster LIMA'!AN15795","v":"N/A"},{"$f":"+'Roster LIMA'!AO15795","v":"N/A"},{"$f":"+'Roster LIMA'!AP15795","v":0},{"$f":"+'Roster LIMA'!AQ15795","v":0},{"$f":"+'Roster LIMA'!AR15795","v":2},{"$f":"+'Roster LIMA'!AS15795","v":1.2048192771084338E-2},{"$f":"+'Roster LIMA'!AT15795","v":110},{"$f":"+'Roster LIMA'!AU15795","v":"Yes"}]
[{"$f":"+'Roster LIMA'!F15796","v":"HL6027"},{"$f":"+'Roster LIMA'!G15796","v":2008},{"$f":"+'Roster LIMA'!H15796","v":"Yes"},{"$f":"+'Roster LIMA'!I15796","v":"ML"},{"$f":"+'Roster LIMA'!J15796","v":88},{"$f":"+'Roster LIMA'!K15796","v":"x"},{"$f":"+'Roster LIMA'!E15796","v":0},{"$f":"+'Roster LIMA'!B15796","v":"N/A"},{"$f":"+'Roster LIMA'!C15796","v":0},{"$f":"+'Roster LIMA'!D15796","v":0},{"$f":"+'Roster LIMA'!L15796","v":"Germany"},{"$f":"+'Roster LIMA'!M15796","v":"DR"},{"$f":"+'Roster LIMA'!N15794","v":"No"},{"$f":"+'Roster LIMA'!O15796","v":"Freight"},{"$f":"+'Roster LIMA'!P15796","v":"Hopper"},{"$f":"+'Roster LIMA'!Q15796","v":"With ladder"},{"$f":"+'Roster LIMA'!R15796","v":2},{"$f":"+'Roster LIMA'!S15796","v":"N/A"},{"$f":"+'Roster LIMA'!T15796","v":"Yes"},{"$f":"+'Roster LIMA'!U15796","v":1971},{"$f":"+'Roster LIMA'!V15796","v":1996},{"$f":"+'Roster LIMA'!W15796","v":"IV a / IV b / V a"},{"$f":"+'Roster LIMA'!X15796","v":"T-type"},{"$f":"+'Roster LIMA'!Y15796","v":"Tds 925"},{"$f":"+'Roster LIMA'!Z15796","v":"Tds 5730"},{"$f":"+'Roster LIMA'!AA15796","v":"21 50 634 3 928-9"},{"$f":"+'Roster LIMA'!AB15796","v":"3900 units, built between 1971-72"},{"$f":"+'Roster LIMA'!AC15796","v":"Getreide"},{"$f":"+'Roster LIMA'!AD15796","v":"N/A"},{"$f":"+'Roster LIMA'!AE15796","v":"N/A"},{"$f":"+'Roster LIMA'!AF15796","v":"N/A"},{"$f":"+'Roster LIMA'!AG15796","v":"N/A"},{"$f":"+'Roster LIMA'!AH15796","v":"Brown"},{"$f":"+'Roster LIMA'!AI15796","v":"N/A"},{"$f":"+'Roster LIMA'!AJ15796","v":"Brown"},{"$f":"+'Roster LIMA'!AK15796","v":"N/A"},{"$f":"+'Roster LIMA'!AL15796","v":"N/A"},{"$f":"+'Roster LIMA'!AM15796","v":"Blue"},{"$f":"+'Roster LIMA'!AN15796","v":"N/A"},{"$f":"+'Roster LIMA'!AO15796","v":"N/A"},{"$f":"+'Roster LIMA'!AP15796","v":0},{"$f":"+'Roster LIMA'!AQ15796","v":0},{"$f":"+'Roster LIMA'!AR15796","v":2},{"$f":"+'Roster LIMA'!AS15796","v":1.2048192771084338E-2},{"$f":"+'Roster LIMA'!AT15796","v":110},{"$f":"+'Roster LIMA'!AU15796","v":"Replace"}]
[{"$f":"+'Roster LIMA'!F15797","v":"HL6001"},{"$f":"+'Roster LIMA'!G15797","v":2008},{"$f":"+'Roster LIMA'!H15797","v":"Yes"},{"$f":"+'Roster LIMA'!I15797","v":"ML"},{"$f":"+'Roster LIMA'!J15797","v":88},{"$f":"+'Roster LIMA'!K15797","v":"x"},{"$f":"+'Roster LIMA'!E15797","v":0},{"$f":"+'Roster LIMA'!B15797","v":302918},{"$f":"+'Roster LIMA'!C15797","v":"K"},{"$f":"+'Roster LIMA'!D15797","v":0},{"$f":"+'Roster LIMA'!L15797","v":"Germany"},{"$f":"+'Roster LIMA'!M15797","v":"DB"},{"$f":"+'Roster LIMA'!N15795","v":"No"},{"$f":"+'Roster LIMA'!O15797","v":"Freight"},{"$f":"+'Roster LIMA'!P15797","v":"Hopper"},{"$f":"+'Roster LIMA'!Q15797","v":"N/A"},{"$f":"+'Roster LIMA'!R15797","v":"2'2'"},{"$f":"+'Roster LIMA'!S15797","v":"N/A"},{"$f":"+'Roster LIMA'!T15797","v":"Yes"},{"$f":"+'Roster LIMA'!U15797","v":1954},{"$f":"+'Roster LIMA'!V15797","v":"Operational"},{"$f":"+'Roster LIMA'!W15797","v":"III a / III b"},{"$f":"+'Roster LIMA'!X15797","v":"T-type"},{"$f":"+'Roster LIMA'!Y15797","v":"Tad-u 958"},{"$f":"+'Roster LIMA'!Z15797","v":"KKt 45"},{"$f":"+'Roster LIMA'!AA15797","v":"355 031"},{"$f":"+'Roster LIMA'!AB15797","v":"Built in the mid 1950's"},{"$f":"+'Roster LIMA'!AC15797","v":"N/A"},{"$f":"+'Roster LIMA'!AD15797","v":"N/A"},{"$f":"+'Roster LIMA'!AE15797","v":"N/A"},{"$f":"+'Roster LIMA'!AF15797","v":"Deutsche Bundesbahn"},{"$f":"+'Roster LIMA'!AG15797","v":"N/A"},{"$f":"+'Roster LIMA'!AH15797","v":"Brown"},{"$f":"+'Roster LIMA'!AI15797","v":"N/A"},{"$f":"+'Roster LIMA'!AJ15797","v":"Brown"},{"$f":"+'Roster LIMA'!AK15797","v":"N/A"},{"$f":"+'Roster LIMA'!AL15797","v":"N/A"},{"$f":"+'Roster LIMA'!AM15797","v":"Blue"},{"$f":"+'Roster LIMA'!AN15797","v":"N/A"},{"$f":"+'Roster LIMA'!AO15797","v":"N/A"},{"$f":"+'Roster LIMA'!AP15797","v":0},{"$f":"+'Roster LIMA'!AQ15797","v":2},{"$f":"+'Roster LIMA'!AR15797","v":4},{"$f":"+'Roster LIMA'!AS15797","v":7.3529411764705881E-3},{"$f":"+'Roster LIMA'!AT15797","v":139},{"$f":"+'Roster LIMA'!AU15797","v":"Yes"}]
[{"$f":"+'Roster LIMA'!F15798","v":"HL6011"},{"$f":"+'Roster LIMA'!G15798","v":2008},{"$f":"+'Roster LIMA'!H15798","v":"Yes"},{"$f":"+'Roster LIMA'!I15798","v":"ML"},{"$f":"+'Roster LIMA'!J15798","v":88},{"$f":"+'Roster LIMA'!K15798","v":"x"},{"$f":"+'Roster LIMA'!E15798","v":0},{"$f":"+'Roster LIMA'!B15798","v":"N/A"},{"$f":"+'Roster LIMA'!C15798","v":0},{"$f":"+'Roster LIMA'!D15798","v":0},{"$f":"+'Roster LIMA'!L15798","v":"Germany"},{"$f":"+'Roster LIMA'!M15798","v":"DB"},{"$f":"+'Roster LIMA'!N15796","v":"No"},{"$f":"+'Roster LIMA'!O15798","v":"Passenger"},{"$f":"+'Roster LIMA'!P15798","v":"Postal"},{"$f":"+'Roster LIMA'!Q15798","v":"Baggage"},{"$f":"+'Roster LIMA'!R15798","v":2},{"$f":"+'Roster LIMA'!S15798","v":"N/A"},{"$f":"+'Roster LIMA'!T15798","v":"Yes"},{"$f":"+'Roster LIMA'!U15798","v":1955},{"$f":"+'Roster LIMA'!V15798","v":1977},{"$f":"+'Roster LIMA'!W15798","v":"IV a / IV b"},{"$f":"+'Roster LIMA'!X15798","v":"2a / 14"},{"$f":"+'Roster LIMA'!Y15798","v":"2a / 14"},{"$f":"+'Roster LIMA'!Z15798","v":"N/A"},{"$f":"+'Roster LIMA'!AA15798","v":"50 80 00-11 127-0"},{"$f":"+'Roster LIMA'!AB15798","v":"254 units, built in the 1950's. Used for postal services"},{"$f":"+'Roster LIMA'!AC15798","v":"Bundespost"},{"$f":"+'Roster LIMA'!AD15798","v":"N/A"},{"$f":"+'Roster LIMA'!AE15798","v":"N/A"},{"$f":"+'Roster LIMA'!AF15798","v":"Post horn"},{"$f":"+'Roster LIMA'!AG15798","v":"DB-Grün"},{"$f":"+'Roster LIMA'!AH15798","v":"Green"},{"$f":"+'Roster LIMA'!AI15798","v":"Grey"},{"$f":"+'Roster LIMA'!AJ15798","v":"Black"},{"$f":"+'Roster LIMA'!AK15798","v":"N/A"},{"$f":"+'Roster LIMA'!AL15798","v":"Green"},{"$f":"+'Roster LIMA'!AM15798","v":"Blue"},{"$f":"+'Roster LIMA'!AN15798","v":"N/A"},{"$f":"+'Roster LIMA'!AO15798","v":"N/A"},{"$f":"+'Roster LIMA'!AP15798","v":0},{"$f":"+'Roster LIMA'!AQ15798","v":0},{"$f":"+'Roster LIMA'!AR15798","v":2},{"$f":"+'Roster LIMA'!AS15798","v":1.1494252873563218E-2},{"$f":"+'Roster LIMA'!AT15798","v":176},{"$f":"+'Roster LIMA'!AU15798","v":"Yes"}]
[{"$f":"+'Roster LIMA'!F15799","v":"HL6000"},{"$f":"+'Roster LIMA'!G15799","v":2008},{"$f":"+'Roster LIMA'!H15799","v":"Yes"},{"$f":"+'Roster LIMA'!I15799","v":"ML"},{"$f":"+'Roster LIMA'!J15799","v":89},{"$f":"+'Roster LIMA'!K15799","v":"x"},{"$f":"+'Roster LIMA'!E15799","v":0},{"$f":"+'Roster LIMA'!B15799","v":302928},{"$f":"+'Roster LIMA'!C15799","v":"K"},{"$f":"+'Roster LIMA'!D15799","v":0},{"$f":"+'Roster LIMA'!L15799","v":"Germany"},{"$f":"+'Roster LIMA'!M15799","v":"RAG"},{"$f":"+'Roster LIMA'!N15797","v":"No"},{"$f":"+'Roster LIMA'!O15799","v":"Freight"},{"$f":"+'Roster LIMA'!P15799","v":"Hopper"},{"$f":"+'Roster LIMA'!Q15799","v":"N/A"},{"$f":"+'Roster LIMA'!R15799","v":"2'2'"},{"$f":"+'Roster LIMA'!S15799","v":"N/A"},{"$f":"+'Roster LIMA'!T15799","v":"Yes"},{"$f":"+'Roster LIMA'!U15799","v":1954},{"$f":"+'Roster LIMA'!V15799","v":1998},{"$f":"+'Roster LIMA'!W15799","v":"III a / III b / IV a / IV b / V a / V b"},{"$f":"+'Roster LIMA'!X15799","v":"F-type"},{"$f":"+'Roster LIMA'!Y15799","v":"Fal 167"},{"$f":"+'Roster LIMA'!Z15799","v":"OOtz 50"},{"$f":"+'Roster LIMA'!AA15799","v":"21 80 066 0 216-1"},{"$f":"+'Roster LIMA'!AB15799","v":"4200 units, built between 1954-65. With automatic load discharge"},{"$f":"+'Roster LIMA'!AC15799","v":"RAG"},{"$f":"+'Roster LIMA'!AD15799","v":"N/A"},{"$f":"+'Roster LIMA'!AE15799","v":"N/A"},{"$f":"+'Roster LIMA'!AF15799","v":"RAG"},{"$f":"+'Roster LIMA'!AG15799","v":"N/A"},{"$f":"+'Roster LIMA'!AH15799","v":"Brown"},{"$f":"+'Roster LIMA'!AI15799","v":"N/A"},{"$f":"+'Roster LIMA'!AJ15799","v":"Brown"},{"$f":"+'Roster LIMA'!AK15799","v":"N/A"},{"$f":"+'Roster LIMA'!AL15799","v":"N/A"},{"$f":"+'Roster LIMA'!AM15799","v":"Blue"},{"$f":"+'Roster LIMA'!AN15799","v":"N/A"},{"$f":"+'Roster LIMA'!AO15799","v":"N/A"},{"$f":"+'Roster LIMA'!AP15799","v":0},{"$f":"+'Roster LIMA'!AQ15799","v":2},{"$f":"+'Roster LIMA'!AR15799","v":4},{"$f":"+'Roster LIMA'!AS15799","v":1.2048192771084338E-2},{"$f":"+'Roster LIMA'!AT15799","v":139},{"$f":"+'Roster LIMA'!AU15799","v":"Yes"}]
[{"$f":"+'Roster LIMA'!F15800","v":"HL6005"},{"$f":"+'Roster LIMA'!G15800","v":2008},{"$f":"+'Roster LIMA'!H15800","v":"Yes"},{"$f":"+'Roster LIMA'!I15800","v":"ML"},{"$f":"+'Roster LIMA'!J15800","v":89},{"$f":"+'Roster LIMA'!K15800","v":"x"},{"$f":"+'Roster LIMA'!E15800","v":0},{"$f":"+'Roster LIMA'!B15800","v":303597},{"$f":"+'Roster LIMA'!C15800","v":"K"},{"$f":"+'Roster LIMA'!D15800","v":0},{"$f":"+'Roster LIMA'!L15800","v":"Germany"},{"$f":"+'Roster LIMA'!M15800","v":"DB"},{"$f":"+'Roster LIMA'!N15798","v":"No"},{"$f":"+'Roster LIMA'!O15800","v":"Freight"},{"$f":"+'Roster LIMA'!P15800","v":"Hopper"},{"$f":"+'Roster LIMA'!Q15800","v":"With opening roof"},{"$f":"+'Roster LIMA'!R15800","v":"2'2'"},{"$f":"+'Roster LIMA'!S15800","v":"N/A"},{"$f":"+'Roster LIMA'!T15800","v":"Yes"},{"$f":"+'Roster LIMA'!U15800","v":1974},{"$f":"+'Roster LIMA'!V15800","v":"Operational"},{"$f":"+'Roster LIMA'!W15800","v":"IV a / IV b / V a"},{"$f":"+'Roster LIMA'!X15800","v":"T-type"},{"$f":"+'Roster LIMA'!Y15800","v":"Tadgs 959"},{"$f":"+'Roster LIMA'!Z15800","v":"N/A"},{"$f":"+'Roster LIMA'!AA15800","v":"31 80 584 4 313-2"},{"$f":"+'Roster LIMA'!AB15800","v":"1386 units, built between 1973-85"},{"$f":"+'Roster LIMA'!AC15800","v":"N/A"},{"$f":"+'Roster LIMA'!AD15800","v":"N/A"},{"$f":"+'Roster LIMA'!AE15800","v":"N/A"},{"$f":"+'Roster LIMA'!AF15800","v":"Keks"},{"$f":"+'Roster LIMA'!AG15800","v":"N/A"},{"$f":"+'Roster LIMA'!AH15800","v":"Brown"},{"$f":"+'Roster LIMA'!AI15800","v":"Brown"},{"$f":"+'Roster LIMA'!AJ15800","v":"Black"},{"$f":"+'Roster LIMA'!AK15800","v":"N/A"},{"$f":"+'Roster LIMA'!AL15800","v":"N/A"},{"$f":"+'Roster LIMA'!AM15800","v":"Blue"},{"$f":"+'Roster LIMA'!AN15800","v":"N/A"},{"$f":"+'Roster LIMA'!AO15800","v":"N/A"},{"$f":"+'Roster LIMA'!AP15800","v":0},{"$f":"+'Roster LIMA'!AQ15800","v":2},{"$f":"+'Roster LIMA'!AR15800","v":4},{"$f":"+'Roster LIMA'!AS15800","v":1.1494252873563218E-2},{"$f":"+'Roster LIMA'!AT15800","v":247},{"$f":"+'Roster LIMA'!AU15800","v":"Yes"}]
[{"$f":"+'Roster LIMA'!F15801","v":"HL6006"},{"$f":"+'Roster LIMA'!G15801","v":2008},{"$f":"+'Roster LIMA'!H15801","v":"Yes"},{"$f":"+'Roster LIMA'!I15801","v":"ML"},{"$f":"+'Roster LIMA'!J15801","v":89},{"$f":"+'Roster LIMA'!K15801","v":"x"},{"$f":"+'Roster LIMA'!E15801","v":0},{"$f":"+'Roster LIMA'!B15801","v":"N/A"},{"$f":"+'Roster LIMA'!C15801","v":0},{"$f":"+'Roster LIMA'!D15801","v":0},{"$f":"+'Roster LIMA'!L15801","v":"Germany"},{"$f":"+'Roster LIMA'!M15801","v":"DB"},{"$f":"+'Roster LIMA'!N15799","v":"No"},{"$f":"+'Roster LIMA'!O15801","v":"Passenger"},{"$f":"+'Roster LIMA'!P15801","v":"Internal service"},{"$f":"+'Roster LIMA'!Q15801","v":"Baggage"},{"$f":"+'Roster LIMA'!R15801","v":2},{"$f":"+'Roster LIMA'!S15801","v":"N/A"},{"$f":"+'Roster LIMA'!T15801","v":"Yes"},{"$f":"+'Roster LIMA'!U15801","v":1978},{"$f":"+'Roster LIMA'!V15801","v":1985},{"$f":"+'Roster LIMA'!W15801","v":"IV a / IV b"},{"$f":"+'Roster LIMA'!X15801","v":"2a / 14"},{"$f":"+'Roster LIMA'!Y15801","v":"2a / 14"},{"$f":"+'Roster LIMA'!Z15801","v":"N/A"},{"$f":"+'Roster LIMA'!AA15801","v":"60 80 99-11 106-4"},{"$f":"+'Roster LIMA'!AB15801","v":"1 unit, refurbished in 1978 from former mail van. Focus on Departmental services"},{"$f":"+'Roster LIMA'!AC15801","v":"N/A"},{"$f":"+'Roster LIMA'!AD15801","v":"N/A"},{"$f":"+'Roster LIMA'!AE15801","v":"N/A"},{"$f":"+'Roster LIMA'!AF15801","v":"Keks"},{"$f":"+'Roster LIMA'!AG15801","v":"DB-Kobaltblau"},{"$f":"+'Roster LIMA'!AH15801","v":"Blue"},{"$f":"+'Roster LIMA'!AI15801","v":"Grey"},{"$f":"+'Roster LIMA'!AJ15801","v":"Black"},{"$f":"+'Roster LIMA'!AK15801","v":"N/A"},{"$f":"+'Roster LIMA'!AL15801","v":"Blue"},{"$f":"+'Roster LIMA'!AM15801","v":"Blue"},{"$f":"+'Roster LIMA'!AN15801","v":"N/A"},{"$f":"+'Roster LIMA'!AO15801","v":"N/A"},{"$f":"+'Roster LIMA'!AP15801","v":0},{"$f":"+'Roster LIMA'!AQ15801","v":0},{"$f":"+'Roster LIMA'!AR15801","v":2},{"$f":"+'Roster LIMA'!AS15801","v":1.1494252873563218E-2},{"$f":"+'Roster LIMA'!AT15801","v":176},{"$f":"+'Roster LIMA'!AU15801","v":"Yes"}]
[{"$f":"+'Roster LIMA'!F15802","v":"HL6009"},{"$f":"+'Roster LIMA'!G15802","v":2008},{"$f":"+'Roster LIMA'!H15802","v":"Yes"},{"$f":"+'Roster LIMA'!I15802","v":"ML"},{"$f":"+'Roster LIMA'!J15802","v":89},{"$f":"+'Roster LIMA'!K15802","v":"x"},{"$f":"+'Roster LIMA'!E15802","v":0},{"$f":"+'Roster LIMA'!B15802","v":"N/A"},{"$f":"+'Roster LIMA'!C15802","v":0},{"$f":"+'Roster LIMA'!D15802","v":0},{"$f":"+'Roster LIMA'!L15802","v":"Germany"},{"$f":"+'Roster LIMA'!M15802","v":"DB"},{"$f":"+'Roster LIMA'!N15800","v":"No"},{"$f":"+'Roster LIMA'!O15802","v":"Freight"},{"$f":"+'Roster LIMA'!P15802","v":"Hopper"},{"$f":"+'Roster LIMA'!Q15802","v":"N/A"},{"$f":"+'Roster LIMA'!R15802","v":"2'2'"},{"$f":"+'Roster LIMA'!S15802","v":"N/A"},{"$f":"+'Roster LIMA'!T15802","v":"Yes"},{"$f":"+'Roster LIMA'!U15802","v":1954},{"$f":"+'Roster LIMA'!V15802","v":"Operational"},{"$f":"+'Roster LIMA'!W15802","v":"III a"},{"$f":"+'Roster LIMA'!X15802","v":"T-type"},{"$f":"+'Roster LIMA'!Y15802","v":"Tad-u 958"},{"$f":"+'Roster LIMA'!Z15802","v":"KKt 45"},{"$f":"+'Roster LIMA'!AA15802","v":"N/A"},{"$f":"+'Roster LIMA'!AB15802","v":"Built in the mid 1950's"},{"$f":"+'Roster LIMA'!AC15802","v":"N/A"},{"$f":"+'Roster LIMA'!AD15802","v":"N/A"},{"$f":"+'Roster LIMA'!AE15802","v":"N/A"},{"$f":"+'Roster LIMA'!AF15802","v":"N/A"},{"$f":"+'Roster LIMA'!AG15802","v":"N/A"},{"$f":"+'Roster LIMA'!AH15802","v":"Brown"},{"$f":"+'Roster LIMA'!AI15802","v":"N/A"},{"$f":"+'Roster LIMA'!AJ15802","v":"Brown"},{"$f":"+'Roster LIMA'!AK15802","v":"N/A"},{"$f":"+'Roster LIMA'!AL15802","v":"N/A"},{"$f":"+'Roster LIMA'!AM15802","v":"Blue"},{"$f":"+'Roster LIMA'!AN15802","v":"N/A"},{"$f":"+'Roster LIMA'!AO15802","v":"N/A"},{"$f":"+'Roster LIMA'!AP15802","v":0},{"$f":"+'Roster LIMA'!AQ15802","v":2},{"$f":"+'Roster LIMA'!AR15802","v":4},{"$f":"+'Roster LIMA'!AS15802","v":7.3529411764705881E-3},{"$f":"+'Roster LIMA'!AT15802","v":139},{"$f":"+'Roster LIMA'!AU15802","v":"Replace"}]
[{"$f":"+'Roster LIMA'!F15803","v":"HL6035"},{"$f":"+'Roster LIMA'!G15803","v":2008},{"$f":"+'Roster LIMA'!H15803","v":"Yes"},{"$f":"+'Roster LIMA'!I15803","v":"ML"},{"$f":"+'Roster LIMA'!J15803","v":89},{"$f":"+'Roster LIMA'!K15803","v":"x"},{"$f":"+'Roster LIMA'!E15803","v":0},{"$f":"+'Roster LIMA'!B15803","v":"N/A"},{"$f":"+'Roster LIMA'!C15803","v":0},{"$f":"+'Roster LIMA'!D15803","v":0},{"$f":"+'Roster LIMA'!L15803","v":"Germany"},{"$f":"+'Roster LIMA'!M15803","v":"DR"},{"$f":"+'Roster LIMA'!N15801","v":"No"},{"$f":"+'Roster LIMA'!O15803","v":"Freight"},{"$f":"+'Roster LIMA'!P15803","v":"Hopper"},{"$f":"+'Roster LIMA'!Q15803","v":"With opening roof"},{"$f":"+'Roster LIMA'!R15803","v":"2'2'"},{"$f":"+'Roster LIMA'!S15803","v":"N/A"},{"$f":"+'Roster LIMA'!T15803","v":"Yes"},{"$f":"+'Roster LIMA'!U15803","v":1974},{"$f":"+'Roster LIMA'!V15803","v":2010},{"$f":"+'Roster LIMA'!W15803","v":"IV a / IV b / V a / V b / VI"},{"$f":"+'Roster LIMA'!X15803","v":"T-type"},{"$f":"+'Roster LIMA'!Y15803","v":"Tadgs-y 958"},{"$f":"+'Roster LIMA'!Z15803","v":"Tadgs-y 5843"},{"$f":"+'Roster LIMA'!AA15803","v":"31 50 584 4 265-1"},{"$f":"+'Roster LIMA'!AB15803","v":"1500 units, built between 1976-79"},{"$f":"+'Roster LIMA'!AC15803","v":"Getreide"},{"$f":"+'Roster LIMA'!AD15803","v":"N/A"},{"$f":"+'Roster LIMA'!AE15803","v":"N/A"},{"$f":"+'Roster LIMA'!AF15803","v":"N/A"},{"$f":"+'Roster LIMA'!AG15803","v":"N/A"},{"$f":"+'Roster LIMA'!AH15803","v":"Brown"},{"$f":"+'Roster LIMA'!AI15803","v":"Brown"},{"$f":"+'Roster LIMA'!AJ15803","v":"Black"},{"$f":"+'Roster LIMA'!AK15803","v":"N/A"},{"$f":"+'Roster LIMA'!AL15803","v":"N/A"},{"$f":"+'Roster LIMA'!AM15803","v":"Blue"},{"$f":"+'Roster LIMA'!AN15803","v":"N/A"},{"$f":"+'Roster LIMA'!AO15803","v":"N/A"},{"$f":"+'Roster LIMA'!AP15803","v":0},{"$f":"+'Roster LIMA'!AQ15803","v":2},{"$f":"+'Roster LIMA'!AR15803","v":4},{"$f":"+'Roster LIMA'!AS15803","v":1.1494252873563218E-2},{"$f":"+'Roster LIMA'!AT15803","v":247},{"$f":"+'Roster LIMA'!AU15803","v":"Yes"}]
[{"$f":"+'Roster LIMA'!F15804","v":"HL6032"},{"$f":"+'Roster LIMA'!G15804","v":2008},{"$f":"+'Roster LIMA'!H15804","v":"Yes"},{"$f":"+'Roster LIMA'!I15804","v":"ML"},{"$f":"+'Roster LIMA'!J15804","v":90},{"$f":"+'Roster LIMA'!K15804","v":"x"},{"$f":"+'Roster LIMA'!E15804","v":0},{"$f":"+'Roster LIMA'!B15804","v":"N/A"},{"$f":"+'Roster LIMA'!C15804","v":0},{"$f":"+'Roster LIMA'!D15804","v":0},{"$f":"+'Roster LIMA'!L15804","v":"Germany"},{"$f":"+'Roster LIMA'!M15804","v":"DR"},{"$f":"+'Roster LIMA'!N15802","v":"No"},{"$f":"+'Roster LIMA'!O15804","v":"Freight"},{"$f":"+'Roster LIMA'!P15804","v":"Set"},{"$f":"+'Roster LIMA'!Q15804","v":"Freight"},{"$f":"+'Roster LIMA'!R15804","v":"2+2+2"},{"$f":"+'Roster LIMA'!S15804","v":"Lima Collection"},{"$f":"+'Roster LIMA'!T15804","v":"No"},{"$f":"+'Roster LIMA'!U15804","v":1970},{"$f":"+'Roster LIMA'!V15804","v":1995},{"$f":"+'Roster LIMA'!W15804","v":"IV a / IV b"},{"$f":"+'Roster LIMA'!X15804","v":"N/A"},{"$f":"+'Roster LIMA'!Y15804","v":"Feuerwehr auf Schienen"},{"$f":"+'Roster LIMA'!Z15804","v":"N/A"},{"$f":"+'Roster LIMA'!AA15804","v":"N/A"},{"$f":"+'Roster LIMA'!AB15804","v":"3-unit set comprised of Flat with van, Tank and Closed Gs 216. For fire service"},{"$f":"+'Roster LIMA'!AC15804","v":"N/A"},{"$f":"+'Roster LIMA'!AD15804","v":"N/A"},{"$f":"+'Roster LIMA'!AE15804","v":"N/A"},{"$f":"+'Roster LIMA'!AF15804","v":"N/A"},{"$f":"+'Roster LIMA'!AG15804","v":"N/A"},{"$f":"+'Roster LIMA'!AH15804","v":"Red"},{"$f":"+'Roster LIMA'!AI15804","v":"Grey"},{"$f":"+'Roster LIMA'!AJ15804","v":"Black"},{"$f":"+'Roster LIMA'!AK15804","v":"N/A"},{"$f":"+'Roster LIMA'!AL15804","v":"Brown"},{"$f":"+'Roster LIMA'!AM15804","v":"Blue"},{"$f":"+'Roster LIMA'!AN15804","v":"N/A"},{"$f":"+'Roster LIMA'!AO15804","v":"N/A"},{"$f":"+'Roster LIMA'!AP15804","v":0},{"$f":"+'Roster LIMA'!AQ15804","v":0},{"$f":"+'Roster LIMA'!AR15804","v":6},{"$f":"+'Roster LIMA'!AS15804","v":"N/A"},{"$f":"+'Roster LIMA'!AT15804","v":403},{"$f":"+'Roster LIMA'!AU15804","v":"Replace"}]
[{"$f":"+'Roster LIMA'!F15805","v":"HL6030"},{"$f":"+'Roster LIMA'!G15805","v":2008},{"$f":"+'Roster LIMA'!H15805","v":"Yes"},{"$f":"+'Roster LIMA'!I15805","v":"ML"},{"$f":"+'Roster LIMA'!J15805","v":90},{"$f":"+'Roster LIMA'!K15805","v":"x"},{"$f":"+'Roster LIMA'!E15805","v":0},{"$f":"+'Roster LIMA'!B15805","v":"N/A"},{"$f":"+'Roster LIMA'!C15805","v":0},{"$f":"+'Roster LIMA'!D15805","v":0},{"$f":"+'Roster LIMA'!L15805","v":"Germany"},{"$f":"+'Roster LIMA'!M15805","v":"DR"},{"$f":"+'Roster LIMA'!N15803","v":"No"},{"$f":"+'Roster LIMA'!O15805","v":"Freight"},{"$f":"+'Roster LIMA'!P15805","v":"Silo"},{"$f":"+'Roster LIMA'!Q15805","v":"With ladder"},{"$f":"+'Roster LIMA'!R15805","v":2},{"$f":"+'Roster LIMA'!S15805","v":"N/A"},{"$f":"+'Roster LIMA'!T15805","v":"Yes"},{"$f":"+'Roster LIMA'!U15805","v":1958},{"$f":"+'Roster LIMA'!V15805","v":2011},{"$f":"+'Roster LIMA'!W15805","v":"III a / III b / IV a"},{"$f":"+'Roster LIMA'!X15805","v":"U-type"},{"$f":"+'Roster LIMA'!Y15805","v":"Ucs 909"},{"$f":"+'Roster LIMA'!Z15805","v":"Kds 56"},{"$f":"+'Roster LIMA'!AA15805","v":"N/A"},{"$f":"+'Roster LIMA'!AB15805","v":"2180 units, built between 1955-64"},{"$f":"+'Roster LIMA'!AC15805","v":"N/A"},{"$f":"+'Roster LIMA'!AD15805","v":"N/A"},{"$f":"+'Roster LIMA'!AE15805","v":"N/A"},{"$f":"+'Roster LIMA'!AF15805","v":"N/A"},{"$f":"+'Roster LIMA'!AG15805","v":"N/A"},{"$f":"+'Roster LIMA'!AH15805","v":"Grey"},{"$f":"+'Roster LIMA'!AI15805","v":"N/A"},{"$f":"+'Roster LIMA'!AJ15805","v":"Black"},{"$f":"+'Roster LIMA'!AK15805","v":"N/A"},{"$f":"+'Roster LIMA'!AL15805","v":"N/A"},{"$f":"+'Roster LIMA'!AM15805","v":"Blue"},{"$f":"+'Roster LIMA'!AN15805","v":"N/A"},{"$f":"+'Roster LIMA'!AO15805","v":"N/A"},{"$f":"+'Roster LIMA'!AP15805","v":0},{"$f":"+'Roster LIMA'!AQ15805","v":0},{"$f":"+'Roster LIMA'!AR15805","v":2},{"$f":"+'Roster LIMA'!AS15805","v":1.1494252873563218E-2},{"$f":"+'Roster LIMA'!AT15805","v":105},{"$f":"+'Roster LIMA'!AU15805","v":"Replace"}]
[{"$f":"+'Roster LIMA'!F15806","v":"HL6031"},{"$f":"+'Roster LIMA'!G15806","v":2008},{"$f":"+'Roster LIMA'!H15806","v":"Yes"},{"$f":"+'Roster LIMA'!I15806","v":"ML"},{"$f":"+'Roster LIMA'!J15806","v":90},{"$f":"+'Roster LIMA'!K15806","v":"x"},{"$f":"+'Roster LIMA'!E15806","v":0},{"$f":"+'Roster LIMA'!B15806","v":"N/A"},{"$f":"+'Roster LIMA'!C15806","v":0},{"$f":"+'Roster LIMA'!D15806","v":0},{"$f":"+'Roster LIMA'!L15806","v":"Germany"},{"$f":"+'Roster LIMA'!M15806","v":"DR"},{"$f":"+'Roster LIMA'!N15804","v":"No"},{"$f":"+'Roster LIMA'!O15806","v":"Freight"},{"$f":"+'Roster LIMA'!P15806","v":"Closed"},{"$f":"+'Roster LIMA'!Q15806","v":"N/A"},{"$f":"+'Roster LIMA'!R15806","v":2},{"$f":"+'Roster LIMA'!S15806","v":"N/A"},{"$f":"+'Roster LIMA'!T15806","v":"Yes"},{"$f":"+'Roster LIMA'!U15806","v":1937},{"$f":"+'Roster LIMA'!V15806","v":1994},{"$f":"+'Roster LIMA'!W15806","v":"IV a / IV b / V a"},{"$f":"+'Roster LIMA'!X15806","v":"G-type"},{"$f":"+'Roster LIMA'!Y15806","v":"Gs 216"},{"$f":"+'Roster LIMA'!Z15806","v":"Glrhs 12"},{"$f":"+'Roster LIMA'!AA15806","v":"21 50 100 2 166-9"},{"$f":"+'Roster LIMA'!AB15806","v":"Built since the late 1950's"},{"$f":"+'Roster LIMA'!AC15806","v":"N/A"},{"$f":"+'Roster LIMA'!AD15806","v":"N/A"},{"$f":"+'Roster LIMA'!AE15806","v":"N/A"},{"$f":"+'Roster LIMA'!AF15806","v":"N/A"},{"$f":"+'Roster LIMA'!AG15806","v":"N/A"},{"$f":"+'Roster LIMA'!AH15806","v":"Brown"},{"$f":"+'Roster LIMA'!AI15806","v":"Grey"},{"$f":"+'Roster LIMA'!AJ15806","v":"Black"},{"$f":"+'Roster LIMA'!AK15806","v":"N/A"},{"$f":"+'Roster LIMA'!AL15806","v":"Brown"},{"$f":"+'Roster LIMA'!AM15806","v":"Blue"},{"$f":"+'Roster LIMA'!AN15806","v":"N/A"},{"$f":"+'Roster LIMA'!AO15806","v":"N/A"},{"$f":"+'Roster LIMA'!AP15806","v":0},{"$f":"+'Roster LIMA'!AQ15806","v":0},{"$f":"+'Roster LIMA'!AR15806","v":2},{"$f":"+'Roster LIMA'!AS15806","v":1.1494252873563218E-2},{"$f":"+'Roster LIMA'!AT15806","v":121},{"$f":"+'Roster LIMA'!AU15806","v":"Replace"}]
[{"$f":"+'Roster LIMA'!F15807","v":"HL6049"},{"$f":"+'Roster LIMA'!G15807","v":2008},{"$f":"+'Roster LIMA'!H15807","v":"Yes"},{"$f":"+'Roster LIMA'!I15807","v":"ML"},{"$f":"+'Roster LIMA'!J15807","v":91},{"$f":"+'Roster LIMA'!K15807","v":"x"},{"$f":"+'Roster LIMA'!E15807","v":0},{"$f":"+'Roster LIMA'!B15807","v":"N/A"},{"$f":"+'Roster LIMA'!C15807","v":0},{"$f":"+'Roster LIMA'!D15807","v":0},{"$f":"+'Roster LIMA'!L15807","v":"Germany"},{"$f":"+'Roster LIMA'!M15807","v":"DR"},{"$f":"+'Roster LIMA'!N15805","v":"No"},{"$f":"+'Roster LIMA'!O15807","v":"Freight"},{"$f":"+'Roster LIMA'!P15807","v":"Set"},{"$f":"+'Roster LIMA'!Q15807","v":"Freight"},{"$f":"+'Roster LIMA'!R15807","v":"2+2+2"},{"$f":"+'Roster LIMA'!S15807","v":"Lima Collection"},{"$f":"+'Roster LIMA'!T15807","v":"Yes"},{"$f":"+'Roster LIMA'!U15807","v":1937},{"$f":"+'Roster LIMA'!V15807","v":1994},{"$f":"+'Roster LIMA'!W15807","v":"IV a / IV b / V a"},{"$f":"+'Roster LIMA'!X15807","v":"G-type"},{"$f":"+'Roster LIMA'!Y15807","v":"Stückgut Transport"},{"$f":"+'Roster LIMA'!Z15807","v":"Gms 137-6"},{"$f":"+'Roster LIMA'!AA15807","v":"N/A"},{"$f":"+'Roster LIMA'!AB15807","v":"3-unit train comprised of Closed #HL 6031 x 3"},{"$f":"+'Roster LIMA'!AC15807","v":"N/A"},{"$f":"+'Roster LIMA'!AD15807","v":"N/A"},{"$f":"+'Roster LIMA'!AE15807","v":"N/A"},{"$f":"+'Roster LIMA'!AF15807","v":"N/A"},{"$f":"+'Roster LIMA'!AG15807","v":"N/A"},{"$f":"+'Roster LIMA'!AH15807","v":"Brown"},{"$f":"+'Roster LIMA'!AI15807","v":"Grey"},{"$f":"+'Roster LIMA'!AJ15807","v":"Black"},{"$f":"+'Roster LIMA'!AK15807","v":"N/A"},{"$f":"+'Roster LIMA'!AL15807","v":"Brown"},{"$f":"+'Roster LIMA'!AM15807","v":"Blue"},{"$f":"+'Roster LIMA'!AN15807","v":"N/A"},{"$f":"+'Roster LIMA'!AO15807","v":"N/A"},{"$f":"+'Roster LIMA'!AP15807","v":0},{"$f":"+'Roster LIMA'!AQ15807","v":0},{"$f":"+'Roster LIMA'!AR15807","v":6},{"$f":"+'Roster LIMA'!AS15807","v":1.1494252873563218E-2},{"$f":"+'Roster LIMA'!AT15807","v":370},{"$f":"+'Roster LIMA'!AU15807","v":"Replace"}]
[{"$f":"+'Roster LIMA'!F15808","v":"HL6002"},{"$f":"+'Roster LIMA'!G15808","v":2008},{"$f":"+'Roster LIMA'!H15808","v":"Yes"},{"$f":"+'Roster LIMA'!I15808","v":"ML"},{"$f":"+'Roster LIMA'!J15808","v":91},{"$f":"+'Roster LIMA'!K15808","v":"x"},{"$f":"+'Roster LIMA'!E15808","v":0},{"$f":"+'Roster LIMA'!B15808","v":303524},{"$f":"+'Roster LIMA'!C15808","v":"K"},{"$f":"+'Roster LIMA'!D15808","v":0},{"$f":"+'Roster LIMA'!L15808","v":"Germany"},{"$f":"+'Roster LIMA'!M15808","v":"DB"},{"$f":"+'Roster LIMA'!N15806","v":"No"},{"$f":"+'Roster LIMA'!O15808","v":"Freight"},{"$f":"+'Roster LIMA'!P15808","v":"Flat"},{"$f":"+'Roster LIMA'!Q15808","v":"With 3 containers"},{"$f":"+'Roster LIMA'!R15808","v":"2'2'"},{"$f":"+'Roster LIMA'!S15808","v":"N/A"},{"$f":"+'Roster LIMA'!T15808","v":"Yes"},{"$f":"+'Roster LIMA'!U15808","v":1972},{"$f":"+'Roster LIMA'!V15808","v":"Operational"},{"$f":"+'Roster LIMA'!W15808","v":"V b / VI"},{"$f":"+'Roster LIMA'!X15808","v":"R-type"},{"$f":"+'Roster LIMA'!Y15808","v":"Rs 685"},{"$f":"+'Roster LIMA'!Z15808","v":"N/A"},{"$f":"+'Roster LIMA'!AA15808","v":"31 80 391 4 130-0"},{"$f":"+'Roster LIMA'!AB15808","v":"430 units, built between 1971-72 and numbered 11 80 391 3 000/429"},{"$f":"+'Roster LIMA'!AC15808","v":"DB Cargo"},{"$f":"+'Roster LIMA'!AD15808","v":"N/A"},{"$f":"+'Roster LIMA'!AE15808","v":"N/A"},{"$f":"+'Roster LIMA'!AF15808","v":"DB-AG"},{"$f":"+'Roster LIMA'!AG15808","v":"N/A"},{"$f":"+'Roster LIMA'!AH15808","v":"Red"},{"$f":"+'Roster LIMA'!AI15808","v":"N/A"},{"$f":"+'Roster LIMA'!AJ15808","v":"Red"},{"$f":"+'Roster LIMA'!AK15808","v":"N/A"},{"$f":"+'Roster LIMA'!AL15808","v":"N/A"},{"$f":"+'Roster LIMA'!AM15808","v":"Blue"},{"$f":"+'Roster LIMA'!AN15808","v":"N/A"},{"$f":"+'Roster LIMA'!AO15808","v":"N/A"},{"$f":"+'Roster LIMA'!AP15808","v":0},{"$f":"+'Roster LIMA'!AQ15808","v":2},{"$f":"+'Roster LIMA'!AR15808","v":4},{"$f":"+'Roster LIMA'!AS15808","v":1.1494252873563218E-2},{"$f":"+'Roster LIMA'!AT15808","v":230},{"$f":"+'Roster LIMA'!AU15808","v":"Yes"}]
[{"$f":"+'Roster LIMA'!F15809","v":"HL6010"},{"$f":"+'Roster LIMA'!G15809","v":2008},{"$f":"+'Roster LIMA'!H15809","v":"Yes"},{"$f":"+'Roster LIMA'!I15809","v":"ML"},{"$f":"+'Roster LIMA'!J15809","v":91},{"$f":"+'Roster LIMA'!K15809","v":"x"},{"$f":"+'Roster LIMA'!E15809","v":0},{"$f":"+'Roster LIMA'!B15809","v":303275},{"$f":"+'Roster LIMA'!C15809","v":"K"},{"$f":"+'Roster LIMA'!D15809","v":0},{"$f":"+'Roster LIMA'!L15809","v":"Germany"},{"$f":"+'Roster LIMA'!M15809","v":"DB"},{"$f":"+'Roster LIMA'!N15807","v":"No"},{"$f":"+'Roster LIMA'!O15809","v":"Freight"},{"$f":"+'Roster LIMA'!P15809","v":"Flat"},{"$f":"+'Roster LIMA'!Q15809","v":"With stakes"},{"$f":"+'Roster LIMA'!R15809","v":"2'2'"},{"$f":"+'Roster LIMA'!S15809","v":"N/A"},{"$f":"+'Roster LIMA'!T15809","v":"Yes"},{"$f":"+'Roster LIMA'!U15809","v":1982},{"$f":"+'Roster LIMA'!V15809","v":"Operational"},{"$f":"+'Roster LIMA'!W15809","v":"V b / VI"},{"$f":"+'Roster LIMA'!X15809","v":"S-type"},{"$f":"+'Roster LIMA'!Y15809","v":"Snps 719"},{"$f":"+'Roster LIMA'!Z15809","v":"N/A"},{"$f":"+'Roster LIMA'!AA15809","v":"31 80 472 4 846-9"},{"$f":"+'Roster LIMA'!AB15809","v":"1960 units, built between 1980-82 and numbered 31 80 472 3 000/4 959. Focus on wooden logs and pipe transport"},{"$f":"+'Roster LIMA'!AC15809","v":"DB Cargo"},{"$f":"+'Roster LIMA'!AD15809","v":"N/A"},{"$f":"+'Roster LIMA'!AE15809","v":"N/A"},{"$f":"+'Roster LIMA'!AF15809","v":"N/A"},{"$f":"+'Roster LIMA'!AG15809","v":"N/A"},{"$f":"+'Roster LIMA'!AH15809","v":"Red"},{"$f":"+'Roster LIMA'!AI15809","v":"N/A"},{"$f":"+'Roster LIMA'!AJ15809","v":"Red"},{"$f":"+'Roster LIMA'!AK15809","v":"N/A"},{"$f":"+'Roster LIMA'!AL15809","v":"N/A"},{"$f":"+'Roster LIMA'!AM15809","v":"Blue"},{"$f":"+'Roster LIMA'!AN15809","v":"N/A"},{"$f":"+'Roster LIMA'!AO15809","v":"N/A"},{"$f":"+'Roster LIMA'!AP15809","v":0},{"$f":"+'Roster LIMA'!AQ15809","v":2},{"$f":"+'Roster LIMA'!AR15809","v":4},{"$f":"+'Roster LIMA'!AS15809","v":1.1494252873563218E-2},{"$f":"+'Roster LIMA'!AT15809","v":230},{"$f":"+'Roster LIMA'!AU15809","v":"Yes"}]
[{"$f":"+'Roster LIMA'!F15810","v":"HL6004"},{"$f":"+'Roster LIMA'!G15810","v":2008},{"$f":"+'Roster LIMA'!H15810","v":"Yes"},{"$f":"+'Roster LIMA'!I15810","v":"ML"},{"$f":"+'Roster LIMA'!J15810","v":91},{"$f":"+'Roster LIMA'!K15810","v":"x"},{"$f":"+'Roster LIMA'!E15810","v":0},{"$f":"+'Roster LIMA'!B15810","v":303567},{"$f":"+'Roster LIMA'!C15810","v":"K"},{"$f":"+'Roster LIMA'!D15810","v":0},{"$f":"+'Roster LIMA'!L15810","v":"Germany"},{"$f":"+'Roster LIMA'!M15810","v":"DB"},{"$f":"+'Roster LIMA'!N15808","v":"No"},{"$f":"+'Roster LIMA'!O15810","v":"Freight"},{"$f":"+'Roster LIMA'!P15810","v":"Hopper"},{"$f":"+'Roster LIMA'!Q15810","v":"With opening roof"},{"$f":"+'Roster LIMA'!R15810","v":"2'2'"},{"$f":"+'Roster LIMA'!S15810","v":"N/A"},{"$f":"+'Roster LIMA'!T15810","v":"Yes"},{"$f":"+'Roster LIMA'!U15810","v":1974},{"$f":"+'Roster LIMA'!V15810","v":"Operational"},{"$f":"+'Roster LIMA'!W15810","v":"V b / VI"},{"$f":"+'Roster LIMA'!X15810","v":"T-type"},{"$f":"+'Roster LIMA'!Y15810","v":"Tadgs 959"},{"$f":"+'Roster LIMA'!Z15810","v":"N/A"},{"$f":"+'Roster LIMA'!AA15810","v":"31 80 584 4 699-4"},{"$f":"+'Roster LIMA'!AB15810","v":"1386 units, built between 1973-85"},{"$f":"+'Roster LIMA'!AC15810","v":"DB Cargo"},{"$f":"+'Roster LIMA'!AD15810","v":"N/A"},{"$f":"+'Roster LIMA'!AE15810","v":"N/A"},{"$f":"+'Roster LIMA'!AF15810","v":"DB-AG"},{"$f":"+'Roster LIMA'!AG15810","v":"N/A"},{"$f":"+'Roster LIMA'!AH15810","v":"Red"},{"$f":"+'Roster LIMA'!AI15810","v":"Red"},{"$f":"+'Roster LIMA'!AJ15810","v":"Red"},{"$f":"+'Roster LIMA'!AK15810","v":"N/A"},{"$f":"+'Roster LIMA'!AL15810","v":"N/A"},{"$f":"+'Roster LIMA'!AM15810","v":"Blue"},{"$f":"+'Roster LIMA'!AN15810","v":"N/A"},{"$f":"+'Roster LIMA'!AO15810","v":"N/A"},{"$f":"+'Roster LIMA'!AP15810","v":0},{"$f":"+'Roster LIMA'!AQ15810","v":2},{"$f":"+'Roster LIMA'!AR15810","v":4},{"$f":"+'Roster LIMA'!AS15810","v":1.1494252873563218E-2},{"$f":"+'Roster LIMA'!AT15810","v":247},{"$f":"+'Roster LIMA'!AU15810","v":"Yes"}]
[{"$f":"+'Roster LIMA'!F15811","v":"HL6025"},{"$f":"+'Roster LIMA'!G15811","v":2008},{"$f":"+'Roster LIMA'!H15811","v":"Yes"},{"$f":"+'Roster LIMA'!I15811","v":"ML"},{"$f":"+'Roster LIMA'!J15811","v":91},{"$f":"+'Roster LIMA'!K15811","v":"x"},{"$f":"+'Roster LIMA'!E15811","v":0},{"$f":"+'Roster LIMA'!B15811","v":302900},{"$f":"+'Roster LIMA'!C15811","v":0},{"$f":"+'Roster LIMA'!D15811","v":0},{"$f":"+'Roster LIMA'!L15811","v":"France"},{"$f":"+'Roster LIMA'!M15811","v":"SNCF"},{"$f":"+'Roster LIMA'!N15809","v":"No"},{"$f":"+'Roster LIMA'!O15811","v":"Freight"},{"$f":"+'Roster LIMA'!P15811","v":"Tank"},{"$f":"+'Roster LIMA'!Q15811","v":"With ladder"},{"$f":"+'Roster LIMA'!R15811","v":2},{"$f":"+'Roster LIMA'!S15811","v":"N/A"},{"$f":"+'Roster LIMA'!T15811","v":"No"},{"$f":"+'Roster LIMA'!U15811","v":1957},{"$f":"+'Roster LIMA'!V15811","v":2005},{"$f":"+'Roster LIMA'!W15811","v":"III b / IV a / IV b / V a / V b"},{"$f":"+'Roster LIMA'!X15811","v":"Z-type"},{"$f":"+'Roster LIMA'!Y15811","v":"Zcs 23"},{"$f":"+'Roster LIMA'!Z15811","v":"Uh"},{"$f":"+'Roster LIMA'!AA15811","v":"N/A"},{"$f":"+'Roster LIMA'!AB15811","v":"Never existed in any official roster. For track cleaning"},{"$f":"+'Roster LIMA'!AC15811","v":"VB"},{"$f":"+'Roster LIMA'!AD15811","v":"N/A"},{"$f":"+'Roster LIMA'!AE15811","v":"N/A"},{"$f":"+'Roster LIMA'!AF15811","v":"N/A"},{"$f":"+'Roster LIMA'!AG15811","v":"N/A"},{"$f":"+'Roster LIMA'!AH15811","v":"Red"},{"$f":"+'Roster LIMA'!AI15811","v":"Red"},{"$f":"+'Roster LIMA'!AJ15811","v":"Black"},{"$f":"+'Roster LIMA'!AK15811","v":"White"},{"$f":"+'Roster LIMA'!AL15811","v":"N/A"},{"$f":"+'Roster LIMA'!AM15811","v":"Blue"},{"$f":"+'Roster LIMA'!AN15811","v":"N/A"},{"$f":"+'Roster LIMA'!AO15811","v":"N/A"},{"$f":"+'Roster LIMA'!AP15811","v":0},{"$f":"+'Roster LIMA'!AQ15811","v":0},{"$f":"+'Roster LIMA'!AR15811","v":2},{"$f":"+'Roster LIMA'!AS15811","v":"N/A"},{"$f":"+'Roster LIMA'!AT15811","v":102},{"$f":"+'Roster LIMA'!AU15811","v":"Yes"}]
[{"$f":"+'Roster LIMA'!F15812","v":"HL2029"},{"$f":"+'Roster LIMA'!G15812","v":2008},{"$f":"+'Roster LIMA'!H15812","v":"Yes"},{"$f":"+'Roster LIMA'!I15812","v":"ML"},{"$f":"+'Roster LIMA'!J15812","v":92},{"$f":"+'Roster LIMA'!K15812","v":"x"},{"$f":"+'Roster LIMA'!E15812","v":0},{"$f":"+'Roster LIMA'!B15812","v":208259},{"$f":"+'Roster LIMA'!C15812","v":"L"},{"$f":"+'Roster LIMA'!D15812","v":0},{"$f":"+'Roster LIMA'!L15812","v":"Germany"},{"$f":"+'Roster LIMA'!M15812","v":"DB"},{"$f":"+'Roster LIMA'!N15810","v":"No"},{"$f":"+'Roster LIMA'!O15812","v":"Locomotive"},{"$f":"+'Roster LIMA'!P15812","v":"Diesel"},{"$f":"+'Roster LIMA'!Q15812","v":"Regional service"},{"$f":"+'Roster LIMA'!R15812","v":"B'B'"},{"$f":"+'Roster LIMA'!S15812","v":"N/A"},{"$f":"+'Roster LIMA'!T15812","v":"Yes"},{"$f":"+'Roster LIMA'!U15812","v":1974},{"$f":"+'Roster LIMA'!V15812","v":2010},{"$f":"+'Roster LIMA'!W15812","v":"V b / VI"},{"$f":"+'Roster LIMA'!X15812","v":"BR-218"},{"$f":"+'Roster LIMA'!Y15812","v":"BR-218"},{"$f":"+'Roster LIMA'!Z15812","v":"V-164"},{"$f":"+'Roster LIMA'!AA15812","v":"N/A"},{"$f":"+'Roster LIMA'!AB15812","v":"128 units, built between 1973-74 and numbered 218.171/298. Focus on mixed-traffic services (Passenger and Freight) on non-electrified lines"},{"$f":"+'Roster LIMA'!AC15812","v":"N/A"},{"$f":"+'Roster LIMA'!AD15812","v":"N/A"},{"$f":"+'Roster LIMA'!AE15812","v":"N/A"},{"$f":"+'Roster LIMA'!AF15812","v":"DB-AG"},{"$f":"+'Roster LIMA'!AG15812","v":"Verkehrsrot"},{"$f":"+'Roster LIMA'!AH15812","v":"Red"},{"$f":"+'Roster LIMA'!AI15812","v":"Grey"},{"$f":"+'Roster LIMA'!AJ15812","v":"Black"},{"$f":"+'Roster LIMA'!AK15812","v":"N/A"},{"$f":"+'Roster LIMA'!AL15812","v":"Red"},{"$f":"+'Roster LIMA'!AM15812","v":"Blue"},{"$f":"+'Roster LIMA'!AN15812","v":"G-Motor"},{"$f":"+'Roster LIMA'!AO15812","v":"N/A"},{"$f":"+'Roster LIMA'!AP15812","v":0},{"$f":"+'Roster LIMA'!AQ15812","v":2},{"$f":"+'Roster LIMA'!AR15812","v":4},{"$f":"+'Roster LIMA'!AS15812","v":1.1235955056179775E-2},{"$f":"+'Roster LIMA'!AT15812","v":184},{"$f":"+'Roster LIMA'!AU15812","v":"Yes"}]
[{"$f":"+'Roster LIMA'!F15813","v":"HL2030"},{"$f":"+'Roster LIMA'!G15813","v":2008},{"$f":"+'Roster LIMA'!H15813","v":"Yes"},{"$f":"+'Roster LIMA'!I15813","v":"ML"},{"$f":"+'Roster LIMA'!J15813","v":92},{"$f":"+'Roster LIMA'!K15813","v":"x"},{"$f":"+'Roster LIMA'!E15813","v":0},{"$f":"+'Roster LIMA'!B15813","v":208163},{"$f":"+'Roster LIMA'!C15813","v":"L"},{"$f":"+'Roster LIMA'!D15813","v":0},{"$f":"+'Roster LIMA'!L15813","v":"Germany"},{"$f":"+'Roster LIMA'!M15813","v":"DB"},{"$f":"+'Roster LIMA'!N15811","v":"No"},{"$f":"+'Roster LIMA'!O15813","v":"Locomotive"},{"$f":"+'Roster LIMA'!P15813","v":"Electric"},{"$f":"+'Roster LIMA'!Q15813","v":"Express service"},{"$f":"+'Roster LIMA'!R15813","v":"Bo'Bo'"},{"$f":"+'Roster LIMA'!S15813","v":"N/A"},{"$f":"+'Roster LIMA'!T15813","v":"Yes"},{"$f":"+'Roster LIMA'!U15813","v":1963},{"$f":"+'Roster LIMA'!V15813","v":2002},{"$f":"+'Roster LIMA'!W15813","v":"III b"},{"$f":"+'Roster LIMA'!X15813","v":"BR-112"},{"$f":"+'Roster LIMA'!Y15813","v":"BR-112"},{"$f":"+'Roster LIMA'!Z15813","v":"E-10.12"},{"$f":"+'Roster LIMA'!AA15813","v":"E10 1269"},{"$f":"+'Roster LIMA'!AB15813","v":"6 units, built in 1963 and numbered E10.1265/1270. Focus on express Passenger services mainly Rheingold"},{"$f":"+'Roster LIMA'!AC15813","v":"N/A"},{"$f":"+'Roster LIMA'!AD15813","v":"N/A"},{"$f":"+'Roster LIMA'!AE15813","v":"N/A"},{"$f":"+'Roster LIMA'!AF15813","v":"Keks"},{"$f":"+'Roster LIMA'!AG15813","v":"Ivory-Blue"},{"$f":"+'Roster LIMA'!AH15813","v":"Cream"},{"$f":"+'Roster LIMA'!AI15813","v":"Cream"},{"$f":"+'Roster LIMA'!AJ15813","v":"Blue"},{"$f":"+'Roster LIMA'!AK15813","v":"N/A"},{"$f":"+'Roster LIMA'!AL15813","v":"Bicolor"},{"$f":"+'Roster LIMA'!AM15813","v":"Blue"},{"$f":"+'Roster LIMA'!AN15813","v":"Double cardan transmission"},{"$f":"+'Roster LIMA'!AO15813","v":"Double arm"},{"$f":"+'Roster LIMA'!AP15813","v":2},{"$f":"+'Roster LIMA'!AQ15813","v":2},{"$f":"+'Roster LIMA'!AR15813","v":4},{"$f":"+'Roster LIMA'!AS15813","v":1.1494252873563218E-2},{"$f":"+'Roster LIMA'!AT15813","v":195},{"$f":"+'Roster LIMA'!AU15813","v":"Yes"}]
[{"$f":"+'Roster LIMA'!F15814","v":"HL6036"},{"$f":"+'Roster LIMA'!G15814","v":2008},{"$f":"+'Roster LIMA'!H15814","v":"Yes"},{"$f":"+'Roster LIMA'!I15814","v":"ML"},{"$f":"+'Roster LIMA'!J15814","v":92},{"$f":"+'Roster LIMA'!K15814","v":"x"},{"$f":"+'Roster LIMA'!E15814","v":0},{"$f":"+'Roster LIMA'!B15814","v":"N/A"},{"$f":"+'Roster LIMA'!C15814","v":0},{"$f":"+'Roster LIMA'!D15814","v":0},{"$f":"+'Roster LIMA'!L15814","v":"Germany"},{"$f":"+'Roster LIMA'!M15814","v":"DB"},{"$f":"+'Roster LIMA'!N15812","v":"No"},{"$f":"+'Roster LIMA'!O15814","v":"Freight"},{"$f":"+'Roster LIMA'!P15814","v":"Flat"},{"$f":"+'Roster LIMA'!Q15814","v":"With 4 round containers"},{"$f":"+'Roster LIMA'!R15814","v":2},{"$f":"+'Roster LIMA'!S15814","v":"N/A"},{"$f":"+'Roster LIMA'!T15814","v":"Yes"},{"$f":"+'Roster LIMA'!U15814","v":1962},{"$f":"+'Roster LIMA'!V15814","v":1988},{"$f":"+'Roster LIMA'!W15814","v":"IV a / IV b / V a"},{"$f":"+'Roster LIMA'!X15814","v":"L-type"},{"$f":"+'Roster LIMA'!Y15814","v":"Lbs 584"},{"$f":"+'Roster LIMA'!Z15814","v":"BTms 55"},{"$f":"+'Roster LIMA'!AA15814","v":"N/A"},{"$f":"+'Roster LIMA'!AB15814","v":"Built since the early 1960's"},{"$f":"+'Roster LIMA'!AC15814","v":"N/A"},{"$f":"+'Roster LIMA'!AD15814","v":"N/A"},{"$f":"+'Roster LIMA'!AE15814","v":"N/A"},{"$f":"+'Roster LIMA'!AF15814","v":"N/A"},{"$f":"+'Roster LIMA'!AG15814","v":"N/A"},{"$f":"+'Roster LIMA'!AH15814","v":"Grey"},{"$f":"+'Roster LIMA'!AI15814","v":"N/A"},{"$f":"+'Roster LIMA'!AJ15814","v":"Brown"},{"$f":"+'Roster LIMA'!AK15814","v":"N/A"},{"$f":"+'Roster LIMA'!AL15814","v":"N/A"},{"$f":"+'Roster LIMA'!AM15814","v":"Blue"},{"$f":"+'Roster LIMA'!AN15814","v":"N/A"},{"$f":"+'Roster LIMA'!AO15814","v":"N/A"},{"$f":"+'Roster LIMA'!AP15814","v":0},{"$f":"+'Roster LIMA'!AQ15814","v":0},{"$f":"+'Roster LIMA'!AR15814","v":2},{"$f":"+'Roster LIMA'!AS15814","v":1.2500000000000001E-2},{"$f":"+'Roster LIMA'!AT15814","v":170},{"$f":"+'Roster LIMA'!AU15814","v":"Replace"}]
[{"$f":"+'Roster LIMA'!F15815","v":"HL6037"},{"$f":"+'Roster LIMA'!G15815","v":2008},{"$f":"+'Roster LIMA'!H15815","v":"Yes"},{"$f":"+'Roster LIMA'!I15815","v":"ML"},{"$f":"+'Roster LIMA'!J15815","v":92},{"$f":"+'Roster LIMA'!K15815","v":"x"},{"$f":"+'Roster LIMA'!E15815","v":0},{"$f":"+'Roster LIMA'!B15815","v":302846},{"$f":"+'Roster LIMA'!C15815","v":"K"},{"$f":"+'Roster LIMA'!D15815","v":0},{"$f":"+'Roster LIMA'!L15815","v":"Germany"},{"$f":"+'Roster LIMA'!M15815","v":"DB"},{"$f":"+'Roster LIMA'!N15813","v":"No"},{"$f":"+'Roster LIMA'!O15815","v":"Freight"},{"$f":"+'Roster LIMA'!P15815","v":"Flat"},{"$f":"+'Roster LIMA'!Q15815","v":"With 2 containers"},{"$f":"+'Roster LIMA'!R15815","v":2},{"$f":"+'Roster LIMA'!S15815","v":"N/A"},{"$f":"+'Roster LIMA'!T15815","v":"Yes"},{"$f":"+'Roster LIMA'!U15815","v":1969},{"$f":"+'Roster LIMA'!V15815","v":1999},{"$f":"+'Roster LIMA'!W15815","v":"IV a / IV b / V a / V b"},{"$f":"+'Roster LIMA'!X15815","v":"L-type"},{"$f":"+'Roster LIMA'!Y15815","v":"Lgjs 573"},{"$f":"+'Roster LIMA'!Z15815","v":"Lss y 573"},{"$f":"+'Roster LIMA'!AA15815","v":"N/A"},{"$f":"+'Roster LIMA'!AB15815","v":"Built in the late 1960's"},{"$f":"+'Roster LIMA'!AC15815","v":"CTI - Hapag Lloyd"},{"$f":"+'Roster LIMA'!AD15815","v":"N/A"},{"$f":"+'Roster LIMA'!AE15815","v":"N/A"},{"$f":"+'Roster LIMA'!AF15815","v":"N/A"},{"$f":"+'Roster LIMA'!AG15815","v":"N/A"},{"$f":"+'Roster LIMA'!AH15815","v":"Yellow"},{"$f":"+'Roster LIMA'!AI15815","v":"Red"},{"$f":"+'Roster LIMA'!AJ15815","v":"Brown"},{"$f":"+'Roster LIMA'!AK15815","v":"N/A"},{"$f":"+'Roster LIMA'!AL15815","v":"N/A"},{"$f":"+'Roster LIMA'!AM15815","v":"Blue"},{"$f":"+'Roster LIMA'!AN15815","v":"N/A"},{"$f":"+'Roster LIMA'!AO15815","v":"N/A"},{"$f":"+'Roster LIMA'!AP15815","v":0},{"$f":"+'Roster LIMA'!AQ15815","v":0},{"$f":"+'Roster LIMA'!AR15815","v":2},{"$f":"+'Roster LIMA'!AS15815","v":1.1494252873563218E-2},{"$f":"+'Roster LIMA'!AT15815","v":170},{"$f":"+'Roster LIMA'!AU15815","v":"Yes"}]
[{"$f":"+'Roster LIMA'!F15816","v":"HL6038"},{"$f":"+'Roster LIMA'!G15816","v":2008},{"$f":"+'Roster LIMA'!H15816","v":"Yes"},{"$f":"+'Roster LIMA'!I15816","v":"ML"},{"$f":"+'Roster LIMA'!J15816","v":92},{"$f":"+'Roster LIMA'!K15816","v":"x"},{"$f":"+'Roster LIMA'!E15816","v":0},{"$f":"+'Roster LIMA'!B15816","v":"N/A"},{"$f":"+'Roster LIMA'!C15816","v":0},{"$f":"+'Roster LIMA'!D15816","v":0},{"$f":"+'Roster LIMA'!L15816","v":"Germany"},{"$f":"+'Roster LIMA'!M15816","v":"DB"},{"$f":"+'Roster LIMA'!N15814","v":"No"},{"$f":"+'Roster LIMA'!O15816","v":"Freight"},{"$f":"+'Roster LIMA'!P15816","v":"Reefer"},{"$f":"+'Roster LIMA'!Q15816","v":"N/A"},{"$f":"+'Roster LIMA'!R15816","v":2},{"$f":"+'Roster LIMA'!S15816","v":"N/A"},{"$f":"+'Roster LIMA'!T15816","v":"Yes"},{"$f":"+'Roster LIMA'!U15816","v":1979},{"$f":"+'Roster LIMA'!V15816","v":"Operational"},{"$f":"+'Roster LIMA'!W15816","v":"V a / V b / VI"},{"$f":"+'Roster LIMA'!X15816","v":"I-type"},{"$f":"+'Roster LIMA'!Y15816","v":"Ibblps v"},{"$f":"+'Roster LIMA'!Z15816","v":"N/A"},{"$f":"+'Roster LIMA'!AA15816","v":"N/A"},{"$f":"+'Roster LIMA'!AB15816","v":"Built in the late 1970's"},{"$f":"+'Roster LIMA'!AC15816","v":"Stroner Sprudel"},{"$f":"+'Roster LIMA'!AD15816","v":"N/A"},{"$f":"+'Roster LIMA'!AE15816","v":"N/A"},{"$f":"+'Roster LIMA'!AF15816","v":"N/A"},{"$f":"+'Roster LIMA'!AG15816","v":"N/A"},{"$f":"+'Roster LIMA'!AH15816","v":"White"},{"$f":"+'Roster LIMA'!AI15816","v":"Grey"},{"$f":"+'Roster LIMA'!AJ15816","v":"Black"},{"$f":"+'Roster LIMA'!AK15816","v":"Red"},{"$f":"+'Roster LIMA'!AL15816","v":"Bicolor"},{"$f":"+'Roster LIMA'!AM15816","v":"Blue"},{"$f":"+'Roster LIMA'!AN15816","v":"N/A"},{"$f":"+'Roster LIMA'!AO15816","v":"N/A"},{"$f":"+'Roster LIMA'!AP15816","v":0},{"$f":"+'Roster LIMA'!AQ15816","v":0},{"$f":"+'Roster LIMA'!AR15816","v":2},{"$f":"+'Roster LIMA'!AS15816","v":1.1494252873563218E-2},{"$f":"+'Roster LIMA'!AT15816","v":158},{"$f":"+'Roster LIMA'!AU15816","v":"Replace"}]
[{"$f":"+'Roster LIMA'!F15817","v":"HL1009"},{"$f":"+'Roster LIMA'!G15817","v":2008},{"$f":"+'Roster LIMA'!H15817","v":"Yes"},{"$f":"+'Roster LIMA'!I15817","v":"ML"},{"$f":"+'Roster LIMA'!J15817","v":93},{"$f":"+'Roster LIMA'!K15817","v":"x"},{"$f":"+'Roster LIMA'!E15817","v":0},{"$f":"+'Roster LIMA'!B15817","v":"N/A"},{"$f":"+'Roster LIMA'!C15817","v":0},{"$f":"+'Roster LIMA'!D15817","v":0},{"$f":"+'Roster LIMA'!L15817","v":"Germany"},{"$f":"+'Roster LIMA'!M15817","v":"DB"},{"$f":"+'Roster LIMA'!N15815","v":"No"},{"$f":"+'Roster LIMA'!O15817","v":"Passenger"},{"$f":"+'Roster LIMA'!P15817","v":"Set"},{"$f":"+'Roster LIMA'!Q15817","v":"Express service"},{"$f":"+'Roster LIMA'!R15817","v":"2'2'+(1A)(A1)+2'2'"},{"$f":"+'Roster LIMA'!S15817","v":"Starter"},{"$f":"+'Roster LIMA'!T15817","v":"Yes"},{"$f":"+'Roster LIMA'!U15817","v":1989},{"$f":"+'Roster LIMA'!V15817","v":"Operational"},{"$f":"+'Roster LIMA'!W15817","v":"V b / VI"},{"$f":"+'Roster LIMA'!X15817","v":"ICE-T"},{"$f":"+'Roster LIMA'!Y15817","v":"T"},{"$f":"+'Roster LIMA'!Z15817","v":"BR-415"},{"$f":"+'Roster LIMA'!AA15817","v":"N/A"},{"$f":"+'Roster LIMA'!AB15817","v":"3-unit set comprised of EMU Motor T, Intermediate FM, Driving trailer T1, track and electric power pack"},{"$f":"+'Roster LIMA'!AC15817","v":"N/A"},{"$f":"+'Roster LIMA'!AD15817","v":"Intercity"},{"$f":"+'Roster LIMA'!AE15817","v":"ICE"},{"$f":"+'Roster LIMA'!AF15817","v":"DB-AG"},{"$f":"+'Roster LIMA'!AG15817","v":"ICE"},{"$f":"+'Roster LIMA'!AH15817","v":"White"},{"$f":"+'Roster LIMA'!AI15817","v":"White"},{"$f":"+'Roster LIMA'!AJ15817","v":"White"},{"$f":"+'Roster LIMA'!AK15817","v":"Bicolor"},{"$f":"+'Roster LIMA'!AL15817","v":"Bicolor"},{"$f":"+'Roster LIMA'!AM15817","v":"Blue"},{"$f":"+'Roster LIMA'!AN15817","v":"Double cardan transmission"},{"$f":"+'Roster LIMA'!AO15817","v":"Single arm"},{"$f":"+'Roster LIMA'!AP15817","v":2},{"$f":"+'Roster LIMA'!AQ15817","v":6},{"$f":"+'Roster LIMA'!AR15817","v":12},{"$f":"+'Roster LIMA'!AS15817","v":1.1494252873563218E-2},{"$f":"+'Roster LIMA'!AT15817","v":945},{"$f":"+'Roster LIMA'!AU15817","v":"Yes"}]
[{"$f":"+'Roster LIMA'!F15818","v":"HL2017"},{"$f":"+'Roster LIMA'!G15818","v":2008},{"$f":"+'Roster LIMA'!H15818","v":"Yes"},{"$f":"+'Roster LIMA'!I15818","v":"ML"},{"$f":"+'Roster LIMA'!J15818","v":93},{"$f":"+'Roster LIMA'!K15818","v":"x"},{"$f":"+'Roster LIMA'!E15818","v":0},{"$f":"+'Roster LIMA'!B15818","v":208484},{"$f":"+'Roster LIMA'!C15818","v":"L"},{"$f":"+'Roster LIMA'!D15818","v":0},{"$f":"+'Roster LIMA'!L15818","v":"Australia"},{"$f":"+'Roster LIMA'!M15818","v":"NSW"},{"$f":"+'Roster LIMA'!N15816","v":"No"},{"$f":"+'Roster LIMA'!O15818","v":"Locomotive"},{"$f":"+'Roster LIMA'!P15818","v":"Steam"},{"$f":"+'Roster LIMA'!Q15818","v":"Express service"},{"$f":"+'Roster LIMA'!R15818","v":"4-6-2/4-4"},{"$f":"+'Roster LIMA'!S15818","v":"N/A"},{"$f":"+'Roster LIMA'!T15818","v":"Yes"},{"$f":"+'Roster LIMA'!U15818","v":1943},{"$f":"+'Roster LIMA'!V15818","v":1967},{"$f":"+'Roster LIMA'!W15818","v":"II / III a"},{"$f":"+'Roster LIMA'!X15818","v":"NSW C38"},{"$f":"+'Roster LIMA'!Y15818","v":"Class 38"},{"$f":"+'Roster LIMA'!Z15818","v":"Streamlined"},{"$f":"+'Roster LIMA'!AA15818","v":3802},{"$f":"+'Roster LIMA'!AB15818","v":"5 units, built between 1943-45 and numbered 3801/05. Focus on express Passenger services"},{"$f":"+'Roster LIMA'!AC15818","v":"N/A"},{"$f":"+'Roster LIMA'!AD15818","v":"N/A"},{"$f":"+'Roster LIMA'!AE15818","v":"N/A"},{"$f":"+'Roster LIMA'!AF15818","v":"N/A"},{"$f":"+'Roster LIMA'!AG15818","v":"N/A"},{"$f":"+'Roster LIMA'!AH15818","v":"Black"},{"$f":"+'Roster LIMA'!AI15818","v":"Black"},{"$f":"+'Roster LIMA'!AJ15818","v":"Black"},{"$f":"+'Roster LIMA'!AK15818","v":"Red"},{"$f":"+'Roster LIMA'!AL15818","v":"Black"},{"$f":"+'Roster LIMA'!AM15818","v":"Blue"},{"$f":"+'Roster LIMA'!AN15818","v":"G-Motor"},{"$f":"+'Roster LIMA'!AO15818","v":"N/A"},{"$f":"+'Roster LIMA'!AP15818","v":0},{"$f":"+'Roster LIMA'!AQ15818","v":0},{"$f":"+'Roster LIMA'!AR15818","v":6},{"$f":"+'Roster LIMA'!AS15818","v":1.1494252873563218E-2},{"$f":"+'Roster LIMA'!AT15818","v":270},{"$f":"+'Roster LIMA'!AU15818","v":"Yes"}]
[{"$f":"+'Roster LIMA'!F15819","v":"HL2016"},{"$f":"+'Roster LIMA'!G15819","v":2008},{"$f":"+'Roster LIMA'!H15819","v":"Yes"},{"$f":"+'Roster LIMA'!I15819","v":"ML"},{"$f":"+'Roster LIMA'!J15819","v":93},{"$f":"+'Roster LIMA'!K15819","v":"x"},{"$f":"+'Roster LIMA'!E15819","v":0},{"$f":"+'Roster LIMA'!B15819","v":208650},{"$f":"+'Roster LIMA'!C15819","v":"L"},{"$f":"+'Roster LIMA'!D15819","v":0},{"$f":"+'Roster LIMA'!L15819","v":"Australia"},{"$f":"+'Roster LIMA'!M15819","v":"SRA"},{"$f":"+'Roster LIMA'!N15817","v":"EMU"},{"$f":"+'Roster LIMA'!O15819","v":"Locomotive"},{"$f":"+'Roster LIMA'!P15819","v":"Diesel"},{"$f":"+'Roster LIMA'!Q15819","v":"Multipurpose"},{"$f":"+'Roster LIMA'!R15819","v":"Co'Co'"},{"$f":"+'Roster LIMA'!S15819","v":"N/A"},{"$f":"+'Roster LIMA'!T15819","v":"Yes"},{"$f":"+'Roster LIMA'!U15819","v":1969},{"$f":"+'Roster LIMA'!V15819","v":2010},{"$f":"+'Roster LIMA'!W15819","v":"IV b / V a / V b"},{"$f":"+'Roster LIMA'!X15819","v":"NSW C422"},{"$f":"+'Roster LIMA'!Y15819","v":"Class 422"},{"$f":"+'Roster LIMA'!Z15819","v":"N/A"},{"$f":"+'Roster LIMA'!AA15819","v":42204},{"$f":"+'Roster LIMA'!AB15819","v":"20 units, built between 1969-70 and numbered 42201/20. Focus on mixed-traffic services (regional Passenger and Freight)"},{"$f":"+'Roster LIMA'!AC15819","v":"N/A"},{"$f":"+'Roster LIMA'!AD15819","v":"N/A"},{"$f":"+'Roster LIMA'!AE15819","v":"N/A"},{"$f":"+'Roster LIMA'!AF15819","v":"SRA"},{"$f":"+'Roster LIMA'!AG15819","v":"Candy"},{"$f":"+'Roster LIMA'!AH15819","v":"Red"},{"$f":"+'Roster LIMA'!AI15819","v":"Grey"},{"$f":"+'Roster LIMA'!AJ15819","v":"Black"},{"$f":"+'Roster LIMA'!AK15819","v":"Yellow"},{"$f":"+'Roster LIMA'!AL15819","v":"Red"},{"$f":"+'Roster LIMA'!AM15819","v":"Blue"},{"$f":"+'Roster LIMA'!AN15819","v":"G-Motor"},{"$f":"+'Roster LIMA'!AO15819","v":"N/A"},{"$f":"+'Roster LIMA'!AP15819","v":0},{"$f":"+'Roster LIMA'!AQ15819","v":2},{"$f":"+'Roster LIMA'!AR15819","v":6},{"$f":"+'Roster LIMA'!AS15819","v":1.1494252873563218E-2},{"$f":"+'Roster LIMA'!AT15819","v":200},{"$f":"+'Roster LIMA'!AU15819","v":"Replace"}]
[{"$f":"+'Roster LIMA'!F15820","v":"HL2031"},{"$f":"+'Roster LIMA'!G15820","v":2008},{"$f":"+'Roster LIMA'!H15820","v":"Yes"},{"$f":"+'Roster LIMA'!I15820","v":"ML"},{"$f":"+'Roster LIMA'!J15820","v":94},{"$f":"+'Roster LIMA'!K15820","v":"x"},{"$f":"+'Roster LIMA'!E15820","v":0},{"$f":"+'Roster LIMA'!B15820","v":208123},{"$f":"+'Roster LIMA'!C15820","v":"LG"},{"$f":"+'Roster LIMA'!D15820","v":0},{"$f":"+'Roster LIMA'!L15820","v":"Australia"},{"$f":"+'Roster LIMA'!M15820","v":"ANR"},{"$f":"+'Roster LIMA'!N15818","v":"No"},{"$f":"+'Roster LIMA'!O15820","v":"Locomotive"},{"$f":"+'Roster LIMA'!P15820","v":"Diesel"},{"$f":"+'Roster LIMA'!Q15820","v":"Multipurpose"},{"$f":"+'Roster LIMA'!R15820","v":"Bo'Bo'"},{"$f":"+'Roster LIMA'!S15820","v":"N/A"},{"$f":"+'Roster LIMA'!T15820","v":"Yes"},{"$f":"+'Roster LIMA'!U15820","v":1965},{"$f":"+'Roster LIMA'!V15820","v":1995},{"$f":"+'Roster LIMA'!W15820","v":"IV b"},{"$f":"+'Roster LIMA'!X15820","v":"Class GM"},{"$f":"+'Roster LIMA'!Y15820","v":"Class GM"},{"$f":"+'Roster LIMA'!Z15820","v":"EMD F7"},{"$f":"+'Roster LIMA'!AA15820","v":32},{"$f":"+'Roster LIMA'!AB15820","v":"47 units, built between 1951-67 based on an American EMD F7 locomotive design and numbered GM1/47. Focus on mixed-traffic services (regional Passenger and Freight)"},{"$f":"+'Roster LIMA'!AC15820","v":"Australian National Railways"},{"$f":"+'Roster LIMA'!AD15820","v":"N/A"},{"$f":"+'Roster LIMA'!AE15820","v":"N/A"},{"$f":"+'Roster LIMA'!AF15820","v":"ANR"},{"$f":"+'Roster LIMA'!AG15820","v":"N/A"},{"$f":"+'Roster LIMA'!AH15820","v":"Red"},{"$f":"+'Roster LIMA'!AI15820","v":"Red"},{"$f":"+'Roster LIMA'!AJ15820","v":"Red"},{"$f":"+'Roster LIMA'!AK15820","v":"White"},{"$f":"+'Roster LIMA'!AL15820","v":"Red"},{"$f":"+'Roster LIMA'!AM15820","v":"Blue"},{"$f":"+'Roster LIMA'!AN15820","v":"G-Motor"},{"$f":"+'Roster LIMA'!AO15820","v":"N/A"},{"$f":"+'Roster LIMA'!AP15820","v":0},{"$f":"+'Roster LIMA'!AQ15820","v":2},{"$f":"+'Roster LIMA'!AR15820","v":6},{"$f":"+'Roster LIMA'!AS15820","v":1.1494252873563218E-2},{"$f":"+'Roster LIMA'!AT15820","v":205},{"$f":"+'Roster LIMA'!AU15820","v":"Yes"}]
[{"$f":"+'Roster LIMA'!F15821","v":"HL4010"},{"$f":"+'Roster LIMA'!G15821","v":2008},{"$f":"+'Roster LIMA'!H15821","v":"Yes"},{"$f":"+'Roster LIMA'!I15821","v":"ML"},{"$f":"+'Roster LIMA'!J15821","v":94},{"$f":"+'Roster LIMA'!K15821","v":"x"},{"$f":"+'Roster LIMA'!E15821","v":0},{"$f":"+'Roster LIMA'!B15821","v":"309173-1"},{"$f":"+'Roster LIMA'!C15821","v":0},{"$f":"+'Roster LIMA'!D15821","v":0},{"$f":"+'Roster LIMA'!L15821","v":"Australia"},{"$f":"+'Roster LIMA'!M15821","v":"NSW"},{"$f":"+'Roster LIMA'!N15819","v":"No"},{"$f":"+'Roster LIMA'!O15821","v":"Passenger"},{"$f":"+'Roster LIMA'!P15821","v":"With compartment"},{"$f":"+'Roster LIMA'!Q15821","v":"2° class"},{"$f":"+'Roster LIMA'!R15821","v":"3'3'"},{"$f":"+'Roster LIMA'!S15821","v":"N/A"},{"$f":"+'Roster LIMA'!T15821","v":"Yes"},{"$f":"+'Roster LIMA'!U15821","v":1908},{"$f":"+'Roster LIMA'!V15821","v":1984},{"$f":"+'Roster LIMA'!W15821","v":"I / II / III a / III b"},{"$f":"+'Roster LIMA'!X15821","v":"E carriage"},{"$f":"+'Roster LIMA'!Y15821","v":"SE"},{"$f":"+'Roster LIMA'!Z15821","v":"N/A"},{"$f":"+'Roster LIMA'!AA15821","v":"N/A"},{"$f":"+'Roster LIMA'!AB15821","v":"19 units, built between 1908-28 and numbered originally SE 1/19. 2 or 3 axle per bogie versions available"},{"$f":"+'Roster LIMA'!AC15821","v":"N/A"},{"$f":"+'Roster LIMA'!AD15821","v":"N/A"},{"$f":"+'Roster LIMA'!AE15821","v":"N/A"},{"$f":"+'Roster LIMA'!AF15821","v":"N/A"},{"$f":"+'Roster LIMA'!AG15821","v":"N/A"},{"$f":"+'Roster LIMA'!AH15821","v":"Brown"},{"$f":"+'Roster LIMA'!AI15821","v":"Grey"},{"$f":"+'Roster LIMA'!AJ15821","v":"Black"},{"$f":"+'Roster LIMA'!AK15821","v":"Cream"},{"$f":"+'Roster LIMA'!AL15821","v":"Red"},{"$f":"+'Roster LIMA'!AM15821","v":"Blue"},{"$f":"+'Roster LIMA'!AN15821","v":"N/A"},{"$f":"+'Roster LIMA'!AO15821","v":"N/A"},{"$f":"+'Roster LIMA'!AP15821","v":0},{"$f":"+'Roster LIMA'!AQ15821","v":2},{"$f":"+'Roster LIMA'!AR15821","v":6},{"$f":"+'Roster LIMA'!AS15821","v":1.1764705882352941E-2},{"$f":"+'Roster LIMA'!AT15821","v":260},{"$f":"+'Roster LIMA'!AU15821","v":"Replace"}]
[{"$f":"+'Roster LIMA'!F15822","v":"HL4011"},{"$f":"+'Roster LIMA'!G15822","v":2008},{"$f":"+'Roster LIMA'!H15822","v":"Yes"},{"$f":"+'Roster LIMA'!I15822","v":"ML"},{"$f":"+'Roster LIMA'!J15822","v":94},{"$f":"+'Roster LIMA'!K15822","v":"x"},{"$f":"+'Roster LIMA'!E15822","v":0},{"$f":"+'Roster LIMA'!B15822","v":"309171-1"},{"$f":"+'Roster LIMA'!C15822","v":0},{"$f":"+'Roster LIMA'!D15822","v":0},{"$f":"+'Roster LIMA'!L15822","v":"Australia"},{"$f":"+'Roster LIMA'!M15822","v":"NSW"},{"$f":"+'Roster LIMA'!N15820","v":"No"},{"$f":"+'Roster LIMA'!O15822","v":"Passenger"},{"$f":"+'Roster LIMA'!P15822","v":"With compartment"},{"$f":"+'Roster LIMA'!Q15822","v":"1° class"},{"$f":"+'Roster LIMA'!R15822","v":"3'3'"},{"$f":"+'Roster LIMA'!S15822","v":"N/A"},{"$f":"+'Roster LIMA'!T15822","v":"Yes"},{"$f":"+'Roster LIMA'!U15822","v":1906},{"$f":"+'Roster LIMA'!V15822","v":1990},{"$f":"+'Roster LIMA'!W15822","v":"I / II / III a / III b"},{"$f":"+'Roster LIMA'!X15822","v":"E carriage"},{"$f":"+'Roster LIMA'!Y15822","v":"AE"},{"$f":"+'Roster LIMA'!Z15822","v":"N/A"},{"$f":"+'Roster LIMA'!AA15822","v":"N/A"},{"$f":"+'Roster LIMA'!AB15822","v":"42 units, built between 1906-10 and numbered originally AE 1/42. 2 or 3 axle per bogie versions available"},{"$f":"+'Roster LIMA'!AC15822","v":"N/A"},{"$f":"+'Roster LIMA'!AD15822","v":"N/A"},{"$f":"+'Roster LIMA'!AE15822","v":"N/A"},{"$f":"+'Roster LIMA'!AF15822","v":"N/A"},{"$f":"+'Roster LIMA'!AG15822","v":"N/A"},{"$f":"+'Roster LIMA'!AH15822","v":"Brown"},{"$f":"+'Roster LIMA'!AI15822","v":"Grey"},{"$f":"+'Roster LIMA'!AJ15822","v":"Black"},{"$f":"+'Roster LIMA'!AK15822","v":"Cream"},{"$f":"+'Roster LIMA'!AL15822","v":"Red"},{"$f":"+'Roster LIMA'!AM15822","v":"Blue"},{"$f":"+'Roster LIMA'!AN15822","v":"N/A"},{"$f":"+'Roster LIMA'!AO15822","v":"N/A"},{"$f":"+'Roster LIMA'!AP15822","v":0},{"$f":"+'Roster LIMA'!AQ15822","v":2},{"$f":"+'Roster LIMA'!AR15822","v":6},{"$f":"+'Roster LIMA'!AS15822","v":1.1764705882352941E-2},{"$f":"+'Roster LIMA'!AT15822","v":260},{"$f":"+'Roster LIMA'!AU15822","v":"Replace"}]
[{"$f":"+'Roster LIMA'!F15823","v":"HL4012"},{"$f":"+'Roster LIMA'!G15823","v":2008},{"$f":"+'Roster LIMA'!H15823","v":"Yes"},{"$f":"+'Roster LIMA'!I15823","v":"ML"},{"$f":"+'Roster LIMA'!J15823","v":94},{"$f":"+'Roster LIMA'!K15823","v":"x"},{"$f":"+'Roster LIMA'!E15823","v":0},{"$f":"+'Roster LIMA'!B15823","v":"N/A"},{"$f":"+'Roster LIMA'!C15823","v":""},{"$f":"+'Roster LIMA'!D15823","v":0},{"$f":"+'Roster LIMA'!L15823","v":"Australia"},{"$f":"+'Roster LIMA'!M15823","v":"NSW"},{"$f":"+'Roster LIMA'!N15821","v":"No"},{"$f":"+'Roster LIMA'!O15823","v":"Passenger"},{"$f":"+'Roster LIMA'!P15823","v":"With compartment"},{"$f":"+'Roster LIMA'!Q15823","v":"Sleeper"},{"$f":"+'Roster LIMA'!R15823","v":"3'3'"},{"$f":"+'Roster LIMA'!S15823","v":"N/A"},{"$f":"+'Roster LIMA'!T15823","v":"Yes"},{"$f":"+'Roster LIMA'!U15823","v":1908},{"$f":"+'Roster LIMA'!V15823","v":1984},{"$f":"+'Roster LIMA'!W15823","v":"I / II / III a / III b"},{"$f":"+'Roster LIMA'!X15823","v":"E carriage"},{"$f":"+'Roster LIMA'!Y15823","v":"SE"},{"$f":"+'Roster LIMA'!Z15823","v":"N/A"},{"$f":"+'Roster LIMA'!AA15823","v":"N/A"},{"$f":"+'Roster LIMA'!AB15823","v":"19 units, built between 1908-28 and numbered originally SE 1/19. 2 or 3 axle per bogie versions available"},{"$f":"+'Roster LIMA'!AC15823","v":"N/A"},{"$f":"+'Roster LIMA'!AD15823","v":"N/A"},{"$f":"+'Roster LIMA'!AE15823","v":"N/A"},{"$f":"+'Roster LIMA'!AF15823","v":"N/A"},{"$f":"+'Roster LIMA'!AG15823","v":"N/A"},{"$f":"+'Roster LIMA'!AH15823","v":"Brown"},{"$f":"+'Roster LIMA'!AI15823","v":"Grey"},{"$f":"+'Roster LIMA'!AJ15823","v":"Black"},{"$f":"+'Roster LIMA'!AK15823","v":"Cream"},{"$f":"+'Roster LIMA'!AL15823","v":"Red"},{"$f":"+'Roster LIMA'!AM15823","v":"Blue"},{"$f":"+'Roster LIMA'!AN15823","v":"N/A"},{"$f":"+'Roster LIMA'!AO15823","v":"N/A"},{"$f":"+'Roster LIMA'!AP15823","v":0},{"$f":"+'Roster LIMA'!AQ15823","v":2},{"$f":"+'Roster LIMA'!AR15823","v":6},{"$f":"+'Roster LIMA'!AS15823","v":1.1764705882352941E-2},{"$f":"+'Roster LIMA'!AT15823","v":260},{"$f":"+'Roster LIMA'!AU15823","v":"Yes"}]
[{"$f":"+'Roster LIMA'!F15824","v":"HL4022"},{"$f":"+'Roster LIMA'!G15824","v":2008},{"$f":"+'Roster LIMA'!H15824","v":"Yes"},{"$f":"+'Roster LIMA'!I15824","v":"ML"},{"$f":"+'Roster LIMA'!J15824","v":94},{"$f":"+'Roster LIMA'!K15824","v":"x"},{"$f":"+'Roster LIMA'!E15824","v":0},{"$f":"+'Roster LIMA'!B15824","v":"N/A"},{"$f":"+'Roster LIMA'!C15824","v":0},{"$f":"+'Roster LIMA'!D15824","v":0},{"$f":"+'Roster LIMA'!L15824","v":"Australia"},{"$f":"+'Roster LIMA'!M15824","v":"NSW"},{"$f":"+'Roster LIMA'!N15822","v":"No"},{"$f":"+'Roster LIMA'!O15824","v":"Passenger"},{"$f":"+'Roster LIMA'!P15824","v":"With central corridor"},{"$f":"+'Roster LIMA'!Q15824","v":"2° class"},{"$f":"+'Roster LIMA'!R15824","v":"2'2'"},{"$f":"+'Roster LIMA'!S15824","v":"N/A"},{"$f":"+'Roster LIMA'!T15824","v":"Yes"},{"$f":"+'Roster LIMA'!U15824","v":1961},{"$f":"+'Roster LIMA'!V15824","v":1993},{"$f":"+'Roster LIMA'!W15824","v":"III b / IV a / IV b / V a"},{"$f":"+'Roster LIMA'!X15824","v":"Budd"},{"$f":"+'Roster LIMA'!Y15824","v":"SSC"},{"$f":"+'Roster LIMA'!Z15824","v":"Stainless Steel Carriage"},{"$f":"+'Roster LIMA'!AA15824","v":"N/A"},{"$f":"+'Roster LIMA'!AB15824","v":"234 units, built between 1957-67 based on an American Budd coach design"},{"$f":"+'Roster LIMA'!AC15824","v":"N/A"},{"$f":"+'Roster LIMA'!AD15824","v":"Indian Pacific Express"},{"$f":"+'Roster LIMA'!AE15824","v":"N/A"},{"$f":"+'Roster LIMA'!AF15824","v":"N/A"},{"$f":"+'Roster LIMA'!AG15824","v":"N/A"},{"$f":"+'Roster LIMA'!AH15824","v":"Grey"},{"$f":"+'Roster LIMA'!AI15824","v":"Grey"},{"$f":"+'Roster LIMA'!AJ15824","v":"Grey"},{"$f":"+'Roster LIMA'!AK15824","v":"N/A"},{"$f":"+'Roster LIMA'!AL15824","v":"Grey"},{"$f":"+'Roster LIMA'!AM15824","v":"Blue"},{"$f":"+'Roster LIMA'!AN15824","v":"N/A"},{"$f":"+'Roster LIMA'!AO15824","v":"N/A"},{"$f":"+'Roster LIMA'!AP15824","v":0},{"$f":"+'Roster LIMA'!AQ15824","v":2},{"$f":"+'Roster LIMA'!AR15824","v":4},{"$f":"+'Roster LIMA'!AS15824","v":0.01},{"$f":"+'Roster LIMA'!AT15824","v":260},{"$f":"+'Roster LIMA'!AU15824","v":"Yes"}]
[{"$f":"+'Roster LIMA'!F15825","v":"HL4023"},{"$f":"+'Roster LIMA'!G15825","v":2008},{"$f":"+'Roster LIMA'!H15825","v":"Yes"},{"$f":"+'Roster LIMA'!I15825","v":"ML"},{"$f":"+'Roster LIMA'!J15825","v":95},{"$f":"+'Roster LIMA'!K15825","v":"x"},{"$f":"+'Roster LIMA'!E15825","v":0},{"$f":"+'Roster LIMA'!B15825","v":"N/A"},{"$f":"+'Roster LIMA'!C15825","v":0},{"$f":"+'Roster LIMA'!D15825","v":0},{"$f":"+'Roster LIMA'!L15825","v":"Australia"},{"$f":"+'Roster LIMA'!M15825","v":"NSW"},{"$f":"+'Roster LIMA'!N15823","v":"No"},{"$f":"+'Roster LIMA'!O15825","v":"Passenger"},{"$f":"+'Roster LIMA'!P15825","v":"With central corridor"},{"$f":"+'Roster LIMA'!Q15825","v":"Restaurant"},{"$f":"+'Roster LIMA'!R15825","v":"2'2'"},{"$f":"+'Roster LIMA'!S15825","v":"N/A"},{"$f":"+'Roster LIMA'!T15825","v":"Yes"},{"$f":"+'Roster LIMA'!U15825","v":1961},{"$f":"+'Roster LIMA'!V15825","v":1993},{"$f":"+'Roster LIMA'!W15825","v":"III b / IV a / IV b / V a"},{"$f":"+'Roster LIMA'!X15825","v":"Budd"},{"$f":"+'Roster LIMA'!Y15825","v":"SSC"},{"$f":"+'Roster LIMA'!Z15825","v":"Stainless Steel Carriage"},{"$f":"+'Roster LIMA'!AA15825","v":"N/A"},{"$f":"+'Roster LIMA'!AB15825","v":"234 units, built between 1957-67 based on an American Budd coach design"},{"$f":"+'Roster LIMA'!AC15825","v":"N/A"},{"$f":"+'Roster LIMA'!AD15825","v":"Indian Pacific Express"},{"$f":"+'Roster LIMA'!AE15825","v":"N/A"},{"$f":"+'Roster LIMA'!AF15825","v":"N/A"},{"$f":"+'Roster LIMA'!AG15825","v":"N/A"},{"$f":"+'Roster LIMA'!AH15825","v":"Grey"},{"$f":"+'Roster LIMA'!AI15825","v":"Grey"},{"$f":"+'Roster LIMA'!AJ15825","v":"Grey"},{"$f":"+'Roster LIMA'!AK15825","v":"N/A"},{"$f":"+'Roster LIMA'!AL15825","v":"Grey"},{"$f":"+'Roster LIMA'!AM15825","v":"Blue"},{"$f":"+'Roster LIMA'!AN15825","v":"N/A"},{"$f":"+'Roster LIMA'!AO15825","v":"N/A"},{"$f":"+'Roster LIMA'!AP15825","v":0},{"$f":"+'Roster LIMA'!AQ15825","v":2},{"$f":"+'Roster LIMA'!AR15825","v":4},{"$f":"+'Roster LIMA'!AS15825","v":0.01},{"$f":"+'Roster LIMA'!AT15825","v":260},{"$f":"+'Roster LIMA'!AU15825","v":"Yes"}]
[{"$f":"+'Roster LIMA'!F15826","v":"HL4024"},{"$f":"+'Roster LIMA'!G15826","v":2008},{"$f":"+'Roster LIMA'!H15826","v":"Yes"},{"$f":"+'Roster LIMA'!I15826","v":"ML"},{"$f":"+'Roster LIMA'!J15826","v":95},{"$f":"+'Roster LIMA'!K15826","v":"x"},{"$f":"+'Roster LIMA'!E15826","v":0},{"$f":"+'Roster LIMA'!B15826","v":"N/A"},{"$f":"+'Roster LIMA'!C15826","v":0},{"$f":"+'Roster LIMA'!D15826","v":0},{"$f":"+'Roster LIMA'!L15826","v":"Australia"},{"$f":"+'Roster LIMA'!M15826","v":"NSW"},{"$f":"+'Roster LIMA'!N15824","v":"No"},{"$f":"+'Roster LIMA'!O15826","v":"Passenger"},{"$f":"+'Roster LIMA'!P15826","v":"Power unit"},{"$f":"+'Roster LIMA'!Q15826","v":"Baggage"},{"$f":"+'Roster LIMA'!R15826","v":"2'2'"},{"$f":"+'Roster LIMA'!S15826","v":"N/A"},{"$f":"+'Roster LIMA'!T15826","v":"Yes"},{"$f":"+'Roster LIMA'!U15826","v":1961},{"$f":"+'Roster LIMA'!V15826","v":1993},{"$f":"+'Roster LIMA'!W15826","v":"III b / IV a / IV b / V a"},{"$f":"+'Roster LIMA'!X15826","v":"Budd"},{"$f":"+'Roster LIMA'!Y15826","v":"SSC"},{"$f":"+'Roster LIMA'!Z15826","v":"Stainless Steel Carriage"},{"$f":"+'Roster LIMA'!AA15826","v":"N/A"},{"$f":"+'Roster LIMA'!AB15826","v":"234 units, built between 1957-67 based on an American Budd coach design"},{"$f":"+'Roster LIMA'!AC15826","v":"N/A"},{"$f":"+'Roster LIMA'!AD15826","v":"Indian Pacific Express"},{"$f":"+'Roster LIMA'!AE15826","v":"N/A"},{"$f":"+'Roster LIMA'!AF15826","v":"N/A"},{"$f":"+'Roster LIMA'!AG15826","v":"N/A"},{"$f":"+'Roster LIMA'!AH15826","v":"Grey"},{"$f":"+'Roster LIMA'!AI15826","v":"Grey"},{"$f":"+'Roster LIMA'!AJ15826","v":"Grey"},{"$f":"+'Roster LIMA'!AK15826","v":"Orange"},{"$f":"+'Roster LIMA'!AL15826","v":"Grey"},{"$f":"+'Roster LIMA'!AM15826","v":"Blue"},{"$f":"+'Roster LIMA'!AN15826","v":"N/A"},{"$f":"+'Roster LIMA'!AO15826","v":"N/A"},{"$f":"+'Roster LIMA'!AP15826","v":0},{"$f":"+'Roster LIMA'!AQ15826","v":2},{"$f":"+'Roster LIMA'!AR15826","v":4},{"$f":"+'Roster LIMA'!AS15826","v":0.01},{"$f":"+'Roster LIMA'!AT15826","v":260},{"$f":"+'Roster LIMA'!AU15826","v":"Yes"}]
[{"$f":"+'Roster LIMA'!F15827","v":"HL4025"},{"$f":"+'Roster LIMA'!G15827","v":2008},{"$f":"+'Roster LIMA'!H15827","v":"Yes"},{"$f":"+'Roster LIMA'!I15827","v":"ML"},{"$f":"+'Roster LIMA'!J15827","v":95},{"$f":"+'Roster LIMA'!K15827","v":"x"},{"$f":"+'Roster LIMA'!E15827","v":0},{"$f":"+'Roster LIMA'!B15827","v":"N/A"},{"$f":"+'Roster LIMA'!C15827","v":0},{"$f":"+'Roster LIMA'!D15827","v":0},{"$f":"+'Roster LIMA'!L15827","v":"Australia"},{"$f":"+'Roster LIMA'!M15827","v":"NSW"},{"$f":"+'Roster LIMA'!N15825","v":"No"},{"$f":"+'Roster LIMA'!O15827","v":"Passenger"},{"$f":"+'Roster LIMA'!P15827","v":"With compartment"},{"$f":"+'Roster LIMA'!Q15827","v":"Sleeper"},{"$f":"+'Roster LIMA'!R15827","v":"2'2'"},{"$f":"+'Roster LIMA'!S15827","v":"N/A"},{"$f":"+'Roster LIMA'!T15827","v":"Yes"},{"$f":"+'Roster LIMA'!U15827","v":1961},{"$f":"+'Roster LIMA'!V15827","v":1993},{"$f":"+'Roster LIMA'!W15827","v":"III b / IV a / IV b / V a"},{"$f":"+'Roster LIMA'!X15827","v":"Budd"},{"$f":"+'Roster LIMA'!Y15827","v":"SSC"},{"$f":"+'Roster LIMA'!Z15827","v":"Stainless Steel Carriage"},{"$f":"+'Roster LIMA'!AA15827","v":"N/A"},{"$f":"+'Roster LIMA'!AB15827","v":"234 units, built between 1957-67 based on an American Budd coach design"},{"$f":"+'Roster LIMA'!AC15827","v":"N/A"},{"$f":"+'Roster LIMA'!AD15827","v":"The Overland"},{"$f":"+'Roster LIMA'!AE15827","v":"N/A"},{"$f":"+'Roster LIMA'!AF15827","v":"N/A"},{"$f":"+'Roster LIMA'!AG15827","v":"N/A"},{"$f":"+'Roster LIMA'!AH15827","v":"Red"},{"$f":"+'Roster LIMA'!AI15827","v":"Red"},{"$f":"+'Roster LIMA'!AJ15827","v":"Red"},{"$f":"+'Roster LIMA'!AK15827","v":"White"},{"$f":"+'Roster LIMA'!AL15827","v":"Red"},{"$f":"+'Roster LIMA'!AM15827","v":"Blue"},{"$f":"+'Roster LIMA'!AN15827","v":"N/A"},{"$f":"+'Roster LIMA'!AO15827","v":"N/A"},{"$f":"+'Roster LIMA'!AP15827","v":0},{"$f":"+'Roster LIMA'!AQ15827","v":2},{"$f":"+'Roster LIMA'!AR15827","v":4},{"$f":"+'Roster LIMA'!AS15827","v":0.01},{"$f":"+'Roster LIMA'!AT15827","v":260},{"$f":"+'Roster LIMA'!AU15827","v":"Yes"}]
[{"$f":"+'Roster LIMA'!F15828","v":"HL6022"},{"$f":"+'Roster LIMA'!G15828","v":2008},{"$f":"+'Roster LIMA'!H15828","v":"Yes"},{"$f":"+'Roster LIMA'!I15828","v":"ML"},{"$f":"+'Roster LIMA'!J15828","v":95},{"$f":"+'Roster LIMA'!K15828","v":"x"},{"$f":"+'Roster LIMA'!E15828","v":0},{"$f":"+'Roster LIMA'!B15828","v":303522},{"$f":"+'Roster LIMA'!C15828","v":0},{"$f":"+'Roster LIMA'!D15828","v":0},{"$f":"+'Roster LIMA'!L15828","v":"Australia"},{"$f":"+'Roster LIMA'!M15828","v":"NSW"},{"$f":"+'Roster LIMA'!N15826","v":"No"},{"$f":"+'Roster LIMA'!O15828","v":"Freight"},{"$f":"+'Roster LIMA'!P15828","v":"Open"},{"$f":"+'Roster LIMA'!Q15828","v":"With tarpaulin"},{"$f":"+'Roster LIMA'!R15828","v":2},{"$f":"+'Roster LIMA'!S15828","v":"N/A"},{"$f":"+'Roster LIMA'!T15828","v":"No"},{"$f":"+'Roster LIMA'!U15828","v":1910},{"$f":"+'Roster LIMA'!V15828","v":1965},{"$f":"+'Roster LIMA'!W15828","v":"I / II / III a / III b"},{"$f":"+'Roster LIMA'!X15828","v":"E-type"},{"$f":"+'Roster LIMA'!Y15828","v":"7 Plank Open"},{"$f":"+'Roster LIMA'!Z15828","v":"12 Ton"},{"$f":"+'Roster LIMA'!AA15828","v":"N/A"},{"$f":"+'Roster LIMA'!AB15828","v":"Built between 1904-25 for GWR and operational until the late 1960's"},{"$f":"+'Roster LIMA'!AC15828","v":"N/A"},{"$f":"+'Roster LIMA'!AD15828","v":"N/A"},{"$f":"+'Roster LIMA'!AE15828","v":"N/A"},{"$f":"+'Roster LIMA'!AF15828","v":"N/A"},{"$f":"+'Roster LIMA'!AG15828","v":"N/A"},{"$f":"+'Roster LIMA'!AH15828","v":"Yellow"},{"$f":"+'Roster LIMA'!AI15828","v":"Grey"},{"$f":"+'Roster LIMA'!AJ15828","v":"Brown"},{"$f":"+'Roster LIMA'!AK15828","v":"N/A"},{"$f":"+'Roster LIMA'!AL15828","v":"N/A"},{"$f":"+'Roster LIMA'!AM15828","v":"Blue"},{"$f":"+'Roster LIMA'!AN15828","v":"N/A"},{"$f":"+'Roster LIMA'!AO15828","v":"N/A"},{"$f":"+'Roster LIMA'!AP15828","v":0},{"$f":"+'Roster LIMA'!AQ15828","v":0},{"$f":"+'Roster LIMA'!AR15828","v":2},{"$f":"+'Roster LIMA'!AS15828","v":1.1494252873563218E-2},{"$f":"+'Roster LIMA'!AT15828","v":72},{"$f":"+'Roster LIMA'!AU15828","v":"Replace"}]
[{"$f":"+'Roster LIMA'!F15829","v":"HL6023"},{"$f":"+'Roster LIMA'!G15829","v":2008},{"$f":"+'Roster LIMA'!H15829","v":"Yes"},{"$f":"+'Roster LIMA'!I15829","v":"ML"},{"$f":"+'Roster LIMA'!J15829","v":95},{"$f":"+'Roster LIMA'!K15829","v":"x"},{"$f":"+'Roster LIMA'!E15829","v":0},{"$f":"+'Roster LIMA'!B15829","v":"N/A"},{"$f":"+'Roster LIMA'!C15829","v":0},{"$f":"+'Roster LIMA'!D15829","v":0},{"$f":"+'Roster LIMA'!L15829","v":"Australia"},{"$f":"+'Roster LIMA'!M15829","v":"VR"},{"$f":"+'Roster LIMA'!N15827","v":"No"},{"$f":"+'Roster LIMA'!O15829","v":"Freight"},{"$f":"+'Roster LIMA'!P15829","v":"Open"},{"$f":"+'Roster LIMA'!Q15829","v":"Empty"},{"$f":"+'Roster LIMA'!R15829","v":"2'2'"},{"$f":"+'Roster LIMA'!S15829","v":"N/A"},{"$f":"+'Roster LIMA'!T15829","v":"Yes"},{"$f":"+'Roster LIMA'!U15829","v":1964},{"$f":"+'Roster LIMA'!V15829","v":2005},{"$f":"+'Roster LIMA'!W15829","v":"III b / IV a / IV b / V a"},{"$f":"+'Roster LIMA'!X15829","v":"E-type"},{"$f":"+'Roster LIMA'!Y15829","v":"ELX"},{"$f":"+'Roster LIMA'!Z15829","v":"Góndola"},{"$f":"+'Roster LIMA'!AA15829","v":529},{"$f":"+'Roster LIMA'!AB15829","v":"624 units, built between 1961-1980 and numbered 1/454 & 1001/104"},{"$f":"+'Roster LIMA'!AC15829","v":"VR"},{"$f":"+'Roster LIMA'!AD15829","v":"N/A"},{"$f":"+'Roster LIMA'!AE15829","v":"N/A"},{"$f":"+'Roster LIMA'!AF15829","v":"N/A"},{"$f":"+'Roster LIMA'!AG15829","v":"N/A"},{"$f":"+'Roster LIMA'!AH15829","v":"Green"},{"$f":"+'Roster LIMA'!AI15829","v":"N/A"},{"$f":"+'Roster LIMA'!AJ15829","v":"Green"},{"$f":"+'Roster LIMA'!AK15829","v":"Yellow"},{"$f":"+'Roster LIMA'!AL15829","v":"N/A"},{"$f":"+'Roster LIMA'!AM15829","v":"Blue"},{"$f":"+'Roster LIMA'!AN15829","v":"N/A"},{"$f":"+'Roster LIMA'!AO15829","v":"N/A"},{"$f":"+'Roster LIMA'!AP15829","v":0},{"$f":"+'Roster LIMA'!AQ15829","v":2},{"$f":"+'Roster LIMA'!AR15829","v":4},{"$f":"+'Roster LIMA'!AS15829","v":1.1494252873563218E-2},{"$f":"+'Roster LIMA'!AT15829","v":163},{"$f":"+'Roster LIMA'!AU15829","v":"Yes"}]
[{"$f":"+'Roster LIMA'!F15830","v":"HL2026"},{"$f":"+'Roster LIMA'!G15830","v":2008},{"$f":"+'Roster LIMA'!H15830","v":"Yes"},{"$f":"+'Roster LIMA'!I15830","v":"ML"},{"$f":"+'Roster LIMA'!J15830","v":96},{"$f":"+'Roster LIMA'!K15830","v":"x"},{"$f":"+'Roster LIMA'!E15830","v":0},{"$f":"+'Roster LIMA'!B15830","v":"N/A"},{"$f":"+'Roster LIMA'!C15830","v":0},{"$f":"+'Roster LIMA'!D15830","v":0},{"$f":"+'Roster LIMA'!L15830","v":"South Africa"},{"$f":"+'Roster LIMA'!M15830","v":"SAR"},{"$f":"+'Roster LIMA'!N15828","v":"No"},{"$f":"+'Roster LIMA'!O15830","v":"Passenger"},{"$f":"+'Roster LIMA'!P15830","v":"Set"},{"$f":"+'Roster LIMA'!Q15830","v":"Express service"},{"$f":"+'Roster LIMA'!R15830","v":"Bo'Bo'+2'2'+2'2'+2'2'"},{"$f":"+'Roster LIMA'!S15830","v":"Lima Collection"},{"$f":"+'Roster LIMA'!T15830","v":"Yes"},{"$f":"+'Roster LIMA'!U15830","v":1968},{"$f":"+'Roster LIMA'!V15830","v":1995},{"$f":"+'Roster LIMA'!W15830","v":"IV a / IV b / V a"},{"$f":"+'Roster LIMA'!X15830","v":"Trans Karoo"},{"$f":"+'Roster LIMA'!Y15830","v":"Trans Karoo"},{"$f":"+'Roster LIMA'!Z15830","v":"N/A"},{"$f":"+'Roster LIMA'!AA15830","v":"N/A"},{"$f":"+'Roster LIMA'!AB15830","v":"4-unit train comprised of Electric locomotive, Passenger 2° Class, dining car and Baggage car"},{"$f":"+'Roster LIMA'!AC15830","v":"N/A"},{"$f":"+'Roster LIMA'!AD15830","v":"Trans Karoo"},{"$f":"+'Roster LIMA'!AE15830","v":"N/A"},{"$f":"+'Roster LIMA'!AF15830","v":"SAR Oval"},{"$f":"+'Roster LIMA'!AG15830","v":"N/A"},{"$f":"+'Roster LIMA'!AH15830","v":"Brown"},{"$f":"+'Roster LIMA'!AI15830","v":"Grey"},{"$f":"+'Roster LIMA'!AJ15830","v":"Brown"},{"$f":"+'Roster LIMA'!AK15830","v":"Grey"},{"$f":"+'Roster LIMA'!AL15830","v":"Brown"},{"$f":"+'Roster LIMA'!AM15830","v":"Blue"},{"$f":"+'Roster LIMA'!AN15830","v":"G-Motor"},{"$f":"+'Roster LIMA'!AO15830","v":"Double arm"},{"$f":"+'Roster LIMA'!AP15830","v":2},{"$f":"+'Roster LIMA'!AQ15830","v":8},{"$f":"+'Roster LIMA'!AR15830","v":18},{"$f":"+'Roster LIMA'!AS15830","v":1.1494252873563218E-2},{"$f":"+'Roster LIMA'!AT15830","v":1010},{"$f":"+'Roster LIMA'!AU15830","v":"Replace"}]
[{"$f":"+'Roster LIMA'!F15831","v":"HL4018"},{"$f":"+'Roster LIMA'!G15831","v":2008},{"$f":"+'Roster LIMA'!H15831","v":"Yes"},{"$f":"+'Roster LIMA'!I15831","v":"ML"},{"$f":"+'Roster LIMA'!J15831","v":96},{"$f":"+'Roster LIMA'!K15831","v":"x"},{"$f":"+'Roster LIMA'!E15831","v":0},{"$f":"+'Roster LIMA'!B15831","v":"N/A"},{"$f":"+'Roster LIMA'!C15831","v":0},{"$f":"+'Roster LIMA'!D15831","v":0},{"$f":"+'Roster LIMA'!L15831","v":"South Africa"},{"$f":"+'Roster LIMA'!M15831","v":"SAR"},{"$f":"+'Roster LIMA'!N15829","v":"No"},{"$f":"+'Roster LIMA'!O15831","v":"Passenger"},{"$f":"+'Roster LIMA'!P15831","v":"With central corridor"},{"$f":"+'Roster LIMA'!Q15831","v":"2° class"},{"$f":"+'Roster LIMA'!R15831","v":"2'2'"},{"$f":"+'Roster LIMA'!S15831","v":"N/A"},{"$f":"+'Roster LIMA'!T15831","v":"Yes"},{"$f":"+'Roster LIMA'!U15831","v":1968},{"$f":"+'Roster LIMA'!V15831","v":1995},{"$f":"+'Roster LIMA'!W15831","v":"IV a / IV b / V a"},{"$f":"+'Roster LIMA'!X15831","v":"Sabie"},{"$f":"+'Roster LIMA'!Y15831","v":"N/A"},{"$f":"+'Roster LIMA'!Z15831","v":"N/A"},{"$f":"+'Roster LIMA'!AA15831","v":"N/A"},{"$f":"+'Roster LIMA'!AB15831","v":"For Trans-Karoo and Trans-Natal services"},{"$f":"+'Roster LIMA'!AC15831","v":"N/A"},{"$f":"+'Roster LIMA'!AD15831","v":"Trans Karoo"},{"$f":"+'Roster LIMA'!AE15831","v":"N/A"},{"$f":"+'Roster LIMA'!AF15831","v":"N/A"},{"$f":"+'Roster LIMA'!AG15831","v":"N/A"},{"$f":"+'Roster LIMA'!AH15831","v":"Brown"},{"$f":"+'Roster LIMA'!AI15831","v":"Grey"},{"$f":"+'Roster LIMA'!AJ15831","v":"Brown"},{"$f":"+'Roster LIMA'!AK15831","v":"Grey"},{"$f":"+'Roster LIMA'!AL15831","v":"Brown"},{"$f":"+'Roster LIMA'!AM15831","v":"Blue"},{"$f":"+'Roster LIMA'!AN15831","v":"N/A"},{"$f":"+'Roster LIMA'!AO15831","v":"N/A"},{"$f":"+'Roster LIMA'!AP15831","v":0},{"$f":"+'Roster LIMA'!AQ15831","v":2},{"$f":"+'Roster LIMA'!AR15831","v":4},{"$f":"+'Roster LIMA'!AS15831","v":1.1494252873563218E-2},{"$f":"+'Roster LIMA'!AT15831","v":265},{"$f":"+'Roster LIMA'!AU15831","v":"Yes"}]
[{"$f":"+'Roster LIMA'!F15832","v":"HL1013"},{"$f":"+'Roster LIMA'!G15832","v":2008},{"$f":"+'Roster LIMA'!H15832","v":"Yes"},{"$f":"+'Roster LIMA'!I15832","v":"ML"},{"$f":"+'Roster LIMA'!J15832","v":97},{"$f":"+'Roster LIMA'!K15832","v":"x"},{"$f":"+'Roster LIMA'!E15832","v":0},{"$f":"+'Roster LIMA'!B15832","v":106502},{"$f":"+'Roster LIMA'!C15832","v":"T"},{"$f":"+'Roster LIMA'!D15832","v":0},{"$f":"+'Roster LIMA'!L15832","v":"Italy"},{"$f":"+'Roster LIMA'!M15832","v":"FS"},{"$f":"+'Roster LIMA'!N15830","v":"No"},{"$f":"+'Roster LIMA'!O15832","v":"Passenger"},{"$f":"+'Roster LIMA'!P15832","v":"Set"},{"$f":"+'Roster LIMA'!Q15832","v":"Express service"},{"$f":"+'Roster LIMA'!R15832","v":"(1A)(A1)+2'2'+2'2'+(1A)(A1)"},{"$f":"+'Roster LIMA'!S15832","v":"Starter"},{"$f":"+'Roster LIMA'!T15832","v":"Yes"},{"$f":"+'Roster LIMA'!U15832","v":1997},{"$f":"+'Roster LIMA'!V15832","v":"Operational"},{"$f":"+'Roster LIMA'!W15832","v":"V b / VI"},{"$f":"+'Roster LIMA'!X15832","v":"ETR-480"},{"$f":"+'Roster LIMA'!Y15832","v":"ETR-480"},{"$f":"+'Roster LIMA'!Z15832","v":"N/A"},{"$f":"+'Roster LIMA'!AA15832","v":"N/A"},{"$f":"+'Roster LIMA'!AB15832","v":"4-unit set comprised of EMU Motor Bac1, Intermediate Bb1, Bb2, Driving trailer Bac2, track and electric power pack"},{"$f":"+'Roster LIMA'!AC15832","v":"N/A"},{"$f":"+'Roster LIMA'!AD15832","v":"ETR-480"},{"$f":"+'Roster LIMA'!AE15832","v":"Eurostar Italia"},{"$f":"+'Roster LIMA'!AF15832","v":"XMPR 1"},{"$f":"+'Roster LIMA'!AG15832","v":"Frecciabianca"},{"$f":"+'Roster LIMA'!AH15832","v":"White"},{"$f":"+'Roster LIMA'!AI15832","v":"White"},{"$f":"+'Roster LIMA'!AJ15832","v":"White"},{"$f":"+'Roster LIMA'!AK15832","v":"Red"},{"$f":"+'Roster LIMA'!AL15832","v":"Bicolor"},{"$f":"+'Roster LIMA'!AM15832","v":"Blue"},{"$f":"+'Roster LIMA'!AN15832","v":"Double cardan transmission"},{"$f":"+'Roster LIMA'!AO15832","v":"Single arm"},{"$f":"+'Roster LIMA'!AP15832","v":2},{"$f":"+'Roster LIMA'!AQ15832","v":8},{"$f":"+'Roster LIMA'!AR15832","v":16},{"$f":"+'Roster LIMA'!AS15832","v":1.1494252873563218E-2},{"$f":"+'Roster LIMA'!AT15832","v":1230},{"$f":"+'Roster LIMA'!AU15832","v":"Yes"}]
[{"$f":"+'Roster LIMA'!F15833","v":"HL1008"},{"$f":"+'Roster LIMA'!G15833","v":2008},{"$f":"+'Roster LIMA'!H15833","v":"Yes"},{"$f":"+'Roster LIMA'!I15833","v":"ML"},{"$f":"+'Roster LIMA'!J15833","v":97},{"$f":"+'Roster LIMA'!K15833","v":"x"},{"$f":"+'Roster LIMA'!E15833","v":0},{"$f":"+'Roster LIMA'!B15833","v":"N/A"},{"$f":"+'Roster LIMA'!C15833","v":0},{"$f":"+'Roster LIMA'!D15833","v":0},{"$f":"+'Roster LIMA'!L15833","v":"Switzerland"},{"$f":"+'Roster LIMA'!M15833","v":"SBB/CFF"},{"$f":"+'Roster LIMA'!N15831","v":"No"},{"$f":"+'Roster LIMA'!O15833","v":"Passenger"},{"$f":"+'Roster LIMA'!P15833","v":"Set"},{"$f":"+'Roster LIMA'!Q15833","v":"Express service"},{"$f":"+'Roster LIMA'!R15833","v":"(1A)(A1)+2'2'+2'2'+(1A)(A1)"},{"$f":"+'Roster LIMA'!S15833","v":"Starter"},{"$f":"+'Roster LIMA'!T15833","v":"Yes"},{"$f":"+'Roster LIMA'!U15833","v":1994},{"$f":"+'Roster LIMA'!V15833","v":"Operational"},{"$f":"+'Roster LIMA'!W15833","v":"V b"},{"$f":"+'Roster LIMA'!X15833","v":"ETR-470"},{"$f":"+'Roster LIMA'!Y15833","v":"ETR-470"},{"$f":"+'Roster LIMA'!Z15833","v":"N/A"},{"$f":"+'Roster LIMA'!AA15833","v":"N/A"},{"$f":"+'Roster LIMA'!AB15833","v":"4-unit set comprised of EMU Motor, Intermediate x 2, Driving trailer, track and electric power pack"},{"$f":"+'Roster LIMA'!AC15833","v":"N/A"},{"$f":"+'Roster LIMA'!AD15833","v":"ETR-470"},{"$f":"+'Roster LIMA'!AE15833","v":"Cisalpino"},{"$f":"+'Roster LIMA'!AF15833","v":"Cisalpino"},{"$f":"+'Roster LIMA'!AG15833","v":"Cisalpino"},{"$f":"+'Roster LIMA'!AH15833","v":"White"},{"$f":"+'Roster LIMA'!AI15833","v":"White"},{"$f":"+'Roster LIMA'!AJ15833","v":"Blue"},{"$f":"+'Roster LIMA'!AK15833","v":"Blue"},{"$f":"+'Roster LIMA'!AL15833","v":"Bicolor"},{"$f":"+'Roster LIMA'!AM15833","v":"Blue"},{"$f":"+'Roster LIMA'!AN15833","v":"G-Motor"},{"$f":"+'Roster LIMA'!AO15833","v":"Single arm"},{"$f":"+'Roster LIMA'!AP15833","v":2},{"$f":"+'Roster LIMA'!AQ15833","v":8},{"$f":"+'Roster LIMA'!AR15833","v":16},{"$f":"+'Roster LIMA'!AS15833","v":0.01},{"$f":"+'Roster LIMA'!AT15833","v":1050},{"$f":"+'Roster LIMA'!AU15833","v":"Yes"}]
[{"$f":"+'Roster LIMA'!F15834","v":"HL1007"},{"$f":"+'Roster LIMA'!G15834","v":2008},{"$f":"+'Roster LIMA'!H15834","v":"Yes"},{"$f":"+'Roster LIMA'!I15834","v":"ML"},{"$f":"+'Roster LIMA'!J15834","v":98},{"$f":"+'Roster LIMA'!K15834","v":"x"},{"$f":"+'Roster LIMA'!E15834","v":0},{"$f":"+'Roster LIMA'!B15834","v":"N/A"},{"$f":"+'Roster LIMA'!C15834","v":0},{"$f":"+'Roster LIMA'!D15834","v":0},{"$f":"+'Roster LIMA'!L15834","v":"Italy"},{"$f":"+'Roster LIMA'!M15834","v":"FS"},{"$f":"+'Roster LIMA'!N15832","v":"EMU"},{"$f":"+'Roster LIMA'!O15834","v":"Freight"},{"$f":"+'Roster LIMA'!P15834","v":"Set"},{"$f":"+'Roster LIMA'!Q15834","v":"Freight"},{"$f":"+'Roster LIMA'!R15834","v":"B'B'+2+2+2"},{"$f":"+'Roster LIMA'!S15834","v":"Starter"},{"$f":"+'Roster LIMA'!T15834","v":"No"},{"$f":"+'Roster LIMA'!U15834","v":1975},{"$f":"+'Roster LIMA'!V15834","v":2005},{"$f":"+'Roster LIMA'!W15834","v":"IV b / V a / V b"},{"$f":"+'Roster LIMA'!X15834","v":"D-445"},{"$f":"+'Roster LIMA'!Y15834","v":"Diesel merci"},{"$f":"+'Roster LIMA'!Z15834","v":"N/A"},{"$f":"+'Roster LIMA'!AA15834","v":"N/A"},{"$f":"+'Roster LIMA'!AB15834","v":"4-unit set comprised of Loco #HL 2010, Reefer #HL 6017, Tank #HL 6015, Flat #HL 6041, track and electric power pack"},{"$f":"+'Roster LIMA'!AC15834","v":"N/A"},{"$f":"+'Roster LIMA'!AD15834","v":"N/A"},{"$f":"+'Roster LIMA'!AE15834","v":"N/A"},{"$f":"+'Roster LIMA'!AF15834","v":"Televisore"},{"$f":"+'Roster LIMA'!AG15834","v":"Verde - Isabella"},{"$f":"+'Roster LIMA'!AH15834","v":"White"},{"$f":"+'Roster LIMA'!AI15834","v":"Grey"},{"$f":"+'Roster LIMA'!AJ15834","v":"Black"},{"$f":"+'Roster LIMA'!AK15834","v":"Yellow"},{"$f":"+'Roster LIMA'!AL15834","v":"White"},{"$f":"+'Roster LIMA'!AM15834","v":"Blue"},{"$f":"+'Roster LIMA'!AN15834","v":"G-Motor"},{"$f":"+'Roster LIMA'!AO15834","v":"N/A"},{"$f":"+'Roster LIMA'!AP15834","v":0},{"$f":"+'Roster LIMA'!AQ15834","v":2},{"$f":"+'Roster LIMA'!AR15834","v":10},{"$f":"+'Roster LIMA'!AS15834","v":1.1494252873563218E-2},{"$f":"+'Roster LIMA'!AT15834","v":527},{"$f":"+'Roster LIMA'!AU15834","v":"Yes"}]
[{"$f":"+'Roster LIMA'!F15835","v":"HL1018"},{"$f":"+'Roster LIMA'!G15835","v":2008},{"$f":"+'Roster LIMA'!H15835","v":"Yes"},{"$f":"+'Roster LIMA'!I15835","v":"ML"},{"$f":"+'Roster LIMA'!J15835","v":98},{"$f":"+'Roster LIMA'!K15835","v":"x"},{"$f":"+'Roster LIMA'!E15835","v":0},{"$f":"+'Roster LIMA'!B15835","v":"N/A"},{"$f":"+'Roster LIMA'!C15835","v":0},{"$f":"+'Roster LIMA'!D15835","v":0},{"$f":"+'Roster LIMA'!L15835","v":"Italy"},{"$f":"+'Roster LIMA'!M15835","v":"FS"},{"$f":"+'Roster LIMA'!N15833","v":"EMU"},{"$f":"+'Roster LIMA'!O15835","v":"Passenger"},{"$f":"+'Roster LIMA'!P15835","v":"Set"},{"$f":"+'Roster LIMA'!Q15835","v":"Regional service"},{"$f":"+'Roster LIMA'!R15835","v":"Bo'Bo'+2'2'+2'2'"},{"$f":"+'Roster LIMA'!S15835","v":"Starter"},{"$f":"+'Roster LIMA'!T15835","v":"Yes"},{"$f":"+'Roster LIMA'!U15835","v":1986},{"$f":"+'Roster LIMA'!V15835","v":2002},{"$f":"+'Roster LIMA'!W15835","v":"V b"},{"$f":"+'Roster LIMA'!X15835","v":"Doppio Piano 79"},{"$f":"+'Roster LIMA'!Y15835","v":"Diesel passeggeri"},{"$f":"+'Roster LIMA'!Z15835","v":"VB2N"},{"$f":"+'Roster LIMA'!AA15835","v":"N/A"},{"$f":"+'Roster LIMA'!AB15835","v":"3-unit set comprised of Electric locomotive #HL 2013, Passenger #HL 4006, #HL 4007, track and electric power pack"},{"$f":"+'Roster LIMA'!AC15835","v":"N/A"},{"$f":"+'Roster LIMA'!AD15835","v":"N/A"},{"$f":"+'Roster LIMA'!AE15835","v":"N/A"},{"$f":"+'Roster LIMA'!AF15835","v":"XMPR 1"},{"$f":"+'Roster LIMA'!AG15835","v":"XMPR"},{"$f":"+'Roster LIMA'!AH15835","v":"White"},{"$f":"+'Roster LIMA'!AI15835","v":"Grey"},{"$f":"+'Roster LIMA'!AJ15835","v":"Green"},{"$f":"+'Roster LIMA'!AK15835","v":"Green"},{"$f":"+'Roster LIMA'!AL15835","v":"Blue"},{"$f":"+'Roster LIMA'!AM15835","v":"Blue"},{"$f":"+'Roster LIMA'!AN15835","v":"G-Motor"},{"$f":"+'Roster LIMA'!AO15835","v":"Double arm"},{"$f":"+'Roster LIMA'!AP15835","v":2},{"$f":"+'Roster LIMA'!AQ15835","v":6},{"$f":"+'Roster LIMA'!AR15835","v":12},{"$f":"+'Roster LIMA'!AS15835","v":1.1494252873563218E-2},{"$f":"+'Roster LIMA'!AT15835","v":736},{"$f":"+'Roster LIMA'!AU15835","v":"Yes"}]
[{"$f":"+'Roster LIMA'!F15836","v":"HL2010"},{"$f":"+'Roster LIMA'!G15836","v":2008},{"$f":"+'Roster LIMA'!H15836","v":"Yes"},{"$f":"+'Roster LIMA'!I15836","v":"ML"},{"$f":"+'Roster LIMA'!J15836","v":99},{"$f":"+'Roster LIMA'!K15836","v":"x"},{"$f":"+'Roster LIMA'!E15836","v":0},{"$f":"+'Roster LIMA'!B15836","v":208151},{"$f":"+'Roster LIMA'!C15836","v":"L"},{"$f":"+'Roster LIMA'!D15836","v":0},{"$f":"+'Roster LIMA'!L15836","v":"Italy"},{"$f":"+'Roster LIMA'!M15836","v":"FS"},{"$f":"+'Roster LIMA'!N15834","v":"No"},{"$f":"+'Roster LIMA'!O15836","v":"Locomotive"},{"$f":"+'Roster LIMA'!P15836","v":"Diesel"},{"$f":"+'Roster LIMA'!Q15836","v":"Regional service"},{"$f":"+'Roster LIMA'!R15836","v":"B'B'"},{"$f":"+'Roster LIMA'!S15836","v":"N/A"},{"$f":"+'Roster LIMA'!T15836","v":"Yes"},{"$f":"+'Roster LIMA'!U15836","v":1975},{"$f":"+'Roster LIMA'!V15836","v":"Operational"},{"$f":"+'Roster LIMA'!W15836","v":"IV b / V a / V b"},{"$f":"+'Roster LIMA'!X15836","v":"D-445"},{"$f":"+'Roster LIMA'!Y15836","v":"D-445.1"},{"$f":"+'Roster LIMA'!Z15836","v":"N/A"},{"$f":"+'Roster LIMA'!AA15836","v":"D445 1017"},{"$f":"+'Roster LIMA'!AB15836","v":"35 units, built between 1974-75 and numbered 1001-35. Focus on regional Passenger services. With 3 headlights"},{"$f":"+'Roster LIMA'!AC15836","v":"N/A"},{"$f":"+'Roster LIMA'!AD15836","v":"N/A"},{"$f":"+'Roster LIMA'!AE15836","v":"N/A"},{"$f":"+'Roster LIMA'!AF15836","v":"Televisore"},{"$f":"+'Roster LIMA'!AG15836","v":"Verde - Isabella"},{"$f":"+'Roster LIMA'!AH15836","v":"Green"},{"$f":"+'Roster LIMA'!AI15836","v":"Brown"},{"$f":"+'Roster LIMA'!AJ15836","v":"Brown"},{"$f":"+'Roster LIMA'!AK15836","v":"N/A"},{"$f":"+'Roster LIMA'!AL15836","v":"Green"},{"$f":"+'Roster LIMA'!AM15836","v":"Blue"},{"$f":"+'Roster LIMA'!AN15836","v":"G-Motor"},{"$f":"+'Roster LIMA'!AO15836","v":"N/A"},{"$f":"+'Roster LIMA'!AP15836","v":0},{"$f":"+'Roster LIMA'!AQ15836","v":2},{"$f":"+'Roster LIMA'!AR15836","v":4},{"$f":"+'Roster LIMA'!AS15836","v":1.1494252873563218E-2},{"$f":"+'Roster LIMA'!AT15836","v":162},{"$f":"+'Roster LIMA'!AU15836","v":"Yes"}]
[{"$f":"+'Roster LIMA'!F15837","v":"HL2011"},{"$f":"+'Roster LIMA'!G15837","v":2008},{"$f":"+'Roster LIMA'!H15837","v":"Yes"},{"$f":"+'Roster LIMA'!I15837","v":"ML"},{"$f":"+'Roster LIMA'!J15837","v":99},{"$f":"+'Roster LIMA'!K15837","v":"x"},{"$f":"+'Roster LIMA'!E15837","v":0},{"$f":"+'Roster LIMA'!B15837","v":208034},{"$f":"+'Roster LIMA'!C15837","v":"L"},{"$f":"+'Roster LIMA'!D15837","v":0},{"$f":"+'Roster LIMA'!L15837","v":"Italy"},{"$f":"+'Roster LIMA'!M15837","v":"FS"},{"$f":"+'Roster LIMA'!N15835","v":"No"},{"$f":"+'Roster LIMA'!O15837","v":"Locomotive"},{"$f":"+'Roster LIMA'!P15837","v":"Electric"},{"$f":"+'Roster LIMA'!Q15837","v":"Express service"},{"$f":"+'Roster LIMA'!R15837","v":"Bo'Bo'"},{"$f":"+'Roster LIMA'!S15837","v":"N/A"},{"$f":"+'Roster LIMA'!T15837","v":"Yes"},{"$f":"+'Roster LIMA'!U15837","v":1967},{"$f":"+'Roster LIMA'!V15837","v":1986},{"$f":"+'Roster LIMA'!W15837","v":"IV a / IV b"},{"$f":"+'Roster LIMA'!X15837","v":"E-444"},{"$f":"+'Roster LIMA'!Y15837","v":"E-444P"},{"$f":"+'Roster LIMA'!Z15837","v":"N/A"},{"$f":"+'Roster LIMA'!AA15837","v":"E444 001"},{"$f":"+'Roster LIMA'!AB15837","v":"4 units, built in 1967 as prototype and numbered E.444.001/4. For express Passenger services. With squared front. Refurbished in the mid 1980's to Series E-444R"},{"$f":"+'Roster LIMA'!AC15837","v":"N/A"},{"$f":"+'Roster LIMA'!AD15837","v":"N/A"},{"$f":"+'Roster LIMA'!AE15837","v":"Tartaruga"},{"$f":"+'Roster LIMA'!AF15837","v":"E-444 1° series"},{"$f":"+'Roster LIMA'!AG15837","v":"Grigio perla-Blu orientale"},{"$f":"+'Roster LIMA'!AH15837","v":"White"},{"$f":"+'Roster LIMA'!AI15837","v":"White"},{"$f":"+'Roster LIMA'!AJ15837","v":"Blue"},{"$f":"+'Roster LIMA'!AK15837","v":"Blue"},{"$f":"+'Roster LIMA'!AL15837","v":"Bicolor"},{"$f":"+'Roster LIMA'!AM15837","v":"Blue"},{"$f":"+'Roster LIMA'!AN15837","v":"G-Motor"},{"$f":"+'Roster LIMA'!AO15837","v":"Double arm"},{"$f":"+'Roster LIMA'!AP15837","v":2},{"$f":"+'Roster LIMA'!AQ15837","v":2},{"$f":"+'Roster LIMA'!AR15837","v":4},{"$f":"+'Roster LIMA'!AS15837","v":1.1494252873563218E-2},{"$f":"+'Roster LIMA'!AT15837","v":194},{"$f":"+'Roster LIMA'!AU15837","v":"Yes"}]
[{"$f":"+'Roster LIMA'!F15838","v":"HL2012"},{"$f":"+'Roster LIMA'!G15838","v":2008},{"$f":"+'Roster LIMA'!H15838","v":"Yes"},{"$f":"+'Roster LIMA'!I15838","v":"ML"},{"$f":"+'Roster LIMA'!J15838","v":99},{"$f":"+'Roster LIMA'!K15838","v":"x"},{"$f":"+'Roster LIMA'!E15838","v":0},{"$f":"+'Roster LIMA'!B15838","v":200008},{"$f":"+'Roster LIMA'!C15838","v":0},{"$f":"+'Roster LIMA'!D15838","v":0},{"$f":"+'Roster LIMA'!L15838","v":"Italy"},{"$f":"+'Roster LIMA'!M15838","v":"FS"},{"$f":"+'Roster LIMA'!N15836","v":"No"},{"$f":"+'Roster LIMA'!O15838","v":"Locomotive"},{"$f":"+'Roster LIMA'!P15838","v":"Diesel"},{"$f":"+'Roster LIMA'!Q15838","v":"Shunter"},{"$f":"+'Roster LIMA'!R15838","v":"B"},{"$f":"+'Roster LIMA'!S15838","v":"N/A"},{"$f":"+'Roster LIMA'!T15838","v":"No"},{"$f":"+'Roster LIMA'!U15838","v":1950},{"$f":"+'Roster LIMA'!V15838","v":1985},{"$f":"+'Roster LIMA'!W15838","v":"III b / IV a / IV b / V a"},{"$f":"+'Roster LIMA'!X15838","v":"Plymouth"},{"$f":"+'Roster LIMA'!Y15838","v":"MDT"},{"$f":"+'Roster LIMA'!Z15838","v":"N/A"},{"$f":"+'Roster LIMA'!AA15838","v":"N/A"},{"$f":"+'Roster LIMA'!AB15838","v":"Built in the early 1950's. Focus on light industrial use. FS never owned MDT locomotives, LIMA invention"},{"$f":"+'Roster LIMA'!AC15838","v":"N/A"},{"$f":"+'Roster LIMA'!AD15838","v":"N/A"},{"$f":"+'Roster LIMA'!AE15838","v":"N/A"},{"$f":"+'Roster LIMA'!AF15838","v":"N/A"},{"$f":"+'Roster LIMA'!AG15838","v":"N/A"},{"$f":"+'Roster LIMA'!AH15838","v":"Red"},{"$f":"+'Roster LIMA'!AI15838","v":"Red"},{"$f":"+'Roster LIMA'!AJ15838","v":"Black"},{"$f":"+'Roster LIMA'!AK15838","v":"Yellow"},{"$f":"+'Roster LIMA'!AL15838","v":"Red"},{"$f":"+'Roster LIMA'!AM15838","v":"Blue"},{"$f":"+'Roster LIMA'!AN15838","v":"G-Motor"},{"$f":"+'Roster LIMA'!AO15838","v":"N/A"},{"$f":"+'Roster LIMA'!AP15838","v":0},{"$f":"+'Roster LIMA'!AQ15838","v":0},{"$f":"+'Roster LIMA'!AR15838","v":2},{"$f":"+'Roster LIMA'!AS15838","v":1.1494252873563218E-2},{"$f":"+'Roster LIMA'!AT15838","v":119},{"$f":"+'Roster LIMA'!AU15838","v":"Yes"}]
[{"$f":"+'Roster LIMA'!F15839","v":"HL2013"},{"$f":"+'Roster LIMA'!G15839","v":2008},{"$f":"+'Roster LIMA'!H15839","v":"Yes"},{"$f":"+'Roster LIMA'!I15839","v":"ML"},{"$f":"+'Roster LIMA'!J15839","v":99},{"$f":"+'Roster LIMA'!K15839","v":"x"},{"$f":"+'Roster LIMA'!E15839","v":0},{"$f":"+'Roster LIMA'!B15839","v":208004},{"$f":"+'Roster LIMA'!C15839","v":"L"},{"$f":"+'Roster LIMA'!D15839","v":0},{"$f":"+'Roster LIMA'!L15839","v":"Italy"},{"$f":"+'Roster LIMA'!M15839","v":"FS"},{"$f":"+'Roster LIMA'!N15837","v":"No"},{"$f":"+'Roster LIMA'!O15839","v":"Locomotive"},{"$f":"+'Roster LIMA'!P15839","v":"Electric"},{"$f":"+'Roster LIMA'!Q15839","v":"Multipurpose"},{"$f":"+'Roster LIMA'!R15839","v":"Bo'Bo'"},{"$f":"+'Roster LIMA'!S15839","v":"N/A"},{"$f":"+'Roster LIMA'!T15839","v":"Yes"},{"$f":"+'Roster LIMA'!U15839","v":1986},{"$f":"+'Roster LIMA'!V15839","v":2007},{"$f":"+'Roster LIMA'!W15839","v":"V b / VI"},{"$f":"+'Roster LIMA'!X15839","v":"E-424"},{"$f":"+'Roster LIMA'!Y15839","v":"E-424-200"},{"$f":"+'Roster LIMA'!Z15839","v":"N/A"},{"$f":"+'Roster LIMA'!AA15839","v":"E424 216"},{"$f":"+'Roster LIMA'!AB15839","v":"105 units, refurbished in 1987 from former E-424 locomotives and renumbered E.424.200/104. Focus on \"Push-Pull\" Passenger services"},{"$f":"+'Roster LIMA'!AC15839","v":"N/A"},{"$f":"+'Roster LIMA'!AD15839","v":"N/A"},{"$f":"+'Roster LIMA'!AE15839","v":"N/A"},{"$f":"+'Roster LIMA'!AF15839","v":"XMPR 1"},{"$f":"+'Roster LIMA'!AG15839","v":"XMPR"},{"$f":"+'Roster LIMA'!AH15839","v":"White"},{"$f":"+'Roster LIMA'!AI15839","v":"Green"},{"$f":"+'Roster LIMA'!AJ15839","v":"Blue"},{"$f":"+'Roster LIMA'!AK15839","v":"Green"},{"$f":"+'Roster LIMA'!AL15839","v":"White"},{"$f":"+'Roster LIMA'!AM15839","v":"Blue"},{"$f":"+'Roster LIMA'!AN15839","v":"G-Motor"},{"$f":"+'Roster LIMA'!AO15839","v":"Double arm"},{"$f":"+'Roster LIMA'!AP15839","v":2},{"$f":"+'Roster LIMA'!AQ15839","v":2},{"$f":"+'Roster LIMA'!AR15839","v":4},{"$f":"+'Roster LIMA'!AS15839","v":1.1494252873563218E-2},{"$f":"+'Roster LIMA'!AT15839","v":178},{"$f":"+'Roster LIMA'!AU15839","v":"Yes"}]
[{"$f":"+'Roster LIMA'!F15840","v":"HL4008"},{"$f":"+'Roster LIMA'!G15840","v":2008},{"$f":"+'Roster LIMA'!H15840","v":"Yes"},{"$f":"+'Roster LIMA'!I15840","v":"ML"},{"$f":"+'Roster LIMA'!J15840","v":99},{"$f":"+'Roster LIMA'!K15840","v":"x"},{"$f":"+'Roster LIMA'!E15840","v":0},{"$f":"+'Roster LIMA'!B15840","v":309655},{"$f":"+'Roster LIMA'!C15840","v":0},{"$f":"+'Roster LIMA'!D15840","v":0},{"$f":"+'Roster LIMA'!L15840","v":"Italy"},{"$f":"+'Roster LIMA'!M15840","v":"FS"},{"$f":"+'Roster LIMA'!N15838","v":"No"},{"$f":"+'Roster LIMA'!O15840","v":"Passenger"},{"$f":"+'Roster LIMA'!P15840","v":"With compartment"},{"$f":"+'Roster LIMA'!Q15840","v":"1° class"},{"$f":"+'Roster LIMA'!R15840","v":"2'2'"},{"$f":"+'Roster LIMA'!S15840","v":"N/A"},{"$f":"+'Roster LIMA'!T15840","v":"Yes"},{"$f":"+'Roster LIMA'!U15840","v":1978},{"$f":"+'Roster LIMA'!V15840","v":2004},{"$f":"+'Roster LIMA'!W15840","v":"V b"},{"$f":"+'Roster LIMA'!X15840","v":"UIC-Z1"},{"$f":"+'Roster LIMA'!Y15840","v":"A"},{"$f":"+'Roster LIMA'!Z15840","v":"Eurofima VSE"},{"$f":"+'Roster LIMA'!AA15840","v":"61 83 19-90 002-2"},{"$f":"+'Roster LIMA'!AB15840","v":"30 units, bought between 1977-79 and numbered 19-90 000/029"},{"$f":"+'Roster LIMA'!AC15840","v":"N/A"},{"$f":"+'Roster LIMA'!AD15840","v":"N/A"},{"$f":"+'Roster LIMA'!AE15840","v":"N/A"},{"$f":"+'Roster LIMA'!AF15840","v":"XMPR 1"},{"$f":"+'Roster LIMA'!AG15840","v":"XMPR"},{"$f":"+'Roster LIMA'!AH15840","v":"White"},{"$f":"+'Roster LIMA'!AI15840","v":"Grey"},{"$f":"+'Roster LIMA'!AJ15840","v":"Green"},{"$f":"+'Roster LIMA'!AK15840","v":"Green"},{"$f":"+'Roster LIMA'!AL15840","v":"Bicolor"},{"$f":"+'Roster LIMA'!AM15840","v":"Blue"},{"$f":"+'Roster LIMA'!AN15840","v":"N/A"},{"$f":"+'Roster LIMA'!AO15840","v":"N/A"},{"$f":"+'Roster LIMA'!AP15840","v":0},{"$f":"+'Roster LIMA'!AQ15840","v":2},{"$f":"+'Roster LIMA'!AR15840","v":4},{"$f":"+'Roster LIMA'!AS15840","v":"1/100"},{"$f":"+'Roster LIMA'!AT15840","v":265},{"$f":"+'Roster LIMA'!AU15840","v":"Yes"}]
[{"$f":"+'Roster LIMA'!F15841","v":"HL4009"},{"$f":"+'Roster LIMA'!G15841","v":2008},{"$f":"+'Roster LIMA'!H15841","v":"Yes"},{"$f":"+'Roster LIMA'!I15841","v":"ML"},{"$f":"+'Roster LIMA'!J15841","v":99},{"$f":"+'Roster LIMA'!K15841","v":"x"},{"$f":"+'Roster LIMA'!E15841","v":0},{"$f":"+'Roster LIMA'!B15841","v":309656},{"$f":"+'Roster LIMA'!C15841","v":0},{"$f":"+'Roster LIMA'!D15841","v":0},{"$f":"+'Roster LIMA'!L15841","v":"Italy"},{"$f":"+'Roster LIMA'!M15841","v":"FS"},{"$f":"+'Roster LIMA'!N15839","v":"No"},{"$f":"+'Roster LIMA'!O15841","v":"Passenger"},{"$f":"+'Roster LIMA'!P15841","v":"With compartment"},{"$f":"+'Roster LIMA'!Q15841","v":"2° class"},{"$f":"+'Roster LIMA'!R15841","v":"2'2'"},{"$f":"+'Roster LIMA'!S15841","v":"N/A"},{"$f":"+'Roster LIMA'!T15841","v":"Yes"},{"$f":"+'Roster LIMA'!U15841","v":1979},{"$f":"+'Roster LIMA'!V15841","v":"Operational"},{"$f":"+'Roster LIMA'!W15841","v":"V b / VI"},{"$f":"+'Roster LIMA'!X15841","v":"UIC-Z1"},{"$f":"+'Roster LIMA'!Y15841","v":"B"},{"$f":"+'Roster LIMA'!Z15841","v":"Eurofima VSE"},{"$f":"+'Roster LIMA'!AA15841","v":"61 83 21-90 061-4"},{"$f":"+'Roster LIMA'!AB15841","v":"70 units, bought between 1977-79 and numbered 21-90 000/069"},{"$f":"+'Roster LIMA'!AC15841","v":"N/A"},{"$f":"+'Roster LIMA'!AD15841","v":"N/A"},{"$f":"+'Roster LIMA'!AE15841","v":"N/A"},{"$f":"+'Roster LIMA'!AF15841","v":"XMPR 1"},{"$f":"+'Roster LIMA'!AG15841","v":"XMPR"},{"$f":"+'Roster LIMA'!AH15841","v":"White"},{"$f":"+'Roster LIMA'!AI15841","v":"Grey"},{"$f":"+'Roster LIMA'!AJ15841","v":"Green"},{"$f":"+'Roster LIMA'!AK15841","v":"Green"},{"$f":"+'Roster LIMA'!AL15841","v":"Bicolor"},{"$f":"+'Roster LIMA'!AM15841","v":"Blue"},{"$f":"+'Roster LIMA'!AN15841","v":"N/A"},{"$f":"+'Roster LIMA'!AO15841","v":"N/A"},{"$f":"+'Roster LIMA'!AP15841","v":0},{"$f":"+'Roster LIMA'!AQ15841","v":2},{"$f":"+'Roster LIMA'!AR15841","v":4},{"$f":"+'Roster LIMA'!AS15841","v":"1/100"},{"$f":"+'Roster LIMA'!AT15841","v":265},{"$f":"+'Roster LIMA'!AU15841","v":"Yes"}]
[{"$f":"+'Roster LIMA'!F15842","v":"HL4006"},{"$f":"+'Roster LIMA'!G15842","v":2008},{"$f":"+'Roster LIMA'!H15842","v":"Yes"},{"$f":"+'Roster LIMA'!I15842","v":"ML"},{"$f":"+'Roster LIMA'!J15842","v":100},{"$f":"+'Roster LIMA'!K15842","v":"x"},{"$f":"+'Roster LIMA'!E15842","v":0},{"$f":"+'Roster LIMA'!B15842","v":309501},{"$f":"+'Roster LIMA'!C15842","v":0},{"$f":"+'Roster LIMA'!D15842","v":0},{"$f":"+'Roster LIMA'!L15842","v":"Italy"},{"$f":"+'Roster LIMA'!M15842","v":"FS"},{"$f":"+'Roster LIMA'!N15840","v":"No"},{"$f":"+'Roster LIMA'!O15842","v":"Passenger"},{"$f":"+'Roster LIMA'!P15842","v":"Double decker"},{"$f":"+'Roster LIMA'!Q15842","v":"2° & Driving trailer"},{"$f":"+'Roster LIMA'!R15842","v":"2'2'"},{"$f":"+'Roster LIMA'!S15842","v":"N/A"},{"$f":"+'Roster LIMA'!T15842","v":"Yes"},{"$f":"+'Roster LIMA'!U15842","v":1981},{"$f":"+'Roster LIMA'!V15842","v":2002},{"$f":"+'Roster LIMA'!W15842","v":"V b"},{"$f":"+'Roster LIMA'!X15842","v":"Doppio Piano 79"},{"$f":"+'Roster LIMA'!Y15842","v":"npB"},{"$f":"+'Roster LIMA'!Z15842","v":"VB2N"},{"$f":"+'Roster LIMA'!AA15842","v":"50 83 26-39 819-7"},{"$f":"+'Roster LIMA'!AB15842","v":"30 units, built between 1980-81 based on a French VB2N coach design and numbered 26-39 800/829"},{"$f":"+'Roster LIMA'!AC15842","v":"N/A"},{"$f":"+'Roster LIMA'!AD15842","v":"N/A"},{"$f":"+'Roster LIMA'!AE15842","v":"Casaralta"},{"$f":"+'Roster LIMA'!AF15842","v":"XMPR 2"},{"$f":"+'Roster LIMA'!AG15842","v":"XMPR"},{"$f":"+'Roster LIMA'!AH15842","v":"White"},{"$f":"+'Roster LIMA'!AI15842","v":"Grey"},{"$f":"+'Roster LIMA'!AJ15842","v":"Green"},{"$f":"+'Roster LIMA'!AK15842","v":"Green"},{"$f":"+'Roster LIMA'!AL15842","v":"Blue"},{"$f":"+'Roster LIMA'!AM15842","v":"Blue"},{"$f":"+'Roster LIMA'!AN15842","v":"N/A"},{"$f":"+'Roster LIMA'!AO15842","v":"N/A"},{"$f":"+'Roster LIMA'!AP15842","v":0},{"$f":"+'Roster LIMA'!AQ15842","v":2},{"$f":"+'Roster LIMA'!AR15842","v":4},{"$f":"+'Roster LIMA'!AS15842","v":1.0638297872340425E-2},{"$f":"+'Roster LIMA'!AT15842","v":265},{"$f":"+'Roster LIMA'!AU15842","v":"Yes"}]
[{"$f":"+'Roster LIMA'!F15843","v":"HL4007"},{"$f":"+'Roster LIMA'!G15843","v":2008},{"$f":"+'Roster LIMA'!H15843","v":"Yes"},{"$f":"+'Roster LIMA'!I15843","v":"ML"},{"$f":"+'Roster LIMA'!J15843","v":100},{"$f":"+'Roster LIMA'!K15843","v":"x"},{"$f":"+'Roster LIMA'!E15843","v":0},{"$f":"+'Roster LIMA'!B15843","v":309500},{"$f":"+'Roster LIMA'!C15843","v":0},{"$f":"+'Roster LIMA'!D15843","v":0},{"$f":"+'Roster LIMA'!L15843","v":"Italy"},{"$f":"+'Roster LIMA'!M15843","v":"FS"},{"$f":"+'Roster LIMA'!N15841","v":"No"},{"$f":"+'Roster LIMA'!O15843","v":"Passenger"},{"$f":"+'Roster LIMA'!P15843","v":"Double decker"},{"$f":"+'Roster LIMA'!Q15843","v":"2° class"},{"$f":"+'Roster LIMA'!R15843","v":"2'2'"},{"$f":"+'Roster LIMA'!S15843","v":"N/A"},{"$f":"+'Roster LIMA'!T15843","v":"Yes"},{"$f":"+'Roster LIMA'!U15843","v":1980},{"$f":"+'Roster LIMA'!V15843","v":2001},{"$f":"+'Roster LIMA'!W15843","v":"V b"},{"$f":"+'Roster LIMA'!X15843","v":"Doppio Piano 79"},{"$f":"+'Roster LIMA'!Y15843","v":"nB"},{"$f":"+'Roster LIMA'!Z15843","v":"VB2N"},{"$f":"+'Roster LIMA'!AA15843","v":"50 83 26-39 008-7"},{"$f":"+'Roster LIMA'!AB15843","v":"120 units, built between 1980-81 based on a French VB2N coach design and numbered 26-39 000/119"},{"$f":"+'Roster LIMA'!AC15843","v":"N/A"},{"$f":"+'Roster LIMA'!AD15843","v":"N/A"},{"$f":"+'Roster LIMA'!AE15843","v":"Casaralta"},{"$f":"+'Roster LIMA'!AF15843","v":"XMPR 2"},{"$f":"+'Roster LIMA'!AG15843","v":"XMPR"},{"$f":"+'Roster LIMA'!AH15843","v":"White"},{"$f":"+'Roster LIMA'!AI15843","v":"Grey"},{"$f":"+'Roster LIMA'!AJ15843","v":"Green"},{"$f":"+'Roster LIMA'!AK15843","v":"Green"},{"$f":"+'Roster LIMA'!AL15843","v":"Blue"},{"$f":"+'Roster LIMA'!AM15843","v":"Blue"},{"$f":"+'Roster LIMA'!AN15843","v":"N/A"},{"$f":"+'Roster LIMA'!AO15843","v":"N/A"},{"$f":"+'Roster LIMA'!AP15843","v":0},{"$f":"+'Roster LIMA'!AQ15843","v":2},{"$f":"+'Roster LIMA'!AR15843","v":4},{"$f":"+'Roster LIMA'!AS15843","v":1.0869565217391304E-2},{"$f":"+'Roster LIMA'!AT15843","v":265},{"$f":"+'Roster LIMA'!AU15843","v":"Yes"}]
[{"$f":"+'Roster LIMA'!F15844","v":"HL4020"},{"$f":"+'Roster LIMA'!G15844","v":2008},{"$f":"+'Roster LIMA'!H15844","v":"Yes"},{"$f":"+'Roster LIMA'!I15844","v":"ML"},{"$f":"+'Roster LIMA'!J15844","v":100},{"$f":"+'Roster LIMA'!K15844","v":"x"},{"$f":"+'Roster LIMA'!E15844","v":0},{"$f":"+'Roster LIMA'!B15844","v":149999},{"$f":"+'Roster LIMA'!C15844","v":"K"},{"$f":"+'Roster LIMA'!D15844","v":0},{"$f":"+'Roster LIMA'!L15844","v":"Italy"},{"$f":"+'Roster LIMA'!M15844","v":"FS"},{"$f":"+'Roster LIMA'!N15842","v":"No"},{"$f":"+'Roster LIMA'!O15844","v":"Passenger"},{"$f":"+'Roster LIMA'!P15844","v":"Set"},{"$f":"+'Roster LIMA'!Q15844","v":"Express service"},{"$f":"+'Roster LIMA'!R15844","v":"2'2'+2'2'"},{"$f":"+'Roster LIMA'!S15844","v":"Lima Collection"},{"$f":"+'Roster LIMA'!T15844","v":"Yes"},{"$f":"+'Roster LIMA'!U15844","v":1997},{"$f":"+'Roster LIMA'!V15844","v":"Operational"},{"$f":"+'Roster LIMA'!W15844","v":"V b / VI"},{"$f":"+'Roster LIMA'!X15844","v":"ETR-480"},{"$f":"+'Roster LIMA'!Y15844","v":"ETR-480"},{"$f":"+'Roster LIMA'!Z15844","v":"N/A"},{"$f":"+'Roster LIMA'!AA15844","v":"N/A"},{"$f":"+'Roster LIMA'!AB15844","v":"2-unit train comprised of EMU Intermediate Bb1 and Bb2"},{"$f":"+'Roster LIMA'!AC15844","v":"N/A"},{"$f":"+'Roster LIMA'!AD15844","v":"ETR-480"},{"$f":"+'Roster LIMA'!AE15844","v":"Eurostar Italia"},{"$f":"+'Roster LIMA'!AF15844","v":"XMPR 1"},{"$f":"+'Roster LIMA'!AG15844","v":"Frecciabianca"},{"$f":"+'Roster LIMA'!AH15844","v":"White"},{"$f":"+'Roster LIMA'!AI15844","v":"White"},{"$f":"+'Roster LIMA'!AJ15844","v":"White"},{"$f":"+'Roster LIMA'!AK15844","v":"Red"},{"$f":"+'Roster LIMA'!AL15844","v":"Bicolor"},{"$f":"+'Roster LIMA'!AM15844","v":"Blue"},{"$f":"+'Roster LIMA'!AN15844","v":"N/A"},{"$f":"+'Roster LIMA'!AO15844","v":"N/A"},{"$f":"+'Roster LIMA'!AP15844","v":0},{"$f":"+'Roster LIMA'!AQ15844","v":4},{"$f":"+'Roster LIMA'!AR15844","v":8},{"$f":"+'Roster LIMA'!AS15844","v":1.1494252873563218E-2},{"$f":"+'Roster LIMA'!AT15844","v":595},{"$f":"+'Roster LIMA'!AU15844","v":"Yes"}]
[{"$f":"+'Roster LIMA'!F15845","v":"HL4021"},{"$f":"+'Roster LIMA'!G15845","v":2008},{"$f":"+'Roster LIMA'!H15845","v":"Yes"},{"$f":"+'Roster LIMA'!I15845","v":"ML"},{"$f":"+'Roster LIMA'!J15845","v":100},{"$f":"+'Roster LIMA'!K15845","v":"x"},{"$f":"+'Roster LIMA'!E15845","v":0},{"$f":"+'Roster LIMA'!B15845","v":"149939-1"},{"$f":"+'Roster LIMA'!C15845","v":"K"},{"$f":"+'Roster LIMA'!D15845","v":0},{"$f":"+'Roster LIMA'!L15845","v":"Switzerland"},{"$f":"+'Roster LIMA'!M15845","v":"SBB/CFF"},{"$f":"+'Roster LIMA'!N15843","v":"No"},{"$f":"+'Roster LIMA'!O15845","v":"Passenger"},{"$f":"+'Roster LIMA'!P15845","v":"Set"},{"$f":"+'Roster LIMA'!Q15845","v":"Express service"},{"$f":"+'Roster LIMA'!R15845","v":"2'2'+2'2'"},{"$f":"+'Roster LIMA'!S15845","v":"Lima Collection"},{"$f":"+'Roster LIMA'!T15845","v":"Yes"},{"$f":"+'Roster LIMA'!U15845","v":1994},{"$f":"+'Roster LIMA'!V15845","v":"Operational"},{"$f":"+'Roster LIMA'!W15845","v":"V b"},{"$f":"+'Roster LIMA'!X15845","v":"ETR-470"},{"$f":"+'Roster LIMA'!Y15845","v":"ETR-470"},{"$f":"+'Roster LIMA'!Z15845","v":"N/A"},{"$f":"+'Roster LIMA'!AA15845","v":"N/A"},{"$f":"+'Roster LIMA'!AB15845","v":"2-unit train comprised of EMU Intermediate Ra2 and Rb"},{"$f":"+'Roster LIMA'!AC15845","v":"N/A"},{"$f":"+'Roster LIMA'!AD15845","v":"ETR-470"},{"$f":"+'Roster LIMA'!AE15845","v":"Cisalpino"},{"$f":"+'Roster LIMA'!AF15845","v":"Cisalpino"},{"$f":"+'Roster LIMA'!AG15845","v":"Cisalpino"},{"$f":"+'Roster LIMA'!AH15845","v":"White"},{"$f":"+'Roster LIMA'!AI15845","v":"White"},{"$f":"+'Roster LIMA'!AJ15845","v":"Blue"},{"$f":"+'Roster LIMA'!AK15845","v":"Blue"},{"$f":"+'Roster LIMA'!AL15845","v":"Bicolor"},{"$f":"+'Roster LIMA'!AM15845","v":"Blue"},{"$f":"+'Roster LIMA'!AN15845","v":"N/A"},{"$f":"+'Roster LIMA'!AO15845","v":"Single arm"},{"$f":"+'Roster LIMA'!AP15845","v":3},{"$f":"+'Roster LIMA'!AQ15845","v":6},{"$f":"+'Roster LIMA'!AR15845","v":12},{"$f":"+'Roster LIMA'!AS15845","v":0.01},{"$f":"+'Roster LIMA'!AT15845","v":595},{"$f":"+'Roster LIMA'!AU15845","v":"Replace"}]
[{"$f":"+'Roster LIMA'!F15846","v":"HL6014"},{"$f":"+'Roster LIMA'!G15846","v":2008},{"$f":"+'Roster LIMA'!H15846","v":"Yes"},{"$f":"+'Roster LIMA'!I15846","v":"ML"},{"$f":"+'Roster LIMA'!J15846","v":101},{"$f":"+'Roster LIMA'!K15846","v":"x"},{"$f":"+'Roster LIMA'!E15846","v":0},{"$f":"+'Roster LIMA'!B15846","v":303161},{"$f":"+'Roster LIMA'!C15846","v":0},{"$f":"+'Roster LIMA'!D15846","v":0},{"$f":"+'Roster LIMA'!L15846","v":"Italy"},{"$f":"+'Roster LIMA'!M15846","v":"FS"},{"$f":"+'Roster LIMA'!N15844","v":"EMU"},{"$f":"+'Roster LIMA'!O15846","v":"Freight"},{"$f":"+'Roster LIMA'!P15846","v":"Closed"},{"$f":"+'Roster LIMA'!Q15846","v":"N/A"},{"$f":"+'Roster LIMA'!R15846","v":2},{"$f":"+'Roster LIMA'!S15846","v":"N/A"},{"$f":"+'Roster LIMA'!T15846","v":"Yes"},{"$f":"+'Roster LIMA'!U15846","v":1959},{"$f":"+'Roster LIMA'!V15846","v":2000},{"$f":"+'Roster LIMA'!W15846","v":"III b / IV a"},{"$f":"+'Roster LIMA'!X15846","v":"G-type"},{"$f":"+'Roster LIMA'!Y15846","v":"Gs 216"},{"$f":"+'Roster LIMA'!Z15846","v":"Gms 137-6"},{"$f":"+'Roster LIMA'!AA15846","v":"F 1160106"},{"$f":"+'Roster LIMA'!AB15846","v":"Built since the late 1950's"},{"$f":"+'Roster LIMA'!AC15846","v":"N/A"},{"$f":"+'Roster LIMA'!AD15846","v":"N/A"},{"$f":"+'Roster LIMA'!AE15846","v":"N/A"},{"$f":"+'Roster LIMA'!AF15846","v":"N/A"},{"$f":"+'Roster LIMA'!AG15846","v":"N/A"},{"$f":"+'Roster LIMA'!AH15846","v":"Brown"},{"$f":"+'Roster LIMA'!AI15846","v":"Grey"},{"$f":"+'Roster LIMA'!AJ15846","v":"Black"},{"$f":"+'Roster LIMA'!AK15846","v":"N/A"},{"$f":"+'Roster LIMA'!AL15846","v":"Brown"},{"$f":"+'Roster LIMA'!AM15846","v":"Blue"},{"$f":"+'Roster LIMA'!AN15846","v":"N/A"},{"$f":"+'Roster LIMA'!AO15846","v":"N/A"},{"$f":"+'Roster LIMA'!AP15846","v":0},{"$f":"+'Roster LIMA'!AQ15846","v":0},{"$f":"+'Roster LIMA'!AR15846","v":2},{"$f":"+'Roster LIMA'!AS15846","v":1.1494252873563218E-2},{"$f":"+'Roster LIMA'!AT15846","v":121},{"$f":"+'Roster LIMA'!AU15846","v":"Yes"}]
[{"$f":"+'Roster LIMA'!F15847","v":"HL6015"},{"$f":"+'Roster LIMA'!G15847","v":2008},{"$f":"+'Roster LIMA'!H15847","v":"Yes"},{"$f":"+'Roster LIMA'!I15847","v":"ML"},{"$f":"+'Roster LIMA'!J15847","v":101},{"$f":"+'Roster LIMA'!K15847","v":"x"},{"$f":"+'Roster LIMA'!E15847","v":0},{"$f":"+'Roster LIMA'!B15847","v":"N/A"},{"$f":"+'Roster LIMA'!C15847","v":0},{"$f":"+'Roster LIMA'!D15847","v":0},{"$f":"+'Roster LIMA'!L15847","v":"Italy"},{"$f":"+'Roster LIMA'!M15847","v":"FS"},{"$f":"+'Roster LIMA'!N15845","v":"EMU"},{"$f":"+'Roster LIMA'!O15847","v":"Freight"},{"$f":"+'Roster LIMA'!P15847","v":"Tank"},{"$f":"+'Roster LIMA'!Q15847","v":"With ladder"},{"$f":"+'Roster LIMA'!R15847","v":2},{"$f":"+'Roster LIMA'!S15847","v":"N/A"},{"$f":"+'Roster LIMA'!T15847","v":"Yes"},{"$f":"+'Roster LIMA'!U15847","v":1957},{"$f":"+'Roster LIMA'!V15847","v":2005},{"$f":"+'Roster LIMA'!W15847","v":"III b / IV a / IV b / V a / V b"},{"$f":"+'Roster LIMA'!X15847","v":"Z-type"},{"$f":"+'Roster LIMA'!Y15847","v":"Zcs 23"},{"$f":"+'Roster LIMA'!Z15847","v":"Uh"},{"$f":"+'Roster LIMA'!AA15847","v":"N/A"},{"$f":"+'Roster LIMA'!AB15847","v":"Built since the late 1950's"},{"$f":"+'Roster LIMA'!AC15847","v":"N/A"},{"$f":"+'Roster LIMA'!AD15847","v":"N/A"},{"$f":"+'Roster LIMA'!AE15847","v":"N/A"},{"$f":"+'Roster LIMA'!AF15847","v":"N/A"},{"$f":"+'Roster LIMA'!AG15847","v":"N/A"},{"$f":"+'Roster LIMA'!AH15847","v":"White"},{"$f":"+'Roster LIMA'!AI15847","v":"White"},{"$f":"+'Roster LIMA'!AJ15847","v":"Black"},{"$f":"+'Roster LIMA'!AK15847","v":"Yellow"},{"$f":"+'Roster LIMA'!AL15847","v":"N/A"},{"$f":"+'Roster LIMA'!AM15847","v":"Blue"},{"$f":"+'Roster LIMA'!AN15847","v":"N/A"},{"$f":"+'Roster LIMA'!AO15847","v":"N/A"},{"$f":"+'Roster LIMA'!AP15847","v":0},{"$f":"+'Roster LIMA'!AQ15847","v":0},{"$f":"+'Roster LIMA'!AR15847","v":2},{"$f":"+'Roster LIMA'!AS15847","v":"N/A"},{"$f":"+'Roster LIMA'!AT15847","v":116},{"$f":"+'Roster LIMA'!AU15847","v":"Yes"}]
[{"$f":"+'Roster LIMA'!F15848","v":"HL6016"},{"$f":"+'Roster LIMA'!G15848","v":2008},{"$f":"+'Roster LIMA'!H15848","v":"Yes"},{"$f":"+'Roster LIMA'!I15848","v":"ML"},{"$f":"+'Roster LIMA'!J15848","v":101},{"$f":"+'Roster LIMA'!K15848","v":"x"},{"$f":"+'Roster LIMA'!E15848","v":0},{"$f":"+'Roster LIMA'!B15848","v":303171},{"$f":"+'Roster LIMA'!C15848","v":0},{"$f":"+'Roster LIMA'!D15848","v":0},{"$f":"+'Roster LIMA'!L15848","v":"Italy"},{"$f":"+'Roster LIMA'!M15848","v":"FS"},{"$f":"+'Roster LIMA'!N15846","v":"No"},{"$f":"+'Roster LIMA'!O15848","v":"Freight"},{"$f":"+'Roster LIMA'!P15848","v":"Open"},{"$f":"+'Roster LIMA'!Q15848","v":"Empty"},{"$f":"+'Roster LIMA'!R15848","v":2},{"$f":"+'Roster LIMA'!S15848","v":"N/A"},{"$f":"+'Roster LIMA'!T15848","v":"Yes"},{"$f":"+'Roster LIMA'!U15848","v":1956},{"$f":"+'Roster LIMA'!V15848","v":2005},{"$f":"+'Roster LIMA'!W15848","v":"IV a / IV b / V a / V b"},{"$f":"+'Roster LIMA'!X15848","v":"E-type"},{"$f":"+'Roster LIMA'!Y15848","v":"Es 025"},{"$f":"+'Roster LIMA'!Z15848","v":"Tipo 2"},{"$f":"+'Roster LIMA'!AA15848","v":"21 83 446 0 100-3"},{"$f":"+'Roster LIMA'!AB15848","v":"Built in the mid 1950's"},{"$f":"+'Roster LIMA'!AC15848","v":"N/A"},{"$f":"+'Roster LIMA'!AD15848","v":"N/A"},{"$f":"+'Roster LIMA'!AE15848","v":"N/A"},{"$f":"+'Roster LIMA'!AF15848","v":"N/A"},{"$f":"+'Roster LIMA'!AG15848","v":"N/A"},{"$f":"+'Roster LIMA'!AH15848","v":"Brown"},{"$f":"+'Roster LIMA'!AI15848","v":"N/A"},{"$f":"+'Roster LIMA'!AJ15848","v":"Black"},{"$f":"+'Roster LIMA'!AK15848","v":"N/A"},{"$f":"+'Roster LIMA'!AL15848","v":"N/A"},{"$f":"+'Roster LIMA'!AM15848","v":"Blue"},{"$f":"+'Roster LIMA'!AN15848","v":"N/A"},{"$f":"+'Roster LIMA'!AO15848","v":"N/A"},{"$f":"+'Roster LIMA'!AP15848","v":0},{"$f":"+'Roster LIMA'!AQ15848","v":0},{"$f":"+'Roster LIMA'!AR15848","v":2},{"$f":"+'Roster LIMA'!AS15848","v":1.2048192771084338E-2},{"$f":"+'Roster LIMA'!AT15848","v":121},{"$f":"+'Roster LIMA'!AU15848","v":"Yes"}]
[{"$f":"+'Roster LIMA'!F15849","v":"HL6017"},{"$f":"+'Roster LIMA'!G15849","v":2008},{"$f":"+'Roster LIMA'!H15849","v":"Yes"},{"$f":"+'Roster LIMA'!I15849","v":"ML"},{"$f":"+'Roster LIMA'!J15849","v":101},{"$f":"+'Roster LIMA'!K15849","v":"x"},{"$f":"+'Roster LIMA'!E15849","v":0},{"$f":"+'Roster LIMA'!B15849","v":303103},{"$f":"+'Roster LIMA'!C15849","v":0},{"$f":"+'Roster LIMA'!D15849","v":0},{"$f":"+'Roster LIMA'!L15849","v":"France"},{"$f":"+'Roster LIMA'!M15849","v":"SNCF"},{"$f":"+'Roster LIMA'!N15847","v":"No"},{"$f":"+'Roster LIMA'!O15849","v":"Freight"},{"$f":"+'Roster LIMA'!P15849","v":"Reefer"},{"$f":"+'Roster LIMA'!Q15849","v":"With ladder"},{"$f":"+'Roster LIMA'!R15849","v":2},{"$f":"+'Roster LIMA'!S15849","v":"N/A"},{"$f":"+'Roster LIMA'!T15849","v":"Yes"},{"$f":"+'Roster LIMA'!U15849","v":1960},{"$f":"+'Roster LIMA'!V15849","v":1995},{"$f":"+'Roster LIMA'!W15849","v":"III b / IV a / IV b / V a"},{"$f":"+'Roster LIMA'!X15849","v":"I-type"},{"$f":"+'Roster LIMA'!Y15849","v":"Ibps-v"},{"$f":"+'Roster LIMA'!Z15849","v":"Ichqrs 377"},{"$f":"+'Roster LIMA'!AA15849","v":"03 87 823 5 049-0"},{"$f":"+'Roster LIMA'!AB15849","v":"Built in the late 1950's. With smooth panel"},{"$f":"+'Roster LIMA'!AC15849","v":"Interfrigo"},{"$f":"+'Roster LIMA'!AD15849","v":"N/A"},{"$f":"+'Roster LIMA'!AE15849","v":"N/A"},{"$f":"+'Roster LIMA'!AF15849","v":"N/A"},{"$f":"+'Roster LIMA'!AG15849","v":"N/A"},{"$f":"+'Roster LIMA'!AH15849","v":"White"},{"$f":"+'Roster LIMA'!AI15849","v":"Grey"},{"$f":"+'Roster LIMA'!AJ15849","v":"Black"},{"$f":"+'Roster LIMA'!AK15849","v":"N/A"},{"$f":"+'Roster LIMA'!AL15849","v":"White"},{"$f":"+'Roster LIMA'!AM15849","v":"Blue"},{"$f":"+'Roster LIMA'!AN15849","v":"N/A"},{"$f":"+'Roster LIMA'!AO15849","v":"N/A"},{"$f":"+'Roster LIMA'!AP15849","v":0},{"$f":"+'Roster LIMA'!AQ15849","v":0},{"$f":"+'Roster LIMA'!AR15849","v":2},{"$f":"+'Roster LIMA'!AS15849","v":1.1494252873563218E-2},{"$f":"+'Roster LIMA'!AT15849","v":130},{"$f":"+'Roster LIMA'!AU15849","v":"Yes"}]
[{"$f":"+'Roster LIMA'!F15850","v":"HL6018"},{"$f":"+'Roster LIMA'!G15850","v":2008},{"$f":"+'Roster LIMA'!H15850","v":"Yes"},{"$f":"+'Roster LIMA'!I15850","v":"ML"},{"$f":"+'Roster LIMA'!J15850","v":101},{"$f":"+'Roster LIMA'!K15850","v":"x"},{"$f":"+'Roster LIMA'!E15850","v":0},{"$f":"+'Roster LIMA'!B15850","v":302814},{"$f":"+'Roster LIMA'!C15850","v":0},{"$f":"+'Roster LIMA'!D15850","v":0},{"$f":"+'Roster LIMA'!L15850","v":"Italy"},{"$f":"+'Roster LIMA'!M15850","v":"FS"},{"$f":"+'Roster LIMA'!N15848","v":"No"},{"$f":"+'Roster LIMA'!O15850","v":"Freight"},{"$f":"+'Roster LIMA'!P15850","v":"Flat"},{"$f":"+'Roster LIMA'!Q15850","v":"Empty"},{"$f":"+'Roster LIMA'!R15850","v":2},{"$f":"+'Roster LIMA'!S15850","v":"N/A"},{"$f":"+'Roster LIMA'!T15850","v":"Yes"},{"$f":"+'Roster LIMA'!U15850","v":1925},{"$f":"+'Roster LIMA'!V15850","v":1970},{"$f":"+'Roster LIMA'!W15850","v":"III a / III b / IV a"},{"$f":"+'Roster LIMA'!X15850","v":"K-type"},{"$f":"+'Roster LIMA'!Y15850","v":"O 10"},{"$f":"+'Roster LIMA'!Z15850","v":"P con garitta"},{"$f":"+'Roster LIMA'!AA15850","v":"N/A"},{"$f":"+'Roster LIMA'!AB15850","v":"Built in the mid 1920's"},{"$f":"+'Roster LIMA'!AC15850","v":"N/A"},{"$f":"+'Roster LIMA'!AD15850","v":"N/A"},{"$f":"+'Roster LIMA'!AE15850","v":"N/A"},{"$f":"+'Roster LIMA'!AF15850","v":"Televisore"},{"$f":"+'Roster LIMA'!AG15850","v":"N/A"},{"$f":"+'Roster LIMA'!AH15850","v":"Brown"},{"$f":"+'Roster LIMA'!AI15850","v":"N/A"},{"$f":"+'Roster LIMA'!AJ15850","v":"Brown"},{"$f":"+'Roster LIMA'!AK15850","v":"N/A"},{"$f":"+'Roster LIMA'!AL15850","v":"N/A"},{"$f":"+'Roster LIMA'!AM15850","v":"Blue"},{"$f":"+'Roster LIMA'!AN15850","v":"N/A"},{"$f":"+'Roster LIMA'!AO15850","v":"N/A"},{"$f":"+'Roster LIMA'!AP15850","v":0},{"$f":"+'Roster LIMA'!AQ15850","v":0},{"$f":"+'Roster LIMA'!AR15850","v":2},{"$f":"+'Roster LIMA'!AS15850","v":1.1494252873563218E-2},{"$f":"+'Roster LIMA'!AT15850","v":116},{"$f":"+'Roster LIMA'!AU15850","v":"Yes"}]
[{"$f":"+'Roster LIMA'!F15851","v":"HL6039"},{"$f":"+'Roster LIMA'!G15851","v":2008},{"$f":"+'Roster LIMA'!H15851","v":"Yes"},{"$f":"+'Roster LIMA'!I15851","v":"ML"},{"$f":"+'Roster LIMA'!J15851","v":101},{"$f":"+'Roster LIMA'!K15851","v":"x"},{"$f":"+'Roster LIMA'!E15851","v":0},{"$f":"+'Roster LIMA'!B15851","v":"N/A"},{"$f":"+'Roster LIMA'!C15851","v":0},{"$f":"+'Roster LIMA'!D15851","v":0},{"$f":"+'Roster LIMA'!L15851","v":"Italy"},{"$f":"+'Roster LIMA'!M15851","v":"FS"},{"$f":"+'Roster LIMA'!N15849","v":"No"},{"$f":"+'Roster LIMA'!O15851","v":"Freight"},{"$f":"+'Roster LIMA'!P15851","v":"Reefer"},{"$f":"+'Roster LIMA'!Q15851","v":"With ladder"},{"$f":"+'Roster LIMA'!R15851","v":2},{"$f":"+'Roster LIMA'!S15851","v":"N/A"},{"$f":"+'Roster LIMA'!T15851","v":"Yes"},{"$f":"+'Roster LIMA'!U15851","v":1960},{"$f":"+'Roster LIMA'!V15851","v":1995},{"$f":"+'Roster LIMA'!W15851","v":"V a"},{"$f":"+'Roster LIMA'!X15851","v":"I-type"},{"$f":"+'Roster LIMA'!Y15851","v":"Ibps-v"},{"$f":"+'Roster LIMA'!Z15851","v":"Ichqrs 377"},{"$f":"+'Roster LIMA'!AA15851","v":"N/A"},{"$f":"+'Roster LIMA'!AB15851","v":"Built in the late 1950's. With smooth panel"},{"$f":"+'Roster LIMA'!AC15851","v":"N/A"},{"$f":"+'Roster LIMA'!AD15851","v":"N/A"},{"$f":"+'Roster LIMA'!AE15851","v":"N/A"},{"$f":"+'Roster LIMA'!AF15851","v":"N/A"},{"$f":"+'Roster LIMA'!AG15851","v":"N/A"},{"$f":"+'Roster LIMA'!AH15851","v":"White"},{"$f":"+'Roster LIMA'!AI15851","v":"Grey"},{"$f":"+'Roster LIMA'!AJ15851","v":"Black"},{"$f":"+'Roster LIMA'!AK15851","v":"N/A"},{"$f":"+'Roster LIMA'!AL15851","v":"White"},{"$f":"+'Roster LIMA'!AM15851","v":"Blue"},{"$f":"+'Roster LIMA'!AN15851","v":"N/A"},{"$f":"+'Roster LIMA'!AO15851","v":"N/A"},{"$f":"+'Roster LIMA'!AP15851","v":0},{"$f":"+'Roster LIMA'!AQ15851","v":0},{"$f":"+'Roster LIMA'!AR15851","v":2},{"$f":"+'Roster LIMA'!AS15851","v":1.1494252873563218E-2},{"$f":"+'Roster LIMA'!AT15851","v":130},{"$f":"+'Roster LIMA'!AU15851","v":"Replace"}]
[{"$f":"+'Roster LIMA'!F15852","v":"HL6040"},{"$f":"+'Roster LIMA'!G15852","v":2008},{"$f":"+'Roster LIMA'!H15852","v":"Yes"},{"$f":"+'Roster LIMA'!I15852","v":"ML"},{"$f":"+'Roster LIMA'!J15852","v":102},{"$f":"+'Roster LIMA'!K15852","v":"x"},{"$f":"+'Roster LIMA'!E15852","v":0},{"$f":"+'Roster LIMA'!B15852","v":"N/A"},{"$f":"+'Roster LIMA'!C15852","v":0},{"$f":"+'Roster LIMA'!D15852","v":0},{"$f":"+'Roster LIMA'!L15852","v":"Italy"},{"$f":"+'Roster LIMA'!M15852","v":"FS"},{"$f":"+'Roster LIMA'!N15850","v":"No"},{"$f":"+'Roster LIMA'!O15852","v":"Freight"},{"$f":"+'Roster LIMA'!P15852","v":"Reefer"},{"$f":"+'Roster LIMA'!Q15852","v":"With ladder"},{"$f":"+'Roster LIMA'!R15852","v":2},{"$f":"+'Roster LIMA'!S15852","v":"N/A"},{"$f":"+'Roster LIMA'!T15852","v":"Yes"},{"$f":"+'Roster LIMA'!U15852","v":1960},{"$f":"+'Roster LIMA'!V15852","v":1995},{"$f":"+'Roster LIMA'!W15852","v":"IV b / V a"},{"$f":"+'Roster LIMA'!X15852","v":"I-type"},{"$f":"+'Roster LIMA'!Y15852","v":"Ibps-v"},{"$f":"+'Roster LIMA'!Z15852","v":"Ichqrs 377"},{"$f":"+'Roster LIMA'!AA15852","v":"N/A"},{"$f":"+'Roster LIMA'!AB15852","v":"Built in the late 1950's. With smooth panel"},{"$f":"+'Roster LIMA'!AC15852","v":"N/A"},{"$f":"+'Roster LIMA'!AD15852","v":"N/A"},{"$f":"+'Roster LIMA'!AE15852","v":"N/A"},{"$f":"+'Roster LIMA'!AF15852","v":"Losanga"},{"$f":"+'Roster LIMA'!AG15852","v":"N/A"},{"$f":"+'Roster LIMA'!AH15852","v":"White"},{"$f":"+'Roster LIMA'!AI15852","v":"Grey"},{"$f":"+'Roster LIMA'!AJ15852","v":"Black"},{"$f":"+'Roster LIMA'!AK15852","v":"N/A"},{"$f":"+'Roster LIMA'!AL15852","v":"White"},{"$f":"+'Roster LIMA'!AM15852","v":"Blue"},{"$f":"+'Roster LIMA'!AN15852","v":"N/A"},{"$f":"+'Roster LIMA'!AO15852","v":"N/A"},{"$f":"+'Roster LIMA'!AP15852","v":0},{"$f":"+'Roster LIMA'!AQ15852","v":0},{"$f":"+'Roster LIMA'!AR15852","v":2},{"$f":"+'Roster LIMA'!AS15852","v":1.1494252873563218E-2},{"$f":"+'Roster LIMA'!AT15852","v":130},{"$f":"+'Roster LIMA'!AU15852","v":"Yes"}]
[{"$f":"+'Roster LIMA'!F15853","v":"HL6041"},{"$f":"+'Roster LIMA'!G15853","v":2008},{"$f":"+'Roster LIMA'!H15853","v":"Yes"},{"$f":"+'Roster LIMA'!I15853","v":"ML"},{"$f":"+'Roster LIMA'!J15853","v":102},{"$f":"+'Roster LIMA'!K15853","v":"x"},{"$f":"+'Roster LIMA'!E15853","v":0},{"$f":"+'Roster LIMA'!B15853","v":302811},{"$f":"+'Roster LIMA'!C15853","v":0},{"$f":"+'Roster LIMA'!D15853","v":0},{"$f":"+'Roster LIMA'!L15853","v":"Italy"},{"$f":"+'Roster LIMA'!M15853","v":"FS"},{"$f":"+'Roster LIMA'!N15851","v":"No"},{"$f":"+'Roster LIMA'!O15853","v":"Freight"},{"$f":"+'Roster LIMA'!P15853","v":"Flat"},{"$f":"+'Roster LIMA'!Q15853","v":"With pipes"},{"$f":"+'Roster LIMA'!R15853","v":2},{"$f":"+'Roster LIMA'!S15853","v":"N/A"},{"$f":"+'Roster LIMA'!T15853","v":"Yes"},{"$f":"+'Roster LIMA'!U15853","v":1925},{"$f":"+'Roster LIMA'!V15853","v":1970},{"$f":"+'Roster LIMA'!W15853","v":"III a / III b / IV a"},{"$f":"+'Roster LIMA'!X15853","v":"K-type"},{"$f":"+'Roster LIMA'!Y15853","v":"O 10"},{"$f":"+'Roster LIMA'!Z15853","v":"P con garitta"},{"$f":"+'Roster LIMA'!AA15853","v":"P660513"},{"$f":"+'Roster LIMA'!AB15853","v":"Built in the mid 1920's"},{"$f":"+'Roster LIMA'!AC15853","v":"Dalmine"},{"$f":"+'Roster LIMA'!AD15853","v":"N/A"},{"$f":"+'Roster LIMA'!AE15853","v":"N/A"},{"$f":"+'Roster LIMA'!AF15853","v":"Televisore"},{"$f":"+'Roster LIMA'!AG15853","v":"N/A"},{"$f":"+'Roster LIMA'!AH15853","v":"White"},{"$f":"+'Roster LIMA'!AI15853","v":"N/A"},{"$f":"+'Roster LIMA'!AJ15853","v":"Brown"},{"$f":"+'Roster LIMA'!AK15853","v":"N/A"},{"$f":"+'Roster LIMA'!AL15853","v":"N/A"},{"$f":"+'Roster LIMA'!AM15853","v":"Blue"},{"$f":"+'Roster LIMA'!AN15853","v":"N/A"},{"$f":"+'Roster LIMA'!AO15853","v":"N/A"},{"$f":"+'Roster LIMA'!AP15853","v":0},{"$f":"+'Roster LIMA'!AQ15853","v":0},{"$f":"+'Roster LIMA'!AR15853","v":2},{"$f":"+'Roster LIMA'!AS15853","v":1.1494252873563218E-2},{"$f":"+'Roster LIMA'!AT15853","v":116},{"$f":"+'Roster LIMA'!AU15853","v":"Yes"}]
[{"$f":"+'Roster LIMA'!F15854","v":"HL6042"},{"$f":"+'Roster LIMA'!G15854","v":2008},{"$f":"+'Roster LIMA'!H15854","v":"Yes"},{"$f":"+'Roster LIMA'!I15854","v":"ML"},{"$f":"+'Roster LIMA'!J15854","v":102},{"$f":"+'Roster LIMA'!K15854","v":"x"},{"$f":"+'Roster LIMA'!E15854","v":0},{"$f":"+'Roster LIMA'!B15854","v":303161},{"$f":"+'Roster LIMA'!C15854","v":0},{"$f":"+'Roster LIMA'!D15854","v":0},{"$f":"+'Roster LIMA'!L15854","v":"Italy"},{"$f":"+'Roster LIMA'!M15854","v":"FS"},{"$f":"+'Roster LIMA'!N15852","v":"No"},{"$f":"+'Roster LIMA'!O15854","v":"Freight"},{"$f":"+'Roster LIMA'!P15854","v":"Closed"},{"$f":"+'Roster LIMA'!Q15854","v":"N/A"},{"$f":"+'Roster LIMA'!R15854","v":2},{"$f":"+'Roster LIMA'!S15854","v":"N/A"},{"$f":"+'Roster LIMA'!T15854","v":"Yes"},{"$f":"+'Roster LIMA'!U15854","v":1959},{"$f":"+'Roster LIMA'!V15854","v":2000},{"$f":"+'Roster LIMA'!W15854","v":"III b / IV a"},{"$f":"+'Roster LIMA'!X15854","v":"G-type"},{"$f":"+'Roster LIMA'!Y15854","v":"Gs 216"},{"$f":"+'Roster LIMA'!Z15854","v":"Gms 137-6"},{"$f":"+'Roster LIMA'!AA15854","v":"F 1160106"},{"$f":"+'Roster LIMA'!AB15854","v":"Built since the late 1950's"},{"$f":"+'Roster LIMA'!AC15854","v":"N/A"},{"$f":"+'Roster LIMA'!AD15854","v":"N/A"},{"$f":"+'Roster LIMA'!AE15854","v":"N/A"},{"$f":"+'Roster LIMA'!AF15854","v":"N/A"},{"$f":"+'Roster LIMA'!AG15854","v":"N/A"},{"$f":"+'Roster LIMA'!AH15854","v":"Brown"},{"$f":"+'Roster LIMA'!AI15854","v":"Grey"},{"$f":"+'Roster LIMA'!AJ15854","v":"Black"},{"$f":"+'Roster LIMA'!AK15854","v":"N/A"},{"$f":"+'Roster LIMA'!AL15854","v":"Brown"},{"$f":"+'Roster LIMA'!AM15854","v":"Blue"},{"$f":"+'Roster LIMA'!AN15854","v":"N/A"},{"$f":"+'Roster LIMA'!AO15854","v":"N/A"},{"$f":"+'Roster LIMA'!AP15854","v":0},{"$f":"+'Roster LIMA'!AQ15854","v":0},{"$f":"+'Roster LIMA'!AR15854","v":2},{"$f":"+'Roster LIMA'!AS15854","v":1.1494252873563218E-2},{"$f":"+'Roster LIMA'!AT15854","v":121},{"$f":"+'Roster LIMA'!AU15854","v":"Yes"}]
[{"$f":"+'Roster LIMA'!F15855","v":"HL6043"},{"$f":"+'Roster LIMA'!G15855","v":2008},{"$f":"+'Roster LIMA'!H15855","v":"Yes"},{"$f":"+'Roster LIMA'!I15855","v":"ML"},{"$f":"+'Roster LIMA'!J15855","v":102},{"$f":"+'Roster LIMA'!K15855","v":"x"},{"$f":"+'Roster LIMA'!E15855","v":0},{"$f":"+'Roster LIMA'!B15855","v":302916},{"$f":"+'Roster LIMA'!C15855","v":0},{"$f":"+'Roster LIMA'!D15855","v":0},{"$f":"+'Roster LIMA'!L15855","v":"Italy"},{"$f":"+'Roster LIMA'!M15855","v":"FS"},{"$f":"+'Roster LIMA'!N15853","v":"No"},{"$f":"+'Roster LIMA'!O15855","v":"Freight"},{"$f":"+'Roster LIMA'!P15855","v":"Tank"},{"$f":"+'Roster LIMA'!Q15855","v":"With ladder"},{"$f":"+'Roster LIMA'!R15855","v":"2'2'"},{"$f":"+'Roster LIMA'!S15855","v":"N/A"},{"$f":"+'Roster LIMA'!T15855","v":"Yes"},{"$f":"+'Roster LIMA'!U15855","v":1958},{"$f":"+'Roster LIMA'!V15855","v":2004},{"$f":"+'Roster LIMA'!W15855","v":"III b / IV a / IV b / V a / V b"},{"$f":"+'Roster LIMA'!X15855","v":"Z-type"},{"$f":"+'Roster LIMA'!Y15855","v":"Zacs 33"},{"$f":"+'Roster LIMA'!Z15855","v":"Uah"},{"$f":"+'Roster LIMA'!AA15855","v":"N/A"},{"$f":"+'Roster LIMA'!AB15855","v":"Built since the late 1950's"},{"$f":"+'Roster LIMA'!AC15855","v":"Agip"},{"$f":"+'Roster LIMA'!AD15855","v":"N/A"},{"$f":"+'Roster LIMA'!AE15855","v":"N/A"},{"$f":"+'Roster LIMA'!AF15855","v":"N/A"},{"$f":"+'Roster LIMA'!AG15855","v":"N/A"},{"$f":"+'Roster LIMA'!AH15855","v":"White"},{"$f":"+'Roster LIMA'!AI15855","v":"White"},{"$f":"+'Roster LIMA'!AJ15855","v":"Black"},{"$f":"+'Roster LIMA'!AK15855","v":"Yellow"},{"$f":"+'Roster LIMA'!AL15855","v":"N/A"},{"$f":"+'Roster LIMA'!AM15855","v":"Blue"},{"$f":"+'Roster LIMA'!AN15855","v":"N/A"},{"$f":"+'Roster LIMA'!AO15855","v":"N/A"},{"$f":"+'Roster LIMA'!AP15855","v":0},{"$f":"+'Roster LIMA'!AQ15855","v":2},{"$f":"+'Roster LIMA'!AR15855","v":4},{"$f":"+'Roster LIMA'!AS15855","v":"N/A"},{"$f":"+'Roster LIMA'!AT15855","v":190},{"$f":"+'Roster LIMA'!AU15855","v":"Yes"}]
[{"$f":"+'Roster LIMA'!F15856","v":"HL6044"},{"$f":"+'Roster LIMA'!G15856","v":2008},{"$f":"+'Roster LIMA'!H15856","v":"Yes"},{"$f":"+'Roster LIMA'!I15856","v":"ML"},{"$f":"+'Roster LIMA'!J15856","v":102},{"$f":"+'Roster LIMA'!K15856","v":"x"},{"$f":"+'Roster LIMA'!E15856","v":0},{"$f":"+'Roster LIMA'!B15856","v":303596},{"$f":"+'Roster LIMA'!C15856","v":0},{"$f":"+'Roster LIMA'!D15856","v":0},{"$f":"+'Roster LIMA'!L15856","v":"France"},{"$f":"+'Roster LIMA'!M15856","v":"SNCF"},{"$f":"+'Roster LIMA'!N15854","v":"No"},{"$f":"+'Roster LIMA'!O15856","v":"Freight"},{"$f":"+'Roster LIMA'!P15856","v":"Closed"},{"$f":"+'Roster LIMA'!Q15856","v":"With sliding door"},{"$f":"+'Roster LIMA'!R15856","v":"2'2'"},{"$f":"+'Roster LIMA'!S15856","v":"N/A"},{"$f":"+'Roster LIMA'!T15856","v":"Yes"},{"$f":"+'Roster LIMA'!U15856","v":1975},{"$f":"+'Roster LIMA'!V15856","v":"Operational"},{"$f":"+'Roster LIMA'!W15856","v":"IV b / V a / V b / VI"},{"$f":"+'Roster LIMA'!X15856","v":"H-type"},{"$f":"+'Roster LIMA'!Y15856","v":"Habis 339"},{"$f":"+'Roster LIMA'!Z15856","v":"H 81.6"},{"$f":"+'Roster LIMA'!AA15856","v":"N/A"},{"$f":"+'Roster LIMA'!AB15856","v":"Built in the mid 1970's"},{"$f":"+'Roster LIMA'!AC15856","v":"Fret"},{"$f":"+'Roster LIMA'!AD15856","v":"N/A"},{"$f":"+'Roster LIMA'!AE15856","v":"N/A"},{"$f":"+'Roster LIMA'!AF15856","v":"Fret"},{"$f":"+'Roster LIMA'!AG15856","v":"N/A"},{"$f":"+'Roster LIMA'!AH15856","v":"Grey"},{"$f":"+'Roster LIMA'!AI15856","v":"Grey"},{"$f":"+'Roster LIMA'!AJ15856","v":"Grey"},{"$f":"+'Roster LIMA'!AK15856","v":"Green"},{"$f":"+'Roster LIMA'!AL15856","v":"Grey"},{"$f":"+'Roster LIMA'!AM15856","v":"Blue"},{"$f":"+'Roster LIMA'!AN15856","v":"N/A"},{"$f":"+'Roster LIMA'!AO15856","v":"N/A"},{"$f":"+'Roster LIMA'!AP15856","v":0},{"$f":"+'Roster LIMA'!AQ15856","v":2},{"$f":"+'Roster LIMA'!AR15856","v":4},{"$f":"+'Roster LIMA'!AS15856","v":1.098901098901099E-2},{"$f":"+'Roster LIMA'!AT15856","v":242},{"$f":"+'Roster LIMA'!AU15856","v":"Yes"}]
[{"$f":"+'Roster LIMA'!F15857","v":"HL6045"},{"$f":"+'Roster LIMA'!G15857","v":2008},{"$f":"+'Roster LIMA'!H15857","v":"Yes"},{"$f":"+'Roster LIMA'!I15857","v":"ML"},{"$f":"+'Roster LIMA'!J15857","v":102},{"$f":"+'Roster LIMA'!K15857","v":"x"},{"$f":"+'Roster LIMA'!E15857","v":0},{"$f":"+'Roster LIMA'!B15857","v":"N/A"},{"$f":"+'Roster LIMA'!C15857","v":0},{"$f":"+'Roster LIMA'!D15857","v":0},{"$f":"+'Roster LIMA'!L15857","v":"Germany"},{"$f":"+'Roster LIMA'!M15857","v":"DB"},{"$f":"+'Roster LIMA'!N15855","v":"No"},{"$f":"+'Roster LIMA'!O15857","v":"Freight"},{"$f":"+'Roster LIMA'!P15857","v":"Special"},{"$f":"+'Roster LIMA'!Q15857","v":"Pig iron torpedo"},{"$f":"+'Roster LIMA'!R15857","v":"5'5'"},{"$f":"+'Roster LIMA'!S15857","v":"N/A"},{"$f":"+'Roster LIMA'!T15857","v":"Yes"},{"$f":"+'Roster LIMA'!U15857","v":1970},{"$f":"+'Roster LIMA'!V15857","v":"Operational"},{"$f":"+'Roster LIMA'!W15857","v":"III b / IV a / IV b / V a / V b / VI"},{"$f":"+'Roster LIMA'!X15857","v":"U-type"},{"$f":"+'Roster LIMA'!Y15857","v":"Uaai 812"},{"$f":"+'Roster LIMA'!Z15857","v":"N/A"},{"$f":"+'Roster LIMA'!AA15857","v":"82 80 995 0 930-3"},{"$f":"+'Roster LIMA'!AB15857","v":"1 unit, built in 1970 and numbered originally 20 80 999 0 209-9. With \"torpedo\" type design"},{"$f":"+'Roster LIMA'!AC15857","v":"N/A"},{"$f":"+'Roster LIMA'!AD15857","v":"N/A"},{"$f":"+'Roster LIMA'!AE15857","v":"N/A"},{"$f":"+'Roster LIMA'!AF15857","v":"N/A"},{"$f":"+'Roster LIMA'!AG15857","v":"N/A"},{"$f":"+'Roster LIMA'!AH15857","v":"Yellow"},{"$f":"+'Roster LIMA'!AI15857","v":"Yellow"},{"$f":"+'Roster LIMA'!AJ15857","v":"Brown"},{"$f":"+'Roster LIMA'!AK15857","v":"N/A"},{"$f":"+'Roster LIMA'!AL15857","v":"N/A"},{"$f":"+'Roster LIMA'!AM15857","v":"Blue"},{"$f":"+'Roster LIMA'!AN15857","v":"N/A"},{"$f":"+'Roster LIMA'!AO15857","v":"N/A"},{"$f":"+'Roster LIMA'!AP15857","v":0},{"$f":"+'Roster LIMA'!AQ15857","v":2},{"$f":"+'Roster LIMA'!AR15857","v":10},{"$f":"+'Roster LIMA'!AS15857","v":1.1494252873563218E-2},{"$f":"+'Roster LIMA'!AT15857","v":220},{"$f":"+'Roster LIMA'!AU15857","v":"Replace"}]
[{"$f":"+'Roster LIMA'!F15858","v":"HL6046"},{"$f":"+'Roster LIMA'!G15858","v":2008},{"$f":"+'Roster LIMA'!H15858","v":"Yes"},{"$f":"+'Roster LIMA'!I15858","v":"ML"},{"$f":"+'Roster LIMA'!J15858","v":103},{"$f":"+'Roster LIMA'!K15858","v":"x"},{"$f":"+'Roster LIMA'!E15858","v":0},{"$f":"+'Roster LIMA'!B15858","v":309063},{"$f":"+'Roster LIMA'!C15858","v":0},{"$f":"+'Roster LIMA'!D15858","v":0},{"$f":"+'Roster LIMA'!L15858","v":"Germany"},{"$f":"+'Roster LIMA'!M15858","v":"DB"},{"$f":"+'Roster LIMA'!N15856","v":"No"},{"$f":"+'Roster LIMA'!O15858","v":"Freight"},{"$f":"+'Roster LIMA'!P15858","v":"Car transporter"},{"$f":"+'Roster LIMA'!Q15858","v":"With 6 cars"},{"$f":"+'Roster LIMA'!R15858","v":3},{"$f":"+'Roster LIMA'!S15858","v":"N/A"},{"$f":"+'Roster LIMA'!T15858","v":"Yes"},{"$f":"+'Roster LIMA'!U15858","v":1961},{"$f":"+'Roster LIMA'!V15858","v":"Operational"},{"$f":"+'Roster LIMA'!W15858","v":"III b / IV a / IV b / V a / V b"},{"$f":"+'Roster LIMA'!X15858","v":"L-type"},{"$f":"+'Roster LIMA'!Y15858","v":"Laeqrss 545"},{"$f":"+'Roster LIMA'!Z15858","v":"Offehss 68"},{"$f":"+'Roster LIMA'!AA15858","v":"N/A"},{"$f":"+'Roster LIMA'!AB15858","v":"Built since the early 1960's. Two wagons joined together"},{"$f":"+'Roster LIMA'!AC15858","v":"Goth"},{"$f":"+'Roster LIMA'!AD15858","v":"N/A"},{"$f":"+'Roster LIMA'!AE15858","v":"N/A"},{"$f":"+'Roster LIMA'!AF15858","v":"N/A"},{"$f":"+'Roster LIMA'!AG15858","v":"N/A"},{"$f":"+'Roster LIMA'!AH15858","v":"Grey"},{"$f":"+'Roster LIMA'!AI15858","v":"Grey"},{"$f":"+'Roster LIMA'!AJ15858","v":"Grey"},{"$f":"+'Roster LIMA'!AK15858","v":"N/A"},{"$f":"+'Roster LIMA'!AL15858","v":"N/A"},{"$f":"+'Roster LIMA'!AM15858","v":"Blue"},{"$f":"+'Roster LIMA'!AN15858","v":"N/A"},{"$f":"+'Roster LIMA'!AO15858","v":"N/A"},{"$f":"+'Roster LIMA'!AP15858","v":0},{"$f":"+'Roster LIMA'!AQ15858","v":0},{"$f":"+'Roster LIMA'!AR15858","v":3},{"$f":"+'Roster LIMA'!AS15858","v":1.1494252873563218E-2},{"$f":"+'Roster LIMA'!AT15858","v":282},{"$f":"+'Roster LIMA'!AU15858","v":"Yes"}]
[{"$f":"+'Roster LIMA'!F15859","v":"HL6047"},{"$f":"+'Roster LIMA'!G15859","v":2008},{"$f":"+'Roster LIMA'!H15859","v":"Yes"},{"$f":"+'Roster LIMA'!I15859","v":"ML"},{"$f":"+'Roster LIMA'!J15859","v":103},{"$f":"+'Roster LIMA'!K15859","v":"x"},{"$f":"+'Roster LIMA'!E15859","v":0},{"$f":"+'Roster LIMA'!B15859","v":303121},{"$f":"+'Roster LIMA'!C15859","v":0},{"$f":"+'Roster LIMA'!D15859","v":0},{"$f":"+'Roster LIMA'!L15859","v":"Switzerland"},{"$f":"+'Roster LIMA'!M15859","v":"SBB/CFF"},{"$f":"+'Roster LIMA'!N15857","v":"No"},{"$f":"+'Roster LIMA'!O15859","v":"Freight"},{"$f":"+'Roster LIMA'!P15859","v":"Reefer"},{"$f":"+'Roster LIMA'!Q15859","v":"With ladder"},{"$f":"+'Roster LIMA'!R15859","v":"2'2'"},{"$f":"+'Roster LIMA'!S15859","v":"Hobby Line"},{"$f":"+'Roster LIMA'!T15859","v":"Yes"},{"$f":"+'Roster LIMA'!U15859","v":1968},{"$f":"+'Roster LIMA'!V15859","v":2003},{"$f":"+'Roster LIMA'!W15859","v":"IV a / IV b / V a / V b"},{"$f":"+'Roster LIMA'!X15859","v":"I-type"},{"$f":"+'Roster LIMA'!Y15859","v":"Iaes"},{"$f":"+'Roster LIMA'!Z15859","v":"N/A"},{"$f":"+'Roster LIMA'!AA15859","v":"N/A"},{"$f":"+'Roster LIMA'!AB15859","v":"100 units, built in the late 1940's"},{"$f":"+'Roster LIMA'!AC15859","v":"Interfrigo"},{"$f":"+'Roster LIMA'!AD15859","v":"N/A"},{"$f":"+'Roster LIMA'!AE15859","v":"N/A"},{"$f":"+'Roster LIMA'!AF15859","v":"N/A"},{"$f":"+'Roster LIMA'!AG15859","v":"N/A"},{"$f":"+'Roster LIMA'!AH15859","v":"Light Blue"},{"$f":"+'Roster LIMA'!AI15859","v":"Light Blue"},{"$f":"+'Roster LIMA'!AJ15859","v":"Black"},{"$f":"+'Roster LIMA'!AK15859","v":"White"},{"$f":"+'Roster LIMA'!AL15859","v":"Light Blue"},{"$f":"+'Roster LIMA'!AM15859","v":"Blue"},{"$f":"+'Roster LIMA'!AN15859","v":"N/A"},{"$f":"+'Roster LIMA'!AO15859","v":"N/A"},{"$f":"+'Roster LIMA'!AP15859","v":0},{"$f":"+'Roster LIMA'!AQ15859","v":2},{"$f":"+'Roster LIMA'!AR15859","v":4},{"$f":"+'Roster LIMA'!AS15859","v":1.1494252873563218E-2},{"$f":"+'Roster LIMA'!AT15859","v":242},{"$f":"+'Roster LIMA'!AU15859","v":"Yes"}]
[{"$f":"+'Roster LIMA'!F15860","v":"HL1009"},{"$f":"+'Roster LIMA'!G15860","v":2008},{"$f":"+'Roster LIMA'!H15860","v":"Yes"},{"$f":"+'Roster LIMA'!I15860","v":"ML"},{"$f":"+'Roster LIMA'!J15860","v":21},{"$f":"+'Roster LIMA'!K15860","v":"x"},{"$f":"+'Roster LIMA'!E15860","v":0},{"$f":"+'Roster LIMA'!B15860","v":"N/A"},{"$f":"+'Roster LIMA'!C15860","v":0},{"$f":"+'Roster LIMA'!D15860","v":0},{"$f":"+'Roster LIMA'!L15860","v":"Germany"},{"$f":"+'Roster LIMA'!M15860","v":"DB"},{"$f":"+'Roster LIMA'!N15858","v":"No"},{"$f":"+'Roster LIMA'!O15860","v":"Passenger"},{"$f":"+'Roster LIMA'!P15860","v":"Set"},{"$f":"+'Roster LIMA'!Q15860","v":"Express service"},{"$f":"+'Roster LIMA'!R15860","v":"2'2'+(1A)(A1)+2'2'"},{"$f":"+'Roster LIMA'!S15860","v":"Starter"},{"$f":"+'Roster LIMA'!T15860","v":"Yes"},{"$f":"+'Roster LIMA'!U15860","v":1989},{"$f":"+'Roster LIMA'!V15860","v":"Operational"},{"$f":"+'Roster LIMA'!W15860","v":"V b / VI"},{"$f":"+'Roster LIMA'!X15860","v":"ICE-T"},{"$f":"+'Roster LIMA'!Y15860","v":"T"},{"$f":"+'Roster LIMA'!Z15860","v":"BR-415"},{"$f":"+'Roster LIMA'!AA15860","v":"N/A"},{"$f":"+'Roster LIMA'!AB15860","v":"3-unit set comprised of EMU Motor T, Intermediate FM, Driving trailer T1, track and electric power pack"},{"$f":"+'Roster LIMA'!AC15860","v":"N/A"},{"$f":"+'Roster LIMA'!AD15860","v":"Intercity"},{"$f":"+'Roster LIMA'!AE15860","v":"ICE"},{"$f":"+'Roster LIMA'!AF15860","v":"DB-AG"},{"$f":"+'Roster LIMA'!AG15860","v":"ICE"},{"$f":"+'Roster LIMA'!AH15860","v":"White"},{"$f":"+'Roster LIMA'!AI15860","v":"White"},{"$f":"+'Roster LIMA'!AJ15860","v":"White"},{"$f":"+'Roster LIMA'!AK15860","v":"Bicolor"},{"$f":"+'Roster LIMA'!AL15860","v":"Bicolor"},{"$f":"+'Roster LIMA'!AM15860","v":"Blue"},{"$f":"+'Roster LIMA'!AN15860","v":"Double cardan transmission"},{"$f":"+'Roster LIMA'!AO15860","v":"Single arm"},{"$f":"+'Roster LIMA'!AP15860","v":2},{"$f":"+'Roster LIMA'!AQ15860","v":6},{"$f":"+'Roster LIMA'!AR15860","v":12},{"$f":"+'Roster LIMA'!AS15860","v":1.1494252873563218E-2},{"$f":"+'Roster LIMA'!AT15860","v":945},{"$f":"+'Roster LIMA'!AU15860","v":"Yes"}]
[{"$f":"+'Roster LIMA'!F15861","v":"HL1024"},{"$f":"+'Roster LIMA'!G15861","v":2009},{"$f":"+'Roster LIMA'!H15861","v":"Yes"},{"$f":"+'Roster LIMA'!I15861","v":"ML"},{"$f":"+'Roster LIMA'!J15861","v":21},{"$f":"+'Roster LIMA'!K15861","v":"x"},{"$f":"+'Roster LIMA'!E15861","v":0},{"$f":"+'Roster LIMA'!B15861","v":"N/A"},{"$f":"+'Roster LIMA'!C15861","v":0},{"$f":"+'Roster LIMA'!D15861","v":0},{"$f":"+'Roster LIMA'!L15861","v":"Italy"},{"$f":"+'Roster LIMA'!M15861","v":"FS"},{"$f":"+'Roster LIMA'!N15859","v":"No"},{"$f":"+'Roster LIMA'!O15861","v":"Passenger"},{"$f":"+'Roster LIMA'!P15861","v":"Set"},{"$f":"+'Roster LIMA'!Q15861","v":"Express service"},{"$f":"+'Roster LIMA'!R15861","v":"(1A)(A1)+2'2'+2'2'+(1A)(A1)"},{"$f":"+'Roster LIMA'!S15861","v":"Starter"},{"$f":"+'Roster LIMA'!T15861","v":"Yes"},{"$f":"+'Roster LIMA'!U15861","v":1988},{"$f":"+'Roster LIMA'!V15861","v":2013},{"$f":"+'Roster LIMA'!W15861","v":"V a"},{"$f":"+'Roster LIMA'!X15861","v":"ETR-450"},{"$f":"+'Roster LIMA'!Y15861","v":"ETR-450"},{"$f":"+'Roster LIMA'!Z15861","v":"N/A"},{"$f":"+'Roster LIMA'!AA15861","v":"N/A"},{"$f":"+'Roster LIMA'!AB15861","v":"3-unit set comprised of EMU Motor, Intermediate, Driving trailer, track and electric power pack"},{"$f":"+'Roster LIMA'!AC15861","v":"N/A"},{"$f":"+'Roster LIMA'!AD15861","v":"ETR-450"},{"$f":"+'Roster LIMA'!AE15861","v":"Pendolino"},{"$f":"+'Roster LIMA'!AF15861","v":"Losanga"},{"$f":"+'Roster LIMA'!AG15861","v":"Frecciabianca"},{"$f":"+'Roster LIMA'!AH15861","v":"White"},{"$f":"+'Roster LIMA'!AI15861","v":"White"},{"$f":"+'Roster LIMA'!AJ15861","v":"White"},{"$f":"+'Roster LIMA'!AK15861","v":"Red"},{"$f":"+'Roster LIMA'!AL15861","v":"Bicolor"},{"$f":"+'Roster LIMA'!AM15861","v":"Blue"},{"$f":"+'Roster LIMA'!AN15861","v":"G-Motor"},{"$f":"+'Roster LIMA'!AO15861","v":"Double arm"},{"$f":"+'Roster LIMA'!AP15861","v":2},{"$f":"+'Roster LIMA'!AQ15861","v":6},{"$f":"+'Roster LIMA'!AR15861","v":12},{"$f":"+'Roster LIMA'!AS15861","v":0.01},{"$f":"+'Roster LIMA'!AT15861","v":754},{"$f":"+'Roster LIMA'!AU15861","v":"Yes"}]
[{"$f":"+'Roster LIMA'!F15862","v":"HL1025"},{"$f":"+'Roster LIMA'!G15862","v":2009},{"$f":"+'Roster LIMA'!H15862","v":"Yes"},{"$f":"+'Roster LIMA'!I15862","v":"ML"},{"$f":"+'Roster LIMA'!J15862","v":22},{"$f":"+'Roster LIMA'!K15862","v":"x"},{"$f":"+'Roster LIMA'!E15862","v":0},{"$f":"+'Roster LIMA'!B15862","v":"N/A"},{"$f":"+'Roster LIMA'!C15862","v":0},{"$f":"+'Roster LIMA'!D15862","v":0},{"$f":"+'Roster LIMA'!L15862","v":"Italy"},{"$f":"+'Roster LIMA'!M15862","v":"FS"},{"$f":"+'Roster LIMA'!N15860","v":"EMU"},{"$f":"+'Roster LIMA'!O15862","v":"Freight"},{"$f":"+'Roster LIMA'!P15862","v":"Set"},{"$f":"+'Roster LIMA'!Q15862","v":"Freight"},{"$f":"+'Roster LIMA'!R15862","v":"Bo'Bo'Bo'+2'2'+4+2+2"},{"$f":"+'Roster LIMA'!S15862","v":"Starter"},{"$f":"+'Roster LIMA'!T15862","v":"Yes"},{"$f":"+'Roster LIMA'!U15862","v":1986},{"$f":"+'Roster LIMA'!V15862","v":"Operational"},{"$f":"+'Roster LIMA'!W15862","v":"V a"},{"$f":"+'Roster LIMA'!X15862","v":"E-656"},{"$f":"+'Roster LIMA'!Y15862","v":"Treno container"},{"$f":"+'Roster LIMA'!Z15862","v":"N/A"},{"$f":"+'Roster LIMA'!AA15862","v":"N/A"},{"$f":"+'Roster LIMA'!AB15862","v":"4-unit set comprised of Electric locomotive E-656, Flat with 2 containers #HL 6037, crane, track and electric power track"},{"$f":"+'Roster LIMA'!AC15862","v":"N/A"},{"$f":"+'Roster LIMA'!AD15862","v":"N/A"},{"$f":"+'Roster LIMA'!AE15862","v":"N/A"},{"$f":"+'Roster LIMA'!AF15862","v":"Televisore"},{"$f":"+'Roster LIMA'!AG15862","v":"N/A"},{"$f":"+'Roster LIMA'!AH15862","v":"Blue"},{"$f":"+'Roster LIMA'!AI15862","v":"White"},{"$f":"+'Roster LIMA'!AJ15862","v":"Black"},{"$f":"+'Roster LIMA'!AK15862","v":"Grey"},{"$f":"+'Roster LIMA'!AL15862","v":"Grey"},{"$f":"+'Roster LIMA'!AM15862","v":"Blue"},{"$f":"+'Roster LIMA'!AN15862","v":"Double cardan transmission"},{"$f":"+'Roster LIMA'!AO15862","v":"Double arm"},{"$f":"+'Roster LIMA'!AP15862","v":2},{"$f":"+'Roster LIMA'!AQ15862","v":4},{"$f":"+'Roster LIMA'!AR15862","v":16},{"$f":"+'Roster LIMA'!AS15862","v":1.1494252873563218E-2},{"$f":"+'Roster LIMA'!AT15862","v":640},{"$f":"+'Roster LIMA'!AU15862","v":"Replace"}]
[{"$f":"+'Roster LIMA'!F15863","v":"HL1026"},{"$f":"+'Roster LIMA'!G15863","v":2009},{"$f":"+'Roster LIMA'!H15863","v":"Yes"},{"$f":"+'Roster LIMA'!I15863","v":"ML"},{"$f":"+'Roster LIMA'!J15863","v":22},{"$f":"+'Roster LIMA'!K15863","v":"x"},{"$f":"+'Roster LIMA'!E15863","v":0},{"$f":"+'Roster LIMA'!B15863","v":"N/A"},{"$f":"+'Roster LIMA'!C15863","v":0},{"$f":"+'Roster LIMA'!D15863","v":0},{"$f":"+'Roster LIMA'!L15863","v":"Germany"},{"$f":"+'Roster LIMA'!M15863","v":"DB"},{"$f":"+'Roster LIMA'!N15861","v":"EMU"},{"$f":"+'Roster LIMA'!O15863","v":"Freight"},{"$f":"+'Roster LIMA'!P15863","v":"Set"},{"$f":"+'Roster LIMA'!Q15863","v":"Freight"},{"$f":"+'Roster LIMA'!R15863","v":"B'B'+2+2"},{"$f":"+'Roster LIMA'!S15863","v":"Starter"},{"$f":"+'Roster LIMA'!T15863","v":"Yes"},{"$f":"+'Roster LIMA'!U15863","v":1974},{"$f":"+'Roster LIMA'!V15863","v":1999},{"$f":"+'Roster LIMA'!W15863","v":"V b"},{"$f":"+'Roster LIMA'!X15863","v":"BR-218"},{"$f":"+'Roster LIMA'!Y15863","v":"Treno container"},{"$f":"+'Roster LIMA'!Z15863","v":"N/A"},{"$f":"+'Roster LIMA'!AA15863","v":"N/A"},{"$f":"+'Roster LIMA'!AB15863","v":"3-unit set comprised of Diesel locomotive #HL 2029, Flat with 2 containers #HL 6037 x 2, gantry crane, track and electric power pack"},{"$f":"+'Roster LIMA'!AC15863","v":"N/A"},{"$f":"+'Roster LIMA'!AD15863","v":"N/A"},{"$f":"+'Roster LIMA'!AE15863","v":"N/A"},{"$f":"+'Roster LIMA'!AF15863","v":"DB-AG"},{"$f":"+'Roster LIMA'!AG15863","v":"N/A"},{"$f":"+'Roster LIMA'!AH15863","v":"Red"},{"$f":"+'Roster LIMA'!AI15863","v":"Grey"},{"$f":"+'Roster LIMA'!AJ15863","v":"Black"},{"$f":"+'Roster LIMA'!AK15863","v":"Orange"},{"$f":"+'Roster LIMA'!AL15863","v":"Red"},{"$f":"+'Roster LIMA'!AM15863","v":"Blue"},{"$f":"+'Roster LIMA'!AN15863","v":"G-Motor"},{"$f":"+'Roster LIMA'!AO15863","v":"N/A"},{"$f":"+'Roster LIMA'!AP15863","v":0},{"$f":"+'Roster LIMA'!AQ15863","v":2},{"$f":"+'Roster LIMA'!AR15863","v":8},{"$f":"+'Roster LIMA'!AS15863","v":1.1494252873563218E-2},{"$f":"+'Roster LIMA'!AT15863","v":524},{"$f":"+'Roster LIMA'!AU15863","v":"Replace"}]
[{"$f":"+'Roster LIMA'!F15864","v":"HL1027"},{"$f":"+'Roster LIMA'!G15864","v":2009},{"$f":"+'Roster LIMA'!H15864","v":"Yes"},{"$f":"+'Roster LIMA'!I15864","v":"ML"},{"$f":"+'Roster LIMA'!J15864","v":23},{"$f":"+'Roster LIMA'!K15864","v":"x"},{"$f":"+'Roster LIMA'!E15864","v":0},{"$f":"+'Roster LIMA'!B15864","v":106515},{"$f":"+'Roster LIMA'!C15864","v":"T"},{"$f":"+'Roster LIMA'!D15864","v":0},{"$f":"+'Roster LIMA'!L15864","v":"France"},{"$f":"+'Roster LIMA'!M15864","v":"SNCF"},{"$f":"+'Roster LIMA'!N15862","v":"No"},{"$f":"+'Roster LIMA'!O15864","v":"Passenger"},{"$f":"+'Roster LIMA'!P15864","v":"Set"},{"$f":"+'Roster LIMA'!Q15864","v":"Express service"},{"$f":"+'Roster LIMA'!R15864","v":"Bo'Bo'+2'+2'+Bo'Bo'"},{"$f":"+'Roster LIMA'!S15864","v":"Starter"},{"$f":"+'Roster LIMA'!T15864","v":"Yes"},{"$f":"+'Roster LIMA'!U15864","v":1989},{"$f":"+'Roster LIMA'!V15864","v":"Operational"},{"$f":"+'Roster LIMA'!W15864","v":"V a / V b"},{"$f":"+'Roster LIMA'!X15864","v":"TGV Atlantique"},{"$f":"+'Roster LIMA'!Y15864","v":"TGV"},{"$f":"+'Roster LIMA'!Z15864","v":"N/A"},{"$f":"+'Roster LIMA'!AA15864","v":"N/A"},{"$f":"+'Roster LIMA'!AB15864","v":"4-unit set comprised of EMU Motor M1, Intermediate R1, R8, Driving trailer M2, track and electric power pack"},{"$f":"+'Roster LIMA'!AC15864","v":"N/A"},{"$f":"+'Roster LIMA'!AD15864","v":"TGV Atlantique"},{"$f":"+'Roster LIMA'!AE15864","v":"TGV"},{"$f":"+'Roster LIMA'!AF15864","v":"Casquette"},{"$f":"+'Roster LIMA'!AG15864","v":"Grise-Bleue"},{"$f":"+'Roster LIMA'!AH15864","v":"Grey"},{"$f":"+'Roster LIMA'!AI15864","v":"Grey"},{"$f":"+'Roster LIMA'!AJ15864","v":"Grey"},{"$f":"+'Roster LIMA'!AK15864","v":"Blue"},{"$f":"+'Roster LIMA'!AL15864","v":"Bicolor"},{"$f":"+'Roster LIMA'!AM15864","v":"Blue"},{"$f":"+'Roster LIMA'!AN15864","v":"G-Motor"},{"$f":"+'Roster LIMA'!AO15864","v":"Single arm"},{"$f":"+'Roster LIMA'!AP15864","v":2},{"$f":"+'Roster LIMA'!AQ15864","v":7},{"$f":"+'Roster LIMA'!AR15864","v":14},{"$f":"+'Roster LIMA'!AS15864","v":1.1494252873563218E-2},{"$f":"+'Roster LIMA'!AT15864","v":1012},{"$f":"+'Roster LIMA'!AU15864","v":"Replace"}]
[{"$f":"+'Roster LIMA'!F15865","v":"HL1013"},{"$f":"+'Roster LIMA'!G15865","v":2009},{"$f":"+'Roster LIMA'!H15865","v":"Yes"},{"$f":"+'Roster LIMA'!I15865","v":"ML"},{"$f":"+'Roster LIMA'!J15865","v":23},{"$f":"+'Roster LIMA'!K15865","v":"x"},{"$f":"+'Roster LIMA'!E15865","v":0},{"$f":"+'Roster LIMA'!B15865","v":106502},{"$f":"+'Roster LIMA'!C15865","v":"T"},{"$f":"+'Roster LIMA'!D15865","v":0},{"$f":"+'Roster LIMA'!L15865","v":"Italy"},{"$f":"+'Roster LIMA'!M15865","v":"FS"},{"$f":"+'Roster LIMA'!N15863","v":"No"},{"$f":"+'Roster LIMA'!O15865","v":"Passenger"},{"$f":"+'Roster LIMA'!P15865","v":"Set"},{"$f":"+'Roster LIMA'!Q15865","v":"Express service"},{"$f":"+'Roster LIMA'!R15865","v":"(1A)(A1)+2'2'+2'2'+(1A)(A1)"},{"$f":"+'Roster LIMA'!S15865","v":"Starter"},{"$f":"+'Roster LIMA'!T15865","v":"Yes"},{"$f":"+'Roster LIMA'!U15865","v":1997},{"$f":"+'Roster LIMA'!V15865","v":"Operational"},{"$f":"+'Roster LIMA'!W15865","v":"V b / VI"},{"$f":"+'Roster LIMA'!X15865","v":"ETR-480"},{"$f":"+'Roster LIMA'!Y15865","v":"ETR-480"},{"$f":"+'Roster LIMA'!Z15865","v":"N/A"},{"$f":"+'Roster LIMA'!AA15865","v":"N/A"},{"$f":"+'Roster LIMA'!AB15865","v":"4-unit set comprised of EMU Motor Bac1, Intermediate Bb1, Bb2, Driving trailer Bac2, track and electric power pack"},{"$f":"+'Roster LIMA'!AC15865","v":"N/A"},{"$f":"+'Roster LIMA'!AD15865","v":"ETR-480"},{"$f":"+'Roster LIMA'!AE15865","v":"Eurostar Italia"},{"$f":"+'Roster LIMA'!AF15865","v":"XMPR 1"},{"$f":"+'Roster LIMA'!AG15865","v":"Frecciabianca"},{"$f":"+'Roster LIMA'!AH15865","v":"White"},{"$f":"+'Roster LIMA'!AI15865","v":"White"},{"$f":"+'Roster LIMA'!AJ15865","v":"White"},{"$f":"+'Roster LIMA'!AK15865","v":"Red"},{"$f":"+'Roster LIMA'!AL15865","v":"Bicolor"},{"$f":"+'Roster LIMA'!AM15865","v":"Blue"},{"$f":"+'Roster LIMA'!AN15865","v":"Double cardan transmission"},{"$f":"+'Roster LIMA'!AO15865","v":"Single arm"},{"$f":"+'Roster LIMA'!AP15865","v":2},{"$f":"+'Roster LIMA'!AQ15865","v":8},{"$f":"+'Roster LIMA'!AR15865","v":16},{"$f":"+'Roster LIMA'!AS15865","v":1.1494252873563218E-2},{"$f":"+'Roster LIMA'!AT15865","v":1230},{"$f":"+'Roster LIMA'!AU15865","v":"Yes"}]
[{"$f":"+'Roster LIMA'!F15866","v":"HL1008"},{"$f":"+'Roster LIMA'!G15866","v":2009},{"$f":"+'Roster LIMA'!H15866","v":"Yes"},{"$f":"+'Roster LIMA'!I15866","v":"ML"},{"$f":"+'Roster LIMA'!J15866","v":24},{"$f":"+'Roster LIMA'!K15866","v":"x"},{"$f":"+'Roster LIMA'!E15866","v":0},{"$f":"+'Roster LIMA'!B15866","v":"N/A"},{"$f":"+'Roster LIMA'!C15866","v":""},{"$f":"+'Roster LIMA'!D15866","v":0},{"$f":"+'Roster LIMA'!L15866","v":"Switzerland"},{"$f":"+'Roster LIMA'!M15866","v":"SBB/CFF"},{"$f":"+'Roster LIMA'!N15864","v":"EMU"},{"$f":"+'Roster LIMA'!O15866","v":"Passenger"},{"$f":"+'Roster LIMA'!P15866","v":"Set"},{"$f":"+'Roster LIMA'!Q15866","v":"Express service"},{"$f":"+'Roster LIMA'!R15866","v":"(1A)(A1)+2'2'+2'2'+(1A)(A1)"},{"$f":"+'Roster LIMA'!S15866","v":"Starter"},{"$f":"+'Roster LIMA'!T15866","v":"Yes"},{"$f":"+'Roster LIMA'!U15866","v":1994},{"$f":"+'Roster LIMA'!V15866","v":"Operational"},{"$f":"+'Roster LIMA'!W15866","v":"V b"},{"$f":"+'Roster LIMA'!X15866","v":"ETR-470"},{"$f":"+'Roster LIMA'!Y15866","v":"ETR-470"},{"$f":"+'Roster LIMA'!Z15866","v":"N/A"},{"$f":"+'Roster LIMA'!AA15866","v":"N/A"},{"$f":"+'Roster LIMA'!AB15866","v":"4-unit set comprised of EMU Motor, Intermediate x 2, Driving trailer, track and electric power pack"},{"$f":"+'Roster LIMA'!AC15866","v":"N/A"},{"$f":"+'Roster LIMA'!AD15866","v":"ETR-470"},{"$f":"+'Roster LIMA'!AE15866","v":"Cisalpino"},{"$f":"+'Roster LIMA'!AF15866","v":"Cisalpino"},{"$f":"+'Roster LIMA'!AG15866","v":"Cisalpino"},{"$f":"+'Roster LIMA'!AH15866","v":"White"},{"$f":"+'Roster LIMA'!AI15866","v":"White"},{"$f":"+'Roster LIMA'!AJ15866","v":"Blue"},{"$f":"+'Roster LIMA'!AK15866","v":"Blue"},{"$f":"+'Roster LIMA'!AL15866","v":"Bicolor"},{"$f":"+'Roster LIMA'!AM15866","v":"Blue"},{"$f":"+'Roster LIMA'!AN15866","v":"G-Motor"},{"$f":"+'Roster LIMA'!AO15866","v":"Single arm"},{"$f":"+'Roster LIMA'!AP15866","v":2},{"$f":"+'Roster LIMA'!AQ15866","v":8},{"$f":"+'Roster LIMA'!AR15866","v":16},{"$f":"+'Roster LIMA'!AS15866","v":0.01},{"$f":"+'Roster LIMA'!AT15866","v":1050},{"$f":"+'Roster LIMA'!AU15866","v":"Yes"}]
[{"$f":"+'Roster LIMA'!F15867","v":"HL1007"},{"$f":"+'Roster LIMA'!G15867","v":2009},{"$f":"+'Roster LIMA'!H15867","v":"Yes"},{"$f":"+'Roster LIMA'!I15867","v":"ML"},{"$f":"+'Roster LIMA'!J15867","v":24},{"$f":"+'Roster LIMA'!K15867","v":"x"},{"$f":"+'Roster LIMA'!E15867","v":0},{"$f":"+'Roster LIMA'!B15867","v":"N/A"},{"$f":"+'Roster LIMA'!C15867","v":""},{"$f":"+'Roster LIMA'!D15867","v":0},{"$f":"+'Roster LIMA'!L15867","v":"Italy"},{"$f":"+'Roster LIMA'!M15867","v":"FS"},{"$f":"+'Roster LIMA'!N15865","v":"EMU"},{"$f":"+'Roster LIMA'!O15867","v":"Freight"},{"$f":"+'Roster LIMA'!P15867","v":"Set"},{"$f":"+'Roster LIMA'!Q15867","v":"Freight"},{"$f":"+'Roster LIMA'!R15867","v":"B'B'+2+2+2"},{"$f":"+'Roster LIMA'!S15867","v":"Starter"},{"$f":"+'Roster LIMA'!T15867","v":"Yes"},{"$f":"+'Roster LIMA'!U15867","v":1983},{"$f":"+'Roster LIMA'!V15867","v":2005},{"$f":"+'Roster LIMA'!W15867","v":"IV b"},{"$f":"+'Roster LIMA'!X15867","v":"D-445"},{"$f":"+'Roster LIMA'!Y15867","v":"Diesel merci"},{"$f":"+'Roster LIMA'!Z15867","v":"N/A"},{"$f":"+'Roster LIMA'!AA15867","v":"N/A"},{"$f":"+'Roster LIMA'!AB15867","v":"4-unit set comprised of Loco #HL 2010, Reefer #HL 6017, Tank #HL 6015, Flat #HL 6041, track and electric power pack"},{"$f":"+'Roster LIMA'!AC15867","v":"N/A"},{"$f":"+'Roster LIMA'!AD15867","v":"N/A"},{"$f":"+'Roster LIMA'!AE15867","v":"N/A"},{"$f":"+'Roster LIMA'!AF15867","v":"Televisore"},{"$f":"+'Roster LIMA'!AG15867","v":"Verde - Isabella"},{"$f":"+'Roster LIMA'!AH15867","v":"White"},{"$f":"+'Roster LIMA'!AI15867","v":"Grey"},{"$f":"+'Roster LIMA'!AJ15867","v":"Black"},{"$f":"+'Roster LIMA'!AK15867","v":"Yellow"},{"$f":"+'Roster LIMA'!AL15867","v":"White"},{"$f":"+'Roster LIMA'!AM15867","v":"Blue"},{"$f":"+'Roster LIMA'!AN15867","v":"G-Motor"},{"$f":"+'Roster LIMA'!AO15867","v":"N/A"},{"$f":"+'Roster LIMA'!AP15867","v":0},{"$f":"+'Roster LIMA'!AQ15867","v":2},{"$f":"+'Roster LIMA'!AR15867","v":10},{"$f":"+'Roster LIMA'!AS15867","v":1.1494252873563218E-2},{"$f":"+'Roster LIMA'!AT15867","v":527},{"$f":"+'Roster LIMA'!AU15867","v":"Yes"}]
[{"$f":"+'Roster LIMA'!F15868","v":"HL1018"},{"$f":"+'Roster LIMA'!G15868","v":2009},{"$f":"+'Roster LIMA'!H15868","v":"Yes"},{"$f":"+'Roster LIMA'!I15868","v":"ML"},{"$f":"+'Roster LIMA'!J15868","v":25},{"$f":"+'Roster LIMA'!K15868","v":"x"},{"$f":"+'Roster LIMA'!E15868","v":0},{"$f":"+'Roster LIMA'!B15868","v":"N/A"},{"$f":"+'Roster LIMA'!C15868","v":""},{"$f":"+'Roster LIMA'!D15868","v":0},{"$f":"+'Roster LIMA'!L15868","v":"Italy"},{"$f":"+'Roster LIMA'!M15868","v":"FS"},{"$f":"+'Roster LIMA'!N15866","v":"EMU"},{"$f":"+'Roster LIMA'!O15868","v":"Passenger"},{"$f":"+'Roster LIMA'!P15868","v":"Set"},{"$f":"+'Roster LIMA'!Q15868","v":"Regional service"},{"$f":"+'Roster LIMA'!R15868","v":"Bo'Bo'+2'2'+2'2'"},{"$f":"+'Roster LIMA'!S15868","v":"Starter"},{"$f":"+'Roster LIMA'!T15868","v":"Yes"},{"$f":"+'Roster LIMA'!U15868","v":1986},{"$f":"+'Roster LIMA'!V15868","v":2002},{"$f":"+'Roster LIMA'!W15868","v":"V b"},{"$f":"+'Roster LIMA'!X15868","v":"Doppio Piano 79"},{"$f":"+'Roster LIMA'!Y15868","v":"Diesel passeggeri"},{"$f":"+'Roster LIMA'!Z15868","v":"VB2N"},{"$f":"+'Roster LIMA'!AA15868","v":"N/A"},{"$f":"+'Roster LIMA'!AB15868","v":"3-unit set comprised of Electric locomotive #HL 2013, Passenger #HL 4006, #HL 4007, track and electric power pack"},{"$f":"+'Roster LIMA'!AC15868","v":"N/A"},{"$f":"+'Roster LIMA'!AD15868","v":"N/A"},{"$f":"+'Roster LIMA'!AE15868","v":"N/A"},{"$f":"+'Roster LIMA'!AF15868","v":"XMPR 1"},{"$f":"+'Roster LIMA'!AG15868","v":"XMPR"},{"$f":"+'Roster LIMA'!AH15868","v":"White"},{"$f":"+'Roster LIMA'!AI15868","v":"Grey"},{"$f":"+'Roster LIMA'!AJ15868","v":"Green"},{"$f":"+'Roster LIMA'!AK15868","v":"Green"},{"$f":"+'Roster LIMA'!AL15868","v":"Blue"},{"$f":"+'Roster LIMA'!AM15868","v":"Blue"},{"$f":"+'Roster LIMA'!AN15868","v":"G-Motor"},{"$f":"+'Roster LIMA'!AO15868","v":"Double arm"},{"$f":"+'Roster LIMA'!AP15868","v":2},{"$f":"+'Roster LIMA'!AQ15868","v":6},{"$f":"+'Roster LIMA'!AR15868","v":12},{"$f":"+'Roster LIMA'!AS15868","v":1.1494252873563218E-2},{"$f":"+'Roster LIMA'!AT15868","v":736},{"$f":"+'Roster LIMA'!AU15868","v":"Yes"}]
[{"$f":"+'Roster LIMA'!F15869","v":"HL2010"},{"$f":"+'Roster LIMA'!G15869","v":2009},{"$f":"+'Roster LIMA'!H15869","v":"Yes"},{"$f":"+'Roster LIMA'!I15869","v":"ML"},{"$f":"+'Roster LIMA'!J15869","v":26},{"$f":"+'Roster LIMA'!K15869","v":"x"},{"$f":"+'Roster LIMA'!E15869","v":0},{"$f":"+'Roster LIMA'!B15869","v":"N/A"},{"$f":"+'Roster LIMA'!C15869","v":0},{"$f":"+'Roster LIMA'!D15869","v":0},{"$f":"+'Roster LIMA'!L15869","v":"Italy"},{"$f":"+'Roster LIMA'!M15869","v":"FS"},{"$f":"+'Roster LIMA'!N15867","v":"No"},{"$f":"+'Roster LIMA'!O15869","v":"Locomotive"},{"$f":"+'Roster LIMA'!P15869","v":"Diesel"},{"$f":"+'Roster LIMA'!Q15869","v":"Regional service"},{"$f":"+'Roster LIMA'!R15869","v":"B'B'"},{"$f":"+'Roster LIMA'!S15869","v":"N/A"},{"$f":"+'Roster LIMA'!T15869","v":"Yes"},{"$f":"+'Roster LIMA'!U15869","v":1983},{"$f":"+'Roster LIMA'!V15869","v":"Operational"},{"$f":"+'Roster LIMA'!W15869","v":"V b / VI"},{"$f":"+'Roster LIMA'!X15869","v":"D-445"},{"$f":"+'Roster LIMA'!Y15869","v":"D-445.2"},{"$f":"+'Roster LIMA'!Z15869","v":"N/A"},{"$f":"+'Roster LIMA'!AA15869","v":"D445 1052"},{"$f":"+'Roster LIMA'!AB15869","v":"20 units, built between 1979-81 and numbered 1036-55. Focus on regional Passenger services. With 3 headlights"},{"$f":"+'Roster LIMA'!AC15869","v":"N/A"},{"$f":"+'Roster LIMA'!AD15869","v":"N/A"},{"$f":"+'Roster LIMA'!AE15869","v":"N/A"},{"$f":"+'Roster LIMA'!AF15869","v":"XMPR 2"},{"$f":"+'Roster LIMA'!AG15869","v":"XMPR"},{"$f":"+'Roster LIMA'!AH15869","v":"White"},{"$f":"+'Roster LIMA'!AI15869","v":"Green"},{"$f":"+'Roster LIMA'!AJ15869","v":"Green"},{"$f":"+'Roster LIMA'!AK15869","v":"Red"},{"$f":"+'Roster LIMA'!AL15869","v":"Bicolor"},{"$f":"+'Roster LIMA'!AM15869","v":"Blue"},{"$f":"+'Roster LIMA'!AN15869","v":"G-Motor"},{"$f":"+'Roster LIMA'!AO15869","v":"N/A"},{"$f":"+'Roster LIMA'!AP15869","v":0},{"$f":"+'Roster LIMA'!AQ15869","v":2},{"$f":"+'Roster LIMA'!AR15869","v":4},{"$f":"+'Roster LIMA'!AS15869","v":1.1494252873563218E-2},{"$f":"+'Roster LIMA'!AT15869","v":162},{"$f":"+'Roster LIMA'!AU15869","v":"Yes"}]
[{"$f":"+'Roster LIMA'!F15870","v":"HL2011"},{"$f":"+'Roster LIMA'!G15870","v":2009},{"$f":"+'Roster LIMA'!H15870","v":"Yes"},{"$f":"+'Roster LIMA'!I15870","v":"ML"},{"$f":"+'Roster LIMA'!J15870","v":26},{"$f":"+'Roster LIMA'!K15870","v":"x"},{"$f":"+'Roster LIMA'!E15870","v":0},{"$f":"+'Roster LIMA'!B15870","v":208034},{"$f":"+'Roster LIMA'!C15870","v":"L"},{"$f":"+'Roster LIMA'!D15870","v":0},{"$f":"+'Roster LIMA'!L15870","v":"Italy"},{"$f":"+'Roster LIMA'!M15870","v":"FS"},{"$f":"+'Roster LIMA'!N15868","v":"No"},{"$f":"+'Roster LIMA'!O15870","v":"Locomotive"},{"$f":"+'Roster LIMA'!P15870","v":"Electric"},{"$f":"+'Roster LIMA'!Q15870","v":"Express service"},{"$f":"+'Roster LIMA'!R15870","v":"Bo'Bo'"},{"$f":"+'Roster LIMA'!S15870","v":"N/A"},{"$f":"+'Roster LIMA'!T15870","v":"Yes"},{"$f":"+'Roster LIMA'!U15870","v":1967},{"$f":"+'Roster LIMA'!V15870","v":1986},{"$f":"+'Roster LIMA'!W15870","v":"IV a / IV b"},{"$f":"+'Roster LIMA'!X15870","v":"E-444"},{"$f":"+'Roster LIMA'!Y15870","v":"E-444P"},{"$f":"+'Roster LIMA'!Z15870","v":"N/A"},{"$f":"+'Roster LIMA'!AA15870","v":"E444 001"},{"$f":"+'Roster LIMA'!AB15870","v":"4 units, built in 1967 as prototype and numbered E.444.001/4. For express Passenger services. With squared front. Refurbished in the mid 1980's to Series E-444R"},{"$f":"+'Roster LIMA'!AC15870","v":"N/A"},{"$f":"+'Roster LIMA'!AD15870","v":"N/A"},{"$f":"+'Roster LIMA'!AE15870","v":"Tartaruga"},{"$f":"+'Roster LIMA'!AF15870","v":"E-444 1° series"},{"$f":"+'Roster LIMA'!AG15870","v":"Grigio perla-Blu orientale"},{"$f":"+'Roster LIMA'!AH15870","v":"White"},{"$f":"+'Roster LIMA'!AI15870","v":"White"},{"$f":"+'Roster LIMA'!AJ15870","v":"Blue"},{"$f":"+'Roster LIMA'!AK15870","v":"Blue"},{"$f":"+'Roster LIMA'!AL15870","v":"Bicolor"},{"$f":"+'Roster LIMA'!AM15870","v":"Blue"},{"$f":"+'Roster LIMA'!AN15870","v":"G-Motor"},{"$f":"+'Roster LIMA'!AO15870","v":"Double arm"},{"$f":"+'Roster LIMA'!AP15870","v":2},{"$f":"+'Roster LIMA'!AQ15870","v":2},{"$f":"+'Roster LIMA'!AR15870","v":4},{"$f":"+'Roster LIMA'!AS15870","v":1.1494252873563218E-2},{"$f":"+'Roster LIMA'!AT15870","v":194},{"$f":"+'Roster LIMA'!AU15870","v":"Yes"}]
[{"$f":"+'Roster LIMA'!F15871","v":"HL2012"},{"$f":"+'Roster LIMA'!G15871","v":2009},{"$f":"+'Roster LIMA'!H15871","v":"Yes"},{"$f":"+'Roster LIMA'!I15871","v":"ML"},{"$f":"+'Roster LIMA'!J15871","v":26},{"$f":"+'Roster LIMA'!K15871","v":"x"},{"$f":"+'Roster LIMA'!E15871","v":0},{"$f":"+'Roster LIMA'!B15871","v":200008},{"$f":"+'Roster LIMA'!C15871","v":0},{"$f":"+'Roster LIMA'!D15871","v":0},{"$f":"+'Roster LIMA'!L15871","v":"Italy"},{"$f":"+'Roster LIMA'!M15871","v":"FS"},{"$f":"+'Roster LIMA'!N15869","v":"No"},{"$f":"+'Roster LIMA'!O15871","v":"Locomotive"},{"$f":"+'Roster LIMA'!P15871","v":"Diesel"},{"$f":"+'Roster LIMA'!Q15871","v":"Shunter"},{"$f":"+'Roster LIMA'!R15871","v":"B"},{"$f":"+'Roster LIMA'!S15871","v":"N/A"},{"$f":"+'Roster LIMA'!T15871","v":"No"},{"$f":"+'Roster LIMA'!U15871","v":1950},{"$f":"+'Roster LIMA'!V15871","v":1985},{"$f":"+'Roster LIMA'!W15871","v":"III b / IV a / IV b / V a"},{"$f":"+'Roster LIMA'!X15871","v":"Plymouth"},{"$f":"+'Roster LIMA'!Y15871","v":"MDT"},{"$f":"+'Roster LIMA'!Z15871","v":"N/A"},{"$f":"+'Roster LIMA'!AA15871","v":"N/A"},{"$f":"+'Roster LIMA'!AB15871","v":"Built in the early 1950's. Focus on light industrial use. FS never owned MDT locomotives, LIMA invention"},{"$f":"+'Roster LIMA'!AC15871","v":"N/A"},{"$f":"+'Roster LIMA'!AD15871","v":"N/A"},{"$f":"+'Roster LIMA'!AE15871","v":"N/A"},{"$f":"+'Roster LIMA'!AF15871","v":"N/A"},{"$f":"+'Roster LIMA'!AG15871","v":"N/A"},{"$f":"+'Roster LIMA'!AH15871","v":"Red"},{"$f":"+'Roster LIMA'!AI15871","v":"Red"},{"$f":"+'Roster LIMA'!AJ15871","v":"Black"},{"$f":"+'Roster LIMA'!AK15871","v":"Yellow"},{"$f":"+'Roster LIMA'!AL15871","v":"Red"},{"$f":"+'Roster LIMA'!AM15871","v":"Blue"},{"$f":"+'Roster LIMA'!AN15871","v":"G-Motor"},{"$f":"+'Roster LIMA'!AO15871","v":"N/A"},{"$f":"+'Roster LIMA'!AP15871","v":0},{"$f":"+'Roster LIMA'!AQ15871","v":0},{"$f":"+'Roster LIMA'!AR15871","v":2},{"$f":"+'Roster LIMA'!AS15871","v":1.1494252873563218E-2},{"$f":"+'Roster LIMA'!AT15871","v":119},{"$f":"+'Roster LIMA'!AU15871","v":"Yes"}]
[{"$f":"+'Roster LIMA'!F15872","v":"HL2013"},{"$f":"+'Roster LIMA'!G15872","v":2009},{"$f":"+'Roster LIMA'!H15872","v":"Yes"},{"$f":"+'Roster LIMA'!I15872","v":"ML"},{"$f":"+'Roster LIMA'!J15872","v":26},{"$f":"+'Roster LIMA'!K15872","v":"x"},{"$f":"+'Roster LIMA'!E15872","v":0},{"$f":"+'Roster LIMA'!B15872","v":208004},{"$f":"+'Roster LIMA'!C15872","v":"L"},{"$f":"+'Roster LIMA'!D15872","v":0},{"$f":"+'Roster LIMA'!L15872","v":"Italy"},{"$f":"+'Roster LIMA'!M15872","v":"FS"},{"$f":"+'Roster LIMA'!N15870","v":"No"},{"$f":"+'Roster LIMA'!O15872","v":"Locomotive"},{"$f":"+'Roster LIMA'!P15872","v":"Electric"},{"$f":"+'Roster LIMA'!Q15872","v":"Multipurpose"},{"$f":"+'Roster LIMA'!R15872","v":"Bo'Bo'"},{"$f":"+'Roster LIMA'!S15872","v":"N/A"},{"$f":"+'Roster LIMA'!T15872","v":"Yes"},{"$f":"+'Roster LIMA'!U15872","v":1986},{"$f":"+'Roster LIMA'!V15872","v":2007},{"$f":"+'Roster LIMA'!W15872","v":"V b / VI"},{"$f":"+'Roster LIMA'!X15872","v":"E-424"},{"$f":"+'Roster LIMA'!Y15872","v":"E-424-200"},{"$f":"+'Roster LIMA'!Z15872","v":"N/A"},{"$f":"+'Roster LIMA'!AA15872","v":"E424 216"},{"$f":"+'Roster LIMA'!AB15872","v":"105 units, refurbished in 1987 from former E-424 locomotives and renumbered E.424.200/104. Focus on \"Push-Pull\" Passenger services"},{"$f":"+'Roster LIMA'!AC15872","v":"N/A"},{"$f":"+'Roster LIMA'!AD15872","v":"N/A"},{"$f":"+'Roster LIMA'!AE15872","v":"N/A"},{"$f":"+'Roster LIMA'!AF15872","v":"XMPR 1"},{"$f":"+'Roster LIMA'!AG15872","v":"XMPR"},{"$f":"+'Roster LIMA'!AH15872","v":"White"},{"$f":"+'Roster LIMA'!AI15872","v":"Green"},{"$f":"+'Roster LIMA'!AJ15872","v":"Blue"},{"$f":"+'Roster LIMA'!AK15872","v":"Green"},{"$f":"+'Roster LIMA'!AL15872","v":"White"},{"$f":"+'Roster LIMA'!AM15872","v":"Blue"},{"$f":"+'Roster LIMA'!AN15872","v":"G-Motor"},{"$f":"+'Roster LIMA'!AO15872","v":"Double arm"},{"$f":"+'Roster LIMA'!AP15872","v":2},{"$f":"+'Roster LIMA'!AQ15872","v":2},{"$f":"+'Roster LIMA'!AR15872","v":4},{"$f":"+'Roster LIMA'!AS15872","v":1.1494252873563218E-2},{"$f":"+'Roster LIMA'!AT15872","v":178},{"$f":"+'Roster LIMA'!AU15872","v":"Yes"}]
[{"$f":"+'Roster LIMA'!F15873","v":"HL4031"},{"$f":"+'Roster LIMA'!G15873","v":2009},{"$f":"+'Roster LIMA'!H15873","v":"Yes"},{"$f":"+'Roster LIMA'!I15873","v":"ML"},{"$f":"+'Roster LIMA'!J15873","v":27},{"$f":"+'Roster LIMA'!K15873","v":"x"},{"$f":"+'Roster LIMA'!E15873","v":0},{"$f":"+'Roster LIMA'!B15873","v":309328},{"$f":"+'Roster LIMA'!C15873","v":0},{"$f":"+'Roster LIMA'!D15873","v":0},{"$f":"+'Roster LIMA'!L15873","v":"Italy"},{"$f":"+'Roster LIMA'!M15873","v":"FS"},{"$f":"+'Roster LIMA'!N15871","v":"No"},{"$f":"+'Roster LIMA'!O15873","v":"Passenger"},{"$f":"+'Roster LIMA'!P15873","v":"Self Service"},{"$f":"+'Roster LIMA'!Q15873","v":"Restaurant"},{"$f":"+'Roster LIMA'!R15873","v":"2'2'"},{"$f":"+'Roster LIMA'!S15873","v":"N/A"},{"$f":"+'Roster LIMA'!T15873","v":"Yes"},{"$f":"+'Roster LIMA'!U15873","v":1997},{"$f":"+'Roster LIMA'!V15873","v":2015},{"$f":"+'Roster LIMA'!W15873","v":"V b"},{"$f":"+'Roster LIMA'!X15873","v":"Self Service"},{"$f":"+'Roster LIMA'!Y15873","v":"WR"},{"$f":"+'Roster LIMA'!Z15873","v":"Series 1979"},{"$f":"+'Roster LIMA'!AA15873","v":"61 83 88-90 151-3"},{"$f":"+'Roster LIMA'!AB15873","v":"20 units, built between 1980-81 and numbered 50 83 88-98 120/139. Refurbished in the mid 1990's as \"Snack Bar Ristorante\" and renumbered 61 83 88-90 150/170"},{"$f":"+'Roster LIMA'!AC15873","v":"Ristorante"},{"$f":"+'Roster LIMA'!AD15873","v":"N/A"},{"$f":"+'Roster LIMA'!AE15873","v":"N/A"},{"$f":"+'Roster LIMA'!AF15873","v":"XMPR 1"},{"$f":"+'Roster LIMA'!AG15873","v":"XMPR"},{"$f":"+'Roster LIMA'!AH15873","v":"White"},{"$f":"+'Roster LIMA'!AI15873","v":"Grey"},{"$f":"+'Roster LIMA'!AJ15873","v":"Green"},{"$f":"+'Roster LIMA'!AK15873","v":"Red"},{"$f":"+'Roster LIMA'!AL15873","v":"Bicolor"},{"$f":"+'Roster LIMA'!AM15873","v":"Blue"},{"$f":"+'Roster LIMA'!AN15873","v":"N/A"},{"$f":"+'Roster LIMA'!AO15873","v":"N/A"},{"$f":"+'Roster LIMA'!AP15873","v":0},{"$f":"+'Roster LIMA'!AQ15873","v":2},{"$f":"+'Roster LIMA'!AR15873","v":4},{"$f":"+'Roster LIMA'!AS15873","v":0.01},{"$f":"+'Roster LIMA'!AT15873","v":265},{"$f":"+'Roster LIMA'!AU15873","v":"Yes"}]
[{"$f":"+'Roster LIMA'!F15874","v":"HL4032"},{"$f":"+'Roster LIMA'!G15874","v":2009},{"$f":"+'Roster LIMA'!H15874","v":"Yes"},{"$f":"+'Roster LIMA'!I15874","v":"ML"},{"$f":"+'Roster LIMA'!J15874","v":27},{"$f":"+'Roster LIMA'!K15874","v":"x"},{"$f":"+'Roster LIMA'!E15874","v":0},{"$f":"+'Roster LIMA'!B15874","v":309330},{"$f":"+'Roster LIMA'!C15874","v":0},{"$f":"+'Roster LIMA'!D15874","v":0},{"$f":"+'Roster LIMA'!L15874","v":"Italy"},{"$f":"+'Roster LIMA'!M15874","v":"FS"},{"$f":"+'Roster LIMA'!N15872","v":"No"},{"$f":"+'Roster LIMA'!O15874","v":"Passenger"},{"$f":"+'Roster LIMA'!P15874","v":"Couchette"},{"$f":"+'Roster LIMA'!Q15874","v":"2° class"},{"$f":"+'Roster LIMA'!R15874","v":"2'2'"},{"$f":"+'Roster LIMA'!S15874","v":"Hobby Line"},{"$f":"+'Roster LIMA'!T15874","v":"Yes"},{"$f":"+'Roster LIMA'!U15874","v":1996},{"$f":"+'Roster LIMA'!V15874","v":"Operational"},{"$f":"+'Roster LIMA'!W15874","v":"V b / VI"},{"$f":"+'Roster LIMA'!X15874","v":"UIC-X"},{"$f":"+'Roster LIMA'!Y15874","v":"T4"},{"$f":"+'Roster LIMA'!Z15874","v":"Series 1995"},{"$f":"+'Roster LIMA'!AA15874","v":"50 83 59-78 002-2"},{"$f":"+'Roster LIMA'!AB15874","v":"117 units, refurbished between 1996-2000 from former Series 1968/70 & 75 coaches"},{"$f":"+'Roster LIMA'!AC15874","v":"Treno Notte"},{"$f":"+'Roster LIMA'!AD15874","v":"N/A"},{"$f":"+'Roster LIMA'!AE15874","v":"N/A"},{"$f":"+'Roster LIMA'!AF15874","v":"XMPR 1"},{"$f":"+'Roster LIMA'!AG15874","v":"XMPR"},{"$f":"+'Roster LIMA'!AH15874","v":"Blue"},{"$f":"+'Roster LIMA'!AI15874","v":"Grey"},{"$f":"+'Roster LIMA'!AJ15874","v":"Green"},{"$f":"+'Roster LIMA'!AK15874","v":"White"},{"$f":"+'Roster LIMA'!AL15874","v":"Tricolor"},{"$f":"+'Roster LIMA'!AM15874","v":"Blue"},{"$f":"+'Roster LIMA'!AN15874","v":"N/A"},{"$f":"+'Roster LIMA'!AO15874","v":"N/A"},{"$f":"+'Roster LIMA'!AP15874","v":0},{"$f":"+'Roster LIMA'!AQ15874","v":2},{"$f":"+'Roster LIMA'!AR15874","v":4},{"$f":"+'Roster LIMA'!AS15874","v":0.01},{"$f":"+'Roster LIMA'!AT15874","v":265},{"$f":"+'Roster LIMA'!AU15874","v":"Yes"}]
[{"$f":"+'Roster LIMA'!F15875","v":"HL4008"},{"$f":"+'Roster LIMA'!G15875","v":2009},{"$f":"+'Roster LIMA'!H15875","v":"Yes"},{"$f":"+'Roster LIMA'!I15875","v":"ML"},{"$f":"+'Roster LIMA'!J15875","v":28},{"$f":"+'Roster LIMA'!K15875","v":"x"},{"$f":"+'Roster LIMA'!E15875","v":0},{"$f":"+'Roster LIMA'!B15875","v":309655},{"$f":"+'Roster LIMA'!C15875","v":0},{"$f":"+'Roster LIMA'!D15875","v":0},{"$f":"+'Roster LIMA'!L15875","v":"Italy"},{"$f":"+'Roster LIMA'!M15875","v":"FS"},{"$f":"+'Roster LIMA'!N15873","v":"No"},{"$f":"+'Roster LIMA'!O15875","v":"Passenger"},{"$f":"+'Roster LIMA'!P15875","v":"With compartment"},{"$f":"+'Roster LIMA'!Q15875","v":"1° class"},{"$f":"+'Roster LIMA'!R15875","v":"2'2'"},{"$f":"+'Roster LIMA'!S15875","v":"N/A"},{"$f":"+'Roster LIMA'!T15875","v":"Yes"},{"$f":"+'Roster LIMA'!U15875","v":1978},{"$f":"+'Roster LIMA'!V15875","v":2004},{"$f":"+'Roster LIMA'!W15875","v":"V b"},{"$f":"+'Roster LIMA'!X15875","v":"UIC-Z1"},{"$f":"+'Roster LIMA'!Y15875","v":"A"},{"$f":"+'Roster LIMA'!Z15875","v":"Eurofima VSE"},{"$f":"+'Roster LIMA'!AA15875","v":"61 83 19-90 002-2"},{"$f":"+'Roster LIMA'!AB15875","v":"30 units, bought between 1977-79 and numbered 19-90 000/029"},{"$f":"+'Roster LIMA'!AC15875","v":"N/A"},{"$f":"+'Roster LIMA'!AD15875","v":"N/A"},{"$f":"+'Roster LIMA'!AE15875","v":"N/A"},{"$f":"+'Roster LIMA'!AF15875","v":"XMPR 1"},{"$f":"+'Roster LIMA'!AG15875","v":"XMPR"},{"$f":"+'Roster LIMA'!AH15875","v":"White"},{"$f":"+'Roster LIMA'!AI15875","v":"Grey"},{"$f":"+'Roster LIMA'!AJ15875","v":"Green"},{"$f":"+'Roster LIMA'!AK15875","v":"Green"},{"$f":"+'Roster LIMA'!AL15875","v":"Bicolor"},{"$f":"+'Roster LIMA'!AM15875","v":"Blue"},{"$f":"+'Roster LIMA'!AN15875","v":"N/A"},{"$f":"+'Roster LIMA'!AO15875","v":"N/A"},{"$f":"+'Roster LIMA'!AP15875","v":0},{"$f":"+'Roster LIMA'!AQ15875","v":2},{"$f":"+'Roster LIMA'!AR15875","v":4},{"$f":"+'Roster LIMA'!AS15875","v":"1/100"},{"$f":"+'Roster LIMA'!AT15875","v":265},{"$f":"+'Roster LIMA'!AU15875","v":"Yes"}]
[{"$f":"+'Roster LIMA'!F15876","v":"HL4009"},{"$f":"+'Roster LIMA'!G15876","v":2009},{"$f":"+'Roster LIMA'!H15876","v":"Yes"},{"$f":"+'Roster LIMA'!I15876","v":"ML"},{"$f":"+'Roster LIMA'!J15876","v":28},{"$f":"+'Roster LIMA'!K15876","v":"x"},{"$f":"+'Roster LIMA'!E15876","v":0},{"$f":"+'Roster LIMA'!B15876","v":309656},{"$f":"+'Roster LIMA'!C15876","v":0},{"$f":"+'Roster LIMA'!D15876","v":0},{"$f":"+'Roster LIMA'!L15876","v":"Italy"},{"$f":"+'Roster LIMA'!M15876","v":"FS"},{"$f":"+'Roster LIMA'!N15874","v":"No"},{"$f":"+'Roster LIMA'!O15876","v":"Passenger"},{"$f":"+'Roster LIMA'!P15876","v":"With compartment"},{"$f":"+'Roster LIMA'!Q15876","v":"2° class"},{"$f":"+'Roster LIMA'!R15876","v":"2'2'"},{"$f":"+'Roster LIMA'!S15876","v":"N/A"},{"$f":"+'Roster LIMA'!T15876","v":"Yes"},{"$f":"+'Roster LIMA'!U15876","v":1979},{"$f":"+'Roster LIMA'!V15876","v":"Operational"},{"$f":"+'Roster LIMA'!W15876","v":"V b / VI"},{"$f":"+'Roster LIMA'!X15876","v":"UIC-Z1"},{"$f":"+'Roster LIMA'!Y15876","v":"B"},{"$f":"+'Roster LIMA'!Z15876","v":"Eurofima VSE"},{"$f":"+'Roster LIMA'!AA15876","v":"61 83 21-90 061-4"},{"$f":"+'Roster LIMA'!AB15876","v":"70 units, bought between 1977-79 and numbered 21-90 000/069"},{"$f":"+'Roster LIMA'!AC15876","v":"N/A"},{"$f":"+'Roster LIMA'!AD15876","v":"N/A"},{"$f":"+'Roster LIMA'!AE15876","v":"N/A"},{"$f":"+'Roster LIMA'!AF15876","v":"XMPR 1"},{"$f":"+'Roster LIMA'!AG15876","v":"XMPR"},{"$f":"+'Roster LIMA'!AH15876","v":"White"},{"$f":"+'Roster LIMA'!AI15876","v":"Grey"},{"$f":"+'Roster LIMA'!AJ15876","v":"Green"},{"$f":"+'Roster LIMA'!AK15876","v":"Green"},{"$f":"+'Roster LIMA'!AL15876","v":"Bicolor"},{"$f":"+'Roster LIMA'!AM15876","v":"Blue"},{"$f":"+'Roster LIMA'!AN15876","v":"N/A"},{"$f":"+'Roster LIMA'!AO15876","v":"N/A"},{"$f":"+'Roster LIMA'!AP15876","v":0},{"$f":"+'Roster LIMA'!AQ15876","v":2},{"$f":"+'Roster LIMA'!AR15876","v":4},{"$f":"+'Roster LIMA'!AS15876","v":"1/100"},{"$f":"+'Roster LIMA'!AT15876","v":265},{"$f":"+'Roster LIMA'!AU15876","v":"Yes"}]
[{"$f":"+'Roster LIMA'!F15877","v":"HL4006"},{"$f":"+'Roster LIMA'!G15877","v":2009},{"$f":"+'Roster LIMA'!H15877","v":"Yes"},{"$f":"+'Roster LIMA'!I15877","v":"ML"},{"$f":"+'Roster LIMA'!J15877","v":28},{"$f":"+'Roster LIMA'!K15877","v":"x"},{"$f":"+'Roster LIMA'!E15877","v":0},{"$f":"+'Roster LIMA'!B15877","v":309501},{"$f":"+'Roster LIMA'!C15877","v":0},{"$f":"+'Roster LIMA'!D15877","v":0},{"$f":"+'Roster LIMA'!L15877","v":"Italy"},{"$f":"+'Roster LIMA'!M15877","v":"FS"},{"$f":"+'Roster LIMA'!N15875","v":"No"},{"$f":"+'Roster LIMA'!O15877","v":"Passenger"},{"$f":"+'Roster LIMA'!P15877","v":"Double decker"},{"$f":"+'Roster LIMA'!Q15877","v":"2° & Driving trailer"},{"$f":"+'Roster LIMA'!R15877","v":"2'2'"},{"$f":"+'Roster LIMA'!S15877","v":"N/A"},{"$f":"+'Roster LIMA'!T15877","v":"Yes"},{"$f":"+'Roster LIMA'!U15877","v":1981},{"$f":"+'Roster LIMA'!V15877","v":2002},{"$f":"+'Roster LIMA'!W15877","v":"V b"},{"$f":"+'Roster LIMA'!X15877","v":"Doppio Piano 79"},{"$f":"+'Roster LIMA'!Y15877","v":"npB"},{"$f":"+'Roster LIMA'!Z15877","v":"VB2N"},{"$f":"+'Roster LIMA'!AA15877","v":"50 83 26-39 819-7"},{"$f":"+'Roster LIMA'!AB15877","v":"30 units, built between 1980-81 based on a French VB2N coach design and numbered 26-39 800/829"},{"$f":"+'Roster LIMA'!AC15877","v":"N/A"},{"$f":"+'Roster LIMA'!AD15877","v":"N/A"},{"$f":"+'Roster LIMA'!AE15877","v":"Casaralta"},{"$f":"+'Roster LIMA'!AF15877","v":"XMPR 2"},{"$f":"+'Roster LIMA'!AG15877","v":"XMPR"},{"$f":"+'Roster LIMA'!AH15877","v":"White"},{"$f":"+'Roster LIMA'!AI15877","v":"Grey"},{"$f":"+'Roster LIMA'!AJ15877","v":"Green"},{"$f":"+'Roster LIMA'!AK15877","v":"Green"},{"$f":"+'Roster LIMA'!AL15877","v":"Blue"},{"$f":"+'Roster LIMA'!AM15877","v":"Blue"},{"$f":"+'Roster LIMA'!AN15877","v":"N/A"},{"$f":"+'Roster LIMA'!AO15877","v":"N/A"},{"$f":"+'Roster LIMA'!AP15877","v":0},{"$f":"+'Roster LIMA'!AQ15877","v":2},{"$f":"+'Roster LIMA'!AR15877","v":4},{"$f":"+'Roster LIMA'!AS15877","v":1.0638297872340425E-2},{"$f":"+'Roster LIMA'!AT15877","v":265},{"$f":"+'Roster LIMA'!AU15877","v":"Yes"}]
[{"$f":"+'Roster LIMA'!F15878","v":"HL4007"},{"$f":"+'Roster LIMA'!G15878","v":2009},{"$f":"+'Roster LIMA'!H15878","v":"Yes"},{"$f":"+'Roster LIMA'!I15878","v":"ML"},{"$f":"+'Roster LIMA'!J15878","v":28},{"$f":"+'Roster LIMA'!K15878","v":"x"},{"$f":"+'Roster LIMA'!E15878","v":0},{"$f":"+'Roster LIMA'!B15878","v":309500},{"$f":"+'Roster LIMA'!C15878","v":0},{"$f":"+'Roster LIMA'!D15878","v":0},{"$f":"+'Roster LIMA'!L15878","v":"Italy"},{"$f":"+'Roster LIMA'!M15878","v":"FS"},{"$f":"+'Roster LIMA'!N15876","v":"No"},{"$f":"+'Roster LIMA'!O15878","v":"Passenger"},{"$f":"+'Roster LIMA'!P15878","v":"Double decker"},{"$f":"+'Roster LIMA'!Q15878","v":"2° class"},{"$f":"+'Roster LIMA'!R15878","v":"2'2'"},{"$f":"+'Roster LIMA'!S15878","v":"N/A"},{"$f":"+'Roster LIMA'!T15878","v":"Yes"},{"$f":"+'Roster LIMA'!U15878","v":1980},{"$f":"+'Roster LIMA'!V15878","v":2001},{"$f":"+'Roster LIMA'!W15878","v":"V b"},{"$f":"+'Roster LIMA'!X15878","v":"Doppio Piano 79"},{"$f":"+'Roster LIMA'!Y15878","v":"nB"},{"$f":"+'Roster LIMA'!Z15878","v":"VB2N"},{"$f":"+'Roster LIMA'!AA15878","v":"50 83 26-39 008-7"},{"$f":"+'Roster LIMA'!AB15878","v":"120 units, built between 1980-81 based on a French VB2N coach design and numbered 26-39 000/119"},{"$f":"+'Roster LIMA'!AC15878","v":"N/A"},{"$f":"+'Roster LIMA'!AD15878","v":"N/A"},{"$f":"+'Roster LIMA'!AE15878","v":"Casaralta"},{"$f":"+'Roster LIMA'!AF15878","v":"XMPR 2"},{"$f":"+'Roster LIMA'!AG15878","v":"XMPR"},{"$f":"+'Roster LIMA'!AH15878","v":"White"},{"$f":"+'Roster LIMA'!AI15878","v":"Grey"},{"$f":"+'Roster LIMA'!AJ15878","v":"Green"},{"$f":"+'Roster LIMA'!AK15878","v":"Green"},{"$f":"+'Roster LIMA'!AL15878","v":"Blue"},{"$f":"+'Roster LIMA'!AM15878","v":"Blue"},{"$f":"+'Roster LIMA'!AN15878","v":"N/A"},{"$f":"+'Roster LIMA'!AO15878","v":"N/A"},{"$f":"+'Roster LIMA'!AP15878","v":0},{"$f":"+'Roster LIMA'!AQ15878","v":2},{"$f":"+'Roster LIMA'!AR15878","v":4},{"$f":"+'Roster LIMA'!AS15878","v":1.0869565217391304E-2},{"$f":"+'Roster LIMA'!AT15878","v":265},{"$f":"+'Roster LIMA'!AU15878","v":"Yes"}]
[{"$f":"+'Roster LIMA'!F15879","v":"HL4020"},{"$f":"+'Roster LIMA'!G15879","v":2009},{"$f":"+'Roster LIMA'!H15879","v":"Yes"},{"$f":"+'Roster LIMA'!I15879","v":"ML"},{"$f":"+'Roster LIMA'!J15879","v":29},{"$f":"+'Roster LIMA'!K15879","v":"x"},{"$f":"+'Roster LIMA'!E15879","v":0},{"$f":"+'Roster LIMA'!B15879","v":149999},{"$f":"+'Roster LIMA'!C15879","v":"K"},{"$f":"+'Roster LIMA'!D15879","v":0},{"$f":"+'Roster LIMA'!L15879","v":"Italy"},{"$f":"+'Roster LIMA'!M15879","v":"FS"},{"$f":"+'Roster LIMA'!N15877","v":"No"},{"$f":"+'Roster LIMA'!O15879","v":"Passenger"},{"$f":"+'Roster LIMA'!P15879","v":"Set"},{"$f":"+'Roster LIMA'!Q15879","v":"Express service"},{"$f":"+'Roster LIMA'!R15879","v":"2'2'+2'2'"},{"$f":"+'Roster LIMA'!S15879","v":"Lima Collection"},{"$f":"+'Roster LIMA'!T15879","v":"Yes"},{"$f":"+'Roster LIMA'!U15879","v":1997},{"$f":"+'Roster LIMA'!V15879","v":"Operational"},{"$f":"+'Roster LIMA'!W15879","v":"V b / VI"},{"$f":"+'Roster LIMA'!X15879","v":"ETR-480"},{"$f":"+'Roster LIMA'!Y15879","v":"ETR-480"},{"$f":"+'Roster LIMA'!Z15879","v":"N/A"},{"$f":"+'Roster LIMA'!AA15879","v":"N/A"},{"$f":"+'Roster LIMA'!AB15879","v":"2-unit train comprised of EMU Intermediate Bb1 and Bb2"},{"$f":"+'Roster LIMA'!AC15879","v":"N/A"},{"$f":"+'Roster LIMA'!AD15879","v":"ETR-480"},{"$f":"+'Roster LIMA'!AE15879","v":"Eurostar Italia"},{"$f":"+'Roster LIMA'!AF15879","v":"XMPR 1"},{"$f":"+'Roster LIMA'!AG15879","v":"Frecciabianca"},{"$f":"+'Roster LIMA'!AH15879","v":"White"},{"$f":"+'Roster LIMA'!AI15879","v":"White"},{"$f":"+'Roster LIMA'!AJ15879","v":"White"},{"$f":"+'Roster LIMA'!AK15879","v":"Red"},{"$f":"+'Roster LIMA'!AL15879","v":"Bicolor"},{"$f":"+'Roster LIMA'!AM15879","v":"Blue"},{"$f":"+'Roster LIMA'!AN15879","v":"N/A"},{"$f":"+'Roster LIMA'!AO15879","v":"N/A"},{"$f":"+'Roster LIMA'!AP15879","v":0},{"$f":"+'Roster LIMA'!AQ15879","v":4},{"$f":"+'Roster LIMA'!AR15879","v":8},{"$f":"+'Roster LIMA'!AS15879","v":1.1494252873563218E-2},{"$f":"+'Roster LIMA'!AT15879","v":595},{"$f":"+'Roster LIMA'!AU15879","v":"Yes"}]
[{"$f":"+'Roster LIMA'!F15880","v":"HL4021"},{"$f":"+'Roster LIMA'!G15880","v":2009},{"$f":"+'Roster LIMA'!H15880","v":"Yes"},{"$f":"+'Roster LIMA'!I15880","v":"ML"},{"$f":"+'Roster LIMA'!J15880","v":29},{"$f":"+'Roster LIMA'!K15880","v":"x"},{"$f":"+'Roster LIMA'!E15880","v":0},{"$f":"+'Roster LIMA'!B15880","v":"149939-1"},{"$f":"+'Roster LIMA'!C15880","v":"K"},{"$f":"+'Roster LIMA'!D15880","v":0},{"$f":"+'Roster LIMA'!L15880","v":"Switzerland"},{"$f":"+'Roster LIMA'!M15880","v":"SBB/CFF"},{"$f":"+'Roster LIMA'!N15878","v":"No"},{"$f":"+'Roster LIMA'!O15880","v":"Passenger"},{"$f":"+'Roster LIMA'!P15880","v":"Set"},{"$f":"+'Roster LIMA'!Q15880","v":"Express service"},{"$f":"+'Roster LIMA'!R15880","v":"2'2'+2'2'"},{"$f":"+'Roster LIMA'!S15880","v":"Lima Collection"},{"$f":"+'Roster LIMA'!T15880","v":"Yes"},{"$f":"+'Roster LIMA'!U15880","v":1994},{"$f":"+'Roster LIMA'!V15880","v":"Operational"},{"$f":"+'Roster LIMA'!W15880","v":"V b"},{"$f":"+'Roster LIMA'!X15880","v":"ETR-470"},{"$f":"+'Roster LIMA'!Y15880","v":"ETR-470"},{"$f":"+'Roster LIMA'!Z15880","v":"N/A"},{"$f":"+'Roster LIMA'!AA15880","v":"N/A"},{"$f":"+'Roster LIMA'!AB15880","v":"2-unit train comprised of EMU Intermediate Ra2 and Rb"},{"$f":"+'Roster LIMA'!AC15880","v":"N/A"},{"$f":"+'Roster LIMA'!AD15880","v":"ETR-470"},{"$f":"+'Roster LIMA'!AE15880","v":"Cisalpino"},{"$f":"+'Roster LIMA'!AF15880","v":"Cisalpino"},{"$f":"+'Roster LIMA'!AG15880","v":"Cisalpino"},{"$f":"+'Roster LIMA'!AH15880","v":"White"},{"$f":"+'Roster LIMA'!AI15880","v":"White"},{"$f":"+'Roster LIMA'!AJ15880","v":"Blue"},{"$f":"+'Roster LIMA'!AK15880","v":"Blue"},{"$f":"+'Roster LIMA'!AL15880","v":"Bicolor"},{"$f":"+'Roster LIMA'!AM15880","v":"Blue"},{"$f":"+'Roster LIMA'!AN15880","v":"N/A"},{"$f":"+'Roster LIMA'!AO15880","v":"Single arm"},{"$f":"+'Roster LIMA'!AP15880","v":3},{"$f":"+'Roster LIMA'!AQ15880","v":6},{"$f":"+'Roster LIMA'!AR15880","v":12},{"$f":"+'Roster LIMA'!AS15880","v":0.01},{"$f":"+'Roster LIMA'!AT15880","v":595},{"$f":"+'Roster LIMA'!AU15880","v":"Replace"}]
[{"$f":"+'Roster LIMA'!F15881","v":"HL6014"},{"$f":"+'Roster LIMA'!G15881","v":2009},{"$f":"+'Roster LIMA'!H15881","v":"Yes"},{"$f":"+'Roster LIMA'!I15881","v":"ML"},{"$f":"+'Roster LIMA'!J15881","v":29},{"$f":"+'Roster LIMA'!K15881","v":"x"},{"$f":"+'Roster LIMA'!E15881","v":0},{"$f":"+'Roster LIMA'!B15881","v":303161},{"$f":"+'Roster LIMA'!C15881","v":0},{"$f":"+'Roster LIMA'!D15881","v":0},{"$f":"+'Roster LIMA'!L15881","v":"Italy"},{"$f":"+'Roster LIMA'!M15881","v":"FS"},{"$f":"+'Roster LIMA'!N15879","v":"EMU"},{"$f":"+'Roster LIMA'!O15881","v":"Freight"},{"$f":"+'Roster LIMA'!P15881","v":"Closed"},{"$f":"+'Roster LIMA'!Q15881","v":"N/A"},{"$f":"+'Roster LIMA'!R15881","v":2},{"$f":"+'Roster LIMA'!S15881","v":"N/A"},{"$f":"+'Roster LIMA'!T15881","v":"Yes"},{"$f":"+'Roster LIMA'!U15881","v":1959},{"$f":"+'Roster LIMA'!V15881","v":2000},{"$f":"+'Roster LIMA'!W15881","v":"III b / IV a"},{"$f":"+'Roster LIMA'!X15881","v":"G-type"},{"$f":"+'Roster LIMA'!Y15881","v":"Gs 216"},{"$f":"+'Roster LIMA'!Z15881","v":"Gms 137-6"},{"$f":"+'Roster LIMA'!AA15881","v":"F 1160106"},{"$f":"+'Roster LIMA'!AB15881","v":"Built since the late 1950's"},{"$f":"+'Roster LIMA'!AC15881","v":"N/A"},{"$f":"+'Roster LIMA'!AD15881","v":"N/A"},{"$f":"+'Roster LIMA'!AE15881","v":"N/A"},{"$f":"+'Roster LIMA'!AF15881","v":"N/A"},{"$f":"+'Roster LIMA'!AG15881","v":"N/A"},{"$f":"+'Roster LIMA'!AH15881","v":"Brown"},{"$f":"+'Roster LIMA'!AI15881","v":"Grey"},{"$f":"+'Roster LIMA'!AJ15881","v":"Black"},{"$f":"+'Roster LIMA'!AK15881","v":"N/A"},{"$f":"+'Roster LIMA'!AL15881","v":"Brown"},{"$f":"+'Roster LIMA'!AM15881","v":"Blue"},{"$f":"+'Roster LIMA'!AN15881","v":"N/A"},{"$f":"+'Roster LIMA'!AO15881","v":"N/A"},{"$f":"+'Roster LIMA'!AP15881","v":0},{"$f":"+'Roster LIMA'!AQ15881","v":0},{"$f":"+'Roster LIMA'!AR15881","v":2},{"$f":"+'Roster LIMA'!AS15881","v":1.1494252873563218E-2},{"$f":"+'Roster LIMA'!AT15881","v":121},{"$f":"+'Roster LIMA'!AU15881","v":"Yes"}]
[{"$f":"+'Roster LIMA'!F15882","v":"HL6015"},{"$f":"+'Roster LIMA'!G15882","v":2009},{"$f":"+'Roster LIMA'!H15882","v":"Yes"},{"$f":"+'Roster LIMA'!I15882","v":"ML"},{"$f":"+'Roster LIMA'!J15882","v":29},{"$f":"+'Roster LIMA'!K15882","v":"x"},{"$f":"+'Roster LIMA'!E15882","v":0},{"$f":"+'Roster LIMA'!B15882","v":"N/A"},{"$f":"+'Roster LIMA'!C15882","v":0},{"$f":"+'Roster LIMA'!D15882","v":0},{"$f":"+'Roster LIMA'!L15882","v":"Italy"},{"$f":"+'Roster LIMA'!M15882","v":"FS"},{"$f":"+'Roster LIMA'!N15880","v":"EMU"},{"$f":"+'Roster LIMA'!O15882","v":"Freight"},{"$f":"+'Roster LIMA'!P15882","v":"Tank"},{"$f":"+'Roster LIMA'!Q15882","v":"With ladder"},{"$f":"+'Roster LIMA'!R15882","v":2},{"$f":"+'Roster LIMA'!S15882","v":"N/A"},{"$f":"+'Roster LIMA'!T15882","v":"Yes"},{"$f":"+'Roster LIMA'!U15882","v":1957},{"$f":"+'Roster LIMA'!V15882","v":2005},{"$f":"+'Roster LIMA'!W15882","v":"III b / IV a / IV b / V a / V b"},{"$f":"+'Roster LIMA'!X15882","v":"Z-type"},{"$f":"+'Roster LIMA'!Y15882","v":"Zcs 23"},{"$f":"+'Roster LIMA'!Z15882","v":"Uh"},{"$f":"+'Roster LIMA'!AA15882","v":"N/A"},{"$f":"+'Roster LIMA'!AB15882","v":"Built since the late 1950's"},{"$f":"+'Roster LIMA'!AC15882","v":"N/A"},{"$f":"+'Roster LIMA'!AD15882","v":"N/A"},{"$f":"+'Roster LIMA'!AE15882","v":"N/A"},{"$f":"+'Roster LIMA'!AF15882","v":"N/A"},{"$f":"+'Roster LIMA'!AG15882","v":"N/A"},{"$f":"+'Roster LIMA'!AH15882","v":"White"},{"$f":"+'Roster LIMA'!AI15882","v":"White"},{"$f":"+'Roster LIMA'!AJ15882","v":"Black"},{"$f":"+'Roster LIMA'!AK15882","v":"Yellow"},{"$f":"+'Roster LIMA'!AL15882","v":"N/A"},{"$f":"+'Roster LIMA'!AM15882","v":"Blue"},{"$f":"+'Roster LIMA'!AN15882","v":"N/A"},{"$f":"+'Roster LIMA'!AO15882","v":"N/A"},{"$f":"+'Roster LIMA'!AP15882","v":0},{"$f":"+'Roster LIMA'!AQ15882","v":0},{"$f":"+'Roster LIMA'!AR15882","v":2},{"$f":"+'Roster LIMA'!AS15882","v":"N/A"},{"$f":"+'Roster LIMA'!AT15882","v":116},{"$f":"+'Roster LIMA'!AU15882","v":"Yes"}]
[{"$f":"+'Roster LIMA'!F15883","v":"HL6016"},{"$f":"+'Roster LIMA'!G15883","v":2009},{"$f":"+'Roster LIMA'!H15883","v":"Yes"},{"$f":"+'Roster LIMA'!I15883","v":"ML"},{"$f":"+'Roster LIMA'!J15883","v":30},{"$f":"+'Roster LIMA'!K15883","v":"x"},{"$f":"+'Roster LIMA'!E15883","v":0},{"$f":"+'Roster LIMA'!B15883","v":303171},{"$f":"+'Roster LIMA'!C15883","v":0},{"$f":"+'Roster LIMA'!D15883","v":0},{"$f":"+'Roster LIMA'!L15883","v":"Italy"},{"$f":"+'Roster LIMA'!M15883","v":"FS"},{"$f":"+'Roster LIMA'!N15881","v":"No"},{"$f":"+'Roster LIMA'!O15883","v":"Freight"},{"$f":"+'Roster LIMA'!P15883","v":"Open"},{"$f":"+'Roster LIMA'!Q15883","v":"Empty"},{"$f":"+'Roster LIMA'!R15883","v":2},{"$f":"+'Roster LIMA'!S15883","v":"N/A"},{"$f":"+'Roster LIMA'!T15883","v":"Yes"},{"$f":"+'Roster LIMA'!U15883","v":1956},{"$f":"+'Roster LIMA'!V15883","v":2005},{"$f":"+'Roster LIMA'!W15883","v":"IV a / IV b / V a / V b"},{"$f":"+'Roster LIMA'!X15883","v":"E-type"},{"$f":"+'Roster LIMA'!Y15883","v":"Es 025"},{"$f":"+'Roster LIMA'!Z15883","v":"Tipo 2"},{"$f":"+'Roster LIMA'!AA15883","v":"21 83 446 0 100-3"},{"$f":"+'Roster LIMA'!AB15883","v":"Built in the mid 1950's"},{"$f":"+'Roster LIMA'!AC15883","v":"N/A"},{"$f":"+'Roster LIMA'!AD15883","v":"N/A"},{"$f":"+'Roster LIMA'!AE15883","v":"N/A"},{"$f":"+'Roster LIMA'!AF15883","v":"N/A"},{"$f":"+'Roster LIMA'!AG15883","v":"N/A"},{"$f":"+'Roster LIMA'!AH15883","v":"Brown"},{"$f":"+'Roster LIMA'!AI15883","v":"N/A"},{"$f":"+'Roster LIMA'!AJ15883","v":"Black"},{"$f":"+'Roster LIMA'!AK15883","v":"N/A"},{"$f":"+'Roster LIMA'!AL15883","v":"N/A"},{"$f":"+'Roster LIMA'!AM15883","v":"Blue"},{"$f":"+'Roster LIMA'!AN15883","v":"N/A"},{"$f":"+'Roster LIMA'!AO15883","v":"N/A"},{"$f":"+'Roster LIMA'!AP15883","v":0},{"$f":"+'Roster LIMA'!AQ15883","v":0},{"$f":"+'Roster LIMA'!AR15883","v":2},{"$f":"+'Roster LIMA'!AS15883","v":1.2048192771084338E-2},{"$f":"+'Roster LIMA'!AT15883","v":121},{"$f":"+'Roster LIMA'!AU15883","v":"Yes"}]
[{"$f":"+'Roster LIMA'!F15884","v":"HL6017"},{"$f":"+'Roster LIMA'!G15884","v":2009},{"$f":"+'Roster LIMA'!H15884","v":"Yes"},{"$f":"+'Roster LIMA'!I15884","v":"ML"},{"$f":"+'Roster LIMA'!J15884","v":30},{"$f":"+'Roster LIMA'!K15884","v":"x"},{"$f":"+'Roster LIMA'!E15884","v":0},{"$f":"+'Roster LIMA'!B15884","v":303103},{"$f":"+'Roster LIMA'!C15884","v":0},{"$f":"+'Roster LIMA'!D15884","v":0},{"$f":"+'Roster LIMA'!L15884","v":"France"},{"$f":"+'Roster LIMA'!M15884","v":"SNCF"},{"$f":"+'Roster LIMA'!N15882","v":"No"},{"$f":"+'Roster LIMA'!O15884","v":"Freight"},{"$f":"+'Roster LIMA'!P15884","v":"Reefer"},{"$f":"+'Roster LIMA'!Q15884","v":"With ladder"},{"$f":"+'Roster LIMA'!R15884","v":2},{"$f":"+'Roster LIMA'!S15884","v":"N/A"},{"$f":"+'Roster LIMA'!T15884","v":"Yes"},{"$f":"+'Roster LIMA'!U15884","v":1960},{"$f":"+'Roster LIMA'!V15884","v":1995},{"$f":"+'Roster LIMA'!W15884","v":"III b / IV a / IV b / V a"},{"$f":"+'Roster LIMA'!X15884","v":"I-type"},{"$f":"+'Roster LIMA'!Y15884","v":"Ibps-v"},{"$f":"+'Roster LIMA'!Z15884","v":"Ichqrs 377"},{"$f":"+'Roster LIMA'!AA15884","v":"03 87 823 5 049-0"},{"$f":"+'Roster LIMA'!AB15884","v":"Built in the late 1950's. With smooth panel"},{"$f":"+'Roster LIMA'!AC15884","v":"Interfrigo"},{"$f":"+'Roster LIMA'!AD15884","v":"N/A"},{"$f":"+'Roster LIMA'!AE15884","v":"N/A"},{"$f":"+'Roster LIMA'!AF15884","v":"N/A"},{"$f":"+'Roster LIMA'!AG15884","v":"N/A"},{"$f":"+'Roster LIMA'!AH15884","v":"White"},{"$f":"+'Roster LIMA'!AI15884","v":"Grey"},{"$f":"+'Roster LIMA'!AJ15884","v":"Black"},{"$f":"+'Roster LIMA'!AK15884","v":"N/A"},{"$f":"+'Roster LIMA'!AL15884","v":"White"},{"$f":"+'Roster LIMA'!AM15884","v":"Blue"},{"$f":"+'Roster LIMA'!AN15884","v":"N/A"},{"$f":"+'Roster LIMA'!AO15884","v":"N/A"},{"$f":"+'Roster LIMA'!AP15884","v":0},{"$f":"+'Roster LIMA'!AQ15884","v":0},{"$f":"+'Roster LIMA'!AR15884","v":2},{"$f":"+'Roster LIMA'!AS15884","v":1.1494252873563218E-2},{"$f":"+'Roster LIMA'!AT15884","v":130},{"$f":"+'Roster LIMA'!AU15884","v":"Yes"}]
[{"$f":"+'Roster LIMA'!F15885","v":"HL6018"},{"$f":"+'Roster LIMA'!G15885","v":2009},{"$f":"+'Roster LIMA'!H15885","v":"Yes"},{"$f":"+'Roster LIMA'!I15885","v":"ML"},{"$f":"+'Roster LIMA'!J15885","v":30},{"$f":"+'Roster LIMA'!K15885","v":"x"},{"$f":"+'Roster LIMA'!E15885","v":0},{"$f":"+'Roster LIMA'!B15885","v":302814},{"$f":"+'Roster LIMA'!C15885","v":0},{"$f":"+'Roster LIMA'!D15885","v":0},{"$f":"+'Roster LIMA'!L15885","v":"Italy"},{"$f":"+'Roster LIMA'!M15885","v":"FS"},{"$f":"+'Roster LIMA'!N15883","v":"No"},{"$f":"+'Roster LIMA'!O15885","v":"Freight"},{"$f":"+'Roster LIMA'!P15885","v":"Flat"},{"$f":"+'Roster LIMA'!Q15885","v":"Empty"},{"$f":"+'Roster LIMA'!R15885","v":2},{"$f":"+'Roster LIMA'!S15885","v":"N/A"},{"$f":"+'Roster LIMA'!T15885","v":"Yes"},{"$f":"+'Roster LIMA'!U15885","v":1925},{"$f":"+'Roster LIMA'!V15885","v":1970},{"$f":"+'Roster LIMA'!W15885","v":"III a / III b / IV a"},{"$f":"+'Roster LIMA'!X15885","v":"K-type"},{"$f":"+'Roster LIMA'!Y15885","v":"O 10"},{"$f":"+'Roster LIMA'!Z15885","v":"P con garitta"},{"$f":"+'Roster LIMA'!AA15885","v":"N/A"},{"$f":"+'Roster LIMA'!AB15885","v":"Built in the mid 1920's"},{"$f":"+'Roster LIMA'!AC15885","v":"N/A"},{"$f":"+'Roster LIMA'!AD15885","v":"N/A"},{"$f":"+'Roster LIMA'!AE15885","v":"N/A"},{"$f":"+'Roster LIMA'!AF15885","v":"Televisore"},{"$f":"+'Roster LIMA'!AG15885","v":"N/A"},{"$f":"+'Roster LIMA'!AH15885","v":"Brown"},{"$f":"+'Roster LIMA'!AI15885","v":"N/A"},{"$f":"+'Roster LIMA'!AJ15885","v":"Brown"},{"$f":"+'Roster LIMA'!AK15885","v":"N/A"},{"$f":"+'Roster LIMA'!AL15885","v":"N/A"},{"$f":"+'Roster LIMA'!AM15885","v":"Blue"},{"$f":"+'Roster LIMA'!AN15885","v":"N/A"},{"$f":"+'Roster LIMA'!AO15885","v":"N/A"},{"$f":"+'Roster LIMA'!AP15885","v":0},{"$f":"+'Roster LIMA'!AQ15885","v":0},{"$f":"+'Roster LIMA'!AR15885","v":2},{"$f":"+'Roster LIMA'!AS15885","v":1.1494252873563218E-2},{"$f":"+'Roster LIMA'!AT15885","v":116},{"$f":"+'Roster LIMA'!AU15885","v":"Yes"}]
[{"$f":"+'Roster LIMA'!F15886","v":"HL6039"},{"$f":"+'Roster LIMA'!G15886","v":2009},{"$f":"+'Roster LIMA'!H15886","v":"Yes"},{"$f":"+'Roster LIMA'!I15886","v":"ML"},{"$f":"+'Roster LIMA'!J15886","v":30},{"$f":"+'Roster LIMA'!K15886","v":"x"},{"$f":"+'Roster LIMA'!E15886","v":0},{"$f":"+'Roster LIMA'!B15886","v":"N/A"},{"$f":"+'Roster LIMA'!C15886","v":""},{"$f":"+'Roster LIMA'!D15886","v":0},{"$f":"+'Roster LIMA'!L15886","v":"Italy"},{"$f":"+'Roster LIMA'!M15886","v":"FS"},{"$f":"+'Roster LIMA'!N15884","v":"No"},{"$f":"+'Roster LIMA'!O15886","v":"Freight"},{"$f":"+'Roster LIMA'!P15886","v":"Reefer"},{"$f":"+'Roster LIMA'!Q15886","v":"With ladder"},{"$f":"+'Roster LIMA'!R15886","v":2},{"$f":"+'Roster LIMA'!S15886","v":"N/A"},{"$f":"+'Roster LIMA'!T15886","v":"Yes"},{"$f":"+'Roster LIMA'!U15886","v":1960},{"$f":"+'Roster LIMA'!V15886","v":1995},{"$f":"+'Roster LIMA'!W15886","v":"V a"},{"$f":"+'Roster LIMA'!X15886","v":"I-type"},{"$f":"+'Roster LIMA'!Y15886","v":"Ibps-v"},{"$f":"+'Roster LIMA'!Z15886","v":"Ichqrs 377"},{"$f":"+'Roster LIMA'!AA15886","v":"N/A"},{"$f":"+'Roster LIMA'!AB15886","v":"Built in the late 1950's. With smooth panel"},{"$f":"+'Roster LIMA'!AC15886","v":"N/A"},{"$f":"+'Roster LIMA'!AD15886","v":"N/A"},{"$f":"+'Roster LIMA'!AE15886","v":"N/A"},{"$f":"+'Roster LIMA'!AF15886","v":"N/A"},{"$f":"+'Roster LIMA'!AG15886","v":"N/A"},{"$f":"+'Roster LIMA'!AH15886","v":"White"},{"$f":"+'Roster LIMA'!AI15886","v":"Grey"},{"$f":"+'Roster LIMA'!AJ15886","v":"Black"},{"$f":"+'Roster LIMA'!AK15886","v":"N/A"},{"$f":"+'Roster LIMA'!AL15886","v":"White"},{"$f":"+'Roster LIMA'!AM15886","v":"Blue"},{"$f":"+'Roster LIMA'!AN15886","v":"N/A"},{"$f":"+'Roster LIMA'!AO15886","v":"N/A"},{"$f":"+'Roster LIMA'!AP15886","v":0},{"$f":"+'Roster LIMA'!AQ15886","v":0},{"$f":"+'Roster LIMA'!AR15886","v":2},{"$f":"+'Roster LIMA'!AS15886","v":1.1494252873563218E-2},{"$f":"+'Roster LIMA'!AT15886","v":130},{"$f":"+'Roster LIMA'!AU15886","v":"Replace"}]
[{"$f":"+'Roster LIMA'!F15887","v":"HL6040"},{"$f":"+'Roster LIMA'!G15887","v":2009},{"$f":"+'Roster LIMA'!H15887","v":"Yes"},{"$f":"+'Roster LIMA'!I15887","v":"ML"},{"$f":"+'Roster LIMA'!J15887","v":31},{"$f":"+'Roster LIMA'!K15887","v":"x"},{"$f":"+'Roster LIMA'!E15887","v":0},{"$f":"+'Roster LIMA'!B15887","v":"N/A"},{"$f":"+'Roster LIMA'!C15887","v":""},{"$f":"+'Roster LIMA'!D15887","v":0},{"$f":"+'Roster LIMA'!L15887","v":"Italy"},{"$f":"+'Roster LIMA'!M15887","v":"FS"},{"$f":"+'Roster LIMA'!N15885","v":"No"},{"$f":"+'Roster LIMA'!O15887","v":"Freight"},{"$f":"+'Roster LIMA'!P15887","v":"Reefer"},{"$f":"+'Roster LIMA'!Q15887","v":"With ladder"},{"$f":"+'Roster LIMA'!R15887","v":2},{"$f":"+'Roster LIMA'!S15887","v":"N/A"},{"$f":"+'Roster LIMA'!T15887","v":"Yes"},{"$f":"+'Roster LIMA'!U15887","v":1960},{"$f":"+'Roster LIMA'!V15887","v":1995},{"$f":"+'Roster LIMA'!W15887","v":"IV b / V a"},{"$f":"+'Roster LIMA'!X15887","v":"I-type"},{"$f":"+'Roster LIMA'!Y15887","v":"Ibps-v"},{"$f":"+'Roster LIMA'!Z15887","v":"Ichqrs 377"},{"$f":"+'Roster LIMA'!AA15887","v":"N/A"},{"$f":"+'Roster LIMA'!AB15887","v":"Built in the late 1950's. With smooth panel"},{"$f":"+'Roster LIMA'!AC15887","v":"N/A"},{"$f":"+'Roster LIMA'!AD15887","v":"N/A"},{"$f":"+'Roster LIMA'!AE15887","v":"N/A"},{"$f":"+'Roster LIMA'!AF15887","v":"Losanga"},{"$f":"+'Roster LIMA'!AG15887","v":"N/A"},{"$f":"+'Roster LIMA'!AH15887","v":"White"},{"$f":"+'Roster LIMA'!AI15887","v":"Grey"},{"$f":"+'Roster LIMA'!AJ15887","v":"Black"},{"$f":"+'Roster LIMA'!AK15887","v":"N/A"},{"$f":"+'Roster LIMA'!AL15887","v":"White"},{"$f":"+'Roster LIMA'!AM15887","v":"Blue"},{"$f":"+'Roster LIMA'!AN15887","v":"N/A"},{"$f":"+'Roster LIMA'!AO15887","v":"N/A"},{"$f":"+'Roster LIMA'!AP15887","v":0},{"$f":"+'Roster LIMA'!AQ15887","v":0},{"$f":"+'Roster LIMA'!AR15887","v":2},{"$f":"+'Roster LIMA'!AS15887","v":1.1494252873563218E-2},{"$f":"+'Roster LIMA'!AT15887","v":130},{"$f":"+'Roster LIMA'!AU15887","v":"Yes"}]
[{"$f":"+'Roster LIMA'!F15888","v":"HL6041"},{"$f":"+'Roster LIMA'!G15888","v":2009},{"$f":"+'Roster LIMA'!H15888","v":"Yes"},{"$f":"+'Roster LIMA'!I15888","v":"ML"},{"$f":"+'Roster LIMA'!J15888","v":31},{"$f":"+'Roster LIMA'!K15888","v":"x"},{"$f":"+'Roster LIMA'!E15888","v":0},{"$f":"+'Roster LIMA'!B15888","v":302811},{"$f":"+'Roster LIMA'!C15888","v":0},{"$f":"+'Roster LIMA'!D15888","v":0},{"$f":"+'Roster LIMA'!L15888","v":"Italy"},{"$f":"+'Roster LIMA'!M15888","v":"FS"},{"$f":"+'Roster LIMA'!N15886","v":"No"},{"$f":"+'Roster LIMA'!O15888","v":"Freight"},{"$f":"+'Roster LIMA'!P15888","v":"Flat"},{"$f":"+'Roster LIMA'!Q15888","v":"With pipes"},{"$f":"+'Roster LIMA'!R15888","v":2},{"$f":"+'Roster LIMA'!S15888","v":"N/A"},{"$f":"+'Roster LIMA'!T15888","v":"Yes"},{"$f":"+'Roster LIMA'!U15888","v":1925},{"$f":"+'Roster LIMA'!V15888","v":1970},{"$f":"+'Roster LIMA'!W15888","v":"III a / III b / IV a"},{"$f":"+'Roster LIMA'!X15888","v":"K-type"},{"$f":"+'Roster LIMA'!Y15888","v":"O 10"},{"$f":"+'Roster LIMA'!Z15888","v":"P con garitta"},{"$f":"+'Roster LIMA'!AA15888","v":"P660513"},{"$f":"+'Roster LIMA'!AB15888","v":"Built in the mid 1920's"},{"$f":"+'Roster LIMA'!AC15888","v":"Dalmine"},{"$f":"+'Roster LIMA'!AD15888","v":"N/A"},{"$f":"+'Roster LIMA'!AE15888","v":"N/A"},{"$f":"+'Roster LIMA'!AF15888","v":"Televisore"},{"$f":"+'Roster LIMA'!AG15888","v":"N/A"},{"$f":"+'Roster LIMA'!AH15888","v":"White"},{"$f":"+'Roster LIMA'!AI15888","v":"N/A"},{"$f":"+'Roster LIMA'!AJ15888","v":"Brown"},{"$f":"+'Roster LIMA'!AK15888","v":"N/A"},{"$f":"+'Roster LIMA'!AL15888","v":"N/A"},{"$f":"+'Roster LIMA'!AM15888","v":"Blue"},{"$f":"+'Roster LIMA'!AN15888","v":"N/A"},{"$f":"+'Roster LIMA'!AO15888","v":"N/A"},{"$f":"+'Roster LIMA'!AP15888","v":0},{"$f":"+'Roster LIMA'!AQ15888","v":0},{"$f":"+'Roster LIMA'!AR15888","v":2},{"$f":"+'Roster LIMA'!AS15888","v":1.1494252873563218E-2},{"$f":"+'Roster LIMA'!AT15888","v":116},{"$f":"+'Roster LIMA'!AU15888","v":"Yes"}]
[{"$f":"+'Roster LIMA'!F15889","v":"HL6042"},{"$f":"+'Roster LIMA'!G15889","v":2009},{"$f":"+'Roster LIMA'!H15889","v":"Yes"},{"$f":"+'Roster LIMA'!I15889","v":"ML"},{"$f":"+'Roster LIMA'!J15889","v":31},{"$f":"+'Roster LIMA'!K15889","v":"x"},{"$f":"+'Roster LIMA'!E15889","v":0},{"$f":"+'Roster LIMA'!B15889","v":303161},{"$f":"+'Roster LIMA'!C15889","v":0},{"$f":"+'Roster LIMA'!D15889","v":0},{"$f":"+'Roster LIMA'!L15889","v":"Italy"},{"$f":"+'Roster LIMA'!M15889","v":"FS"},{"$f":"+'Roster LIMA'!N15887","v":"No"},{"$f":"+'Roster LIMA'!O15889","v":"Freight"},{"$f":"+'Roster LIMA'!P15889","v":"Closed"},{"$f":"+'Roster LIMA'!Q15889","v":"N/A"},{"$f":"+'Roster LIMA'!R15889","v":2},{"$f":"+'Roster LIMA'!S15889","v":"N/A"},{"$f":"+'Roster LIMA'!T15889","v":"Yes"},{"$f":"+'Roster LIMA'!U15889","v":1959},{"$f":"+'Roster LIMA'!V15889","v":2000},{"$f":"+'Roster LIMA'!W15889","v":"III b / IV a"},{"$f":"+'Roster LIMA'!X15889","v":"G-type"},{"$f":"+'Roster LIMA'!Y15889","v":"Gs 216"},{"$f":"+'Roster LIMA'!Z15889","v":"Gms 137-6"},{"$f":"+'Roster LIMA'!AA15889","v":"F 1160106"},{"$f":"+'Roster LIMA'!AB15889","v":"Built since the late 1950's"},{"$f":"+'Roster LIMA'!AC15889","v":"N/A"},{"$f":"+'Roster LIMA'!AD15889","v":"N/A"},{"$f":"+'Roster LIMA'!AE15889","v":"N/A"},{"$f":"+'Roster LIMA'!AF15889","v":"N/A"},{"$f":"+'Roster LIMA'!AG15889","v":"N/A"},{"$f":"+'Roster LIMA'!AH15889","v":"Brown"},{"$f":"+'Roster LIMA'!AI15889","v":"Grey"},{"$f":"+'Roster LIMA'!AJ15889","v":"Black"},{"$f":"+'Roster LIMA'!AK15889","v":"N/A"},{"$f":"+'Roster LIMA'!AL15889","v":"Brown"},{"$f":"+'Roster LIMA'!AM15889","v":"Blue"},{"$f":"+'Roster LIMA'!AN15889","v":"N/A"},{"$f":"+'Roster LIMA'!AO15889","v":"N/A"},{"$f":"+'Roster LIMA'!AP15889","v":0},{"$f":"+'Roster LIMA'!AQ15889","v":0},{"$f":"+'Roster LIMA'!AR15889","v":2},{"$f":"+'Roster LIMA'!AS15889","v":1.1494252873563218E-2},{"$f":"+'Roster LIMA'!AT15889","v":121},{"$f":"+'Roster LIMA'!AU15889","v":"Yes"}]
[{"$f":"+'Roster LIMA'!F15890","v":"HL6043"},{"$f":"+'Roster LIMA'!G15890","v":2009},{"$f":"+'Roster LIMA'!H15890","v":"Yes"},{"$f":"+'Roster LIMA'!I15890","v":"ML"},{"$f":"+'Roster LIMA'!J15890","v":31},{"$f":"+'Roster LIMA'!K15890","v":"x"},{"$f":"+'Roster LIMA'!E15890","v":0},{"$f":"+'Roster LIMA'!B15890","v":302916},{"$f":"+'Roster LIMA'!C15890","v":0},{"$f":"+'Roster LIMA'!D15890","v":0},{"$f":"+'Roster LIMA'!L15890","v":"Italy"},{"$f":"+'Roster LIMA'!M15890","v":"FS"},{"$f":"+'Roster LIMA'!N15888","v":"No"},{"$f":"+'Roster LIMA'!O15890","v":"Freight"},{"$f":"+'Roster LIMA'!P15890","v":"Tank"},{"$f":"+'Roster LIMA'!Q15890","v":"With ladder"},{"$f":"+'Roster LIMA'!R15890","v":"2'2'"},{"$f":"+'Roster LIMA'!S15890","v":"N/A"},{"$f":"+'Roster LIMA'!T15890","v":"Yes"},{"$f":"+'Roster LIMA'!U15890","v":1958},{"$f":"+'Roster LIMA'!V15890","v":2004},{"$f":"+'Roster LIMA'!W15890","v":"III b / IV a / IV b / V a / V b"},{"$f":"+'Roster LIMA'!X15890","v":"Z-type"},{"$f":"+'Roster LIMA'!Y15890","v":"Zacs 33"},{"$f":"+'Roster LIMA'!Z15890","v":"Uah"},{"$f":"+'Roster LIMA'!AA15890","v":"N/A"},{"$f":"+'Roster LIMA'!AB15890","v":"Built since the late 1950's"},{"$f":"+'Roster LIMA'!AC15890","v":"Agip"},{"$f":"+'Roster LIMA'!AD15890","v":"N/A"},{"$f":"+'Roster LIMA'!AE15890","v":"N/A"},{"$f":"+'Roster LIMA'!AF15890","v":"N/A"},{"$f":"+'Roster LIMA'!AG15890","v":"N/A"},{"$f":"+'Roster LIMA'!AH15890","v":"White"},{"$f":"+'Roster LIMA'!AI15890","v":"White"},{"$f":"+'Roster LIMA'!AJ15890","v":"Black"},{"$f":"+'Roster LIMA'!AK15890","v":"Yellow"},{"$f":"+'Roster LIMA'!AL15890","v":"N/A"},{"$f":"+'Roster LIMA'!AM15890","v":"Blue"},{"$f":"+'Roster LIMA'!AN15890","v":"N/A"},{"$f":"+'Roster LIMA'!AO15890","v":"N/A"},{"$f":"+'Roster LIMA'!AP15890","v":0},{"$f":"+'Roster LIMA'!AQ15890","v":2},{"$f":"+'Roster LIMA'!AR15890","v":4},{"$f":"+'Roster LIMA'!AS15890","v":"N/A"},{"$f":"+'Roster LIMA'!AT15890","v":190},{"$f":"+'Roster LIMA'!AU15890","v":"Yes"}]
[{"$f":"+'Roster LIMA'!F15891","v":"HL6044"},{"$f":"+'Roster LIMA'!G15891","v":2009},{"$f":"+'Roster LIMA'!H15891","v":"Yes"},{"$f":"+'Roster LIMA'!I15891","v":"ML"},{"$f":"+'Roster LIMA'!J15891","v":32},{"$f":"+'Roster LIMA'!K15891","v":"x"},{"$f":"+'Roster LIMA'!E15891","v":0},{"$f":"+'Roster LIMA'!B15891","v":303596},{"$f":"+'Roster LIMA'!C15891","v":0},{"$f":"+'Roster LIMA'!D15891","v":0},{"$f":"+'Roster LIMA'!L15891","v":"France"},{"$f":"+'Roster LIMA'!M15891","v":"SNCF"},{"$f":"+'Roster LIMA'!N15889","v":"No"},{"$f":"+'Roster LIMA'!O15891","v":"Freight"},{"$f":"+'Roster LIMA'!P15891","v":"Closed"},{"$f":"+'Roster LIMA'!Q15891","v":"With sliding door"},{"$f":"+'Roster LIMA'!R15891","v":"2'2'"},{"$f":"+'Roster LIMA'!S15891","v":"N/A"},{"$f":"+'Roster LIMA'!T15891","v":"Yes"},{"$f":"+'Roster LIMA'!U15891","v":1975},{"$f":"+'Roster LIMA'!V15891","v":"Operational"},{"$f":"+'Roster LIMA'!W15891","v":"IV b / V a / V b / VI"},{"$f":"+'Roster LIMA'!X15891","v":"H-type"},{"$f":"+'Roster LIMA'!Y15891","v":"Habis 339"},{"$f":"+'Roster LIMA'!Z15891","v":"H 81.6"},{"$f":"+'Roster LIMA'!AA15891","v":"N/A"},{"$f":"+'Roster LIMA'!AB15891","v":"Built in the mid 1970's"},{"$f":"+'Roster LIMA'!AC15891","v":"Fret"},{"$f":"+'Roster LIMA'!AD15891","v":"N/A"},{"$f":"+'Roster LIMA'!AE15891","v":"N/A"},{"$f":"+'Roster LIMA'!AF15891","v":"Fret"},{"$f":"+'Roster LIMA'!AG15891","v":"N/A"},{"$f":"+'Roster LIMA'!AH15891","v":"Grey"},{"$f":"+'Roster LIMA'!AI15891","v":"Grey"},{"$f":"+'Roster LIMA'!AJ15891","v":"Grey"},{"$f":"+'Roster LIMA'!AK15891","v":"Green"},{"$f":"+'Roster LIMA'!AL15891","v":"Grey"},{"$f":"+'Roster LIMA'!AM15891","v":"Blue"},{"$f":"+'Roster LIMA'!AN15891","v":"N/A"},{"$f":"+'Roster LIMA'!AO15891","v":"N/A"},{"$f":"+'Roster LIMA'!AP15891","v":0},{"$f":"+'Roster LIMA'!AQ15891","v":2},{"$f":"+'Roster LIMA'!AR15891","v":4},{"$f":"+'Roster LIMA'!AS15891","v":1.098901098901099E-2},{"$f":"+'Roster LIMA'!AT15891","v":242},{"$f":"+'Roster LIMA'!AU15891","v":"Yes"}]
[{"$f":"+'Roster LIMA'!F15892","v":"HL6045"},{"$f":"+'Roster LIMA'!G15892","v":2009},{"$f":"+'Roster LIMA'!H15892","v":"Yes"},{"$f":"+'Roster LIMA'!I15892","v":"ML"},{"$f":"+'Roster LIMA'!J15892","v":32},{"$f":"+'Roster LIMA'!K15892","v":"x"},{"$f":"+'Roster LIMA'!E15892","v":0},{"$f":"+'Roster LIMA'!B15892","v":"N/A"},{"$f":"+'Roster LIMA'!C15892","v":0},{"$f":"+'Roster LIMA'!D15892","v":0},{"$f":"+'Roster LIMA'!L15892","v":"Germany"},{"$f":"+'Roster LIMA'!M15892","v":"DB"},{"$f":"+'Roster LIMA'!N15890","v":"No"},{"$f":"+'Roster LIMA'!O15892","v":"Freight"},{"$f":"+'Roster LIMA'!P15892","v":"Special"},{"$f":"+'Roster LIMA'!Q15892","v":"Pig iron torpedo"},{"$f":"+'Roster LIMA'!R15892","v":"5'5'"},{"$f":"+'Roster LIMA'!S15892","v":"N/A"},{"$f":"+'Roster LIMA'!T15892","v":"Yes"},{"$f":"+'Roster LIMA'!U15892","v":1970},{"$f":"+'Roster LIMA'!V15892","v":"Operational"},{"$f":"+'Roster LIMA'!W15892","v":"III b / IV a / IV b / V a / V b / VI"},{"$f":"+'Roster LIMA'!X15892","v":"U-type"},{"$f":"+'Roster LIMA'!Y15892","v":"Uaai 812"},{"$f":"+'Roster LIMA'!Z15892","v":"N/A"},{"$f":"+'Roster LIMA'!AA15892","v":"82 80 995 0 930-3"},{"$f":"+'Roster LIMA'!AB15892","v":"1 unit, built in 1970 and numbered originally 20 80 999 0 209-9. With \"torpedo\" type design"},{"$f":"+'Roster LIMA'!AC15892","v":"N/A"},{"$f":"+'Roster LIMA'!AD15892","v":"N/A"},{"$f":"+'Roster LIMA'!AE15892","v":"N/A"},{"$f":"+'Roster LIMA'!AF15892","v":"N/A"},{"$f":"+'Roster LIMA'!AG15892","v":"N/A"},{"$f":"+'Roster LIMA'!AH15892","v":"Yellow"},{"$f":"+'Roster LIMA'!AI15892","v":"Yellow"},{"$f":"+'Roster LIMA'!AJ15892","v":"Brown"},{"$f":"+'Roster LIMA'!AK15892","v":"N/A"},{"$f":"+'Roster LIMA'!AL15892","v":"N/A"},{"$f":"+'Roster LIMA'!AM15892","v":"Blue"},{"$f":"+'Roster LIMA'!AN15892","v":"N/A"},{"$f":"+'Roster LIMA'!AO15892","v":"N/A"},{"$f":"+'Roster LIMA'!AP15892","v":0},{"$f":"+'Roster LIMA'!AQ15892","v":2},{"$f":"+'Roster LIMA'!AR15892","v":10},{"$f":"+'Roster LIMA'!AS15892","v":1.1494252873563218E-2},{"$f":"+'Roster LIMA'!AT15892","v":220},{"$f":"+'Roster LIMA'!AU15892","v":"Replace"}]
[{"$f":"+'Roster LIMA'!F15893","v":"HL6046"},{"$f":"+'Roster LIMA'!G15893","v":2009},{"$f":"+'Roster LIMA'!H15893","v":"Yes"},{"$f":"+'Roster LIMA'!I15893","v":"ML"},{"$f":"+'Roster LIMA'!J15893","v":32},{"$f":"+'Roster LIMA'!K15893","v":"x"},{"$f":"+'Roster LIMA'!E15893","v":0},{"$f":"+'Roster LIMA'!B15893","v":309063},{"$f":"+'Roster LIMA'!C15893","v":0},{"$f":"+'Roster LIMA'!D15893","v":0},{"$f":"+'Roster LIMA'!L15893","v":"Germany"},{"$f":"+'Roster LIMA'!M15893","v":"DB"},{"$f":"+'Roster LIMA'!N15891","v":"No"},{"$f":"+'Roster LIMA'!O15893","v":"Freight"},{"$f":"+'Roster LIMA'!P15893","v":"Car transporter"},{"$f":"+'Roster LIMA'!Q15893","v":"With 6 cars"},{"$f":"+'Roster LIMA'!R15893","v":3},{"$f":"+'Roster LIMA'!S15893","v":"N/A"},{"$f":"+'Roster LIMA'!T15893","v":"Yes"},{"$f":"+'Roster LIMA'!U15893","v":1961},{"$f":"+'Roster LIMA'!V15893","v":"Operational"},{"$f":"+'Roster LIMA'!W15893","v":"III b / IV a / IV b / V a / V b"},{"$f":"+'Roster LIMA'!X15893","v":"L-type"},{"$f":"+'Roster LIMA'!Y15893","v":"Laeqrss 545"},{"$f":"+'Roster LIMA'!Z15893","v":"Offehss 68"},{"$f":"+'Roster LIMA'!AA15893","v":"N/A"},{"$f":"+'Roster LIMA'!AB15893","v":"Built since the early 1960's. Two wagons joined together"},{"$f":"+'Roster LIMA'!AC15893","v":"Goth"},{"$f":"+'Roster LIMA'!AD15893","v":"N/A"},{"$f":"+'Roster LIMA'!AE15893","v":"N/A"},{"$f":"+'Roster LIMA'!AF15893","v":"N/A"},{"$f":"+'Roster LIMA'!AG15893","v":"N/A"},{"$f":"+'Roster LIMA'!AH15893","v":"Grey"},{"$f":"+'Roster LIMA'!AI15893","v":"Grey"},{"$f":"+'Roster LIMA'!AJ15893","v":"Grey"},{"$f":"+'Roster LIMA'!AK15893","v":"N/A"},{"$f":"+'Roster LIMA'!AL15893","v":"N/A"},{"$f":"+'Roster LIMA'!AM15893","v":"Blue"},{"$f":"+'Roster LIMA'!AN15893","v":"N/A"},{"$f":"+'Roster LIMA'!AO15893","v":"N/A"},{"$f":"+'Roster LIMA'!AP15893","v":0},{"$f":"+'Roster LIMA'!AQ15893","v":0},{"$f":"+'Roster LIMA'!AR15893","v":3},{"$f":"+'Roster LIMA'!AS15893","v":1.1494252873563218E-2},{"$f":"+'Roster LIMA'!AT15893","v":290},{"$f":"+'Roster LIMA'!AU15893","v":"Yes"}]
[{"$f":"+'Roster LIMA'!F15894","v":"HL6047"},{"$f":"+'Roster LIMA'!G15894","v":2009},{"$f":"+'Roster LIMA'!H15894","v":"Yes"},{"$f":"+'Roster LIMA'!I15894","v":"ML"},{"$f":"+'Roster LIMA'!J15894","v":32},{"$f":"+'Roster LIMA'!K15894","v":"x"},{"$f":"+'Roster LIMA'!E15894","v":0},{"$f":"+'Roster LIMA'!B15894","v":303121},{"$f":"+'Roster LIMA'!C15894","v":0},{"$f":"+'Roster LIMA'!D15894","v":0},{"$f":"+'Roster LIMA'!L15894","v":"Switzerland"},{"$f":"+'Roster LIMA'!M15894","v":"SBB/CFF"},{"$f":"+'Roster LIMA'!N15892","v":"No"},{"$f":"+'Roster LIMA'!O15894","v":"Freight"},{"$f":"+'Roster LIMA'!P15894","v":"Reefer"},{"$f":"+'Roster LIMA'!Q15894","v":"With ladder"},{"$f":"+'Roster LIMA'!R15894","v":"2'2'"},{"$f":"+'Roster LIMA'!S15894","v":"Hobby Line"},{"$f":"+'Roster LIMA'!T15894","v":"Yes"},{"$f":"+'Roster LIMA'!U15894","v":1968},{"$f":"+'Roster LIMA'!V15894","v":2003},{"$f":"+'Roster LIMA'!W15894","v":"IV a / IV b / V a / V b"},{"$f":"+'Roster LIMA'!X15894","v":"I-type"},{"$f":"+'Roster LIMA'!Y15894","v":"Iaes"},{"$f":"+'Roster LIMA'!Z15894","v":"N/A"},{"$f":"+'Roster LIMA'!AA15894","v":"N/A"},{"$f":"+'Roster LIMA'!AB15894","v":"100 units, built in the late 1940's"},{"$f":"+'Roster LIMA'!AC15894","v":"Interfrigo"},{"$f":"+'Roster LIMA'!AD15894","v":"N/A"},{"$f":"+'Roster LIMA'!AE15894","v":"N/A"},{"$f":"+'Roster LIMA'!AF15894","v":"N/A"},{"$f":"+'Roster LIMA'!AG15894","v":"N/A"},{"$f":"+'Roster LIMA'!AH15894","v":"Light Blue"},{"$f":"+'Roster LIMA'!AI15894","v":"Light Blue"},{"$f":"+'Roster LIMA'!AJ15894","v":"Black"},{"$f":"+'Roster LIMA'!AK15894","v":"White"},{"$f":"+'Roster LIMA'!AL15894","v":"Light Blue"},{"$f":"+'Roster LIMA'!AM15894","v":"Blue"},{"$f":"+'Roster LIMA'!AN15894","v":"N/A"},{"$f":"+'Roster LIMA'!AO15894","v":"N/A"},{"$f":"+'Roster LIMA'!AP15894","v":0},{"$f":"+'Roster LIMA'!AQ15894","v":2},{"$f":"+'Roster LIMA'!AR15894","v":4},{"$f":"+'Roster LIMA'!AS15894","v":1.1494252873563218E-2},{"$f":"+'Roster LIMA'!AT15894","v":242},{"$f":"+'Roster LIMA'!AU15894","v":"Yes"}]
[{"$f":"+'Roster LIMA'!F15895","v":"HL2017"},{"$f":"+'Roster LIMA'!G15895","v":2009},{"$f":"+'Roster LIMA'!H15895","v":"Yes"},{"$f":"+'Roster LIMA'!I15895","v":"ML"},{"$f":"+'Roster LIMA'!J15895","v":34},{"$f":"+'Roster LIMA'!K15895","v":"x"},{"$f":"+'Roster LIMA'!E15895","v":0},{"$f":"+'Roster LIMA'!B15895","v":208484},{"$f":"+'Roster LIMA'!C15895","v":"L"},{"$f":"+'Roster LIMA'!D15895","v":0},{"$f":"+'Roster LIMA'!L15895","v":"Australia"},{"$f":"+'Roster LIMA'!M15895","v":"NSW"},{"$f":"+'Roster LIMA'!N15893","v":"No"},{"$f":"+'Roster LIMA'!O15895","v":"Locomotive"},{"$f":"+'Roster LIMA'!P15895","v":"Steam"},{"$f":"+'Roster LIMA'!Q15895","v":"Express service"},{"$f":"+'Roster LIMA'!R15895","v":"4-6-2/4-4"},{"$f":"+'Roster LIMA'!S15895","v":"N/A"},{"$f":"+'Roster LIMA'!T15895","v":"Yes"},{"$f":"+'Roster LIMA'!U15895","v":1943},{"$f":"+'Roster LIMA'!V15895","v":1967},{"$f":"+'Roster LIMA'!W15895","v":"II / III a"},{"$f":"+'Roster LIMA'!X15895","v":"NSW C38"},{"$f":"+'Roster LIMA'!Y15895","v":"Class 38"},{"$f":"+'Roster LIMA'!Z15895","v":"Streamlined"},{"$f":"+'Roster LIMA'!AA15895","v":3802},{"$f":"+'Roster LIMA'!AB15895","v":"5 units, built between 1943-45 and numbered 3801/05. Focus on express Passenger services"},{"$f":"+'Roster LIMA'!AC15895","v":"N/A"},{"$f":"+'Roster LIMA'!AD15895","v":"N/A"},{"$f":"+'Roster LIMA'!AE15895","v":"N/A"},{"$f":"+'Roster LIMA'!AF15895","v":"N/A"},{"$f":"+'Roster LIMA'!AG15895","v":"N/A"},{"$f":"+'Roster LIMA'!AH15895","v":"Black"},{"$f":"+'Roster LIMA'!AI15895","v":"Black"},{"$f":"+'Roster LIMA'!AJ15895","v":"Black"},{"$f":"+'Roster LIMA'!AK15895","v":"Red"},{"$f":"+'Roster LIMA'!AL15895","v":"Black"},{"$f":"+'Roster LIMA'!AM15895","v":"Blue"},{"$f":"+'Roster LIMA'!AN15895","v":"G-Motor"},{"$f":"+'Roster LIMA'!AO15895","v":"N/A"},{"$f":"+'Roster LIMA'!AP15895","v":0},{"$f":"+'Roster LIMA'!AQ15895","v":0},{"$f":"+'Roster LIMA'!AR15895","v":6},{"$f":"+'Roster LIMA'!AS15895","v":1.1494252873563218E-2},{"$f":"+'Roster LIMA'!AT15895","v":270},{"$f":"+'Roster LIMA'!AU15895","v":"Yes"}]
[{"$f":"+'Roster LIMA'!F15896","v":"HL2016"},{"$f":"+'Roster LIMA'!G15896","v":2009},{"$f":"+'Roster LIMA'!H15896","v":"Yes"},{"$f":"+'Roster LIMA'!I15896","v":"ML"},{"$f":"+'Roster LIMA'!J15896","v":34},{"$f":"+'Roster LIMA'!K15896","v":"x"},{"$f":"+'Roster LIMA'!E15896","v":0},{"$f":"+'Roster LIMA'!B15896","v":208650},{"$f":"+'Roster LIMA'!C15896","v":"L"},{"$f":"+'Roster LIMA'!D15896","v":0},{"$f":"+'Roster LIMA'!L15896","v":"Australia"},{"$f":"+'Roster LIMA'!M15896","v":"SRA"},{"$f":"+'Roster LIMA'!N15894","v":"No"},{"$f":"+'Roster LIMA'!O15896","v":"Locomotive"},{"$f":"+'Roster LIMA'!P15896","v":"Diesel"},{"$f":"+'Roster LIMA'!Q15896","v":"Multipurpose"},{"$f":"+'Roster LIMA'!R15896","v":"Co'Co'"},{"$f":"+'Roster LIMA'!S15896","v":"N/A"},{"$f":"+'Roster LIMA'!T15896","v":"Yes"},{"$f":"+'Roster LIMA'!U15896","v":1969},{"$f":"+'Roster LIMA'!V15896","v":2010},{"$f":"+'Roster LIMA'!W15896","v":"IV b / V a / V b"},{"$f":"+'Roster LIMA'!X15896","v":"NSW C422"},{"$f":"+'Roster LIMA'!Y15896","v":"Class 422"},{"$f":"+'Roster LIMA'!Z15896","v":"N/A"},{"$f":"+'Roster LIMA'!AA15896","v":42204},{"$f":"+'Roster LIMA'!AB15896","v":"20 units, built between 1969-70 and numbered 42201/20. Focus on mixed-traffic services (regional Passenger and Freight)"},{"$f":"+'Roster LIMA'!AC15896","v":"N/A"},{"$f":"+'Roster LIMA'!AD15896","v":"N/A"},{"$f":"+'Roster LIMA'!AE15896","v":"N/A"},{"$f":"+'Roster LIMA'!AF15896","v":"SRA"},{"$f":"+'Roster LIMA'!AG15896","v":"Candy"},{"$f":"+'Roster LIMA'!AH15896","v":"Red"},{"$f":"+'Roster LIMA'!AI15896","v":"Grey"},{"$f":"+'Roster LIMA'!AJ15896","v":"Black"},{"$f":"+'Roster LIMA'!AK15896","v":"Yellow"},{"$f":"+'Roster LIMA'!AL15896","v":"Red"},{"$f":"+'Roster LIMA'!AM15896","v":"Blue"},{"$f":"+'Roster LIMA'!AN15896","v":"G-Motor"},{"$f":"+'Roster LIMA'!AO15896","v":"N/A"},{"$f":"+'Roster LIMA'!AP15896","v":0},{"$f":"+'Roster LIMA'!AQ15896","v":2},{"$f":"+'Roster LIMA'!AR15896","v":6},{"$f":"+'Roster LIMA'!AS15896","v":1.1494252873563218E-2},{"$f":"+'Roster LIMA'!AT15896","v":200},{"$f":"+'Roster LIMA'!AU15896","v":"Replace"}]
[{"$f":"+'Roster LIMA'!F15897","v":"HL2023"},{"$f":"+'Roster LIMA'!G15897","v":2009},{"$f":"+'Roster LIMA'!H15897","v":"Yes"},{"$f":"+'Roster LIMA'!I15897","v":"ML"},{"$f":"+'Roster LIMA'!J15897","v":34},{"$f":"+'Roster LIMA'!K15897","v":"x"},{"$f":"+'Roster LIMA'!E15897","v":0},{"$f":"+'Roster LIMA'!B15897","v":"N/A"},{"$f":"+'Roster LIMA'!C15897","v":0},{"$f":"+'Roster LIMA'!D15897","v":0},{"$f":"+'Roster LIMA'!L15897","v":"Germany"},{"$f":"+'Roster LIMA'!M15897","v":"DR"},{"$f":"+'Roster LIMA'!N15895","v":"No"},{"$f":"+'Roster LIMA'!O15897","v":"Locomotive"},{"$f":"+'Roster LIMA'!P15897","v":"Diesel"},{"$f":"+'Roster LIMA'!Q15897","v":"Shunter"},{"$f":"+'Roster LIMA'!R15897","v":"C"},{"$f":"+'Roster LIMA'!S15897","v":"N/A"},{"$f":"+'Roster LIMA'!T15897","v":"Yes"},{"$f":"+'Roster LIMA'!U15897","v":1944},{"$f":"+'Roster LIMA'!V15897","v":1968},{"$f":"+'Roster LIMA'!W15897","v":"III b"},{"$f":"+'Roster LIMA'!X15897","v":"BR-270"},{"$f":"+'Roster LIMA'!Y15897","v":"V-20"},{"$f":"+'Roster LIMA'!Z15897","v":"WR 200 B14"},{"$f":"+'Roster LIMA'!AA15897","v":"V20 007"},{"$f":"+'Roster LIMA'!AB15897","v":"129 units, built between 1940-47. Focus on shunting operation. Originally employed by the Wehrmacht"},{"$f":"+'Roster LIMA'!AC15897","v":"N/A"},{"$f":"+'Roster LIMA'!AD15897","v":"N/A"},{"$f":"+'Roster LIMA'!AE15897","v":"N/A"},{"$f":"+'Roster LIMA'!AF15897","v":"DR"},{"$f":"+'Roster LIMA'!AG15897","v":"N/A"},{"$f":"+'Roster LIMA'!AH15897","v":"Green"},{"$f":"+'Roster LIMA'!AI15897","v":"Grey"},{"$f":"+'Roster LIMA'!AJ15897","v":"Red"},{"$f":"+'Roster LIMA'!AK15897","v":"N/A"},{"$f":"+'Roster LIMA'!AL15897","v":"Green"},{"$f":"+'Roster LIMA'!AM15897","v":"Blue"},{"$f":"+'Roster LIMA'!AN15897","v":"G-Motor"},{"$f":"+'Roster LIMA'!AO15897","v":"N/A"},{"$f":"+'Roster LIMA'!AP15897","v":0},{"$f":"+'Roster LIMA'!AQ15897","v":0},{"$f":"+'Roster LIMA'!AR15897","v":3},{"$f":"+'Roster LIMA'!AS15897","v":1.1494252873563218E-2},{"$f":"+'Roster LIMA'!AT15897","v":92},{"$f":"+'Roster LIMA'!AU15897","v":"Yes"}]
[{"$f":"+'Roster LIMA'!F15898","v":"HL2033"},{"$f":"+'Roster LIMA'!G15898","v":2009},{"$f":"+'Roster LIMA'!H15898","v":"Yes"},{"$f":"+'Roster LIMA'!I15898","v":"ML"},{"$f":"+'Roster LIMA'!J15898","v":34},{"$f":"+'Roster LIMA'!K15898","v":"x"},{"$f":"+'Roster LIMA'!E15898","v":0},{"$f":"+'Roster LIMA'!B15898","v":"N/A"},{"$f":"+'Roster LIMA'!C15898","v":0},{"$f":"+'Roster LIMA'!D15898","v":0},{"$f":"+'Roster LIMA'!L15898","v":"Germany"},{"$f":"+'Roster LIMA'!M15898","v":"DR"},{"$f":"+'Roster LIMA'!N15896","v":"No"},{"$f":"+'Roster LIMA'!O15898","v":"Locomotive"},{"$f":"+'Roster LIMA'!P15898","v":"Diesel"},{"$f":"+'Roster LIMA'!Q15898","v":"Shunter"},{"$f":"+'Roster LIMA'!R15898","v":"C"},{"$f":"+'Roster LIMA'!S15898","v":"N/A"},{"$f":"+'Roster LIMA'!T15898","v":"Yes"},{"$f":"+'Roster LIMA'!U15898","v":1943},{"$f":"+'Roster LIMA'!V15898","v":1981},{"$f":"+'Roster LIMA'!W15898","v":"IV a / IV b"},{"$f":"+'Roster LIMA'!X15898","v":"BR-236"},{"$f":"+'Roster LIMA'!Y15898","v":"V-36"},{"$f":"+'Roster LIMA'!Z15898","v":"WR 360 C 14"},{"$f":"+'Roster LIMA'!AA15898","v":"103 019-6"},{"$f":"+'Roster LIMA'!AB15898","v":"279 units, built between 1937-50. Focus on shunting operation. Originally employed by the Wehrmacht"},{"$f":"+'Roster LIMA'!AC15898","v":"N/A"},{"$f":"+'Roster LIMA'!AD15898","v":"N/A"},{"$f":"+'Roster LIMA'!AE15898","v":"N/A"},{"$f":"+'Roster LIMA'!AF15898","v":"DR"},{"$f":"+'Roster LIMA'!AG15898","v":"N/A"},{"$f":"+'Roster LIMA'!AH15898","v":"Green"},{"$f":"+'Roster LIMA'!AI15898","v":"Grey"},{"$f":"+'Roster LIMA'!AJ15898","v":"Red"},{"$f":"+'Roster LIMA'!AK15898","v":"N/A"},{"$f":"+'Roster LIMA'!AL15898","v":"Green"},{"$f":"+'Roster LIMA'!AM15898","v":"Blue"},{"$f":"+'Roster LIMA'!AN15898","v":"G-Motor"},{"$f":"+'Roster LIMA'!AO15898","v":"N/A"},{"$f":"+'Roster LIMA'!AP15898","v":0},{"$f":"+'Roster LIMA'!AQ15898","v":0},{"$f":"+'Roster LIMA'!AR15898","v":3},{"$f":"+'Roster LIMA'!AS15898","v":1.1494252873563218E-2},{"$f":"+'Roster LIMA'!AT15898","v":92},{"$f":"+'Roster LIMA'!AU15898","v":"Yes"}]
[{"$f":"+'Roster LIMA'!F15899","v":"HL2015"},{"$f":"+'Roster LIMA'!G15899","v":2009},{"$f":"+'Roster LIMA'!H15899","v":"Yes"},{"$f":"+'Roster LIMA'!I15899","v":"ML"},{"$f":"+'Roster LIMA'!J15899","v":35},{"$f":"+'Roster LIMA'!K15899","v":"x"},{"$f":"+'Roster LIMA'!E15899","v":0},{"$f":"+'Roster LIMA'!B15899","v":"N/A"},{"$f":"+'Roster LIMA'!C15899","v":0},{"$f":"+'Roster LIMA'!D15899","v":0},{"$f":"+'Roster LIMA'!L15899","v":"Germany"},{"$f":"+'Roster LIMA'!M15899","v":"DB"},{"$f":"+'Roster LIMA'!N15897","v":"No"},{"$f":"+'Roster LIMA'!O15899","v":"Locomotive"},{"$f":"+'Roster LIMA'!P15899","v":"Diesel"},{"$f":"+'Roster LIMA'!Q15899","v":"Shunter"},{"$f":"+'Roster LIMA'!R15899","v":"C"},{"$f":"+'Roster LIMA'!S15899","v":"N/A"},{"$f":"+'Roster LIMA'!T15899","v":"Yes"},{"$f":"+'Roster LIMA'!U15899","v":1941},{"$f":"+'Roster LIMA'!V15899","v":1977},{"$f":"+'Roster LIMA'!W15899","v":"III b"},{"$f":"+'Roster LIMA'!X15899","v":"BR-270"},{"$f":"+'Roster LIMA'!Y15899","v":"V-20"},{"$f":"+'Roster LIMA'!Z15899","v":"WR 200 B14"},{"$f":"+'Roster LIMA'!AA15899","v":"V20 021"},{"$f":"+'Roster LIMA'!AB15899","v":"129 units, built between 1940-47. Focus on shunting operation. Originally employed by the Wehrmacht"},{"$f":"+'Roster LIMA'!AC15899","v":"N/A"},{"$f":"+'Roster LIMA'!AD15899","v":"N/A"},{"$f":"+'Roster LIMA'!AE15899","v":"N/A"},{"$f":"+'Roster LIMA'!AF15899","v":"Keks"},{"$f":"+'Roster LIMA'!AG15899","v":"N/A"},{"$f":"+'Roster LIMA'!AH15899","v":"Black"},{"$f":"+'Roster LIMA'!AI15899","v":"Grey"},{"$f":"+'Roster LIMA'!AJ15899","v":"Red"},{"$f":"+'Roster LIMA'!AK15899","v":"N/A"},{"$f":"+'Roster LIMA'!AL15899","v":"Black"},{"$f":"+'Roster LIMA'!AM15899","v":"Blue"},{"$f":"+'Roster LIMA'!AN15899","v":"G-Motor"},{"$f":"+'Roster LIMA'!AO15899","v":"N/A"},{"$f":"+'Roster LIMA'!AP15899","v":0},{"$f":"+'Roster LIMA'!AQ15899","v":0},{"$f":"+'Roster LIMA'!AR15899","v":3},{"$f":"+'Roster LIMA'!AS15899","v":1.1494252873563218E-2},{"$f":"+'Roster LIMA'!AT15899","v":92},{"$f":"+'Roster LIMA'!AU15899","v":"Yes"}]
[{"$f":"+'Roster LIMA'!F15900","v":"HL2014"},{"$f":"+'Roster LIMA'!G15900","v":2009},{"$f":"+'Roster LIMA'!H15900","v":"Yes"},{"$f":"+'Roster LIMA'!I15900","v":"ML"},{"$f":"+'Roster LIMA'!J15900","v":35},{"$f":"+'Roster LIMA'!K15900","v":"x"},{"$f":"+'Roster LIMA'!E15900","v":0},{"$f":"+'Roster LIMA'!B15900","v":"N/A"},{"$f":"+'Roster LIMA'!C15900","v":0},{"$f":"+'Roster LIMA'!D15900","v":0},{"$f":"+'Roster LIMA'!L15900","v":"Germany"},{"$f":"+'Roster LIMA'!M15900","v":"DB"},{"$f":"+'Roster LIMA'!N15898","v":"No"},{"$f":"+'Roster LIMA'!O15900","v":"Locomotive"},{"$f":"+'Roster LIMA'!P15900","v":"Diesel"},{"$f":"+'Roster LIMA'!Q15900","v":"Shunter"},{"$f":"+'Roster LIMA'!R15900","v":"C"},{"$f":"+'Roster LIMA'!S15900","v":"N/A"},{"$f":"+'Roster LIMA'!T15900","v":"Yes"},{"$f":"+'Roster LIMA'!U15900","v":1947},{"$f":"+'Roster LIMA'!V15900","v":1977},{"$f":"+'Roster LIMA'!W15900","v":"III b"},{"$f":"+'Roster LIMA'!X15900","v":"BR-236"},{"$f":"+'Roster LIMA'!Y15900","v":"V-36"},{"$f":"+'Roster LIMA'!Z15900","v":"WR 360 C 14"},{"$f":"+'Roster LIMA'!AA15900","v":"V36 150"},{"$f":"+'Roster LIMA'!AB15900","v":"279 units, built between 1937-50. Focus on shunting operation. Originally employed by the Wehrmacht"},{"$f":"+'Roster LIMA'!AC15900","v":"N/A"},{"$f":"+'Roster LIMA'!AD15900","v":"N/A"},{"$f":"+'Roster LIMA'!AE15900","v":"N/A"},{"$f":"+'Roster LIMA'!AF15900","v":"Keks"},{"$f":"+'Roster LIMA'!AG15900","v":"N/A"},{"$f":"+'Roster LIMA'!AH15900","v":"Black"},{"$f":"+'Roster LIMA'!AI15900","v":"Grey"},{"$f":"+'Roster LIMA'!AJ15900","v":"Red"},{"$f":"+'Roster LIMA'!AK15900","v":"N/A"},{"$f":"+'Roster LIMA'!AL15900","v":"Black"},{"$f":"+'Roster LIMA'!AM15900","v":"Blue"},{"$f":"+'Roster LIMA'!AN15900","v":"G-Motor"},{"$f":"+'Roster LIMA'!AO15900","v":"N/A"},{"$f":"+'Roster LIMA'!AP15900","v":0},{"$f":"+'Roster LIMA'!AQ15900","v":0},{"$f":"+'Roster LIMA'!AR15900","v":3},{"$f":"+'Roster LIMA'!AS15900","v":1.1494252873563218E-2},{"$f":"+'Roster LIMA'!AT15900","v":105},{"$f":"+'Roster LIMA'!AU15900","v":"Yes"}]
[{"$f":"+'Roster LIMA'!F15901","v":"HL2815"},{"$f":"+'Roster LIMA'!G15901","v":2009},{"$f":"+'Roster LIMA'!H15901","v":"Yes"},{"$f":"+'Roster LIMA'!I15901","v":"ML"},{"$f":"+'Roster LIMA'!J15901","v":35},{"$f":"+'Roster LIMA'!K15901","v":"x"},{"$f":"+'Roster LIMA'!E15901","v":0},{"$f":"+'Roster LIMA'!B15901","v":"N/A"},{"$f":"+'Roster LIMA'!C15901","v":0},{"$f":"+'Roster LIMA'!D15901","v":0},{"$f":"+'Roster LIMA'!L15901","v":"Germany"},{"$f":"+'Roster LIMA'!M15901","v":"DB"},{"$f":"+'Roster LIMA'!N15899","v":"No"},{"$f":"+'Roster LIMA'!O15901","v":"Locomotive"},{"$f":"+'Roster LIMA'!P15901","v":"Diesel"},{"$f":"+'Roster LIMA'!Q15901","v":"Shunter"},{"$f":"+'Roster LIMA'!R15901","v":"C"},{"$f":"+'Roster LIMA'!S15901","v":"N/A"},{"$f":"+'Roster LIMA'!T15901","v":"Yes"},{"$f":"+'Roster LIMA'!U15901","v":1943},{"$f":"+'Roster LIMA'!V15901","v":1977},{"$f":"+'Roster LIMA'!W15901","v":"III a / III b"},{"$f":"+'Roster LIMA'!X15901","v":"BR-270"},{"$f":"+'Roster LIMA'!Y15901","v":"V-20"},{"$f":"+'Roster LIMA'!Z15901","v":"WR 200 B14"},{"$f":"+'Roster LIMA'!AA15901","v":"V20 040"},{"$f":"+'Roster LIMA'!AB15901","v":"129 units, built between 1940-47. Focus on shunting operation. Originally employed by the Wehrmacht. AC version only"},{"$f":"+'Roster LIMA'!AC15901","v":"N/A"},{"$f":"+'Roster LIMA'!AD15901","v":"N/A"},{"$f":"+'Roster LIMA'!AE15901","v":"N/A"},{"$f":"+'Roster LIMA'!AF15901","v":"Keks"},{"$f":"+'Roster LIMA'!AG15901","v":"N/A"},{"$f":"+'Roster LIMA'!AH15901","v":"Black"},{"$f":"+'Roster LIMA'!AI15901","v":"Grey"},{"$f":"+'Roster LIMA'!AJ15901","v":"Red"},{"$f":"+'Roster LIMA'!AK15901","v":"N/A"},{"$f":"+'Roster LIMA'!AL15901","v":"Black"},{"$f":"+'Roster LIMA'!AM15901","v":"Blue"},{"$f":"+'Roster LIMA'!AN15901","v":"G-Motor"},{"$f":"+'Roster LIMA'!AO15901","v":"N/A"},{"$f":"+'Roster LIMA'!AP15901","v":0},{"$f":"+'Roster LIMA'!AQ15901","v":0},{"$f":"+'Roster LIMA'!AR15901","v":3},{"$f":"+'Roster LIMA'!AS15901","v":1.1494252873563218E-2},{"$f":"+'Roster LIMA'!AT15901","v":92},{"$f":"+'Roster LIMA'!AU15901","v":"Yes"}]
[{"$f":"+'Roster LIMA'!F15903","v":"HL4027"},{"$f":"+'Roster LIMA'!G15903","v":2009},{"$f":"+'Roster LIMA'!H15903","v":"Yes"},{"$f":"+'Roster LIMA'!I15903","v":"ML"},{"$f":"+'Roster LIMA'!J15903","v":36},{"$f":"+'Roster LIMA'!K15903","v":"x"},{"$f":"+'Roster LIMA'!E15903","v":0},{"$f":"+'Roster LIMA'!B15903","v":"309127-3"},{"$f":"+'Roster LIMA'!C15903","v":0},{"$f":"+'Roster LIMA'!D15903","v":0},{"$f":"+'Roster LIMA'!L15903","v":"Australia"},{"$f":"+'Roster LIMA'!M15903","v":"SAU"},{"$f":"+'Roster LIMA'!N15900","v":"No"},{"$f":"+'Roster LIMA'!O15903","v":"Passenger"},{"$f":"+'Roster LIMA'!P15903","v":"With central corridor"},{"$f":"+'Roster LIMA'!Q15903","v":"2° class"},{"$f":"+'Roster LIMA'!R15903","v":"2'2'"},{"$f":"+'Roster LIMA'!S15903","v":"N/A"},{"$f":"+'Roster LIMA'!T15903","v":"Yes"},{"$f":"+'Roster LIMA'!U15903","v":1965},{"$f":"+'Roster LIMA'!V15903","v":"Operational"},{"$f":"+'Roster LIMA'!W15903","v":"V a / V b"},{"$f":"+'Roster LIMA'!X15903","v":"Budd"},{"$f":"+'Roster LIMA'!Y15903","v":"SSC"},{"$f":"+'Roster LIMA'!Z15903","v":"Stainless Steel Carriage"},{"$f":"+'Roster LIMA'!AA15903","v":"N/A"},{"$f":"+'Roster LIMA'!AB15903","v":"234 units, built between 1957-67 based on an American Budd coach design"},{"$f":"+'Roster LIMA'!AC15903","v":"The Ghan"},{"$f":"+'Roster LIMA'!AD15903","v":"The Ghan"},{"$f":"+'Roster LIMA'!AE15903","v":"N/A"},{"$f":"+'Roster LIMA'!AF15903","v":"N/A"},{"$f":"+'Roster LIMA'!AG15903","v":"N/A"},{"$f":"+'Roster LIMA'!AH15903","v":"Grey"},{"$f":"+'Roster LIMA'!AI15903","v":"Grey"},{"$f":"+'Roster LIMA'!AJ15903","v":"Grey"},{"$f":"+'Roster LIMA'!AK15903","v":"Yellow"},{"$f":"+'Roster LIMA'!AL15903","v":"Grey"},{"$f":"+'Roster LIMA'!AM15903","v":"Blue"},{"$f":"+'Roster LIMA'!AN15903","v":"N/A"},{"$f":"+'Roster LIMA'!AO15903","v":"N/A"},{"$f":"+'Roster LIMA'!AP15903","v":0},{"$f":"+'Roster LIMA'!AQ15903","v":2},{"$f":"+'Roster LIMA'!AR15903","v":4},{"$f":"+'Roster LIMA'!AS15903","v":0.01},{"$f":"+'Roster LIMA'!AT15903","v":260},{"$f":"+'Roster LIMA'!AU15903","v":"Replace"}]
[{"$f":"+'Roster LIMA'!F15904","v":"HL4029"},{"$f":"+'Roster LIMA'!G15904","v":2009},{"$f":"+'Roster LIMA'!H15904","v":"Yes"},{"$f":"+'Roster LIMA'!I15904","v":"ML"},{"$f":"+'Roster LIMA'!J15904","v":37},{"$f":"+'Roster LIMA'!K15904","v":"x"},{"$f":"+'Roster LIMA'!E15904","v":0},{"$f":"+'Roster LIMA'!B15904","v":"N/A"},{"$f":"+'Roster LIMA'!C15904","v":0},{"$f":"+'Roster LIMA'!D15904","v":0},{"$f":"+'Roster LIMA'!L15904","v":"Australia"},{"$f":"+'Roster LIMA'!M15904","v":"SAU"},{"$f":"+'Roster LIMA'!N15901","v":"No"},{"$f":"+'Roster LIMA'!O15904","v":"Passenger"},{"$f":"+'Roster LIMA'!P15904","v":"Power unit"},{"$f":"+'Roster LIMA'!Q15904","v":"Baggage"},{"$f":"+'Roster LIMA'!R15904","v":"2'2'"},{"$f":"+'Roster LIMA'!S15904","v":"N/A"},{"$f":"+'Roster LIMA'!T15904","v":"Yes"},{"$f":"+'Roster LIMA'!U15904","v":1965},{"$f":"+'Roster LIMA'!V15904","v":"Operational"},{"$f":"+'Roster LIMA'!W15904","v":"V a / V b"},{"$f":"+'Roster LIMA'!X15904","v":"Budd"},{"$f":"+'Roster LIMA'!Y15904","v":"SSC"},{"$f":"+'Roster LIMA'!Z15904","v":"Stainless Steel Carriage"},{"$f":"+'Roster LIMA'!AA15904","v":"N/A"},{"$f":"+'Roster LIMA'!AB15904","v":"234 units, built between 1957-67 based on an American Budd coach design"},{"$f":"+'Roster LIMA'!AC15904","v":"The Ghan"},{"$f":"+'Roster LIMA'!AD15904","v":"The Ghan"},{"$f":"+'Roster LIMA'!AE15904","v":"N/A"},{"$f":"+'Roster LIMA'!AF15904","v":"N/A"},{"$f":"+'Roster LIMA'!AG15904","v":"N/A"},{"$f":"+'Roster LIMA'!AH15904","v":"Grey"},{"$f":"+'Roster LIMA'!AI15904","v":"Grey"},{"$f":"+'Roster LIMA'!AJ15904","v":"Grey"},{"$f":"+'Roster LIMA'!AK15904","v":"Yellow"},{"$f":"+'Roster LIMA'!AL15904","v":"Grey"},{"$f":"+'Roster LIMA'!AM15904","v":"Blue"},{"$f":"+'Roster LIMA'!AN15904","v":"N/A"},{"$f":"+'Roster LIMA'!AO15904","v":"N/A"},{"$f":"+'Roster LIMA'!AP15904","v":0},{"$f":"+'Roster LIMA'!AQ15904","v":2},{"$f":"+'Roster LIMA'!AR15904","v":4},{"$f":"+'Roster LIMA'!AS15904","v":0.01},{"$f":"+'Roster LIMA'!AT15904","v":260},{"$f":"+'Roster LIMA'!AU15904","v":"Yes"}]
[{"$f":"+'Roster LIMA'!F15905","v":"HL4028"},{"$f":"+'Roster LIMA'!G15905","v":2009},{"$f":"+'Roster LIMA'!H15905","v":"Yes"},{"$f":"+'Roster LIMA'!I15905","v":"ML"},{"$f":"+'Roster LIMA'!J15905","v":37},{"$f":"+'Roster LIMA'!K15905","v":"x"},{"$f":"+'Roster LIMA'!E15905","v":0},{"$f":"+'Roster LIMA'!B15905","v":"N/A"},{"$f":"+'Roster LIMA'!C15905","v":0},{"$f":"+'Roster LIMA'!D15905","v":0},{"$f":"+'Roster LIMA'!L15905","v":"Australia"},{"$f":"+'Roster LIMA'!M15905","v":"SAU"},{"$f":"+'Roster LIMA'!N15902","v":"No"},{"$f":"+'Roster LIMA'!O15905","v":"Passenger"},{"$f":"+'Roster LIMA'!P15905","v":"With central corridor"},{"$f":"+'Roster LIMA'!Q15905","v":"Restaurant"},{"$f":"+'Roster LIMA'!R15905","v":"2'2'"},{"$f":"+'Roster LIMA'!S15905","v":"N/A"},{"$f":"+'Roster LIMA'!T15905","v":"Yes"},{"$f":"+'Roster LIMA'!U15905","v":1965},{"$f":"+'Roster LIMA'!V15905","v":"Operational"},{"$f":"+'Roster LIMA'!W15905","v":"V a / V b"},{"$f":"+'Roster LIMA'!X15905","v":"Budd"},{"$f":"+'Roster LIMA'!Y15905","v":"SSC"},{"$f":"+'Roster LIMA'!Z15905","v":"Stainless Steel Carriage"},{"$f":"+'Roster LIMA'!AA15905","v":"N/A"},{"$f":"+'Roster LIMA'!AB15905","v":"234 units, built between 1957-67 based on an American Budd coach design"},{"$f":"+'Roster LIMA'!AC15905","v":"The Ghan"},{"$f":"+'Roster LIMA'!AD15905","v":"The Ghan"},{"$f":"+'Roster LIMA'!AE15905","v":"N/A"},{"$f":"+'Roster LIMA'!AF15905","v":"N/A"},{"$f":"+'Roster LIMA'!AG15905","v":"N/A"},{"$f":"+'Roster LIMA'!AH15905","v":"Grey"},{"$f":"+'Roster LIMA'!AI15905","v":"Grey"},{"$f":"+'Roster LIMA'!AJ15905","v":"Grey"},{"$f":"+'Roster LIMA'!AK15905","v":"Yellow"},{"$f":"+'Roster LIMA'!AL15905","v":"Grey"},{"$f":"+'Roster LIMA'!AM15905","v":"Blue"},{"$f":"+'Roster LIMA'!AN15905","v":"N/A"},{"$f":"+'Roster LIMA'!AO15905","v":"N/A"},{"$f":"+'Roster LIMA'!AP15905","v":0},{"$f":"+'Roster LIMA'!AQ15905","v":2},{"$f":"+'Roster LIMA'!AR15905","v":4},{"$f":"+'Roster LIMA'!AS15905","v":0.01},{"$f":"+'Roster LIMA'!AT15905","v":260},{"$f":"+'Roster LIMA'!AU15905","v":"Yes"}]
[{"$f":"+'Roster LIMA'!F15906","v":"HL4030"},{"$f":"+'Roster LIMA'!G15906","v":2009},{"$f":"+'Roster LIMA'!H15906","v":"Yes"},{"$f":"+'Roster LIMA'!I15906","v":"ML"},{"$f":"+'Roster LIMA'!J15906","v":38},{"$f":"+'Roster LIMA'!K15906","v":"x"},{"$f":"+'Roster LIMA'!E15906","v":0},{"$f":"+'Roster LIMA'!B15906","v":"N/A"},{"$f":"+'Roster LIMA'!C15906","v":0},{"$f":"+'Roster LIMA'!D15906","v":0},{"$f":"+'Roster LIMA'!L15906","v":"Australia"},{"$f":"+'Roster LIMA'!M15906","v":"SAU"},{"$f":"+'Roster LIMA'!N15903","v":"No"},{"$f":"+'Roster LIMA'!O15906","v":"Passenger"},{"$f":"+'Roster LIMA'!P15906","v":"With compartment"},{"$f":"+'Roster LIMA'!Q15906","v":"Sleeper"},{"$f":"+'Roster LIMA'!R15906","v":"2'2'"},{"$f":"+'Roster LIMA'!S15906","v":"N/A"},{"$f":"+'Roster LIMA'!T15906","v":"Yes"},{"$f":"+'Roster LIMA'!U15906","v":1965},{"$f":"+'Roster LIMA'!V15906","v":"Operational"},{"$f":"+'Roster LIMA'!W15906","v":"V a / V b"},{"$f":"+'Roster LIMA'!X15906","v":"Budd"},{"$f":"+'Roster LIMA'!Y15906","v":"SSC"},{"$f":"+'Roster LIMA'!Z15906","v":"Stainless Steel Carriage"},{"$f":"+'Roster LIMA'!AA15906","v":"N/A"},{"$f":"+'Roster LIMA'!AB15906","v":"234 units, built between 1957-67 based on an American Budd coach design"},{"$f":"+'Roster LIMA'!AC15906","v":"The Ghan"},{"$f":"+'Roster LIMA'!AD15906","v":"The Ghan"},{"$f":"+'Roster LIMA'!AE15906","v":"N/A"},{"$f":"+'Roster LIMA'!AF15906","v":"N/A"},{"$f":"+'Roster LIMA'!AG15906","v":"N/A"},{"$f":"+'Roster LIMA'!AH15906","v":"Grey"},{"$f":"+'Roster LIMA'!AI15906","v":"Grey"},{"$f":"+'Roster LIMA'!AJ15906","v":"Grey"},{"$f":"+'Roster LIMA'!AK15906","v":"Yellow"},{"$f":"+'Roster LIMA'!AL15906","v":"Grey"},{"$f":"+'Roster LIMA'!AM15906","v":"Blue"},{"$f":"+'Roster LIMA'!AN15906","v":"N/A"},{"$f":"+'Roster LIMA'!AO15906","v":"N/A"},{"$f":"+'Roster LIMA'!AP15906","v":0},{"$f":"+'Roster LIMA'!AQ15906","v":2},{"$f":"+'Roster LIMA'!AR15906","v":4},{"$f":"+'Roster LIMA'!AS15906","v":0.01},{"$f":"+'Roster LIMA'!AT15906","v":260},{"$f":"+'Roster LIMA'!AU15906","v":"Yes"}]
[{"$f":"+'Roster LIMA'!F15907","v":"HL4010"},{"$f":"+'Roster LIMA'!G15907","v":2009},{"$f":"+'Roster LIMA'!H15907","v":"Yes"},{"$f":"+'Roster LIMA'!I15907","v":"ML"},{"$f":"+'Roster LIMA'!J15907","v":38},{"$f":"+'Roster LIMA'!K15907","v":"x"},{"$f":"+'Roster LIMA'!E15907","v":0},{"$f":"+'Roster LIMA'!B15907","v":"309173-1"},{"$f":"+'Roster LIMA'!C15907","v":0},{"$f":"+'Roster LIMA'!D15907","v":0},{"$f":"+'Roster LIMA'!L15907","v":"Australia"},{"$f":"+'Roster LIMA'!M15907","v":"NSW"},{"$f":"+'Roster LIMA'!N15904","v":"No"},{"$f":"+'Roster LIMA'!O15907","v":"Passenger"},{"$f":"+'Roster LIMA'!P15907","v":"With compartment"},{"$f":"+'Roster LIMA'!Q15907","v":"2° class"},{"$f":"+'Roster LIMA'!R15907","v":"3'3'"},{"$f":"+'Roster LIMA'!S15907","v":"N/A"},{"$f":"+'Roster LIMA'!T15907","v":"Yes"},{"$f":"+'Roster LIMA'!U15907","v":1906},{"$f":"+'Roster LIMA'!V15907","v":1990},{"$f":"+'Roster LIMA'!W15907","v":"I / II / III a / III b"},{"$f":"+'Roster LIMA'!X15907","v":"E carriage"},{"$f":"+'Roster LIMA'!Y15907","v":"BE"},{"$f":"+'Roster LIMA'!Z15907","v":"N/A"},{"$f":"+'Roster LIMA'!AA15907","v":"N/A"},{"$f":"+'Roster LIMA'!AB15907","v":"43 units, built between 1906-23 and numbered originally BE1/43. 2 or 3 axle per bogie versions available"},{"$f":"+'Roster LIMA'!AC15907","v":"N/A"},{"$f":"+'Roster LIMA'!AD15907","v":"N/A"},{"$f":"+'Roster LIMA'!AE15907","v":"N/A"},{"$f":"+'Roster LIMA'!AF15907","v":"N/A"},{"$f":"+'Roster LIMA'!AG15907","v":"N/A"},{"$f":"+'Roster LIMA'!AH15907","v":"Brown"},{"$f":"+'Roster LIMA'!AI15907","v":"Grey"},{"$f":"+'Roster LIMA'!AJ15907","v":"Black"},{"$f":"+'Roster LIMA'!AK15907","v":"Cream"},{"$f":"+'Roster LIMA'!AL15907","v":"Red"},{"$f":"+'Roster LIMA'!AM15907","v":"Blue"},{"$f":"+'Roster LIMA'!AN15907","v":"N/A"},{"$f":"+'Roster LIMA'!AO15907","v":"N/A"},{"$f":"+'Roster LIMA'!AP15907","v":0},{"$f":"+'Roster LIMA'!AQ15907","v":2},{"$f":"+'Roster LIMA'!AR15907","v":6},{"$f":"+'Roster LIMA'!AS15907","v":1.1764705882352941E-2},{"$f":"+'Roster LIMA'!AT15907","v":260},{"$f":"+'Roster LIMA'!AU15907","v":"Replace"}]
[{"$f":"+'Roster LIMA'!F15908","v":"HL4011"},{"$f":"+'Roster LIMA'!G15908","v":2009},{"$f":"+'Roster LIMA'!H15908","v":"Yes"},{"$f":"+'Roster LIMA'!I15908","v":"ML"},{"$f":"+'Roster LIMA'!J15908","v":38},{"$f":"+'Roster LIMA'!K15908","v":"x"},{"$f":"+'Roster LIMA'!E15908","v":0},{"$f":"+'Roster LIMA'!B15908","v":"309171-1"},{"$f":"+'Roster LIMA'!C15908","v":0},{"$f":"+'Roster LIMA'!D15908","v":0},{"$f":"+'Roster LIMA'!L15908","v":"Australia"},{"$f":"+'Roster LIMA'!M15908","v":"NSW"},{"$f":"+'Roster LIMA'!N15905","v":"No"},{"$f":"+'Roster LIMA'!O15908","v":"Passenger"},{"$f":"+'Roster LIMA'!P15908","v":"With compartment"},{"$f":"+'Roster LIMA'!Q15908","v":"1° class"},{"$f":"+'Roster LIMA'!R15908","v":"3'3'"},{"$f":"+'Roster LIMA'!S15908","v":"N/A"},{"$f":"+'Roster LIMA'!T15908","v":"Yes"},{"$f":"+'Roster LIMA'!U15908","v":1906},{"$f":"+'Roster LIMA'!V15908","v":1990},{"$f":"+'Roster LIMA'!W15908","v":"I / II / III a / III b"},{"$f":"+'Roster LIMA'!X15908","v":"E carriage"},{"$f":"+'Roster LIMA'!Y15908","v":"AE"},{"$f":"+'Roster LIMA'!Z15908","v":"N/A"},{"$f":"+'Roster LIMA'!AA15908","v":"N/A"},{"$f":"+'Roster LIMA'!AB15908","v":"42 units, built between 1906-10 and numbered originally AE 1/42. 2 or 3 axle per bogie versions available"},{"$f":"+'Roster LIMA'!AC15908","v":"N/A"},{"$f":"+'Roster LIMA'!AD15908","v":"N/A"},{"$f":"+'Roster LIMA'!AE15908","v":"N/A"},{"$f":"+'Roster LIMA'!AF15908","v":"N/A"},{"$f":"+'Roster LIMA'!AG15908","v":"N/A"},{"$f":"+'Roster LIMA'!AH15908","v":"Brown"},{"$f":"+'Roster LIMA'!AI15908","v":"Grey"},{"$f":"+'Roster LIMA'!AJ15908","v":"Black"},{"$f":"+'Roster LIMA'!AK15908","v":"Cream"},{"$f":"+'Roster LIMA'!AL15908","v":"Red"},{"$f":"+'Roster LIMA'!AM15908","v":"Blue"},{"$f":"+'Roster LIMA'!AN15908","v":"N/A"},{"$f":"+'Roster LIMA'!AO15908","v":"N/A"},{"$f":"+'Roster LIMA'!AP15908","v":0},{"$f":"+'Roster LIMA'!AQ15908","v":2},{"$f":"+'Roster LIMA'!AR15908","v":6},{"$f":"+'Roster LIMA'!AS15908","v":1.1764705882352941E-2},{"$f":"+'Roster LIMA'!AT15908","v":260},{"$f":"+'Roster LIMA'!AU15908","v":"Replace"}]
[{"$f":"+'Roster LIMA'!F15909","v":"HL4012"},{"$f":"+'Roster LIMA'!G15909","v":2009},{"$f":"+'Roster LIMA'!H15909","v":"Yes"},{"$f":"+'Roster LIMA'!I15909","v":"ML"},{"$f":"+'Roster LIMA'!J15909","v":38},{"$f":"+'Roster LIMA'!K15909","v":"x"},{"$f":"+'Roster LIMA'!E15909","v":0},{"$f":"+'Roster LIMA'!B15909","v":"N/A"},{"$f":"+'Roster LIMA'!C15909","v":0},{"$f":"+'Roster LIMA'!D15909","v":0},{"$f":"+'Roster LIMA'!L15909","v":"Australia"},{"$f":"+'Roster LIMA'!M15909","v":"NSW"},{"$f":"+'Roster LIMA'!N15906","v":"No"},{"$f":"+'Roster LIMA'!O15909","v":"Passenger"},{"$f":"+'Roster LIMA'!P15909","v":"With compartment"},{"$f":"+'Roster LIMA'!Q15909","v":"Sleeper"},{"$f":"+'Roster LIMA'!R15909","v":"3'3'"},{"$f":"+'Roster LIMA'!S15909","v":"N/A"},{"$f":"+'Roster LIMA'!T15909","v":"Yes"},{"$f":"+'Roster LIMA'!U15909","v":1908},{"$f":"+'Roster LIMA'!V15909","v":1984},{"$f":"+'Roster LIMA'!W15909","v":"I / II / III a / III b"},{"$f":"+'Roster LIMA'!X15909","v":"E carriage"},{"$f":"+'Roster LIMA'!Y15909","v":"SE"},{"$f":"+'Roster LIMA'!Z15909","v":"N/A"},{"$f":"+'Roster LIMA'!AA15909","v":"N/A"},{"$f":"+'Roster LIMA'!AB15909","v":"19 units, built between 1908-28 and numbered originally SE 1/19. 2 or 3 axle per bogie versions available"},{"$f":"+'Roster LIMA'!AC15909","v":"N/A"},{"$f":"+'Roster LIMA'!AD15909","v":"N/A"},{"$f":"+'Roster LIMA'!AE15909","v":"N/A"},{"$f":"+'Roster LIMA'!AF15909","v":"N/A"},{"$f":"+'Roster LIMA'!AG15909","v":"N/A"},{"$f":"+'Roster LIMA'!AH15909","v":"Brown"},{"$f":"+'Roster LIMA'!AI15909","v":"Grey"},{"$f":"+'Roster LIMA'!AJ15909","v":"Black"},{"$f":"+'Roster LIMA'!AK15909","v":"Cream"},{"$f":"+'Roster LIMA'!AL15909","v":"Red"},{"$f":"+'Roster LIMA'!AM15909","v":"Blue"},{"$f":"+'Roster LIMA'!AN15909","v":"N/A"},{"$f":"+'Roster LIMA'!AO15909","v":"N/A"},{"$f":"+'Roster LIMA'!AP15909","v":0},{"$f":"+'Roster LIMA'!AQ15909","v":2},{"$f":"+'Roster LIMA'!AR15909","v":6},{"$f":"+'Roster LIMA'!AS15909","v":1.1764705882352941E-2},{"$f":"+'Roster LIMA'!AT15909","v":260},{"$f":"+'Roster LIMA'!AU15909","v":"Yes"}]
[{"$f":"+'Roster LIMA'!F15910","v":"HL4022"},{"$f":"+'Roster LIMA'!G15910","v":2009},{"$f":"+'Roster LIMA'!H15910","v":"Yes"},{"$f":"+'Roster LIMA'!I15910","v":"ML"},{"$f":"+'Roster LIMA'!J15910","v":39},{"$f":"+'Roster LIMA'!K15910","v":"x"},{"$f":"+'Roster LIMA'!E15910","v":0},{"$f":"+'Roster LIMA'!B15910","v":"N/A"},{"$f":"+'Roster LIMA'!C15910","v":0},{"$f":"+'Roster LIMA'!D15910","v":0},{"$f":"+'Roster LIMA'!L15910","v":"Australia"},{"$f":"+'Roster LIMA'!M15910","v":"NSW"},{"$f":"+'Roster LIMA'!N15907","v":"No"},{"$f":"+'Roster LIMA'!O15910","v":"Passenger"},{"$f":"+'Roster LIMA'!P15910","v":"With central corridor"},{"$f":"+'Roster LIMA'!Q15910","v":"2° class"},{"$f":"+'Roster LIMA'!R15910","v":"2'2'"},{"$f":"+'Roster LIMA'!S15910","v":"N/A"},{"$f":"+'Roster LIMA'!T15910","v":"Yes"},{"$f":"+'Roster LIMA'!U15910","v":1961},{"$f":"+'Roster LIMA'!V15910","v":1993},{"$f":"+'Roster LIMA'!W15910","v":"III b / IV a / IV b / V a"},{"$f":"+'Roster LIMA'!X15910","v":"Budd"},{"$f":"+'Roster LIMA'!Y15910","v":"SSC"},{"$f":"+'Roster LIMA'!Z15910","v":"Stainless Steel Carriage"},{"$f":"+'Roster LIMA'!AA15910","v":"N/A"},{"$f":"+'Roster LIMA'!AB15910","v":"234 units, built between 1957-67 based on an American Budd coach design"},{"$f":"+'Roster LIMA'!AC15910","v":"N/A"},{"$f":"+'Roster LIMA'!AD15910","v":"Indian Pacific Express"},{"$f":"+'Roster LIMA'!AE15910","v":"N/A"},{"$f":"+'Roster LIMA'!AF15910","v":"N/A"},{"$f":"+'Roster LIMA'!AG15910","v":"N/A"},{"$f":"+'Roster LIMA'!AH15910","v":"Grey"},{"$f":"+'Roster LIMA'!AI15910","v":"Grey"},{"$f":"+'Roster LIMA'!AJ15910","v":"Grey"},{"$f":"+'Roster LIMA'!AK15910","v":"N/A"},{"$f":"+'Roster LIMA'!AL15910","v":"Grey"},{"$f":"+'Roster LIMA'!AM15910","v":"Blue"},{"$f":"+'Roster LIMA'!AN15910","v":"N/A"},{"$f":"+'Roster LIMA'!AO15910","v":"N/A"},{"$f":"+'Roster LIMA'!AP15910","v":0},{"$f":"+'Roster LIMA'!AQ15910","v":2},{"$f":"+'Roster LIMA'!AR15910","v":4},{"$f":"+'Roster LIMA'!AS15910","v":0.01},{"$f":"+'Roster LIMA'!AT15910","v":260},{"$f":"+'Roster LIMA'!AU15910","v":"Yes"}]
[{"$f":"+'Roster LIMA'!F15911","v":"HL4023"},{"$f":"+'Roster LIMA'!G15911","v":2009},{"$f":"+'Roster LIMA'!H15911","v":"Yes"},{"$f":"+'Roster LIMA'!I15911","v":"ML"},{"$f":"+'Roster LIMA'!J15911","v":39},{"$f":"+'Roster LIMA'!K15911","v":"x"},{"$f":"+'Roster LIMA'!E15911","v":0},{"$f":"+'Roster LIMA'!B15911","v":"N/A"},{"$f":"+'Roster LIMA'!C15911","v":0},{"$f":"+'Roster LIMA'!D15911","v":0},{"$f":"+'Roster LIMA'!L15911","v":"Australia"},{"$f":"+'Roster LIMA'!M15911","v":"NSW"},{"$f":"+'Roster LIMA'!N15908","v":"No"},{"$f":"+'Roster LIMA'!O15911","v":"Passenger"},{"$f":"+'Roster LIMA'!P15911","v":"With central corridor"},{"$f":"+'Roster LIMA'!Q15911","v":"Restaurant"},{"$f":"+'Roster LIMA'!R15911","v":"2'2'"},{"$f":"+'Roster LIMA'!S15911","v":"N/A"},{"$f":"+'Roster LIMA'!T15911","v":"Yes"},{"$f":"+'Roster LIMA'!U15911","v":1961},{"$f":"+'Roster LIMA'!V15911","v":1993},{"$f":"+'Roster LIMA'!W15911","v":"III b / IV a / IV b / V a"},{"$f":"+'Roster LIMA'!X15911","v":"Budd"},{"$f":"+'Roster LIMA'!Y15911","v":"SSC"},{"$f":"+'Roster LIMA'!Z15911","v":"Stainless Steel Carriage"},{"$f":"+'Roster LIMA'!AA15911","v":"N/A"},{"$f":"+'Roster LIMA'!AB15911","v":"234 units, built between 1957-67 based on an American Budd coach design"},{"$f":"+'Roster LIMA'!AC15911","v":"N/A"},{"$f":"+'Roster LIMA'!AD15911","v":"Indian Pacific Express"},{"$f":"+'Roster LIMA'!AE15911","v":"N/A"},{"$f":"+'Roster LIMA'!AF15911","v":"N/A"},{"$f":"+'Roster LIMA'!AG15911","v":"N/A"},{"$f":"+'Roster LIMA'!AH15911","v":"Grey"},{"$f":"+'Roster LIMA'!AI15911","v":"Grey"},{"$f":"+'Roster LIMA'!AJ15911","v":"Grey"},{"$f":"+'Roster LIMA'!AK15911","v":"N/A"},{"$f":"+'Roster LIMA'!AL15911","v":"Grey"},{"$f":"+'Roster LIMA'!AM15911","v":"Blue"},{"$f":"+'Roster LIMA'!AN15911","v":"N/A"},{"$f":"+'Roster LIMA'!AO15911","v":"N/A"},{"$f":"+'Roster LIMA'!AP15911","v":0},{"$f":"+'Roster LIMA'!AQ15911","v":2},{"$f":"+'Roster LIMA'!AR15911","v":4},{"$f":"+'Roster LIMA'!AS15911","v":0.01},{"$f":"+'Roster LIMA'!AT15911","v":260},{"$f":"+'Roster LIMA'!AU15911","v":"Yes"}]
[{"$f":"+'Roster LIMA'!F15912","v":"HL4024"},{"$f":"+'Roster LIMA'!G15912","v":2009},{"$f":"+'Roster LIMA'!H15912","v":"Yes"},{"$f":"+'Roster LIMA'!I15912","v":"ML"},{"$f":"+'Roster LIMA'!J15912","v":39},{"$f":"+'Roster LIMA'!K15912","v":"x"},{"$f":"+'Roster LIMA'!E15912","v":0},{"$f":"+'Roster LIMA'!B15912","v":"N/A"},{"$f":"+'Roster LIMA'!C15912","v":0},{"$f":"+'Roster LIMA'!D15912","v":0},{"$f":"+'Roster LIMA'!L15912","v":"Australia"},{"$f":"+'Roster LIMA'!M15912","v":"NSW"},{"$f":"+'Roster LIMA'!N15909","v":"No"},{"$f":"+'Roster LIMA'!O15912","v":"Passenger"},{"$f":"+'Roster LIMA'!P15912","v":"Power unit"},{"$f":"+'Roster LIMA'!Q15912","v":"Baggage"},{"$f":"+'Roster LIMA'!R15912","v":"2'2'"},{"$f":"+'Roster LIMA'!S15912","v":"N/A"},{"$f":"+'Roster LIMA'!T15912","v":"Yes"},{"$f":"+'Roster LIMA'!U15912","v":1961},{"$f":"+'Roster LIMA'!V15912","v":1993},{"$f":"+'Roster LIMA'!W15912","v":"III b / IV a / IV b / V a"},{"$f":"+'Roster LIMA'!X15912","v":"Budd"},{"$f":"+'Roster LIMA'!Y15912","v":"SSC"},{"$f":"+'Roster LIMA'!Z15912","v":"Stainless Steel Carriage"},{"$f":"+'Roster LIMA'!AA15912","v":"N/A"},{"$f":"+'Roster LIMA'!AB15912","v":"234 units, built between 1957-67 based on an American Budd coach design"},{"$f":"+'Roster LIMA'!AC15912","v":"N/A"},{"$f":"+'Roster LIMA'!AD15912","v":"Indian Pacific Express"},{"$f":"+'Roster LIMA'!AE15912","v":"N/A"},{"$f":"+'Roster LIMA'!AF15912","v":"N/A"},{"$f":"+'Roster LIMA'!AG15912","v":"N/A"},{"$f":"+'Roster LIMA'!AH15912","v":"Grey"},{"$f":"+'Roster LIMA'!AI15912","v":"Grey"},{"$f":"+'Roster LIMA'!AJ15912","v":"Grey"},{"$f":"+'Roster LIMA'!AK15912","v":"Orange"},{"$f":"+'Roster LIMA'!AL15912","v":"Grey"},{"$f":"+'Roster LIMA'!AM15912","v":"Blue"},{"$f":"+'Roster LIMA'!AN15912","v":"N/A"},{"$f":"+'Roster LIMA'!AO15912","v":"N/A"},{"$f":"+'Roster LIMA'!AP15912","v":0},{"$f":"+'Roster LIMA'!AQ15912","v":2},{"$f":"+'Roster LIMA'!AR15912","v":4},{"$f":"+'Roster LIMA'!AS15912","v":0.01},{"$f":"+'Roster LIMA'!AT15912","v":260},{"$f":"+'Roster LIMA'!AU15912","v":"Yes"}]
[{"$f":"+'Roster LIMA'!F15913","v":"HL4025"},{"$f":"+'Roster LIMA'!G15913","v":2009},{"$f":"+'Roster LIMA'!H15913","v":"Yes"},{"$f":"+'Roster LIMA'!I15913","v":"ML"},{"$f":"+'Roster LIMA'!J15913","v":39},{"$f":"+'Roster LIMA'!K15913","v":"x"},{"$f":"+'Roster LIMA'!E15913","v":0},{"$f":"+'Roster LIMA'!B15913","v":"N/A"},{"$f":"+'Roster LIMA'!C15913","v":0},{"$f":"+'Roster LIMA'!D15913","v":0},{"$f":"+'Roster LIMA'!L15913","v":"Australia"},{"$f":"+'Roster LIMA'!M15913","v":"NSW"},{"$f":"+'Roster LIMA'!N15910","v":"No"},{"$f":"+'Roster LIMA'!O15913","v":"Passenger"},{"$f":"+'Roster LIMA'!P15913","v":"With compartment"},{"$f":"+'Roster LIMA'!Q15913","v":"Sleeper"},{"$f":"+'Roster LIMA'!R15913","v":"2'2'"},{"$f":"+'Roster LIMA'!S15913","v":"N/A"},{"$f":"+'Roster LIMA'!T15913","v":"Yes"},{"$f":"+'Roster LIMA'!U15913","v":1961},{"$f":"+'Roster LIMA'!V15913","v":1993},{"$f":"+'Roster LIMA'!W15913","v":"III b / IV a / IV b / V a"},{"$f":"+'Roster LIMA'!X15913","v":"Budd"},{"$f":"+'Roster LIMA'!Y15913","v":"SSC"},{"$f":"+'Roster LIMA'!Z15913","v":"Stainless Steel Carriage"},{"$f":"+'Roster LIMA'!AA15913","v":"N/A"},{"$f":"+'Roster LIMA'!AB15913","v":"234 units, built between 1957-67 based on an American Budd coach design"},{"$f":"+'Roster LIMA'!AC15913","v":"N/A"},{"$f":"+'Roster LIMA'!AD15913","v":"The Overland"},{"$f":"+'Roster LIMA'!AE15913","v":"N/A"},{"$f":"+'Roster LIMA'!AF15913","v":"N/A"},{"$f":"+'Roster LIMA'!AG15913","v":"N/A"},{"$f":"+'Roster LIMA'!AH15913","v":"Red"},{"$f":"+'Roster LIMA'!AI15913","v":"Red"},{"$f":"+'Roster LIMA'!AJ15913","v":"Red"},{"$f":"+'Roster LIMA'!AK15913","v":"White"},{"$f":"+'Roster LIMA'!AL15913","v":"Red"},{"$f":"+'Roster LIMA'!AM15913","v":"Blue"},{"$f":"+'Roster LIMA'!AN15913","v":"N/A"},{"$f":"+'Roster LIMA'!AO15913","v":"N/A"},{"$f":"+'Roster LIMA'!AP15913","v":0},{"$f":"+'Roster LIMA'!AQ15913","v":2},{"$f":"+'Roster LIMA'!AR15913","v":4},{"$f":"+'Roster LIMA'!AS15913","v":0.01},{"$f":"+'Roster LIMA'!AT15913","v":260},{"$f":"+'Roster LIMA'!AU15913","v":"Yes"}]
[{"$f":"+'Roster LIMA'!F15914","v":"HL6026"},{"$f":"+'Roster LIMA'!G15914","v":2009},{"$f":"+'Roster LIMA'!H15914","v":"Yes"},{"$f":"+'Roster LIMA'!I15914","v":"ML"},{"$f":"+'Roster LIMA'!J15914","v":40},{"$f":"+'Roster LIMA'!K15914","v":"x"},{"$f":"+'Roster LIMA'!E15914","v":0},{"$f":"+'Roster LIMA'!B15914","v":"N/A"},{"$f":"+'Roster LIMA'!C15914","v":""},{"$f":"+'Roster LIMA'!D15914","v":0},{"$f":"+'Roster LIMA'!L15914","v":"Germany"},{"$f":"+'Roster LIMA'!M15914","v":"DB"},{"$f":"+'Roster LIMA'!N15911","v":"No"},{"$f":"+'Roster LIMA'!O15914","v":"Freight"},{"$f":"+'Roster LIMA'!P15914","v":"Set"},{"$f":"+'Roster LIMA'!Q15914","v":"Freight"},{"$f":"+'Roster LIMA'!R15914","v":"2'2'+2'2'+2'2'"},{"$f":"+'Roster LIMA'!S15914","v":"Lima Collection"},{"$f":"+'Roster LIMA'!T15914","v":"Yes"},{"$f":"+'Roster LIMA'!U15914","v":1954},{"$f":"+'Roster LIMA'!V15914","v":"Operational"},{"$f":"+'Roster LIMA'!W15914","v":"III a / III b"},{"$f":"+'Roster LIMA'!X15914","v":"T-type"},{"$f":"+'Roster LIMA'!Y15914","v":"Tad u 958"},{"$f":"+'Roster LIMA'!Z15914","v":"KKt 45"},{"$f":"+'Roster LIMA'!AA15914","v":"N/A"},{"$f":"+'Roster LIMA'!AB15914","v":"3-unit train comprised of Hopper with coal load #HL 6001 x 3"},{"$f":"+'Roster LIMA'!AC15914","v":"N/A"},{"$f":"+'Roster LIMA'!AD15914","v":"N/A"},{"$f":"+'Roster LIMA'!AE15914","v":"N/A"},{"$f":"+'Roster LIMA'!AF15914","v":"Keks"},{"$f":"+'Roster LIMA'!AG15914","v":"N/A"},{"$f":"+'Roster LIMA'!AH15914","v":"Brown"},{"$f":"+'Roster LIMA'!AI15914","v":"N/A"},{"$f":"+'Roster LIMA'!AJ15914","v":"Brown"},{"$f":"+'Roster LIMA'!AK15914","v":"N/A"},{"$f":"+'Roster LIMA'!AL15914","v":"N/A"},{"$f":"+'Roster LIMA'!AM15914","v":"Blue"},{"$f":"+'Roster LIMA'!AN15914","v":"N/A"},{"$f":"+'Roster LIMA'!AO15914","v":"N/A"},{"$f":"+'Roster LIMA'!AP15914","v":0},{"$f":"+'Roster LIMA'!AQ15914","v":6},{"$f":"+'Roster LIMA'!AR15914","v":12},{"$f":"+'Roster LIMA'!AS15914","v":7.3529411764705881E-3},{"$f":"+'Roster LIMA'!AT15914","v":420},{"$f":"+'Roster LIMA'!AU15914","v":"Replace"}]
[{"$f":"+'Roster LIMA'!F15915","v":"HL6019"},{"$f":"+'Roster LIMA'!G15915","v":2009},{"$f":"+'Roster LIMA'!H15915","v":"Yes"},{"$f":"+'Roster LIMA'!I15915","v":"ML"},{"$f":"+'Roster LIMA'!J15915","v":41},{"$f":"+'Roster LIMA'!K15915","v":"x"},{"$f":"+'Roster LIMA'!E15915","v":0},{"$f":"+'Roster LIMA'!B15915","v":303202},{"$f":"+'Roster LIMA'!C15915","v":"K"},{"$f":"+'Roster LIMA'!D15915","v":0},{"$f":"+'Roster LIMA'!L15915","v":"Italy"},{"$f":"+'Roster LIMA'!M15915","v":"FS"},{"$f":"+'Roster LIMA'!N15912","v":"No"},{"$f":"+'Roster LIMA'!O15915","v":"Freight"},{"$f":"+'Roster LIMA'!P15915","v":"Closed"},{"$f":"+'Roster LIMA'!Q15915","v":"N/A"},{"$f":"+'Roster LIMA'!R15915","v":2},{"$f":"+'Roster LIMA'!S15915","v":"N/A"},{"$f":"+'Roster LIMA'!T15915","v":"Yes"},{"$f":"+'Roster LIMA'!U15915","v":1959},{"$f":"+'Roster LIMA'!V15915","v":2000},{"$f":"+'Roster LIMA'!W15915","v":"III b / IV a"},{"$f":"+'Roster LIMA'!X15915","v":"G-type"},{"$f":"+'Roster LIMA'!Y15915","v":"Gs 216"},{"$f":"+'Roster LIMA'!Z15915","v":"Gms 137-6"},{"$f":"+'Roster LIMA'!AA15915","v":"F 1171103"},{"$f":"+'Roster LIMA'!AB15915","v":"Built since the late 1950's"},{"$f":"+'Roster LIMA'!AC15915","v":"N/A"},{"$f":"+'Roster LIMA'!AD15915","v":"N/A"},{"$f":"+'Roster LIMA'!AE15915","v":"N/A"},{"$f":"+'Roster LIMA'!AF15915","v":"N/A"},{"$f":"+'Roster LIMA'!AG15915","v":"N/A"},{"$f":"+'Roster LIMA'!AH15915","v":"Brown"},{"$f":"+'Roster LIMA'!AI15915","v":"Grey"},{"$f":"+'Roster LIMA'!AJ15915","v":"Black"},{"$f":"+'Roster LIMA'!AK15915","v":"N/A"},{"$f":"+'Roster LIMA'!AL15915","v":"Brown"},{"$f":"+'Roster LIMA'!AM15915","v":"Blue"},{"$f":"+'Roster LIMA'!AN15915","v":"N/A"},{"$f":"+'Roster LIMA'!AO15915","v":"N/A"},{"$f":"+'Roster LIMA'!AP15915","v":0},{"$f":"+'Roster LIMA'!AQ15915","v":0},{"$f":"+'Roster LIMA'!AR15915","v":2},{"$f":"+'Roster LIMA'!AS15915","v":1.1494252873563218E-2},{"$f":"+'Roster LIMA'!AT15915","v":121},{"$f":"+'Roster LIMA'!AU15915","v":"Yes"}]
[{"$f":"+'Roster LIMA'!F15916","v":"HL6020"},{"$f":"+'Roster LIMA'!G15916","v":2009},{"$f":"+'Roster LIMA'!H15916","v":"Yes"},{"$f":"+'Roster LIMA'!I15916","v":"ML"},{"$f":"+'Roster LIMA'!J15916","v":41},{"$f":"+'Roster LIMA'!K15916","v":"x"},{"$f":"+'Roster LIMA'!E15916","v":0},{"$f":"+'Roster LIMA'!B15916","v":"N/A"},{"$f":"+'Roster LIMA'!C15916","v":""},{"$f":"+'Roster LIMA'!D15916","v":0},{"$f":"+'Roster LIMA'!L15916","v":"Germany"},{"$f":"+'Roster LIMA'!M15916","v":"DB"},{"$f":"+'Roster LIMA'!N15913","v":"No"},{"$f":"+'Roster LIMA'!O15916","v":"Freight"},{"$f":"+'Roster LIMA'!P15916","v":"Closed"},{"$f":"+'Roster LIMA'!Q15916","v":"N/A"},{"$f":"+'Roster LIMA'!R15916","v":2},{"$f":"+'Roster LIMA'!S15916","v":"N/A"},{"$f":"+'Roster LIMA'!T15916","v":"Yes"},{"$f":"+'Roster LIMA'!U15916","v":1957},{"$f":"+'Roster LIMA'!V15916","v":2000},{"$f":"+'Roster LIMA'!W15916","v":"III b / IV a / IV b / V a"},{"$f":"+'Roster LIMA'!X15916","v":"G-type"},{"$f":"+'Roster LIMA'!Y15916","v":"Ibblps 395"},{"$f":"+'Roster LIMA'!Z15916","v":"Tnomhs 50"},{"$f":"+'Roster LIMA'!AA15916","v":"N/A"},{"$f":"+'Roster LIMA'!AB15916","v":"476 units, built between 1957-58. For transport of bananas"},{"$f":"+'Roster LIMA'!AC15916","v":"Bananen"},{"$f":"+'Roster LIMA'!AD15916","v":"N/A"},{"$f":"+'Roster LIMA'!AE15916","v":"N/A"},{"$f":"+'Roster LIMA'!AF15916","v":"N/A"},{"$f":"+'Roster LIMA'!AG15916","v":"N/A"},{"$f":"+'Roster LIMA'!AH15916","v":"Yellow"},{"$f":"+'Roster LIMA'!AI15916","v":"Grey"},{"$f":"+'Roster LIMA'!AJ15916","v":"Brown"},{"$f":"+'Roster LIMA'!AK15916","v":"N/A"},{"$f":"+'Roster LIMA'!AL15916","v":"Yellow"},{"$f":"+'Roster LIMA'!AM15916","v":"Blue"},{"$f":"+'Roster LIMA'!AN15916","v":"N/A"},{"$f":"+'Roster LIMA'!AO15916","v":"N/A"},{"$f":"+'Roster LIMA'!AP15916","v":0},{"$f":"+'Roster LIMA'!AQ15916","v":0},{"$f":"+'Roster LIMA'!AR15916","v":2},{"$f":"+'Roster LIMA'!AS15916","v":1.1494252873563218E-2},{"$f":"+'Roster LIMA'!AT15916","v":121},{"$f":"+'Roster LIMA'!AU15916","v":"Yes"}]
[{"$f":"+'Roster LIMA'!F15917","v":"HL6021"},{"$f":"+'Roster LIMA'!G15917","v":2009},{"$f":"+'Roster LIMA'!H15917","v":"Yes"},{"$f":"+'Roster LIMA'!I15917","v":"ML"},{"$f":"+'Roster LIMA'!J15917","v":41},{"$f":"+'Roster LIMA'!K15917","v":"x"},{"$f":"+'Roster LIMA'!E15917","v":0},{"$f":"+'Roster LIMA'!B15917","v":303561},{"$f":"+'Roster LIMA'!C15917","v":"K"},{"$f":"+'Roster LIMA'!D15917","v":0},{"$f":"+'Roster LIMA'!L15917","v":"Germany"},{"$f":"+'Roster LIMA'!M15917","v":"DB"},{"$f":"+'Roster LIMA'!N15914","v":"No"},{"$f":"+'Roster LIMA'!O15917","v":"Freight"},{"$f":"+'Roster LIMA'!P15917","v":"Hopper"},{"$f":"+'Roster LIMA'!Q15917","v":"With ladder"},{"$f":"+'Roster LIMA'!R15917","v":2},{"$f":"+'Roster LIMA'!S15917","v":"N/A"},{"$f":"+'Roster LIMA'!T15917","v":"Yes"},{"$f":"+'Roster LIMA'!U15917","v":1959},{"$f":"+'Roster LIMA'!V15917","v":2000},{"$f":"+'Roster LIMA'!W15917","v":"IV a / IV b / V a / V b"},{"$f":"+'Roster LIMA'!X15917","v":"T-type"},{"$f":"+'Roster LIMA'!Y15917","v":"Tds 925"},{"$f":"+'Roster LIMA'!Z15917","v":"Ktmm 60"},{"$f":"+'Roster LIMA'!AA15917","v":"21 80 574 1 441-7"},{"$f":"+'Roster LIMA'!AB15917","v":"1600 units, built between 1958-59"},{"$f":"+'Roster LIMA'!AC15917","v":"N/A"},{"$f":"+'Roster LIMA'!AD15917","v":"N/A"},{"$f":"+'Roster LIMA'!AE15917","v":"N/A"},{"$f":"+'Roster LIMA'!AF15917","v":"Keks"},{"$f":"+'Roster LIMA'!AG15917","v":"N/A"},{"$f":"+'Roster LIMA'!AH15917","v":"Brown"},{"$f":"+'Roster LIMA'!AI15917","v":"N/A"},{"$f":"+'Roster LIMA'!AJ15917","v":"Brown"},{"$f":"+'Roster LIMA'!AK15917","v":"N/A"},{"$f":"+'Roster LIMA'!AL15917","v":"N/A"},{"$f":"+'Roster LIMA'!AM15917","v":"Blue"},{"$f":"+'Roster LIMA'!AN15917","v":"N/A"},{"$f":"+'Roster LIMA'!AO15917","v":"N/A"},{"$f":"+'Roster LIMA'!AP15917","v":0},{"$f":"+'Roster LIMA'!AQ15917","v":0},{"$f":"+'Roster LIMA'!AR15917","v":2},{"$f":"+'Roster LIMA'!AS15917","v":1.2048192771084338E-2},{"$f":"+'Roster LIMA'!AT15917","v":110},{"$f":"+'Roster LIMA'!AU15917","v":"Yes"}]
[{"$f":"+'Roster LIMA'!F15918","v":"HL6027"},{"$f":"+'Roster LIMA'!G15918","v":2009},{"$f":"+'Roster LIMA'!H15918","v":"Yes"},{"$f":"+'Roster LIMA'!I15918","v":"ML"},{"$f":"+'Roster LIMA'!J15918","v":41},{"$f":"+'Roster LIMA'!K15918","v":"x"},{"$f":"+'Roster LIMA'!E15918","v":0},{"$f":"+'Roster LIMA'!B15918","v":"N/A"},{"$f":"+'Roster LIMA'!C15918","v":""},{"$f":"+'Roster LIMA'!D15918","v":0},{"$f":"+'Roster LIMA'!L15918","v":"Germany"},{"$f":"+'Roster LIMA'!M15918","v":"DR"},{"$f":"+'Roster LIMA'!N15915","v":"No"},{"$f":"+'Roster LIMA'!O15918","v":"Freight"},{"$f":"+'Roster LIMA'!P15918","v":"Hopper"},{"$f":"+'Roster LIMA'!Q15918","v":"With ladder"},{"$f":"+'Roster LIMA'!R15918","v":2},{"$f":"+'Roster LIMA'!S15918","v":"N/A"},{"$f":"+'Roster LIMA'!T15918","v":"Yes"},{"$f":"+'Roster LIMA'!U15918","v":1971},{"$f":"+'Roster LIMA'!V15918","v":1996},{"$f":"+'Roster LIMA'!W15918","v":"IV a / IV b / V a"},{"$f":"+'Roster LIMA'!X15918","v":"T-type"},{"$f":"+'Roster LIMA'!Y15918","v":"Tds 925"},{"$f":"+'Roster LIMA'!Z15918","v":"Tds 5730"},{"$f":"+'Roster LIMA'!AA15918","v":"21 50 634 3 928-9"},{"$f":"+'Roster LIMA'!AB15918","v":"3900 units, built between 1971-72"},{"$f":"+'Roster LIMA'!AC15918","v":"Getreide"},{"$f":"+'Roster LIMA'!AD15918","v":"N/A"},{"$f":"+'Roster LIMA'!AE15918","v":"N/A"},{"$f":"+'Roster LIMA'!AF15918","v":"N/A"},{"$f":"+'Roster LIMA'!AG15918","v":"N/A"},{"$f":"+'Roster LIMA'!AH15918","v":"Brown"},{"$f":"+'Roster LIMA'!AI15918","v":"N/A"},{"$f":"+'Roster LIMA'!AJ15918","v":"Brown"},{"$f":"+'Roster LIMA'!AK15918","v":"N/A"},{"$f":"+'Roster LIMA'!AL15918","v":"N/A"},{"$f":"+'Roster LIMA'!AM15918","v":"Blue"},{"$f":"+'Roster LIMA'!AN15918","v":"N/A"},{"$f":"+'Roster LIMA'!AO15918","v":"N/A"},{"$f":"+'Roster LIMA'!AP15918","v":0},{"$f":"+'Roster LIMA'!AQ15918","v":0},{"$f":"+'Roster LIMA'!AR15918","v":2},{"$f":"+'Roster LIMA'!AS15918","v":1.2048192771084338E-2},{"$f":"+'Roster LIMA'!AT15918","v":110},{"$f":"+'Roster LIMA'!AU15918","v":"Replace"}]
[{"$f":"+'Roster LIMA'!F15919","v":"HL6005"},{"$f":"+'Roster LIMA'!G15919","v":2009},{"$f":"+'Roster LIMA'!H15919","v":"Yes"},{"$f":"+'Roster LIMA'!I15919","v":"ML"},{"$f":"+'Roster LIMA'!J15919","v":42},{"$f":"+'Roster LIMA'!K15919","v":"x"},{"$f":"+'Roster LIMA'!E15919","v":0},{"$f":"+'Roster LIMA'!B15919","v":303597},{"$f":"+'Roster LIMA'!C15919","v":"K"},{"$f":"+'Roster LIMA'!D15919","v":0},{"$f":"+'Roster LIMA'!L15919","v":"Germany"},{"$f":"+'Roster LIMA'!M15919","v":"DB"},{"$f":"+'Roster LIMA'!N15916","v":"No"},{"$f":"+'Roster LIMA'!O15919","v":"Freight"},{"$f":"+'Roster LIMA'!P15919","v":"Hopper"},{"$f":"+'Roster LIMA'!Q15919","v":"With opening roof"},{"$f":"+'Roster LIMA'!R15919","v":"2'2'"},{"$f":"+'Roster LIMA'!S15919","v":"N/A"},{"$f":"+'Roster LIMA'!T15919","v":"Yes"},{"$f":"+'Roster LIMA'!U15919","v":1974},{"$f":"+'Roster LIMA'!V15919","v":"Operational"},{"$f":"+'Roster LIMA'!W15919","v":"IV a / IV b / V a"},{"$f":"+'Roster LIMA'!X15919","v":"T-type"},{"$f":"+'Roster LIMA'!Y15919","v":"Tadgs 959"},{"$f":"+'Roster LIMA'!Z15919","v":"N/A"},{"$f":"+'Roster LIMA'!AA15919","v":"31 80 584 4 313-2"},{"$f":"+'Roster LIMA'!AB15919","v":"1386 units, built between 1973-85"},{"$f":"+'Roster LIMA'!AC15919","v":"N/A"},{"$f":"+'Roster LIMA'!AD15919","v":"N/A"},{"$f":"+'Roster LIMA'!AE15919","v":"N/A"},{"$f":"+'Roster LIMA'!AF15919","v":"Keks"},{"$f":"+'Roster LIMA'!AG15919","v":"N/A"},{"$f":"+'Roster LIMA'!AH15919","v":"Brown"},{"$f":"+'Roster LIMA'!AI15919","v":"Brown"},{"$f":"+'Roster LIMA'!AJ15919","v":"Black"},{"$f":"+'Roster LIMA'!AK15919","v":"N/A"},{"$f":"+'Roster LIMA'!AL15919","v":"N/A"},{"$f":"+'Roster LIMA'!AM15919","v":"Blue"},{"$f":"+'Roster LIMA'!AN15919","v":"N/A"},{"$f":"+'Roster LIMA'!AO15919","v":"N/A"},{"$f":"+'Roster LIMA'!AP15919","v":0},{"$f":"+'Roster LIMA'!AQ15919","v":2},{"$f":"+'Roster LIMA'!AR15919","v":4},{"$f":"+'Roster LIMA'!AS15919","v":1.1494252873563218E-2},{"$f":"+'Roster LIMA'!AT15919","v":247},{"$f":"+'Roster LIMA'!AU15919","v":"Yes"}]
[{"$f":"+'Roster LIMA'!F15920","v":"HL6035"},{"$f":"+'Roster LIMA'!G15920","v":2009},{"$f":"+'Roster LIMA'!H15920","v":"Yes"},{"$f":"+'Roster LIMA'!I15920","v":"ML"},{"$f":"+'Roster LIMA'!J15920","v":42},{"$f":"+'Roster LIMA'!K15920","v":"x"},{"$f":"+'Roster LIMA'!E15920","v":0},{"$f":"+'Roster LIMA'!B15920","v":"N/A"},{"$f":"+'Roster LIMA'!C15920","v":""},{"$f":"+'Roster LIMA'!D15920","v":0},{"$f":"+'Roster LIMA'!L15920","v":"Germany"},{"$f":"+'Roster LIMA'!M15920","v":"DR"},{"$f":"+'Roster LIMA'!N15917","v":"No"},{"$f":"+'Roster LIMA'!O15920","v":"Freight"},{"$f":"+'Roster LIMA'!P15920","v":"Hopper"},{"$f":"+'Roster LIMA'!Q15920","v":"With opening roof"},{"$f":"+'Roster LIMA'!R15920","v":"2'2'"},{"$f":"+'Roster LIMA'!S15920","v":"N/A"},{"$f":"+'Roster LIMA'!T15920","v":"Yes"},{"$f":"+'Roster LIMA'!U15920","v":1974},{"$f":"+'Roster LIMA'!V15920","v":2010},{"$f":"+'Roster LIMA'!W15920","v":"IV a / IV b / V a / V b / VI"},{"$f":"+'Roster LIMA'!X15920","v":"T-type"},{"$f":"+'Roster LIMA'!Y15920","v":"Tadgs-y 958"},{"$f":"+'Roster LIMA'!Z15920","v":"Tadgs-y 5843"},{"$f":"+'Roster LIMA'!AA15920","v":"31 50 584 4 265-1"},{"$f":"+'Roster LIMA'!AB15920","v":"1500 units, built between 1976-79"},{"$f":"+'Roster LIMA'!AC15920","v":"Getreide"},{"$f":"+'Roster LIMA'!AD15920","v":"N/A"},{"$f":"+'Roster LIMA'!AE15920","v":"N/A"},{"$f":"+'Roster LIMA'!AF15920","v":"N/A"},{"$f":"+'Roster LIMA'!AG15920","v":"N/A"},{"$f":"+'Roster LIMA'!AH15920","v":"Brown"},{"$f":"+'Roster LIMA'!AI15920","v":"Brown"},{"$f":"+'Roster LIMA'!AJ15920","v":"Black"},{"$f":"+'Roster LIMA'!AK15920","v":"N/A"},{"$f":"+'Roster LIMA'!AL15920","v":"N/A"},{"$f":"+'Roster LIMA'!AM15920","v":"Blue"},{"$f":"+'Roster LIMA'!AN15920","v":"N/A"},{"$f":"+'Roster LIMA'!AO15920","v":"N/A"},{"$f":"+'Roster LIMA'!AP15920","v":0},{"$f":"+'Roster LIMA'!AQ15920","v":2},{"$f":"+'Roster LIMA'!AR15920","v":4},{"$f":"+'Roster LIMA'!AS15920","v":1.1494252873563218E-2},{"$f":"+'Roster LIMA'!AT15920","v":247},{"$f":"+'Roster LIMA'!AU15920","v":"Yes"}]
[{"$f":"+'Roster LIMA'!F15921","v":"HL6030"},{"$f":"+'Roster LIMA'!G15921","v":2009},{"$f":"+'Roster LIMA'!H15921","v":"Yes"},{"$f":"+'Roster LIMA'!I15921","v":"ML"},{"$f":"+'Roster LIMA'!J15921","v":42},{"$f":"+'Roster LIMA'!K15921","v":"x"},{"$f":"+'Roster LIMA'!E15921","v":0},{"$f":"+'Roster LIMA'!B15921","v":"N/A"},{"$f":"+'Roster LIMA'!C15921","v":""},{"$f":"+'Roster LIMA'!D15921","v":0},{"$f":"+'Roster LIMA'!L15921","v":"Germany"},{"$f":"+'Roster LIMA'!M15921","v":"DR"},{"$f":"+'Roster LIMA'!N15918","v":"No"},{"$f":"+'Roster LIMA'!O15921","v":"Freight"},{"$f":"+'Roster LIMA'!P15921","v":"Silo"},{"$f":"+'Roster LIMA'!Q15921","v":"With ladder"},{"$f":"+'Roster LIMA'!R15921","v":2},{"$f":"+'Roster LIMA'!S15921","v":"N/A"},{"$f":"+'Roster LIMA'!T15921","v":"Yes"},{"$f":"+'Roster LIMA'!U15921","v":1958},{"$f":"+'Roster LIMA'!V15921","v":2011},{"$f":"+'Roster LIMA'!W15921","v":"III a / III b / IV a"},{"$f":"+'Roster LIMA'!X15921","v":"U-type"},{"$f":"+'Roster LIMA'!Y15921","v":"Ucs 909"},{"$f":"+'Roster LIMA'!Z15921","v":"Kds 56"},{"$f":"+'Roster LIMA'!AA15921","v":"N/A"},{"$f":"+'Roster LIMA'!AB15921","v":"2180 units, built between 1955-64"},{"$f":"+'Roster LIMA'!AC15921","v":"N/A"},{"$f":"+'Roster LIMA'!AD15921","v":"N/A"},{"$f":"+'Roster LIMA'!AE15921","v":"N/A"},{"$f":"+'Roster LIMA'!AF15921","v":"N/A"},{"$f":"+'Roster LIMA'!AG15921","v":"N/A"},{"$f":"+'Roster LIMA'!AH15921","v":"Grey"},{"$f":"+'Roster LIMA'!AI15921","v":"N/A"},{"$f":"+'Roster LIMA'!AJ15921","v":"Black"},{"$f":"+'Roster LIMA'!AK15921","v":"N/A"},{"$f":"+'Roster LIMA'!AL15921","v":"N/A"},{"$f":"+'Roster LIMA'!AM15921","v":"Blue"},{"$f":"+'Roster LIMA'!AN15921","v":"N/A"},{"$f":"+'Roster LIMA'!AO15921","v":"N/A"},{"$f":"+'Roster LIMA'!AP15921","v":0},{"$f":"+'Roster LIMA'!AQ15921","v":0},{"$f":"+'Roster LIMA'!AR15921","v":2},{"$f":"+'Roster LIMA'!AS15921","v":1.1494252873563218E-2},{"$f":"+'Roster LIMA'!AT15921","v":105},{"$f":"+'Roster LIMA'!AU15921","v":"Replace"}]
[{"$f":"+'Roster LIMA'!F15922","v":"HL6031"},{"$f":"+'Roster LIMA'!G15922","v":2009},{"$f":"+'Roster LIMA'!H15922","v":"Yes"},{"$f":"+'Roster LIMA'!I15922","v":"ML"},{"$f":"+'Roster LIMA'!J15922","v":42},{"$f":"+'Roster LIMA'!K15922","v":"x"},{"$f":"+'Roster LIMA'!E15922","v":0},{"$f":"+'Roster LIMA'!B15922","v":"N/A"},{"$f":"+'Roster LIMA'!C15922","v":""},{"$f":"+'Roster LIMA'!D15922","v":0},{"$f":"+'Roster LIMA'!L15922","v":"Germany"},{"$f":"+'Roster LIMA'!M15922","v":"DR"},{"$f":"+'Roster LIMA'!N15919","v":"No"},{"$f":"+'Roster LIMA'!O15922","v":"Freight"},{"$f":"+'Roster LIMA'!P15922","v":"Closed"},{"$f":"+'Roster LIMA'!Q15922","v":"N/A"},{"$f":"+'Roster LIMA'!R15922","v":2},{"$f":"+'Roster LIMA'!S15922","v":"N/A"},{"$f":"+'Roster LIMA'!T15922","v":"Yes"},{"$f":"+'Roster LIMA'!U15922","v":1937},{"$f":"+'Roster LIMA'!V15922","v":1994},{"$f":"+'Roster LIMA'!W15922","v":"IV a / IV b / V a"},{"$f":"+'Roster LIMA'!X15922","v":"G-type"},{"$f":"+'Roster LIMA'!Y15922","v":"Gs 216"},{"$f":"+'Roster LIMA'!Z15922","v":"Glrhs 12"},{"$f":"+'Roster LIMA'!AA15922","v":"21 50 100 2 166-9"},{"$f":"+'Roster LIMA'!AB15922","v":"Built since the late 1950's"},{"$f":"+'Roster LIMA'!AC15922","v":"N/A"},{"$f":"+'Roster LIMA'!AD15922","v":"N/A"},{"$f":"+'Roster LIMA'!AE15922","v":"N/A"},{"$f":"+'Roster LIMA'!AF15922","v":"N/A"},{"$f":"+'Roster LIMA'!AG15922","v":"N/A"},{"$f":"+'Roster LIMA'!AH15922","v":"Brown"},{"$f":"+'Roster LIMA'!AI15922","v":"Grey"},{"$f":"+'Roster LIMA'!AJ15922","v":"Black"},{"$f":"+'Roster LIMA'!AK15922","v":"N/A"},{"$f":"+'Roster LIMA'!AL15922","v":"Brown"},{"$f":"+'Roster LIMA'!AM15922","v":"Blue"},{"$f":"+'Roster LIMA'!AN15922","v":"N/A"},{"$f":"+'Roster LIMA'!AO15922","v":"N/A"},{"$f":"+'Roster LIMA'!AP15922","v":0},{"$f":"+'Roster LIMA'!AQ15922","v":0},{"$f":"+'Roster LIMA'!AR15922","v":2},{"$f":"+'Roster LIMA'!AS15922","v":1.1494252873563218E-2},{"$f":"+'Roster LIMA'!AT15922","v":121},{"$f":"+'Roster LIMA'!AU15922","v":"Replace"}]
[{"$f":"+'Roster LIMA'!F15923","v":"HL6049"},{"$f":"+'Roster LIMA'!G15923","v":2009},{"$f":"+'Roster LIMA'!H15923","v":"Yes"},{"$f":"+'Roster LIMA'!I15923","v":"ML"},{"$f":"+'Roster LIMA'!J15923","v":43},{"$f":"+'Roster LIMA'!K15923","v":"x"},{"$f":"+'Roster LIMA'!E15923","v":0},{"$f":"+'Roster LIMA'!B15923","v":"N/A"},{"$f":"+'Roster LIMA'!C15923","v":""},{"$f":"+'Roster LIMA'!D15923","v":0},{"$f":"+'Roster LIMA'!L15923","v":"Germany"},{"$f":"+'Roster LIMA'!M15923","v":"DR"},{"$f":"+'Roster LIMA'!N15920","v":"No"},{"$f":"+'Roster LIMA'!O15923","v":"Freight"},{"$f":"+'Roster LIMA'!P15923","v":"Set"},{"$f":"+'Roster LIMA'!Q15923","v":"Freight"},{"$f":"+'Roster LIMA'!R15923","v":"2+2+2"},{"$f":"+'Roster LIMA'!S15923","v":"Lima Collection"},{"$f":"+'Roster LIMA'!T15923","v":"Yes"},{"$f":"+'Roster LIMA'!U15923","v":1937},{"$f":"+'Roster LIMA'!V15923","v":1994},{"$f":"+'Roster LIMA'!W15923","v":"IV a / IV b / V a"},{"$f":"+'Roster LIMA'!X15923","v":"G-type"},{"$f":"+'Roster LIMA'!Y15923","v":"Stückgut Transport"},{"$f":"+'Roster LIMA'!Z15923","v":"Gms 137-6"},{"$f":"+'Roster LIMA'!AA15923","v":"N/A"},{"$f":"+'Roster LIMA'!AB15923","v":"3-unit train comprised of Closed #HL 6031 x 3"},{"$f":"+'Roster LIMA'!AC15923","v":"N/A"},{"$f":"+'Roster LIMA'!AD15923","v":"N/A"},{"$f":"+'Roster LIMA'!AE15923","v":"N/A"},{"$f":"+'Roster LIMA'!AF15923","v":"N/A"},{"$f":"+'Roster LIMA'!AG15923","v":"N/A"},{"$f":"+'Roster LIMA'!AH15923","v":"Brown"},{"$f":"+'Roster LIMA'!AI15923","v":"Grey"},{"$f":"+'Roster LIMA'!AJ15923","v":"Black"},{"$f":"+'Roster LIMA'!AK15923","v":"N/A"},{"$f":"+'Roster LIMA'!AL15923","v":"Brown"},{"$f":"+'Roster LIMA'!AM15923","v":"Blue"},{"$f":"+'Roster LIMA'!AN15923","v":"N/A"},{"$f":"+'Roster LIMA'!AO15923","v":"N/A"},{"$f":"+'Roster LIMA'!AP15923","v":0},{"$f":"+'Roster LIMA'!AQ15923","v":0},{"$f":"+'Roster LIMA'!AR15923","v":6},{"$f":"+'Roster LIMA'!AS15923","v":1.1494252873563218E-2},{"$f":"+'Roster LIMA'!AT15923","v":370},{"$f":"+'Roster LIMA'!AU15923","v":"Replace"}]
[{"$f":"+'Roster LIMA'!F15924","v":"HL6010"},{"$f":"+'Roster LIMA'!G15924","v":2009},{"$f":"+'Roster LIMA'!H15924","v":"Yes"},{"$f":"+'Roster LIMA'!I15924","v":"ML"},{"$f":"+'Roster LIMA'!J15924","v":43},{"$f":"+'Roster LIMA'!K15924","v":"x"},{"$f":"+'Roster LIMA'!E15924","v":0},{"$f":"+'Roster LIMA'!B15924","v":303275},{"$f":"+'Roster LIMA'!C15924","v":"K"},{"$f":"+'Roster LIMA'!D15924","v":0},{"$f":"+'Roster LIMA'!L15924","v":"Germany"},{"$f":"+'Roster LIMA'!M15924","v":"DB"},{"$f":"+'Roster LIMA'!N15921","v":"No"},{"$f":"+'Roster LIMA'!O15924","v":"Freight"},{"$f":"+'Roster LIMA'!P15924","v":"Flat"},{"$f":"+'Roster LIMA'!Q15924","v":"With stakes"},{"$f":"+'Roster LIMA'!R15924","v":"2'2'"},{"$f":"+'Roster LIMA'!S15924","v":"N/A"},{"$f":"+'Roster LIMA'!T15924","v":"Yes"},{"$f":"+'Roster LIMA'!U15924","v":1982},{"$f":"+'Roster LIMA'!V15924","v":"Operational"},{"$f":"+'Roster LIMA'!W15924","v":"V b / VI"},{"$f":"+'Roster LIMA'!X15924","v":"S-type"},{"$f":"+'Roster LIMA'!Y15924","v":"Snps 719"},{"$f":"+'Roster LIMA'!Z15924","v":"N/A"},{"$f":"+'Roster LIMA'!AA15924","v":"31 80 472 4 846-9"},{"$f":"+'Roster LIMA'!AB15924","v":"1960 units, built between 1980-82 and numbered 31 80 472 3 000/4 959. Focus on wooden logs and pipe transport"},{"$f":"+'Roster LIMA'!AC15924","v":"DB Cargo"},{"$f":"+'Roster LIMA'!AD15924","v":"N/A"},{"$f":"+'Roster LIMA'!AE15924","v":"N/A"},{"$f":"+'Roster LIMA'!AF15924","v":"N/A"},{"$f":"+'Roster LIMA'!AG15924","v":"N/A"},{"$f":"+'Roster LIMA'!AH15924","v":"Red"},{"$f":"+'Roster LIMA'!AI15924","v":"N/A"},{"$f":"+'Roster LIMA'!AJ15924","v":"Red"},{"$f":"+'Roster LIMA'!AK15924","v":"N/A"},{"$f":"+'Roster LIMA'!AL15924","v":"N/A"},{"$f":"+'Roster LIMA'!AM15924","v":"Blue"},{"$f":"+'Roster LIMA'!AN15924","v":"N/A"},{"$f":"+'Roster LIMA'!AO15924","v":"N/A"},{"$f":"+'Roster LIMA'!AP15924","v":0},{"$f":"+'Roster LIMA'!AQ15924","v":2},{"$f":"+'Roster LIMA'!AR15924","v":4},{"$f":"+'Roster LIMA'!AS15924","v":1.1494252873563218E-2},{"$f":"+'Roster LIMA'!AT15924","v":230},{"$f":"+'Roster LIMA'!AU15924","v":"Yes"}]
[{"$f":"+'Roster LIMA'!F15925","v":"HL6025"},{"$f":"+'Roster LIMA'!G15925","v":2009},{"$f":"+'Roster LIMA'!H15925","v":"Yes"},{"$f":"+'Roster LIMA'!I15925","v":"ML"},{"$f":"+'Roster LIMA'!J15925","v":43},{"$f":"+'Roster LIMA'!K15925","v":"x"},{"$f":"+'Roster LIMA'!E15925","v":0},{"$f":"+'Roster LIMA'!B15925","v":302900},{"$f":"+'Roster LIMA'!C15925","v":0},{"$f":"+'Roster LIMA'!D15925","v":0},{"$f":"+'Roster LIMA'!L15925","v":"France"},{"$f":"+'Roster LIMA'!M15925","v":"SNCF"},{"$f":"+'Roster LIMA'!N15922","v":"No"},{"$f":"+'Roster LIMA'!O15925","v":"Freight"},{"$f":"+'Roster LIMA'!P15925","v":"Tank"},{"$f":"+'Roster LIMA'!Q15925","v":"With ladder"},{"$f":"+'Roster LIMA'!R15925","v":2},{"$f":"+'Roster LIMA'!S15925","v":"N/A"},{"$f":"+'Roster LIMA'!T15925","v":"No"},{"$f":"+'Roster LIMA'!U15925","v":1957},{"$f":"+'Roster LIMA'!V15925","v":2005},{"$f":"+'Roster LIMA'!W15925","v":"III b / IV a / IV b / V a / V b"},{"$f":"+'Roster LIMA'!X15925","v":"Z-type"},{"$f":"+'Roster LIMA'!Y15925","v":"Zcs 23"},{"$f":"+'Roster LIMA'!Z15925","v":"Uh"},{"$f":"+'Roster LIMA'!AA15925","v":"N/A"},{"$f":"+'Roster LIMA'!AB15925","v":"Never existed in any official roster. For track cleaning"},{"$f":"+'Roster LIMA'!AC15925","v":"VB"},{"$f":"+'Roster LIMA'!AD15925","v":"N/A"},{"$f":"+'Roster LIMA'!AE15925","v":"N/A"},{"$f":"+'Roster LIMA'!AF15925","v":"N/A"},{"$f":"+'Roster LIMA'!AG15925","v":"N/A"},{"$f":"+'Roster LIMA'!AH15925","v":"Red"},{"$f":"+'Roster LIMA'!AI15925","v":"Red"},{"$f":"+'Roster LIMA'!AJ15925","v":"Black"},{"$f":"+'Roster LIMA'!AK15925","v":"White"},{"$f":"+'Roster LIMA'!AL15925","v":"N/A"},{"$f":"+'Roster LIMA'!AM15925","v":"Blue"},{"$f":"+'Roster LIMA'!AN15925","v":"N/A"},{"$f":"+'Roster LIMA'!AO15925","v":"N/A"},{"$f":"+'Roster LIMA'!AP15925","v":0},{"$f":"+'Roster LIMA'!AQ15925","v":0},{"$f":"+'Roster LIMA'!AR15925","v":2},{"$f":"+'Roster LIMA'!AS15925","v":"N/A"},{"$f":"+'Roster LIMA'!AT15925","v":102},{"$f":"+'Roster LIMA'!AU15925","v":"Yes"}]
[{"$f":"+'Roster LIMA'!F15926","v":"HL6053"},{"$f":"+'Roster LIMA'!G15926","v":2009},{"$f":"+'Roster LIMA'!H15926","v":"Yes"},{"$f":"+'Roster LIMA'!I15926","v":"ML"},{"$f":"+'Roster LIMA'!J15926","v":44},{"$f":"+'Roster LIMA'!K15926","v":"x"},{"$f":"+'Roster LIMA'!E15926","v":0},{"$f":"+'Roster LIMA'!B15926","v":"N/A"},{"$f":"+'Roster LIMA'!C15926","v":""},{"$f":"+'Roster LIMA'!D15926","v":0},{"$f":"+'Roster LIMA'!L15926","v":"Italy"},{"$f":"+'Roster LIMA'!M15926","v":"FS"},{"$f":"+'Roster LIMA'!N15923","v":"No"},{"$f":"+'Roster LIMA'!O15926","v":"Freight"},{"$f":"+'Roster LIMA'!P15926","v":"Set"},{"$f":"+'Roster LIMA'!Q15926","v":"Freight"},{"$f":"+'Roster LIMA'!R15926","v":"2+2"},{"$f":"+'Roster LIMA'!S15926","v":"Lima Collection"},{"$f":"+'Roster LIMA'!T15926","v":"Yes"},{"$f":"+'Roster LIMA'!U15926","v":1956},{"$f":"+'Roster LIMA'!V15926","v":2005},{"$f":"+'Roster LIMA'!W15926","v":"III b / IV a / IV b / V a / V b"},{"$f":"+'Roster LIMA'!X15926","v":"E-type"},{"$f":"+'Roster LIMA'!Y15926","v":"Es 025"},{"$f":"+'Roster LIMA'!Z15926","v":"Tipo 2"},{"$f":"+'Roster LIMA'!AA15926","v":"N/A"},{"$f":"+'Roster LIMA'!AB15926","v":"2-unit train comprised of Open with coal load #303174 x 2"},{"$f":"+'Roster LIMA'!AC15926","v":"N/A"},{"$f":"+'Roster LIMA'!AD15926","v":"N/A"},{"$f":"+'Roster LIMA'!AE15926","v":"N/A"},{"$f":"+'Roster LIMA'!AF15926","v":"N/A"},{"$f":"+'Roster LIMA'!AG15926","v":"N/A"},{"$f":"+'Roster LIMA'!AH15926","v":"Brown"},{"$f":"+'Roster LIMA'!AI15926","v":"N/A"},{"$f":"+'Roster LIMA'!AJ15926","v":"Black"},{"$f":"+'Roster LIMA'!AK15926","v":"N/A"},{"$f":"+'Roster LIMA'!AL15926","v":"N/A"},{"$f":"+'Roster LIMA'!AM15926","v":"Blue"},{"$f":"+'Roster LIMA'!AN15926","v":"N/A"},{"$f":"+'Roster LIMA'!AO15926","v":"N/A"},{"$f":"+'Roster LIMA'!AP15926","v":0},{"$f":"+'Roster LIMA'!AQ15926","v":0},{"$f":"+'Roster LIMA'!AR15926","v":4},{"$f":"+'Roster LIMA'!AS15926","v":1.2048192771084338E-2},{"$f":"+'Roster LIMA'!AT15926","v":242},{"$f":"+'Roster LIMA'!AU15926","v":"Replace"}]
[{"$f":"+'Roster LIMA'!F15927","v":"HL6048"},{"$f":"+'Roster LIMA'!G15927","v":2009},{"$f":"+'Roster LIMA'!H15927","v":"Yes"},{"$f":"+'Roster LIMA'!I15927","v":"ML"},{"$f":"+'Roster LIMA'!J15927","v":44},{"$f":"+'Roster LIMA'!K15927","v":"x"},{"$f":"+'Roster LIMA'!E15927","v":0},{"$f":"+'Roster LIMA'!B15927","v":"N/A"},{"$f":"+'Roster LIMA'!C15927","v":""},{"$f":"+'Roster LIMA'!D15927","v":0},{"$f":"+'Roster LIMA'!L15927","v":"Australia"},{"$f":"+'Roster LIMA'!M15927","v":"ANR"},{"$f":"+'Roster LIMA'!N15924","v":"No"},{"$f":"+'Roster LIMA'!O15927","v":"Freight"},{"$f":"+'Roster LIMA'!P15927","v":"Baggage"},{"$f":"+'Roster LIMA'!Q15927","v":"Brake van"},{"$f":"+'Roster LIMA'!R15927","v":"2'2'"},{"$f":"+'Roster LIMA'!S15927","v":"N/A"},{"$f":"+'Roster LIMA'!T15927","v":"Yes"},{"$f":"+'Roster LIMA'!U15927","v":1962},{"$f":"+'Roster LIMA'!V15927","v":1987},{"$f":"+'Roster LIMA'!W15927","v":"IV a / IV b"},{"$f":"+'Roster LIMA'!X15927","v":"Class 8300"},{"$f":"+'Roster LIMA'!Y15927","v":"Class 8300"},{"$f":"+'Roster LIMA'!Z15927","v":"AVAY"},{"$f":"+'Roster LIMA'!AA15927","v":"S329"},{"$f":"+'Roster LIMA'!AB15927","v":"94 units, built between 1947-71 and numbered 8300/94 (after 1982 AVAY 1/94)"},{"$f":"+'Roster LIMA'!AC15927","v":"N/A"},{"$f":"+'Roster LIMA'!AD15927","v":"N/A"},{"$f":"+'Roster LIMA'!AE15927","v":"N/A"},{"$f":"+'Roster LIMA'!AF15927","v":"N/A"},{"$f":"+'Roster LIMA'!AG15927","v":"N/A"},{"$f":"+'Roster LIMA'!AH15927","v":"Yellow"},{"$f":"+'Roster LIMA'!AI15927","v":"Yellow"},{"$f":"+'Roster LIMA'!AJ15927","v":"Yellow"},{"$f":"+'Roster LIMA'!AK15927","v":"Green"},{"$f":"+'Roster LIMA'!AL15927","v":"Yellow"},{"$f":"+'Roster LIMA'!AM15927","v":"Blue"},{"$f":"+'Roster LIMA'!AN15927","v":"N/A"},{"$f":"+'Roster LIMA'!AO15927","v":"N/A"},{"$f":"+'Roster LIMA'!AP15927","v":0},{"$f":"+'Roster LIMA'!AQ15927","v":2},{"$f":"+'Roster LIMA'!AR15927","v":4},{"$f":"+'Roster LIMA'!AS15927","v":1.1494252873563218E-2},{"$f":"+'Roster LIMA'!AT15927","v":138},{"$f":"+'Roster LIMA'!AU15927","v":"Replace"}]
[{"$f":"+'Roster LIMA'!F15928","v":"HL6022"},{"$f":"+'Roster LIMA'!G15928","v":2009},{"$f":"+'Roster LIMA'!H15928","v":"Yes"},{"$f":"+'Roster LIMA'!I15928","v":"ML"},{"$f":"+'Roster LIMA'!J15928","v":45},{"$f":"+'Roster LIMA'!K15928","v":"x"},{"$f":"+'Roster LIMA'!E15928","v":0},{"$f":"+'Roster LIMA'!B15928","v":303522},{"$f":"+'Roster LIMA'!C15928","v":0},{"$f":"+'Roster LIMA'!D15928","v":0},{"$f":"+'Roster LIMA'!L15928","v":"Australia"},{"$f":"+'Roster LIMA'!M15928","v":"NSW"},{"$f":"+'Roster LIMA'!N15925","v":"No"},{"$f":"+'Roster LIMA'!O15928","v":"Freight"},{"$f":"+'Roster LIMA'!P15928","v":"Open"},{"$f":"+'Roster LIMA'!Q15928","v":"With tarpaulin"},{"$f":"+'Roster LIMA'!R15928","v":2},{"$f":"+'Roster LIMA'!S15928","v":"N/A"},{"$f":"+'Roster LIMA'!T15928","v":"No"},{"$f":"+'Roster LIMA'!U15928","v":1910},{"$f":"+'Roster LIMA'!V15928","v":1965},{"$f":"+'Roster LIMA'!W15928","v":"I / II / III a / III b"},{"$f":"+'Roster LIMA'!X15928","v":"E-type"},{"$f":"+'Roster LIMA'!Y15928","v":"7 Plank Open"},{"$f":"+'Roster LIMA'!Z15928","v":"12 Ton"},{"$f":"+'Roster LIMA'!AA15928","v":"N/A"},{"$f":"+'Roster LIMA'!AB15928","v":"Built between 1904-25 for GWR and operational until the late 1960's"},{"$f":"+'Roster LIMA'!AC15928","v":"N/A"},{"$f":"+'Roster LIMA'!AD15928","v":"N/A"},{"$f":"+'Roster LIMA'!AE15928","v":"N/A"},{"$f":"+'Roster LIMA'!AF15928","v":"N/A"},{"$f":"+'Roster LIMA'!AG15928","v":"N/A"},{"$f":"+'Roster LIMA'!AH15928","v":"Yellow"},{"$f":"+'Roster LIMA'!AI15928","v":"Grey"},{"$f":"+'Roster LIMA'!AJ15928","v":"Brown"},{"$f":"+'Roster LIMA'!AK15928","v":"N/A"},{"$f":"+'Roster LIMA'!AL15928","v":"N/A"},{"$f":"+'Roster LIMA'!AM15928","v":"Blue"},{"$f":"+'Roster LIMA'!AN15928","v":"N/A"},{"$f":"+'Roster LIMA'!AO15928","v":"N/A"},{"$f":"+'Roster LIMA'!AP15928","v":0},{"$f":"+'Roster LIMA'!AQ15928","v":0},{"$f":"+'Roster LIMA'!AR15928","v":2},{"$f":"+'Roster LIMA'!AS15928","v":1.1494252873563218E-2},{"$f":"+'Roster LIMA'!AT15928","v":72},{"$f":"+'Roster LIMA'!AU15928","v":"Replace"}]
[{"$f":"+'Roster LIMA'!F15929","v":"HL6023"},{"$f":"+'Roster LIMA'!G15929","v":2009},{"$f":"+'Roster LIMA'!H15929","v":"Yes"},{"$f":"+'Roster LIMA'!I15929","v":"ML"},{"$f":"+'Roster LIMA'!J15929","v":45},{"$f":"+'Roster LIMA'!K15929","v":"x"},{"$f":"+'Roster LIMA'!E15929","v":0},{"$f":"+'Roster LIMA'!B15929","v":"N/A"},{"$f":"+'Roster LIMA'!C15929","v":""},{"$f":"+'Roster LIMA'!D15929","v":0},{"$f":"+'Roster LIMA'!L15929","v":"Australia"},{"$f":"+'Roster LIMA'!M15929","v":"VR"},{"$f":"+'Roster LIMA'!N15926","v":"No"},{"$f":"+'Roster LIMA'!O15929","v":"Freight"},{"$f":"+'Roster LIMA'!P15929","v":"Open"},{"$f":"+'Roster LIMA'!Q15929","v":"Empty"},{"$f":"+'Roster LIMA'!R15929","v":"2'2'"},{"$f":"+'Roster LIMA'!S15929","v":"N/A"},{"$f":"+'Roster LIMA'!T15929","v":"Yes"},{"$f":"+'Roster LIMA'!U15929","v":1964},{"$f":"+'Roster LIMA'!V15929","v":2005},{"$f":"+'Roster LIMA'!W15929","v":"III b / IV a / IV b / V a"},{"$f":"+'Roster LIMA'!X15929","v":"E-type"},{"$f":"+'Roster LIMA'!Y15929","v":"ELX"},{"$f":"+'Roster LIMA'!Z15929","v":"Góndola"},{"$f":"+'Roster LIMA'!AA15929","v":529},{"$f":"+'Roster LIMA'!AB15929","v":"624 units, built between 1961-1980 and numbered 1/454 & 1001/104"},{"$f":"+'Roster LIMA'!AC15929","v":"VR"},{"$f":"+'Roster LIMA'!AD15929","v":"N/A"},{"$f":"+'Roster LIMA'!AE15929","v":"N/A"},{"$f":"+'Roster LIMA'!AF15929","v":"N/A"},{"$f":"+'Roster LIMA'!AG15929","v":"N/A"},{"$f":"+'Roster LIMA'!AH15929","v":"Green"},{"$f":"+'Roster LIMA'!AI15929","v":"N/A"},{"$f":"+'Roster LIMA'!AJ15929","v":"Green"},{"$f":"+'Roster LIMA'!AK15929","v":"Yellow"},{"$f":"+'Roster LIMA'!AL15929","v":"N/A"},{"$f":"+'Roster LIMA'!AM15929","v":"Blue"},{"$f":"+'Roster LIMA'!AN15929","v":"N/A"},{"$f":"+'Roster LIMA'!AO15929","v":"N/A"},{"$f":"+'Roster LIMA'!AP15929","v":0},{"$f":"+'Roster LIMA'!AQ15929","v":2},{"$f":"+'Roster LIMA'!AR15929","v":4},{"$f":"+'Roster LIMA'!AS15929","v":1.1494252873563218E-2},{"$f":"+'Roster LIMA'!AT15929","v":163},{"$f":"+'Roster LIMA'!AU15929","v":"Yes"}]

{"sheet":"Operators","index":5,"n_rows":159,"n_cols":7,"rows_kept":159,"cut":false,"hidden":false,"merged":[]}
["Operator","Country","Full name","Established","End of Operations","Era","Remarks"]
["BOGESTRA","Germany","Bochum-Gelsenkirchen Strassenbahn AG",1896,"Operational","I / II / III a / III b / IV a / IV b / V a / V b / VI","Founded in 1896 to operate city tram services in Bochum & Gelsenkirchen"]
["BVG","Germany","Berliner Verkehrs Aktiengesellschaft",1928,"Operational","II / III a / III b / IV a / IV b / V a / V b / VI","Founded in 1928 to operate buses, trams and metro services of Berlín"]
["DB","Germany","Deutsche Bahn",1945,"Operational","III a / III b / IV a / IV b / V a / V b / VI","National railway company for Western Germany (1945-1990) and unified Germany (since 1990)"]
["DR","Germany","Deutsche Reichsbahn",1945,1993,"III a / III b / IV a / IV b / V a","National railway company for Eastern Germany (1945-1990)"]
["DRG","Germany","Deutsche Reichsbahn-Gesellschaft",1924,1945,"II","National railway company for Germany (1924-1945)"]
["DSG","Germany","Deutsche Schlafwagen und Speisewagengesellschaft",1949,1994,"III a / III b / IV a / IV b / V a","Founded in 1949 as a subsidiary of DB for operating sleeping (until 1974) and catering services (until 1966)"]
["EH","Germany","Eisenbahn und Häfen GmbH",1949,"Operational","III a / III b / IV a / IV b / V a / V b / VI","Founded in 1949 for operating services at Schwelgern & Walsum-Süd ports"]
["EVAG","Germany","Essener Verkehrs AG",1954,"Operational","III a / III b / IV a / IV b / V a / V b / VI","Founded in 1954 to operate city tram services in Essen"]
["GGK","Germany","Grifte-Gudensberger Kleinbahn AG",1899,1979,"I / II / III a / III b / IV a / IV b","Founded in 1899 and operational until 1979"]
["HGK","Germany","Häfen und Güterverkehr Köln AG",1992,"Operational","V a / V b / VI","Founded in 1992 for operating services at Niehl, Hafen and Godorfer ports"]
["HKB","Germany","Hersfelder Kreisbahn",1913,1993,"I / II / III a / III b / IV a / IV b / V a","Founded in 1913 and operational until 1993"]
["HSB","Germany","Heidelberger Straßen und Bergbahn AG",1885,2004,"I / II / III a / III b / IV a / IV b / V a / V b","Founded in 1885 to operate city tram services in Heidelberg (since 2004 RNV AG)"]
["K.P.St.E","Germany","Preußische Staatseisenbahnen",1880,1920,"I / II","National railway company for Prussia (1880-1920)"]
["KBE","Germany","Köln-Bonner Eisenbahnen AG",1891,1992,"I / II / III a / III b / IV a / IV b / V a","Founded in 1891 and operational until 1992"]
["LBE","Germany","Lübeck-Büchener Eisenbahn",1851,1938,"I / II","Founded in 1851 and operational until 1938"]
["MVG","Germany","Mülheimer VerkehrsGesellschaft",1897,"Operational","I / II / III a / III b / IV a / IV b / V a / V b / VI","Founded in 1897 to operate city tram services in Mulheim"]
["MVGm","Germany","Mainzer VerkehrsGesellschaft",1883,"Operational","I / II / III a / III b / IV a / IV b / V a / V b / VI","Founded in 1883 to operate city tram services in Mainz"]
["NACCO","Germany","North American Coal Corporation",1972,2014,"IV a / IV b / V a / V b / VI","Founded in 1972 for leasing railway equipment to private companies in North America and Europe"]
["RAG","Germany","Ruhrkohle AG",1968,"Operational","IV a / IV b / V a / V b / VI","Founded in 1968 for mining operations in Rühr"]
["Railion","Germany","Railion",2000,2009,"V a / V b","Founded in 2000 as a consortium between DB-NS-DSB (2009-2016 DB Schenker Rail and since 2016 DB Cargo)"]
["RB","Germany","Rheinische Bahngesellschaft AG",1896,2005,"I / II / III a / III b / IV a / IV b / V a / V b","Founded in 1896 to operate city tram services in Dusseldorf (since 2005 Rheinbahn AG)"]
["Rhenus","Germany","Rhenus Logistics",1912,"Operational","I / II / III a / III b / IV a / IV b / V a / V b / VI","Founded in 1912 for freight and port services"]
["SD","Germany","Stadtbahn Dortmund",1976,"Operational","IV a / IV b / V a / V b / VI","Founded in 1976 to operate city tram services in Dortmund"]
["VAG","Germany","VAG Verkehrs-Aktiengesellschaft",1959,"Operational","III b / IV a / IV b / V a / V b / VI","Founded in 1959, sucessor of SWN, to operate city tram services in Nürnberg"]
["VSB","Germany","Vestischen Straßenbahnen GmbH",1901,1982,"I / II / III a / III b / IV a / IV b","Founded in 1901 and operational until 1982 to operate city tram services in Gelsenkirchen"]
["ANR","Australia","Australian National Railways",1975,1998,"IV a / IV b / V a / V b","National railway company for Australia (1975-1998)"]
["ASR","Australia","Australian Southern Railroad",1996,2006,"V b","Founded in 1996 for freight services (since 2006 Genesee & Wyoming Australia)"]
["GN","Australia","Great Northern Railway",1993,2002,"V a / V b","Founded in 1993 and operational until 2002 for rail services in the state of Victoria"]
["NSW","Australia","New South Wales",1854,"Operational","I / II / III a / III b / IV a / IV b / V a / V b / VI","Founded in 1854 for rail services in the state of New South Wales"]
["SAU","Australia","South Australian Railways",1854,1978,"I / II / III a / III b / IV a / IV b","Founded in 1854 and operational until 1978 for rail services in the state of Southern Australia"]
["SRA","Australia","State Rail Authority (New South Wales)",1980,2003,"IV b / V a / V b","Founded in 1980 and operational until 2003 for rail services in the state of New South Wales"]
["VL","Australia","V/Line",1983,"Operational","IV b / V a / V b / VI","Founded in 1983 for rail services in the state of Victoria"]
["VR","Australia","Victorian Railways",1853,1983,"I / II / III a / III b / IV a / IV b","Founded in 1859 and operational until 1983 for rail services in the state of Victoria"]
["GKB","Austria","Graz-Köflacher Eisenbahn und Bergbau Gesellschaft",1859,"Operational","I / II / III a / III b / IV a / IV b / V a / V b / VI","Founded in 1859 for rail services in Graz"]
["IVB","Austria","Innsbrucker Verkehrsbetriebe",1945,"Operational","III a / III b / IV a / IV b / V a / V b / VI","Founded in 1945 to operate city tram services in Innsbruck"]
["MBS","Austria","Montafonerbahn",1905,"Operational","I / II / III a / III b / IV a / IV b / V a / V b / VI","Founded in 1905"]
["OBB","Austria","Österreichische Bundesbahnen",1947,"Operational","III a / III b / IV a / IV b / V a / V b / VI","National railway company for Austria (since 1947)"]
["CIWL","Belgium","Compagnie Internationale des Wagons-Lits",1872,1973,"I / II / III a / III b / IV a","Founded in 1872 and operational until 1973 for operating sleeping and catering services"]
["De Lijn","Belgium","Vlaamse Vervoersmaatschappij De Lijn",1883,"Operational","I / II / III a / III b / IV a / IV b / V a / V b / VI","Founded in 1883 for rail services in Flanders"]
["S.N.C.B.","Belgium","Société Nationale des Chemins de fer Belges",1926,"Operational","II / III a / III b / IV a / IV b / V a / V b / VI","National railway company for Belgium (since 1926)"]
["AC","Canada","Algoma Central Railway",1899,"Operational","I / II / III a / III b / IV a / IV b / V a / V b / VI","Founded in 1899 for rail services in the state of Ontario"]
["BCR","Canada","British Columbia Railway",1972,2004,"IV a / IV b / V a / V b","Founded in 1972 and operational until 2004"]
["C.P.R.","Canada","Canadian Pacific Railway",1881,"Operational","I / II / III a / III b / IV a / IV b / V a / V b / VI","Founded in 1881 (known as CP Rail between 1968-1996)"]
["CN","Canada","Canadian National",1912,"Operational","I / II / III a / III b / IV a / IV b / V a / V b / VI","National railway company for Canada (1912-1995)"]
["ONT","Canada","Ontario Northland Railway",1902,"Operational","I / II / III a / III b / IV a / IV b / V a / V b / VI","Founded in 1902 for services in the state of Ontario"]
["VIA","Canada","Via Rail Canada",1977,"Operational","IV b / V a / V b / VI","Founded in 1977 for passenger services"]
["D.S.B.","Denmark","Danske Statsbaner",1885,"Operational","I / II / III a / III b / IV a / IV b / V a / V b / VI","National railway company for Denmark (since 1885)"]
["SZ","Slovenia","Slovenske železnice",1991,"Operational","V a / V b / VI","National railway company for Slovenia (since 1991)"]
["COMSA","Spain","Constructora de Obras Municipales SA",1891,"Operational","I / II / III a / III b / IV a / IV b / V a / V b / VI","Founded in 1891 for manufacturing rail infrastructure (since 2002 owns logistics subsidiary)"]
["GIF","Spain","Gestor de Infraestructuras Ferroviarias",1996,2005,"V b","Founded in 1996 and operational until 2005 for building the HSL between Madrid-Barcelona"]
["Renfe","Spain","Red Nacional de Ferrocarriles Españoles",1941,"Operational","II / III a / III b / IV a / IV b / V a / V b / VI","National railway company for Spain (since 1941)"]
["VRY","Finland","VR-Yhtymä Oy",1995,"Operational","V a / V b / VI","National railway company for Finland (since 1995)"]
["EPS","France","European Passenger Services",1990,"Operational","V a / V b / VI","Founded in 1990 for operating passenger services in Eurotunnel (1996-2010 Eurostar UK Limited and since 2010 Eurostar International Limited)"]
["Etat","France","Chemins de fer de l'État",1878,1938,"I / II","Founded in 1878 and operational until 1938"]
["SNCF","France","Société Nationale des Chemins de fer Français",1938,"Operational","II / III a / III b / IV a / IV b / V a / V b / VI","National railway company for France (since 1938)"]
["TCC","France","Transports en Commun de la Communauté urbaine de Lille",1989,1994,"V a","Founded in 1989 to operate city tram services in Lille (since 1994 Transpole)"]
["OSE","Greece","Organismós Sidi̱rodrómo̱n Elládos",1971,"Operational","IV a / IV b / V a / V b / VI","National railway company for Greece (since 1971)"]
["ACTS","Netherlands","Afzet Container Transport Systeem",1989,2004,"V a / V b","Founded in 1989 and operational until 2004 for freight services"]
["NS","Netherlands","Nederlandse Spoorwegen",1938,"Operational","II / III a / III b / IV a / IV b / V a / V b / VI","National railway company for Netherlands (since 1938)"]
["MAV","Hungary","Magyar Államvasutak",1869,"Operational","I / II / III a / III b / IV a / IV b / V a / V b / VI","National railway company for Hungary (since 1869)"]
["CIE","Ireland","Córas Iompair Éireann of Ireland",1945,"Operational","III a / III b / IV a / IV b / V a / V b / VI","National railway company for Ireland (since 1945)"]
["ACT","Italy","Ferrovia Alifana",1913,"Operational","I / II / III a / III b / IV a / IV b / V a / V b / VI","Founded in 1913 for services between Napoli - Piedimonte Matese"]
["F.P.","Italy","Ferrovie Padane",1933,2001,"II / III a / III b / IV a / IV b / V a / V b","Founded in 1933 and merged in 2001 with several companies to form FER (Ferrovia Emilia Romagna)"]
["F.SF","Italy","Ferrovia Suzzara-Ferrara",1887,2001,"I / II / III a / III b / IV a / IV b / V a / V b","Founded in 1887 and merged in 2001 with several companies to form FER (Ferrovia Emilia Romagna)"]
["FBN","Italy","Ferrovia Bari-Nord",1883,"Operational","I / II / III a / III b / IV a / IV b / V a / V b / VI","Founded in 1883 for services in Bari"]
["FBP","Italy","Ferrovia Bologna - Portomaggiore ",1887,2001,"I / II / III a / III b / IV a / IV b / V a / V b","Founded in 1887 and merged in 2001 with several companies to form FER (Ferrovia Emilia Romagna)"]
["FNM","Italy","Ferrovie Nord-Milano",1877,"Operational","I / II / III a / III b / IV a / IV b / V a / V b / VI","Founded in 1877 for services in Lombardia & Piemonte"]
["FPS","Italy","Ferrovia Parma – Suzzara ",1986,2001,"IV b / V a / V b","Founded in 1986 and merged in 2001 with several companies to form FER (Ferrovia Emilia Romagna)"]
["FS","Italy","Ferrovie delle Stato",1923,"Operational","II / III a / III b / IV a / IV b / V a / V b / VI","National railway company for Italy (since 1923)"]
["FUC","Italy","Ferrovie Udine Cividale",1986,1997,"IV b / V a / V b","Founded in 1986 and operational until 1997 (former FVS)"]
["FVS","Italy","Ferrovia della Valle Seriana",1884,"Operational","I / II / III a / III b / IV a / IV b / V a / V b / VI","Founded in 1884 for services between Bergamo - Clusone"]
["IFC","Italy","Impresa Franco Ceprini",1945,"Operational","III a / III b / IV a / IV b / V a / V b / VI","Founded in 1945 for construction materiel"]
["S.N.F.T.","Italy","Società Nazionale Ferrovie e Tramvie",1892,1992,"I / II / III a / III b / IV a / IV b / V a","Founded in 1892 and operational until 1992 for services in Parma, Cremona & Piacenza"]
["SATTI","Italy","Società per Azioni Torinese Trasporti Intercomunali",1951,1980,"III a / III b / IV a / IV b","Founded in 1951 and operational until 1980 to operate rail and tram services in Torino (since 1980 ATM)"]
["SVF","Italy","Societá Véneta Ferrovie",1872,"Operational","I / II / III a / III b / IV a / IV b / V a / V b / VI","Founded in 1872 for services in Padova"]
["JNR","Japan","Japan National Railways",1949,1987,"III a / III b / IV a / IV b / V a","National railway company for Japan (1949-1987)"]
["CFL","Luxembourg","Chemins de Fer Luxembourgeois",1946,"Operational","III a / III b / IV a / IV b / V a / V b / VI","National railway company for Luxembourg (since 1946)"]
["NdeM","Mexico","Ferrocarriles Nacionales de México",1908,2001,"I / II / III a / III b / IV a / IV b / V a / V b","National railway company for Mexico (1908-2001)"]
["N.S.B.","Norway","Norges Statsbaner ",1883,"Operational","I / II / III a / III b / IV a / IV b / V a / V b / VI","National railway company for Norway (since 1883)"]
["CP","Portugal","Comboios de Portugal",1951,"Operational","III a / III b / IV a / IV b / V a / V b / VI","National railway company for Portugal (since 1951)"]
["SAR","Southafrica","South African Railways and Harbours",1910,1981,"I / II / III a / III b / IV a / IV b","National railway company for South Africa (1910-1981)"]
["DLL","Sweden","De Lage Landen International B.V.",1994,"Operational","V a / V b / VI","Founded in 1994 for leasing rail equipment"]
["SJ","Sweden","Statens Järnvägar",1888,"Operational","I / II / III a / III b / IV a / IV b / V a / V b / VI","National railway company for Sweden (since 1888)"]
["TGOJ","Sweden","Trafikaktiebolaget Grängesberg-Oxelösunds Järnvägar",1897,2010,"I / II / III a / III b / IV a / IV b / V a / V b / VI","Founded in 1897 and operational until 2010"]
["BLS","Switzerland","Bern–Lötschberg–Simplon ",1913,"Operational","I / II / III a / III b / IV a / IV b / V a / V b / VI","Founded in 1913. In 1997 absorbs BN, GBS & SEZ and in 2006 merges with Regionalverkehr Mittelland to create BLS AG"]
["BLT","Switzerland","Baselland Transport",1974,"Operational","IV a / IV b / V a / V b / VI","Founded in 1974 to operate rail and tram services in Basel"]
["BN","Switzerland","Bern-Neuenburg-Bahn",1901,1997,"I / II / III a / III b / IV a / IV b / V a / V b","Founded in 1901 and operational until 1997"]
["BS","Switzerland","Le Buffet Suisse",1987,1997,"V a / V b","Founded in 1987 and operational until 1997 for operating catering services"]
["BT","Switzerland","Bodense-Toggenburg Bahn",1910,2001,"I / II / III a / III b / IV a / IV b / V a / V b","Founded in 1910 and operational until 2001"]
["ELB","Switzerland","Edelweiß-Lokalbahn",1952,1990,"III a / III b / IV a / IV b / V a","Fictitious company created by Fleischmann"]
["GBS","Switzerland","Gürbetal-Bern-Schwarzenburg-Bahn",1944,1997,"II / III a / III b / IV a / IV b / V a / V b","Founded in 1944 from the merge of companies GTB & BSB and operational until 1997"]
["HUPAC","Switzerland","Hupac Intermodal Ltd ",1967,"Operational","III b / IV a / IV b / V a / V b / VI","Founded in 1967 for freight services"]
["Mitropa","Switzerland","MITROPA Suisse SA",1996,2003,"V b","Founded in 1996 and operational until 2003 for operating catering services"]
["SBB/CFF","Switzerland","Schweizerische Bundesbahnen - Chemins de fer fédéraux",1902,"Operational","I / II / III a / III b / IV a / IV b / V a / V b / VI","National railway company for Switzerland (since 1902)"]
["SEZ","Switzerland","Spiez-Erlenbach-Zweisimmen-Bahn ",1942,1997,"II / III a / III b / IV a / IV b / V a / V b","Founded in 1942 and operational until 1997"]
["SOB","Switzerland","Süd-öst-bahn",1870,"Operational","I / II / III a / III b / IV a / IV b / V a / V b / VI","Founded in 1870. In 2001 absorbs BT"]
["STB","Switzerland","Sensetalbahn",1904,1993,"I / II / III a / III b / IV a / IV b / V a","Founded in 1904 and operational until 1993"]
["TPG","Switzerland","Transports Publics Genevois",1977,"Operational","IV b / V a / V b / VI","Founded in 1977 to operate city tram services in Geneve"]
["VBZ","Switzerland","Verkehrsbetriebe Zürich",1950,"Operational","III a / III b / IV a / IV b / V a / V b / VI","Founded in 1950 to operate city tram services in Zurich (subsidiary of ZVV)"]
["ZVV","Switzerland","Zürcher Verkehrsverbund",1990,"Operational","V a / V b / VI","Founded in 1990 for rail services in Zürich"]
["ARC","UK","Amey Roadstone Construction",1921,1989,"II / III a / III b / IV a / IV b / V a","Founded in 1921 and operational until 1989 (known as Amey Roadstone between 1972-89)"]
["ATN","UK","Arriva Trains Northern",1997,"Operational","V b / VI","Founded in 1997 (1997-01 Northern Spirit and between 2001-04 Arriva Trains Northern)"]
["BR","UK","British Rail",1948,1995,"III a / III b / IV a / IV b / V a","National railway company for UK (1948-1995 and known as British Railways between 1948-1964)"]
["CT","UK","Central Trains",1997,2007,"V b","Founded in 1997 and operational until 2007"]
["DRS","UK","Direct Rail Services",1995,"Operational","V a / V b / VI","Founded in 1995 to operate nuclear flask services"]
["EWS","UK","English Welsh & Scottish Railways",1996,2007,"V b","Founded in 1996 after Wisconsin Central bought Mainline Freight, Loadhaul Ltd & Transrail. Sold in 2007 to DB Schenker"]
["FGS","UK","Fragonset",1997,2006,"V b","Founded in 1997 and operational until 2006 for leasing railway equipment"]
["FGW","UK","First Great Western",1996,"Operational","V a / V b / VI","Founded in 1996 (known as Great Western Trains between 1996-98 and First Great Western since 1998)"]
["FRG","UK","Freightliner Group",1995,"Operational","V a / V b / VI","Founded in 1995 for containerized freight services originally and general freight since 1999"]
["FY","UK","Foster Yeoman",1923,1993,"II / III a / III b / IV a / IV b / V a","Founded in 1923 and operational until 1993"]
["GBRf","UK","GB Railfreight",2001,"Operational","V b / VI","Founded in 2001 for freight services"]
["GNER","UK","Great North Eastern Railway",1996,2007,"V b","Founded in 1996 and operational until 2007"]
["GWR","UK","Great Western Railway",1833,1948,"I / II / III a","Founded in 1833 and operational until 1948. One of the \"Big Four\" "]
["HB","UK","Hunslet-Barclay",1972,2007,"IV a / IV b / V a / V b","Founded in 1972 and operational until 2007 for weed control services"]
["HRT","UK","Hertfordshire Rail Tours",1983,2008,"IV b / V a / V b / VI","Founded in 1983 and operational until 2008 as an association for preserving ancient rolling stock"]
["LH","UK","Loadhaul Limited",1994,1996,"V a","Founded in 1994 and operational until 1996"]
["LMS","UK","London, Midland and Scottish Railway ",1923,1948,"II / III a","Founded in 1923 and operational until 1948. One of the \"Big Four\""]
["LNER","UK","London and North Eastern Railways",1923,1948,"II / III a","Founded in 1923 and operational until 1948. One of the \"Big Four\""]
["MF","UK","Mainline Freight",1994,1996,"V a","Founded in 1994 and operational until 1996"]
["MM","UK","Midland Mainline",1996,2007,"V b","Founded in 1996 and operational until 2007 (merge with Central Trains to form East Midlands)"]
["MR","UK","Mendip Rail Ltd",1993,"Operational","V a / V b / VI","Founded in 1993 after the merge of ARC & Foster Yeoman"]
["NP","UK","National Power",1990,2001,"V a / V b","Founded in 1990 and operational until 2001 for providing electrical services"]
["NSE","UK","Network South East",1986,1996,"V a","Founded in 1986 and operational until 1996 for rail services in the greater London"]
["PCC","UK","Pullman Car Company",1882,1985,"I / II / III a / III b / IV a / IV b","Founded in 1882 and operational until 1985 for luxury passenger services"]
["RES","UK","Rail Express Systems",1988,1994,"V a","Founded in 1988 amd operational until 1994 for package services"]
["RFD","UK","Railfreight Distribution",1988,1994,"V a","Founded in 1988 and operational until 1994 for non-bulk freight services"]
["RFS","UK","RFS Industries ",1988,1994,"V a","Founded in 1988 and operational until 1994 for building the Eurotunnel"]
["RT","UK","Railtrack",1994,2002,"V a / V b","Founded in 1994 and operational until 2002 for infrastructure maintenance"]
["RW","UK","Regional Railways",1982,1996,"IV b / V a","Founded in 1982 and operational until 1996 for regional passenger services"]
["SL","UK","Silverlink Trains",1997,2007,"V b","Founded in 1997 and operational until 2007"]
["SRW","UK","Southern Railway",1923,1948,"II / III a","Founded in 1923 and operational until 1948. One of the \"Big Four\""]
["TLF","UK","Trainload Freight",1988,1994,"V a","Founded in 1988 and operational until 1994 for bulk freight services"]
["TR","UK","Transrail",1994,1996,"V a","Founded in 1994 and operational until 1996"]
["VT","UK","Virgin Trains",1997,"Operational","V b / VI","Founded in 1997 for passenger services"]
["ACL","USA","Atlantic Coast Line",1900,1967,"I / II / III a / III b","Founded in 1900 and operational until 1967 (merge with Seaboard Air Line Railroad to form Seaboard Coast Line Railroad)"]
["Amtrak","USA","Amtrak",1971,"Operational","IV a / IV b / V a / V b / VI","Founded in 1971 for passenger services"]
["AT&SF","USA","Atchison, Topeka and Santa Fe Railway",1859,1997,"I / II / III a / III b / IV a / IV b / V a / V b","Founded in 1859 and operational until 1997 (merge with Burlington Northern to form BNSF Railway)"]
["B&O","USA","Baltimore & Ohio",1828,1987,"I / II / III a / III b / IV a / IV b / V a","Founded in 1828 and operational until 1987 (merge with C&O to form CSX Corporation)"]
["BN","USA","Burlington Northern",1970,1997,"IV a / IV b / V a / V b","Founded in 1970 and operational until 1997 (merge with Atchison, Topeka and Santa Fe Railway to form BNSF Railway)"]
["C&O","USA","Chesapeake & Ohio",1869,1987,"I / II / III a / III b / IV a / IV b / V a","Founded in 1869 and operational until 1987 (merge with B&O to form CSX Corporation)"]
["CNW","USA","Chicago & North Western Transportation Company",1865,1995,"I / II / III a / III b / IV a / IV b / V a","Founded in 1865 and operational until 1995"]
["Conrail","USA","Consolidated Rail Corporation ",1976,1999,"IV b / V a / V b","Founded in 1976 and operational until 1999"]
["D&M","USA","Detroit and Mackinac Railway",1894,1992,"I / II / III a / III b / IV a / IV b / V a","Founded in 1894 and operational until 1992"]
["GNR","USA","Great Northern Railway",1857,1970,"I / II / III a / III b / IV a","Founded in 1857 and operational until 1970 (merge with several companies to form BN Burlington Northern)"]
["L&N","USA","Louisville & Nashville RR (aka Dixie)",1850,1982,"I / II / III a / III b / IV a / IV b","Founded in 1850 and operational until 1982"]
["LV","USA","Lehigh Valley Railroad",1846,1976,"I / II / III a / III b / IV a / IV b","Founded in 1846 and operational until 1976 (merge with other companies to form Conrail)"]
["MILW","USA","Chicago, Milwaukee, St. Paul & Pacific",1847,1986,"I / II / III a / III b / IV a / IV b","Founded in 1847 and operational until 1986"]
["Monon","USA","Chicago, Indianapolis, and Louisville Railway (aka Monon RR)",1847,1971,"I / II / III a / III b / IV a","Founded in 1847 and operational until 1971"]
["MP","USA","Missouri Pacific Railroad ",1851,1997,"I / II / III a / III b / IV a / IV b / V a / V b","Founded in 1851 and operational until 1997"]
["NKP","USA","Nickel Plate Road (aka NY, Chicago & St Louis RR)",1881,1964,"I / II / III a / III b","Founded in 1881 and operational until 1964 (merge with other companies to form N&W Norfolk and Western Railway)"]
["NY","USA","New York Central",1831,1968,"I / II / III a / III b","Founded in 1831 and operational until 1968 (merge with PRR to form Penn Central)"]
["Penn","USA","Penn Central Transportation Company",1968,1976,"IV a","Founded in 1968 and operational until 1976 (merge with other companies to form Conrail)"]
["PRR","USA","Pennsylvania RR",1846,1968,"I / II / III a / III b","Founded in 1846 and operational until 1968 (merge with NYC to form Penn Central)"]
["SC","USA","Seaboard Coastline",1967,1983,"III b / IV a / IV b","Founded in 1967 and operational until 1983 (merge with Louisville and Nashville Railroad & Clinchfield Railroad to form Seaboard System Railroad)"]
["SOO","USA","Soo Line Railroad",1961,"Operational","III b / IV a / IV b / V a / V b / VI","Founded in 1961"]
["SOU","USA","Southern Railroad",1894,1982,"I / II / III a / III b / IV a / IV b","Founded in 1894 and operational until 1982 (merge with Norfolk and Western Railway to form Norfolk Southern Railway)"]
["SP","USA","Southern Pacific Railroad",1865,1996,"I / II / III a / III b / IV a / IV b / V a","Founded in 1865 and operational until 1996"]
["UP","USA","Union Pacific Railroad",1862,"Operational","I / II / III a / III b / IV a / IV b / V a / V b / VI","Founded in 1862"]

{"sheet":"Internet","index":6,"n_rows":97,"n_cols":3,"rows_kept":97,"cut":false,"hidden":false,"merged":[]}
["Country","Description","URL"]
["Germany","Dining cars","http://de.wikipedia.org/wiki/Speisewagen"]
["Germany","Roster with all Rolling stock","http://www.reisezug-wagen.de/wagendatenbank/index.php"]
["Germany","DB roster","http://en.wikipedia.org/wiki/List_of_Deutsche_Bundesbahn_locomotives_and_railbuses#Electric_Locomotives"]
["Germany","DB roster (electric)","http://www.udokrupp.de/joomla/index.php/loks-d/e-loks-bestand-verbleib"]
["Germany","DB roster (non-electric)","http://www.udokrupp.de/joomla/index.php/loks-d/dieselloks-bestand-verbleib"]
["Germany","DRG roster","http://en.wikipedia.org/wiki/List_of_DRG_locomotives_and_railbuses"]
["Germany","DRG roster (2 axle)","http://de.wikipedia.org/wiki/Donnerb%C3%BCchse_(Personenwagen)"]
["Germany","DRG roster (4 axle)","http://de.wikipedia.org/wiki/Eilzugwagen"]
["Germany","DRG-DB roster","http://www.modellbau-wiki.de/wiki/Schnellzugwagen_(Deutschland)"]
["Germany","DB roster","http://www.deutsche-reisezugwagen.de/"]
["Germany","DR roster","http://pxtr.de/dr-wagen/portal/dat_db.php?loc=English"]
["Germany","DB roster (model)","http://www.modellbahnfrokler.de/archiv/index.html"]
["Germany","DB roster (cargo)","http://de.wikipedia.org/wiki/G%C3%BCterwagen_der_Deutschen_Bundesbahn"]
["Germany","DRG roster (cargo)","http://de.wikipedia.org/wiki/G%C3%BCterwagen_der_geschwei%C3%9Ften_Bauart"]
["Germany","DB roster (cargo)","http://www.dybas.de/dybas/gw/gw_gattungen.html"]
["Germany","DB roster (cargo)","http://www.modellbahnfrokler.de/archiv/doku/gueterwagen-1.64/html/"]
["Germany","DRG-DB roster","http://www.dbtrains.com/en"]
["Germany","Roster with all Rolling stock","http://www.zusi.de/forum/zusi3fkt/fzglist.htm"]
["Germany","Pictures of rolling stock","http://www.michael-stepputat.homepage.t-online.de/gw/gwpic/gwfoto.htm"]
["Germany","Dome coaches history","http://www.mytrains.se/page.php?33"]
["Germany","Dome coaches history","http://www.heinrich-hanke.de/eisenbahn/deutschland/db_p_rheingold1962.htm"]
["Australia","ANR roster","http://www.comrails.com/index.html"]
["Austria","OBB roster","http://de.wikipedia.org/wiki/Liste_der_Lokomotiven_und_Triebwagen_der_%C3%96BB"]
["Austria","OBB roster (engine)","http://www.bahntechnisches-bildarchiv.at/hauptmenue.htm"]
["Austria","OBB roster (cargo)","http://www.railcargowagon.at/en/Our_Wagons/index.jsp"]
["Austria","OBB liveries","http://bahnbilder.warumdenn.net/17073.htm"]
["Belgium","SNCB roster","http://en.wikipedia.org/wiki/List_of_SNCB/NMBS_classes"]
["Belgium","SNCB roster (model)","http://traintamarre.tassignon.be/"]
["Denmark","DSB roster","http://en.wikipedia.org/wiki/List_of_DSB_locomotives_and_multiple_units"]
["Denmark","DSB roster","http://www.jernbanen.dk/"]
["Denmark","DSB roster (passenger)","http://www.dansk-jernbanearkiv.dk/europ/europ98.htm"]
["Denmark","DSB roster (passenger)","http://www.jernhesten.dk/Forbillede/help-DSB-personv.asp"]
["Denmark","LIMA HO roster","http://www.sporskiftet.dk/wiki/modeloversigt-lima"]
["Spain","RENFE roster","http://es.wikipedia.org/wiki/Categor%C3%ADa:Material_rodante_de_Renfe"]
["Spain","HO scale roster","http://renfe-h0.com/index.htm"]
["Spain","RENFE roster","http://www.listadotren.es/"]
["Spain","HO scale roster","http://trendigital.galeon.com/Fotos/FotosH0.htm"]
["France","SNCF picture gallery","http://www.cc6575.com/galerie/piwigo/index.php?/categories"]
["France","Forum coach history","http://www.trains-speciaux.fr/texte/forum.htm"]
["France","SNCF liveries","http://fr.wikipedia.org/wiki/Livr%C3%A9es_SNCF"]
["France","TGV liveries","http://blog.sylvainbouard.fr/la-famille-tgv-guide-didentification/"]
["France","SNCF roster (passenger)","http://ec64.pagesperso-orange.fr/voitures%20Sncf.htm"]
["France","SNCF roster (passenger)","http://www.trains-europe.fr/sncf/voitures/index.htm"]
["France","SNCF roster (engine)","http://fr.wikipedia.org/wiki/Mat%C3%A9riel_moteur_de_la_SNCF"]
["France","LIMA HO roster","http://lestrainsjouef.free.fr/"]
["France","SNCF roster (since 1950)","http://uxtobirza.free.fr/trains/L2.php"]
["France","SNCF roster (steam)","http://fr.wikipedia.org/wiki/Locomotives_%C3%A0_vapeur_fran%C3%A7aises"]
["France","SNCF, SNCB and SBB/CFF roster","http://ec64.pagesperso-orange.fr/"]
["Netherlands","NS roster","http://en.wikipedia.org/wiki/Locomotives_of_Nederlandse_Spoorwegen"]
["Netherlands","NS roster","http://www.railwiki.nl/"]
["Netherlands","NS roster","http://www.martijnhaman.nl/"]
["Italy","FS liveries","http://www.miol.it/stagniweb/carrozz1.htm#punto1"]
["Italy","FS roster","http://it.wikipedia.org/wiki/Lista_dei_rotabili_italiani"]
["Italy","FS roster (passenger)","http://www.miol.it/stagniweb/news-i.htm"]
["Italy","FS and European roster (model)","http://gamos81.altervista.org/"]
["Italy","LIMA HO roster","http://www.modelliniferroviari-wiki.info/"]
["Italy","LIMA articles","http://valestelor.altervista.org/category/modellismo-2/fer/lima/page/2/"]
["Japan","FS roster (cargo)","http://www.sumidacrossing.org/Prototype/JRFreight/FreightCars/"]
["Japan","JNR roster (series 1)","https://ja.wikipedia.org/wiki/%E5%9B%BD%E9%89%84%E3%83%AF%E3%83%A01%E5%BD%A2%E8%B2%A8%E8%BB%8A#.E3.83.AF.E3.83.A023000.E5.BD.A2"]
["Japan","JNR roster (series 80000)","https://ja.wikipedia.org/wiki/%E5%9B%BD%E9%89%84%E3%83%AF%E3%83%A080000%E5%BD%A2%E8%B2%A8%E8%BB%8A"]
["Japan","JNR roster (series 90000)","https://ja.wikipedia.org/wiki/%E5%9B%BD%E9%89%84%E3%83%AF%E3%83%A090000%E5%BD%A2%E8%B2%A8%E8%BB%8A"]
["Japan","JNR roster (series 5000)","https://ja.wikipedia.org/wiki/%E5%9B%BD%E9%89%84%E3%82%AF5000%E5%BD%A2%E8%B2%A8%E8%BB%8A"]
["Luxembourg","LIMA HO roster","http://alte-modellbahnen.xobor.de/t2042f9-Lima-Wegmannwagen-der-CFL.html"]
["Luxembourg","CFL roster","http://www.rail.lu/"]
["Luxembourg","CFL roster","http://www.gar.lu/EN_GAR.html"]
["Norway","NSB roster","http://en.wikipedia.org/wiki/Norwegian_State_Railways_rolling_stock"]
["Norway","NSB roster","http://mjwiki.no/wiki/Hovedside"]
["Portugal","HO scale roster","http://zeluis.home.sapo.pt/trains/trains_01.html"]
["Southafrica","SAR roster","http://grela.rrpicturearchives.net/default.aspx"]
["Southafrica","HO scale roster","http://www.oocities.org/kritzingerf/modelpics.html"]
["Sweden","SJ roster","http://en.wikipedia.org/wiki/SJ_T43"]
["Sweden","SJ roster","http://sv.wikipedia.org/wiki/Personvagn"]
["Sweden","SJ roster","http://www.jarnvag.net/index.php/vagnguide"]
["Sweden","SJ roster","http://www.svenska-lok.se/"]
["Switzerland","Assorted gallery of Swiss material","http://www.forum.hag-info.ch/index.php?page=Thread&threadID=3463&l=2"]
["Switzerland","BLS liveries","https://de.wikipedia.org/wiki/BLS-Farben"]
["Switzerland","SBB roster","http://www.voepelm.de/t_b/frames/sbb_f/index_tb_sbb.htm"]
["Switzerland","SBB roster","http://en.wikipedia.org/wiki/List_of_stock_used_by_Swiss_Federal_Railways"]
["Switzerland","SBB roster (passenger)","http://fr.wikipedia.org/wiki/Mat%C3%A9riel_remorqu%C3%A9_des_CFF"]
["Switzerland","HO scale roster","http://ct-railways.de/lima-ewi.php"]
["UK","UK Roster","http://en.wikipedia.org/wiki/Template:British_Rail_Locomotives"]
["UK","UK Roster (cargo)","http://www.garethbayer.co.uk/wotw/"]
["UK","UK roster (engine)","http://www.railuk.co.uk/"]
["UK","UK roster (DMU and railcar)","http://www.railcar.co.uk/"]
["UK","UK liveries","http://www.class47.co.uk/c47_liveries.php"]
["USA","USA roster (steam)","http://www.steamlocomotive.com/"]
["Assorted","European rolling stock pictures","http://www.mlgtraffic.net/index_fr.html#Collec"]
["Assorted","UIC classification (coaches)","http://en.wikipedia.org/wiki/UIC_classification_of_railway_coaches"]
["Assorted","UIC classification (steam)","http://es.wikipedia.org/wiki/Clasificaci%C3%B3n_UIC_de_disposiciones_de_ejes_de_locomotoras"]
["Assorted","European liveries","http://www.railfaneurope.net/liveries/"]
["Assorted","LIMA site","http://mmiwakoh.de/Eigene%20Webs/lima-modellbahn/Seite2%20en.htm"]
["Assorted","LIMA HO roster (Germany, Swiss, Austria)","http://www.bahnwahn.de/Modellbahnwahn/modellbahnwahn.html"]
["Assorted","LIMA HO roster (Germany, Swiss, Austria)","http://www.modellbau-wiki.de/"]
["Assorted","Glossary of rail terms","http://en.wikipedia.org/wiki/Glossary_of_rail_transport_terms"]
["Assorted","LIMA site","http://web.tiscalinet.it/pesaroezabban/LIMA.html"]
["Assorted","European roster (diesel)","http://www.rangierdiesel.de/"]

{"sheet":"Logo&Box","index":7,"n_rows":87,"n_cols":13,"rows_kept":87,"cut":false,"hidden":false,"merged":[]}
[]
[]
[]
[]
[]
[]
[]
["Year","1960-69",null,"1970-77",null,null,"1978-79",null,"1980-2000",null,"2001-03",null,"2004-NOW"]
[]
["BOXES",null,null,null,null,null,null,"YEARS (approx)"]
[]
[]
[null,null,null,null,null,null,null,"1955 - 1961"]
[]
[]
[]
[]
[]
[]
[null,null,null,null,null,null,null,"1962 - 1963"]
[]
[]
[]
[]
[]
[]
[]
[null,null,null,null,null,null,null,"1964 - 1969"]
[]
[]
[]
[]
[]
[]
[null,null,null,null,null,null,null,"1970 - 1973"]
[]
[]
[]
[]
[]
[null,null,null,null,null,null,null,"1974 - 1975"]
[]
[]
[]
[]
[]
[null,null,null,null,null,null,null,"1976-77"]
[]
[]
[]
[]
[]
[]
[]
[null,null,null,null,null,null,null,"1978 - 1979"]
[]
[]
[]
[]
[]
[]
[]
[null,null,null,null,null,null,null,"1980 - 1984"]
[]
[]
[]
[]
[null,null,null,null,null,null,null,"1985 - 1992"]
[]
[]
[]
[]
[]
[null,null,null,null,null,null,null,"1993 - 2000"]
[]
[]
[]
[]
[]
[null,null,null,null,null,null,null,"2001 - 2003"]
[]
[]
[]
[]
[]
[]
[null,null,null,null,null,null,null,"2004 - NOW"]

{"sheet":"UIC Wagon","index":8,"n_rows":276,"n_cols":118,"rows_kept":276,"cut":false,"hidden":false,"merged":[[2,1,2,4],[2,5,2,11],[2,12,3,12],[2,13,3,13],[3,1,3,2],[3,3,3,4],[3,5,3,6],[3,8,3,11]]}
["UIC Wagon codification"]
[]
[null,"International block",null,null,null,"National block",null,null,null,null,null,null,"Verifying code","Owner code"]
[null,"Exchange code",null,"Country code",null,"Vehicle type",null,"Sub-type","Internal order"]
[null,"X","X","X","X","X","X","X","X","X","X","X","X","X - XXX"]
["TYPE   à",0,1,8,3,5,7,5,0,4,2,1,{"$f":"+B13","v":8}]
["Multiplicador","x2","x1","x2","x1","x2","x1","x2","x1","x2","x1","x2"]
["Resultante",{"$f":"+B6*2","v":0},{"$f":"+C6*1","v":1},{"$f":"+D6*2","v":16},{"$f":"+E6*1","v":3},{"$f":"+F6*2","v":10},{"$f":"+G6*1","v":7},{"$f":"+H6*2","v":10},{"$f":"+I6*1","v":0},{"$f":"+J6*2","v":8},{"$f":"+K6*1","v":2},{"$f":"+L6*2","v":2}]
[null,{"$f":"IF(B8>=10,LEFT(B8,1),B8)*1","v":0},{"$f":"IF(C8>=10,LEFT(C8,1),C8)*1","v":1},{"$f":"IF(D8>=10,LEFT(D8,1),D8)*1","v":1},{"$f":"IF(E8>=10,LEFT(E8,1),E8)*1","v":3},1,7,1,0,8,2,2]
[null,{"$f":"IF(B8>=10,RIGHT(B8,1),B8)*1","v":0},{"$f":"IF(C8>=10,RIGHT(C8,1),C8)*1","v":1},{"$f":"IF(D8>=10,RIGHT(D8,1),D8)*1","v":6},{"$f":"IF(E8>=10,RIGHT(E8,1),E8)*1","v":3},0,7,0,0,8,2,2]
["Suma cifra mayor a 10",{"$f":"IF(B8>=10,SUM(B9:B10),B8)","v":0},{"$f":"IF(C8>=10,SUM(C9:C10),C8)","v":1},7,3,1,7,1,0,8,2,2,null,null,null,null,null,"NO BORRAR! Para cálculo de dígito verificador"]
["Suma resultado",{"$f":"SUM(B11:L11)","v":32},null,null,null,null,null,null,null,null,null,null,null,null,null,null,null,0,1,2,3,4,5,6,7,8,9,10,11,12,13,14,15,16,17,18,19,20,21,22,23,24,25,26,27,28,29,30,31,32,33,34,35,36,37,38,39,40,41,42,43,44,45,46,47,48,49,50,51,52,53,54,55,56,57,58,59,60,61,62,63,64,65,66,67,68,69,70,71,72,73,74,75,76,77,78,79,80,81,82,83,84,85,86,87,88,89,90,91,92,93,94,95,96,97,98,99,100]
["Unidad hasta próxima decena",{"$f":"HLOOKUP(B12,R12:DN13,2,FALSE)","v":8},null,null,null,null,null,null,null,null,null,null,null,null,null,null,null,0,{"$f":"AB12-S12","v":9},{"$f":"AB12-T12","v":8},{"$f":"AB12-U12","v":7},{"$f":"AB12-V12","v":6},{"$f":"AB12-W12","v":5},{"$f":"AB12-X12","v":4},{"$f":"AB12-Y12","v":3},{"$f":"AB12-Z12","v":2},{"$f":"AB12-AA12","v":1},{"$f":"AB12-AB12","v":0},{"$f":"AL12-AC12","v":9},{"$f":"AL12-AD12","v":8},{"$f":"AL12-AE12","v":7},{"$f":"AL12-AF12","v":6},{"$f":"AL12-AG12","v":5},{"$f":"AL12-AH12","v":4},{"$f":"AL12-AI12","v":3},{"$f":"AL12-AJ12","v":2},{"$f":"AL12-AK12","v":1},{"$f":"AL12-AL12","v":0},{"$f":"AV12-AM12","v":9},{"$f":"AV12-AN12","v":8},{"$f":"AV12-AO12","v":7},{"$f":"AV12-AP12","v":6},{"$f":"AV12-AQ12","v":5},{"$f":"AV12-AR12","v":4},{"$f":"AV12-AS12","v":3},{"$f":"AV12-AT12","v":2},{"$f":"AV12-AU12","v":1},{"$f":"AV12-AV12","v":0},{"$f":"BF12-AW12","v":9},{"$f":"BF12-AX12","v":8},{"$f":"BF12-AY12","v":7},{"$f":"BF12-AZ12","v":6},{"$f":"BF12-BA12","v":5},{"$f":"BF12-BB12","v":4},{"$f":"BF12-BC12","v":3},{"$f":"BF12-BD12","v":2},{"$f":"BF12-BE12","v":1},{"$f":"BF12-BF12","v":0},{"$f":"BP12-BG12","v":9},{"$f":"BP12-BH12","v":8},{"$f":"BP12-BI12","v":7},{"$f":"BP12-BJ12","v":6},{"$f":"BP12-BK12","v":5},{"$f":"BP12-BL12","v":4},{"$f":"BP12-BM12","v":3},{"$f":"BP12-BN12","v":2},{"$f":"BP12-BO12","v":1},{"$f":"BP12-BP12","v":0},{"$f":"BZ12-BQ12","v":9},{"$f":"BZ12-BR12","v":8},{"$f":"BZ12-BS12","v":7},{"$f":"BZ12-BT12","v":6},{"$f":"BZ12-BU12","v":5},{"$f":"BZ12-BV12","v":4},{"$f":"BZ12-BW12","v":3},{"$f":"BZ12-BX12","v":2},{"$f":"BZ12-BY12","v":1},{"$f":"BZ12-BZ12","v":0},{"$f":"CJ12-CA12","v":9},{"$f":"CJ12-CB12","v":8},{"$f":"CJ12-CC12","v":7},{"$f":"CJ12-CD12","v":6},{"$f":"CJ12-CE12","v":5},{"$f":"CJ12-CF12","v":4},{"$f":"CJ12-CG12","v":3},{"$f":"CJ12-CH12","v":2},{"$f":"CJ12-CI12","v":1},{"$f":"CJ12-CJ12","v":0},{"$f":"CT12-CK12","v":9},{"$f":"CT12-CL12","v":8},{"$f":"CT12-CM12","v":7},{"$f":"CT12-CN12","v":6},{"$f":"CT12-CO12","v":5},{"$f":"CT12-CP12","v":4},{"$f":"CT12-CQ12","v":3},{"$f":"CT12-CR12","v":2},{"$f":"CT12-CS12","v":1},{"$f":"CT12-CT12","v":0},{"$f":"DD12-CU12","v":9},{"$f":"DD12-CV12","v":8},{"$f":"DD12-CW12","v":7},{"$f":"DD12-CX12","v":6},{"$f":"DD12-CY12","v":5},{"$f":"DD12-CZ12","v":4},{"$f":"DD12-DA12","v":3},{"$f":"DD12-DB12","v":2},{"$f":"DD12-DC12","v":1},{"$f":"DD12-DD12","v":0},{"$f":"DN12-DE12","v":9},{"$f":"DN12-DF12","v":8},{"$f":"DN12-DG12","v":7},{"$f":"DN12-DH12","v":6},{"$f":"DN12-DI12","v":5},{"$f":"DN12-DJ12","v":4},{"$f":"DN12-DK12","v":3},{"$f":"DN12-DL12","v":2},{"$f":"DN12-DM12","v":1},{"$f":"DN12-DN12","v":0}]
[]
["Full number",{"$f":"CONCATENATE(B6,C6,\" \",D6,E6,\" \",F6,G6,H6,\" \",I6,\" \",J6,K6,L6,\"-\",M6)","v":"01 83 575 0 421-8"}]
[]
[]
["International block"]
["Exchange code"]
["First and second digit"]
[]
["01-02","RIV-EUROP, 2-3 axles, railway-owned"]
["03-04","RIV-EUROP, 2-3 axles, privately-owned"]
["05-06","RIV-EUROP, 2-3 axles, rental"]
["11-12","RIV-EUROP, 4+ axles, railway-owned"]
["13-14","RIV-EUROP, 4+ axles, privately-owned"]
["15-16","RIV-EUROP, 4+ axles, rental"]
["21-22","RIV, 2-3 axles, railway-owned"]
["23-24","RIV, 2-3 axles, privately-owned"]
["25-26","RIV, 2-3 axles, rental"]
["31-32","RIV, 4+ axles, railway-owned"]
["33-34","RIV, 4+ axles, privately-owned"]
["35-36","RIV, 4+ axles, rental"]
[40,"domestic only (non RIV), 2-3 axles, service"]
["41-42","domestic only (non RIV), 2-3 axles, railway-owned"]
["43-44","domestic only (non RIV), 2-3 axles, private"]
["45-46","domestic only (non RIV), 2-3 axles, rental"]
[80,"domestic only (non RIV), 4+ axles, service"]
["81-82","domestic only (non RIV), 4+ axles, railway-owned"]
["83-84","domestic only (non RIV), 4+ axles, private"]
["85-86","domestic only (non RIV), 4+ axles, rental"]
[]
["RIV-EUROP European pool comprised of different freight operators"]
["RIV means compatibility for international traffic"]
["Domestic means non-compatible with international traffic (internal use only)"]
[]
["Country Code"]
["Third and Fourth digit"]
[null,"Initials","Country"]
[10,"FIN","Finland (VR)"]
[20,"RUS","Russia (RZD)"]
[21,"SU ","Belarus (BC)"]
[22,"UA ","Ukraine (UZ)"]
[23,"MD ","Moldova (CFM)"]
[24,"LT ","Lithuania (LG)"]
[25,"LV ","Latvia (LDZ)"]
[26,"EST","Estonia (EVR)"]
[27,"KZ ","Kazakhstan (KTZ)"]
[28,"GE ","Georgia (GR)"]
[29,"UZ ","Uzbekistan (UTI)"]
[41,"AL ","Albania (HSH)"]
[50,"BIH","Bosnia-Hercegovina (ZRS)"]
[51,"PL ","Poland (PKP)"]
[52,"BG ","Bulgaria (BDZ)"]
[53,"RO ","Romania (CFR)"]
[54,"CZ ","Czech Republic (CD)"]
[55,"H","Hungary (MAV)"]
[56,"SK ","Slovakia (ZSR)"]
[57,"SU ","Azerbaijan (AZ)"]
[58,"ARM","Armenia (ARM)"]
[59,"KS ","Kyrgystan (KRG)"]
[60,"IRL","Ireland (IE)"]
[65,"MK ","Macedonia(FYROM) (MZ)"]
[66,"TJ ","Tadjikistan (TZD)"]
[67,"TM ","Turkmenistan (TRK)"]
[70,"GB ","Great Britain (BR-EWS)"]
[71,"E","Spain (RENFE)"]
[72,"YU ","Serbia/Montenegro (ZS)"]
[73,"GR ","Greece (OSE)"]
[74,"S","Sweden (SJ-GC)"]
[75,"TR ","Turkey (TCDD)"]
[76,"N","Norway (NSB)"]
[78,"HR ","Croatia (HZ)"]
[79,"SLO","Slovenia (SZ)"]
[80,"D","Germany (DB-BASF)"]
[81,"A","Austria (ÖBB)"]
[82,"L","Luxemburg (CFL)"]
[83,"I","Italy (FS)"]
[84,"NL ","Netherlands (NS)"]
[85,"CH ","Switzerland (SBB-BLS)"]
[86,"DK ","Denmark (DSB)"]
[87,"F","France (SNCF)"]
[88,"B","Belgium (SNCB)"]
[94,"P","Portugal (CP)"]
[]
["National block"]
["Vehicle type"]
["Fifth and sixth digit"]
[null,"Class","Wagon type"]
["00-09","T","Goods wagon with opening roof"]
["10-19","G","Closed (covered) wagon with standard design"]
["20-29","H","Closed (covered) wagon, non-standard design (sliding walls etc)"]
["30-34","K","2 axle flat wagon, standard design"]
["35-39","R","Flat wagon with bogies, standard design"]
["40-44","L","2 axle flat wagon, non-standard (special) design"]
["45-49","S","4+ axle flat wagon, non-standard (special) design"]
["50-55","E","Open high-sided wagon, standard design"]
["56-58","T","Goods wagon with opening roof"]
[59,"E","Open high-sided wagon, standard design"]
["60-69","F","Open high-sided wagon, non-standard (special) design"]
["70-79","Z","Tank wagon"]
["80-89","I","Refrigerated wagon"]
["90-99","U","Other non-standard (special) design wagon"]
[]
["Sub-type"]
["Seventh digit"]
["0-9","Varies according to type"]
[]
["Suffix"]
["Suffix","For classes","Meaning"]
["a","E,F,G,H,I,T,U,Z","4 wheelsets *11"]
[null,"L,O","3 wheelsets"]
[null,"S","6 wheelsets"]
["aa","E,F,G,H,T,U,Z","≥ 6 wheelsets *11"]
[null,"L","≥ 4 wheelsets"]
[null,"S","≥ 8 wheelsets"]
["b","F","Wagon with separate axles[2] and a volume greater than 45 m³"]
[null,"G","Wagon with separate axles and of 12 m length or more and 70 m³ loading area"]
[null,"H","Wagon with separate axles and of length 12–14 m, 70 m³ volume, may be less for ferry boat wagons (f)"]
[null,"I","Wagon separate axles and loading area 22–27 m²"]
[null,"T","Wagon with separate axles and length over 12 m"]
[null,"G,T","Bogie wagon with loading length of 18 m or more"]
[null,"H","Bogie wagon with loading length 18–22 m"]
[null,"K","Bogie wagon with long stakes"]
[null,"L,S","Transporter for medium-sized containers"]
["bb","H","Wagon with separate axles and loading length of 14 m or more"]
[null,"I","Wagon with separate axles and loading area of 27 m² or more"]
[null,"H","Bogie wagon with loading length of 22 m or more"]
["c","E","Discharging trap on the wagon floor"]
[null,"F","Controllable gravity discharging wagon. Underside of floor ≥70 cm above top of rails"]
[null,"H,T","Door in front wall"]
[null,"I","Meat hooks"]
[null,"L,S","Cradle"]
[null,"U,Z","Compressed air or air blast discharging system"]
["cc","F","Controllable gravity discharge hopper. Underside of floor <70 cm above top of rails"]
[null,"H","Door in end wall and interior equipment for the transportation of motor vehicles"]
["d","H","Floor trap"]
[null,"I","For sea fish"]
[null,"L,S","For transportation of motor vehicles on one level"]
[null,"T,U","Controllable gravity discharge hopper, Underside of floor ≥70 cm above top of rails *19"]
["dd","T,U","Controllable gravity discharge hopper. Underside of floor <70 cm above top of rails, cannot be used with lifting equipment *19"]
["e","H","Two levels"]
[null,"I","Electrical forced-air heating"]
[null,"L,S","Double-decker wagon for motor vehicles"]
[null,"R","Folding sides"]
[null,"T","Door height over 1.90 m"]
[null,"Z","Heating equipment"]
["ee","H","More than 2 levels"]
["f","F,H,I,L,O,S,T,U,Z","Great Britain loading gauge, suitable for ferries and channel tunnel"]
["ff","F,H,I,L,O,S,T,U,Z","Great Britain loading gauge, suitable for channel tunnel only"]
["fff","F,H,I,L,O,S,T,U,Z","Great Britain loading gauge, suitable for ferries only"]
["g","G,H,T,U","For grain"]
[null,"I","Refrigerated van with cooling equipment"]
[null,"K,L,R","For container transport"]
[null,"S","For containers up to 60 feet"]
[null,"Z","For sealed or liquified gases or gas dissolved under pressure"]
["gg","I","Refrigerated van, cooled with liquid gas"]
[null,"S","For containers up to 80 feet"]
["h","G,H","For early vegetables"]
[null,"I","With thick insulation"]
[null,"L,R,S,T","For sheet metal coils laid horizontally"]
["hh","L,R,S,T","For sheet metal coils laid vertically"]
["i","H,T","Opening side walls (sliding walls)"]
[null,"I","Refrigerated van with refrigerator on trailer wagon"]
[null,"K,L,R,S","Fixed front wall, movable top cover"]
[null,"U","Low-loading platform"]
[null,"Z","Non-metal containers"]
["ii","H","High-strength sliding walls"]
[null,"I","Technical trailer"]
["k","E,F,G,H,K,L(a),O,T,U,Z","Maximum load on class C route: m < 20 t"]
[null,"Ea,Fa,Ga,Ha,"]
[null,"Laa,R,S,Ta,Ua,Za","Maximum load on class C route: m < 40 t"]
[null,"Eaa,Faa,Gaa,Haa, Sa(a),Taa,Uaa,Zaa"]
[null,"I","Maximum load on class C route: m < 50 t *12"]
[null,"Ia","Maximum load on class C route: m < 15 t"]
[null,null,"Maximum load on class C route: m < 30 t"]
["kk","E,F,G,H,K,L(a),O,T,U,Z","Maximum load on class C route: 20 t ≤ m < 25 t"]
["*13","Ea,Fa,Ga,Ha,"]
[null,"Laa,R,S,Ta,Ua,Za","Maximum load on class C route: 40 t ≤ m < 50 t"]
[null,"Eaa,Faa,Gaa,Haa, Sa(a),Taa,Uaa,Zaa"]
[null,null,"Maximum load on class C route: 50 t ≤ m < 60 t"]
["l","E","Not tippable"]
[null,"F,T,U","Loose (i.e. not controllable) gravity discharge hopper. Underside of floor ≥70 cm above top of rails *19"]
[null,"G","Up to 8 cm ventilation space"]
[null,"H","With movable partitions (from 1 May 1994)"]
[null,"I","Insulated wagon without ice chests"]
[null,"K,L,O,R,S","No stakes"]
["ll","F,T,U","Loose gravity discharge hopper; underside of floor <70 cm above top of rails"]
[null,null,"No lifting gear allowed *19"]
[null,"H","With lockable partitions (from 1 May 1994)"]
["m","E","Loading length: l < 7.7 m *14"]
["*15","Ea(a)","Loading length: l < 12 m"]
[null,"G,H,T","Loading length: l < 9 m *14"]
[null,"Ga(a),Ha(a),Ta(a)","Loading length: l < 15 m"]
[null,"I","Loading area: A < 19 m²"]
[null,"Ia","Loading area: A < 39 m²"]
[null,"K,O,L","Loading length: 9 m ≤ l < 12 m *14"]
[null,"R,S","Loading length: 15 m ≤ l < 18 m *14"]
[null,"La(a),Sa(a)","Loading length: 18 m ≤ l < 22 m"]
["mm","K,O,L","Loading length: l < 9 m *14"]
["*16","R,S","Loading length: l < 15m *14"]
[null,"La(a),Sa(a)","Loading length: l < 18 m"]
["n","I","Maximum load on class C route: m > 25 t"]
["*13","H","Maximum load on class C route: m > 28 t"]
[null,"E,G,K,L,T","Maximum load on class C route: m > 30 t"]
[null,"F,O,U,Z","Maximum load on class C route: m > 30 t for twin-axled wagons / m > 40 t for three-axled wagons"]
[null,"Ia,La","maximum load at limit of load C: m > 40 t"]
[null,"Ea,Fa,Ga,Ha,Laa,"]
[null,"R,S,Ta,Ua,Za","Maximum load on class C route: m > 60 t"]
[null,"Eaa,Faa,Gaa,Haa,"]
[null,"Sa(a),Taa,Uaa,Zaa","Maximum load on class C route: m > 75 t"]
["o","E","Not end-tipping"]
[null,"F,T,U","Loose gravity discharge hopper. Underside of floor ≥70 cm above top of rails. Lifting gear not usable"]
[null,null,"Twin-axled with loading length under 12 m and more than 70 m³ loading area"]
[null,"G,H","Ice chests under 3.5 m³"]
[null,"I","Fixed sides"]
[null,"K","Fixed end walls under 2 m"]
[null,"R","Articulated wagon with three twin-axled bogies"]
[null,"S"]
["oo","F,T,U","Loose gravity discharge hopper. Underside of floor <70 cm above top of rails. Lifting gear cannot be used"]
[null,null,"Fixed end walls over 2 m high"]
[null,"R"]
["p","F,T,U","Loose gravity discharge hopper. Underside of floor ≥70 cm above top of rails. Lifting gear cannot be used"]
[null,null,"No slatted floor"]
[null,"I","No sides"]
[null,"K,L,S","No end wall"]
[null,"R"]
["pp","F,T,U","Loose gravity discharge hopper. Underside of floor <70 cm above top of rails. Lifting gear cannot be used"]
[null,null,"Removable sides"]
[null,"K,R"]
["q","all","Electrical heating pipes for all permitted types of power"]
["qq","all","Electrical heating pipes and heating equipment for all permitted types of power"]
["r","all","Steam heating pipes"]
["*17"]
["rr","all","Steam heating pipes and equipment"]
["*17"]
["r","S","Articulated wagon"]
["*18"]
["s","all","Permitted in trains up to 100 km/h"]
["ss","all","Permitted in trains up to 120 km/h"]
[]
["*11 In the version of the classification scheme valid up to 1979 a meant bogie wagon, aa was not applicable to classes E,F,G,H,T,U,Z."]
["*12 In version of the classification scheme valid up to 1979 there was also a load limit 40 t."]
["*13 The index letter was not part of the original 1966 version and was not introduced until later."]
["*14 In the DR the definition was initially just \"length under …m\", which referred to the length over buffers. As a result numerous wagons were given the wrong classification with the m missing."]
["*15 In the original 1965 version m was only intended for classes E,G,I,K,O,R."]
["*16 In the original 1965 version mm was only intended for classes K,O,R."]
["*17 The index letter could be dropped in 1980, but was sometimes displayed beyond that date."]
["*18 The index letter was introduced later than 1980."]
["*19 Up to 1979 both wagons with metered as well as those with loose gravity discharge were designated with a d."]
[]
["Class","Wagon type",null,null,null,null,null,null,null,null,"1st digit of type number"]
["E","Ordinary open high-sided wagon",null,null,null,null,null,null,null,null,5]
["F","Special open high-sided wagon",null,null,null,null,null,null,null,null,6]
["G","Ordinary covered wagon",null,null,null,null,null,null,null,null,1]
["H","Special covered wagon",null,null,null,null,null,null,null,null,2]
["I","Refrigerated van",null,null,null,null,null,null,null,null,8]
["K","Ordinary flat wagon with separate axles",null,null,null,null,null,null,null,null,3]
["L","Special flat wagon with separate axles",null,null,null,null,null,null,null,null,4]
["O","Open multi-purpose wagon (composite open high-sided flat wagon)",null,null,null,null,null,null,null,null,3]
["R","Ordinary flat wagon with bogies",null,null,null,null,null,null,null,null,3]
["S","Special flat wagon with bogies",null,null,null,null,null,null,null,null,4]
["T","Goods wagon with opening roof",null,null,null,null,null,null,null,null,"0 (before 1988: 5)"]
["U","Special wagons not included within F H L S o Z categories",null,null,null,null,null,null,null,null,9]
["V","Internal service wagon"]
["Z","Tank wagon",null,null,null,null,null,null,null,null,7]

{"sheet":"UIC Coach","index":9,"n_rows":221,"n_cols":118,"rows_kept":221,"cut":false,"hidden":false,"merged":[[2,13,3,13],[3,5,3,6],[2,1,2,4],[3,1,3,2],[3,3,3,4],[3,9,3,11],[2,12,3,12],[2,5,2,11]]}
["UIC Coach codification"]
[]
[null,"International block",null,null,null,"National block",null,null,null,null,null,null,"Verifying code","Owner code"]
[null,"Exchange code",null,"Country code",null,"Vehicle type",null,"Max. Speed","Heating","Internal order"]
[null,"X","X","X","X","X","X","X","X","X","X","X","X","X - XXX"]
["TYPE   à",9,7,8,0,8,1,9,4,0,5,2,{"$f":"+B13","v":7}]
["Multiplicador","x2","x1","x2","x1","x2","x1","x2","x1","x2","x1","x2"]
["Resultante",{"$f":"+B6*2","v":18},{"$f":"+C6*1","v":7},{"$f":"+D6*2","v":16},{"$f":"+E6*1","v":0},{"$f":"+F6*2","v":16},{"$f":"+G6*1","v":1},{"$f":"+H6*2","v":18},{"$f":"+I6*1","v":4},{"$f":"+J6*2","v":0},{"$f":"+K6*1","v":5},{"$f":"+L6*2","v":4}]
[null,{"$f":"IF(B8>=10,LEFT(B8,1),B8)*1","v":1},{"$f":"IF(C8>=10,LEFT(C8,1),C8)*1","v":7},{"$f":"IF(D8>=10,LEFT(D8,1),D8)*1","v":1},{"$f":"IF(E8>=10,LEFT(E8,1),E8)*1","v":0},1,1,1,4,0,5,4]
[null,{"$f":"IF(B8>=10,RIGHT(B8,1),B8)*1","v":8},{"$f":"IF(C8>=10,RIGHT(C8,1),C8)*1","v":7},{"$f":"IF(D8>=10,RIGHT(D8,1),D8)*1","v":6},{"$f":"IF(E8>=10,RIGHT(E8,1),E8)*1","v":0},6,1,8,4,0,5,4]
["Suma cifra mayor a 10",{"$f":"IF(B8>=10,SUM(B9:B10),B8)","v":9},{"$f":"IF(C8>=10,SUM(C9:C10),C8)","v":7},7,0,7,1,9,4,0,5,4,null,null,null,null,null,"NO BORRAR! Para cálculo de dígito verificador"]
["Suma resultado",{"$f":"SUM(B11:L11)","v":53},null,null,null,null,null,null,null,null,null,null,null,null,null,null,null,0,1,2,3,4,5,6,7,8,9,10,11,12,13,14,15,16,17,18,19,20,21,22,23,24,25,26,27,28,29,30,31,32,33,34,35,36,37,38,39,40,41,42,43,44,45,46,47,48,49,50,51,52,53,54,55,56,57,58,59,60,61,62,63,64,65,66,67,68,69,70,71,72,73,74,75,76,77,78,79,80,81,82,83,84,85,86,87,88,89,90,91,92,93,94,95,96,97,98,99,100]
["Unidad hasta próxima decena",{"$f":"HLOOKUP(B12,R12:DN13,2,FALSE)","v":7},null,null,null,null,null,null,null,null,null,null,null,null,null,null,null,0,{"$f":"AB12-S12","v":9},{"$f":"AB12-T12","v":8},{"$f":"AB12-U12","v":7},{"$f":"AB12-V12","v":6},{"$f":"AB12-W12","v":5},{"$f":"AB12-X12","v":4},{"$f":"AB12-Y12","v":3},{"$f":"AB12-Z12","v":2},{"$f":"AB12-AA12","v":1},{"$f":"AB12-AB12","v":0},{"$f":"AL12-AC12","v":9},{"$f":"AL12-AD12","v":8},{"$f":"AL12-AE12","v":7},{"$f":"AL12-AF12","v":6},{"$f":"AL12-AG12","v":5},{"$f":"AL12-AH12","v":4},{"$f":"AL12-AI12","v":3},{"$f":"AL12-AJ12","v":2},{"$f":"AL12-AK12","v":1},{"$f":"AL12-AL12","v":0},{"$f":"AV12-AM12","v":9},{"$f":"AV12-AN12","v":8},{"$f":"AV12-AO12","v":7},{"$f":"AV12-AP12","v":6},{"$f":"AV12-AQ12","v":5},{"$f":"AV12-AR12","v":4},{"$f":"AV12-AS12","v":3},{"$f":"AV12-AT12","v":2},{"$f":"AV12-AU12","v":1},{"$f":"AV12-AV12","v":0},{"$f":"BF12-AW12","v":9},{"$f":"BF12-AX12","v":8},{"$f":"BF12-AY12","v":7},{"$f":"BF12-AZ12","v":6},{"$f":"BF12-BA12","v":5},{"$f":"BF12-BB12","v":4},{"$f":"BF12-BC12","v":3},{"$f":"BF12-BD12","v":2},{"$f":"BF12-BE12","v":1},{"$f":"BF12-BF12","v":0},{"$f":"BP12-BG12","v":9},{"$f":"BP12-BH12","v":8},{"$f":"BP12-BI12","v":7},{"$f":"BP12-BJ12","v":6},{"$f":"BP12-BK12","v":5},{"$f":"BP12-BL12","v":4},{"$f":"BP12-BM12","v":3},{"$f":"BP12-BN12","v":2},{"$f":"BP12-BO12","v":1},{"$f":"BP12-BP12","v":0},{"$f":"BZ12-BQ12","v":9},{"$f":"BZ12-BR12","v":8},{"$f":"BZ12-BS12","v":7},{"$f":"BZ12-BT12","v":6},{"$f":"BZ12-BU12","v":5},{"$f":"BZ12-BV12","v":4},{"$f":"BZ12-BW12","v":3},{"$f":"BZ12-BX12","v":2},{"$f":"BZ12-BY12","v":1},{"$f":"BZ12-BZ12","v":0},{"$f":"CJ12-CA12","v":9},{"$f":"CJ12-CB12","v":8},{"$f":"CJ12-CC12","v":7},{"$f":"CJ12-CD12","v":6},{"$f":"CJ12-CE12","v":5},{"$f":"CJ12-CF12","v":4},{"$f":"CJ12-CG12","v":3},{"$f":"CJ12-CH12","v":2},{"$f":"CJ12-CI12","v":1},{"$f":"CJ12-CJ12","v":0},{"$f":"CT12-CK12","v":9},{"$f":"CT12-CL12","v":8},{"$f":"CT12-CM12","v":7},{"$f":"CT12-CN12","v":6},{"$f":"CT12-CO12","v":5},{"$f":"CT12-CP12","v":4},{"$f":"CT12-CQ12","v":3},{"$f":"CT12-CR12","v":2},{"$f":"CT12-CS12","v":1},{"$f":"CT12-CT12","v":0},{"$f":"DD12-CU12","v":9},{"$f":"DD12-CV12","v":8},{"$f":"DD12-CW12","v":7},{"$f":"DD12-CX12","v":6},{"$f":"DD12-CY12","v":5},{"$f":"DD12-CZ12","v":4},{"$f":"DD12-DA12","v":3},{"$f":"DD12-DB12","v":2},{"$f":"DD12-DC12","v":1},{"$f":"DD12-DD12","v":0},{"$f":"DN12-DE12","v":9},{"$f":"DN12-DF12","v":8},{"$f":"DN12-DG12","v":7},{"$f":"DN12-DH12","v":6},{"$f":"DN12-DI12","v":5},{"$f":"DN12-DJ12","v":4},{"$f":"DN12-DK12","v":3},{"$f":"DN12-DL12","v":2},{"$f":"DN12-DM12","v":1},{"$f":"DN12-DN12","v":0}]
[]
["Full number",{"$f":"CONCATENATE(B6,C6,\" \",D6,E6,\" \",F6,G6,\"-\",H6,I6,\" \",J6,K6,L6,\"-\",M6)","v":"97 80 81-94 052-7"}]
[]
[]
["International block"]
["Exchange code"]
["First and second digit"]
["WAGONS"]
["01 - 49 / 80 - 89"]
[]
["COACHES"]
[50,"National commercial service"]
[51,"International non-air-conditioning service with fixed gauge"]
[52,"International non-air-conditioning service with variable gauge (1435 ↔ 1520)"]
[53,"Reserved"]
[54,"International non-air-conditioning service with variable gauge (1435 ↔ 1672)"]
[55,"International service by special agreement"]
[56,"International service except [Organization for the Cooperation of Railways | PPW]"]
[57,"International PPW services"]
[58,"International PPW service with change of bogie for variable gauge (1435 ↔ 1520)"]
[59,"International service PPW with change of axles for variable gauge (1435 ↔ 1520)"]
[60,"Service car in national traffic, not used for commercial service"]
[61,"International air-conditioned service with fixed gauge"]
[62,"International air-conditioned service with variable gauge (1435 ↔ 1520)"]
[63,"Service car in international traffic, not used for commercial service"]
[64,"International air-conditioned service with variable gauge (1435 ↔ 1672)"]
[65,"Wagons for the carriage of automobiles, in self-sleeping trains"]
[66,"International service with variable gauge except PPW"]
[67,"International PPW services"]
[68,"International PPW service with change of bogie for variable gauge (1435 ↔ 1520)"]
[69,"International service PPW with change of axles for variable gauge (1435 ↔ 1520)"]
[70,"Air-conditioned and pressurized car in national traffic"]
[71,"Reserved"]
[72,"Reserved"]
[73,"Air-conditioned and pressurized car in international traffic"]
[74,"Reserved"]
[75,"Other vehicle"]
[76,"Reserved"]
[77,"Reserved"]
[78,"Reserved"]
[79,"Reserved"]
[]
["Country Code"]
["Third and Fourth digit"]
[null,"Initials","Country"]
[10,"FIN","Finland (VR)"]
[20,"RUS","Russia (RZD)"]
[21,"SU ","Belarus (BC)"]
[22,"UA ","Ukraine (UZ)"]
[23,"MD ","Moldova (CFM)"]
[24,"LT ","Lithuania (LG)"]
[25,"LV ","Latvia (LDZ)"]
[26,"EST","Estonia (EVR)"]
[27,"KZ ","Kazakhstan (KTZ)"]
[28,"GE ","Georgia (GR)"]
[29,"UZ ","Uzbekistan (UTI)"]
[41,"AL ","Albania (HSH)"]
[50,"BIH","Bosnia-Hercegovina (ZRS)"]
[51,"PL ","Poland (PKP)"]
[52,"BG ","Bulgaria (BDZ)"]
[53,"RO ","Romania (CFR)"]
[54,"CZ ","Czech Republic (CD)"]
[55,"H","Hungary (MAV)"]
[56,"SK ","Slovakia (ZSR)"]
[57,"SU ","Azerbaijan (AZ)"]
[58,"ARM","Armenia (ARM)"]
[59,"KS ","Kyrgystan (KRG)"]
[60,"IRL","Ireland (IE)"]
[65,"MK ","Macedonia(FYROM) (MZ)"]
[66,"TJ ","Tadjikistan (TZD)"]
[67,"TM ","Turkmenistan (TRK)"]
[70,"GB ","Great Britain (BR-EWS)"]
[71,"E","Spain (RENFE)"]
[72,"YU ","Serbia/Montenegro (ZS)"]
[73,"GR ","Greece (OSE)"]
[74,"S","Sweden (SJ-GC)"]
[75,"TR ","Turkey (TCDD)"]
[76,"N","Norway (NSB)"]
[78,"HR ","Croatia (HZ)"]
[79,"SLO","Slovenia (SZ)"]
[80,"D","Germany (DB-BASF)"]
[81,"A","Austria (ÖBB)"]
[82,"L","Luxemburg (CFL)"]
[83,"I","Italy (FS)"]
[84,"NL ","Netherlands (NS)"]
[85,"CH ","Switzerland (SBB-BLS)"]
[86,"DK ","Denmark (DSB)"]
[87,"F","France (SNCF)"]
[88,"B","Belgium (SNCB)"]
[94,"P","Portugal (CP)"]
[]
["National block"]
["Vehicle type"]
["Fifth digit"]
[0,"Special vehicle / private"]
[1,"1° class"]
[2,"2° class"]
[3,"1°/2° class"]
[4,"Couchette of 1° class or 1°/2° class"]
[5,"Couchette of 2° class"]
[6,"Sleeping car of 1° class"]
[7,"Sleeping car of 2° class"]
[8,"Special type vehicle with/without luggage compartment (eg: ambulance, with bar/kitchenette)"]
[9,"Luggage vans, mail vans, car transport and other"]
["Sixth digit"]
[0,"10 compartments or 20/21 seat rows"]
[1,"11 compartments or 22/23 seat rows"]
[2,"12 compartments or 24/25 seat rows"]
[3,"3-axle coach"]
[4,"2-axle coach"]
[5,"Reserved"]
[6,"Double decker"]
[7,"7  compartments or 14/15 seat rows"]
[8,"8 compartments or 16/17 seat rows"]
[9,"9 compartments or 18/19 seat rows"]
[]
["Special cases"]
[80,"Ambulance/Instruction coach"]
[81,"1st or 1st/2nd class coach with luggage compartment"]
[82,"2nd class coach with luggage compartment"]
[83,"2nd class coach with luggage compartment (2 or 3 axles)"]
[84,"1st class coach with buffet"]
[85,"2nd class coach with buffet"]
[87,"Dining-car with luggage room, "]
[88,"Dining-car"]
[89,"Party/Saloon car"]
[90,"Mail van",null,null,null,null,null,null,null,{"$f":"MID(A140,4,59)","v":""}]
[91,"Luggage/mail van",null,null,null,null,null,null,null,""]
[92,"Luggage van without side corridor",null,null,null,null,null,null,null,""]
[93,"Luggage van, 2 or 3 axles",null,null,null,null,null,null,null,""]
[94,"Luggage/mail van, 2 or 3 axles",null,null,null,null,null,null,null,""]
[95,"Luggage van with side corridor and customs compartment",null,null,null,null,null,null,null,""]
[96,"Automobile transport wagon, 2 axles",null,null,null,null,null,null,null,""]
[97,"Automobile transport wagon, 3 axles",null,null,null,null,null,null,null,""]
[98,"Automobile transport wagon, 4 axles",null,null,null,null,null,null,null,""]
[99,"Exposition/Measurement/Special cars",null,null,null,null,null,null,null,""]
[]
["Max speed"]
["Seventh digit"]
[0,"Max speed up to 120 km/h"]
[1,"Max speed up to 120 km/h"]
[2,"Max speed up to 120 km/h"]
[3,"Max speed up to 140 km/h"]
[4,"Max speed up to 140 km/h"]
[5,"Max speed up to 140 km/h"]
[6,"Max speed up to 140 km/h"]
[7,"Max speed up to 160 km/h"]
[8,"Max speed up to 160 km/h"]
[9,"Max speed over 160 km/h"]
[]
["Heating type"]
["Eigth"]
[]
["00 : 120 km/h, 1000V~17Hz & 1500V~50Hz & 1500V= & 3000V="]
["03-04 : 120 km/h, 1000V~17Hz"]
["05 : 120 km/h, 1500V~50Hz"]
["06 : 120 km/h, 1000V~17Hz & 1500V~50Hz & 1500V="]
["07 : 120 km/h, 1500V~50Hz & 1500V="]
["08-09 : 120 km/h, 3000V="]
["10 : 120 km/h, steam & 1000V~17Hz & 1500V~50Hz & 1500V= & 3000V="]
["11-15 : 120 km/h, steam & 1000V~17Hz"]
["16 : 120 km/h, steam & 1000V~17Hz & 1500V~50Hz & 1500V="]
["17 : 120 km/h, steam & 1500V~50Hz & 1500V="]
["18-19 : 120 km/h, steam & 3000V="]
["20-25 : 120 km/h, steam only"]
["26-28 : 120 km/h, steam & 1500V~50Hz"]
["29 : 120 km/h, self-contained heating"]
["30 : 140 km/h, 1000V~17Hz & 1500V~50Hz & 1500V= & 3000V="]
["33-35 : 140 km/h, 1000V~17Hz"]
["36 : 140 km/h, 1000V~17Hz & 1500V~50Hz & 1500V="]
["37 : 140 km/h, 1500V~50Hz & 1500V="]
["38 : 140 km/h, 3000V="]
["39 : 140 km/h, 1000V~17Hz & 3000V="]
["40-42 : 140 km/h, steam & 1000V~17Hz & 1500V~50Hz & 1500V= & 3000V="]
["43 45 : 140 km/h, steam & 1000V~17Hz"]
["46 : 140 km/h, steam & 1000V~17Hz & 1500V~50Hz & 1500V="]
["47 : 140 km/h, steam & 1500V~50Hz & 1500V="]
["48 : 140 km/h, steam & 3000V="]
["50-52 : 140 km/h, steam & 1000V~17Hz & 1500V~50Hz & 1500V= & 3000V="]
["53-54 : 140 km/h, steam & 1000V~17Hz"]
["56 : 140 km/h, steam & 1000V~17Hz & 1500V~50Hz & 1500V="]
["57 : 140 km/h, steam & 1500V~50Hz & 1500V="]
["58 : 140 km/h, steam & 3000V="]
["59 : 140 km/h, steam & 1000V~17Hz & 3000V="]
["60-68 : 140 km/h, steam only"]
["69 : 140 km/h, self-contained heating"]
["70-71 : 160 km/h, 1000V~17Hz & 1500V~50Hz & 1500V= & 3000V="]
["73 : 160 km/h, 1000V~17Hz"]
["74 : 160 km/h, 1500V~50Hz & 1500V="]
["75 : 160 km/h, 1000V~17Hz"]
["76 : 160 km/h, 1000V~17Hz & 1500V~50Hz & 1500V="]
["77 : 160 km/h, 1500V~50Hz & 1500V="]
["78-79 : 160 km/h, 3000V="]
["80-81 : 160 km/h, steam & 1000V~17Hz & 1500V~50Hz & 1500V= & 3000V="]
["84 : 160 km/h, steam only"]
["85 : 160 km/h, steam & 1000V~17Hz"]
["86 : 160 km/h, steam & 1000V~17Hz & 1500V~50Hz & 1500V="]
["87 : 160 km/h, steam & 1500V~50Hz & 1500V="]
["88 : 160 km/h, steam & 3000V="]
["89 : 160 km/h, self-contained heating"]
["90-91 : 200 km/h, 1000V~17Hz & 1500V~50Hz & 1500V= & 3000V="]
["92 : 200 km/h, steam & 1000V~17Hz & 1500V~50Hz & 1500V= & 3000V="]
["93 : 200 km/h, steam & 1000V~17Hz"]
["94-95 : 200 km/h, 1000V~17Hz"]
["96 : 200 km/h, 1000V~17Hz & 1500V~50Hz & 1500V="]
["97 : 200 km/h, 1500V~50Hz & 1500V="]
["98 : 200 km/h, 3000V="]
["99 : 200 km/h, self-contained heating"]

{"sheet":"Assorted","index":10,"n_rows":41,"n_cols":3,"rows_kept":41,"cut":false,"hidden":false,"merged":[]}
["LIMA ALPHABETICAL CODE"]
["Code","Description","First appearance in Catalogue"]
["G","G-type engine","1980-81"]
["K","With close couplers","1989-90"]
["L","With light","1964-65"]
["M","Mostly used for OO scale materiel","1973-74"]
["P","With operational Pantograph","1982-83"]
["W","British type coupler (Hornby)","1980-81"]
["E","Económy version","1984-85"]
["LIMA CATALOGUE LANGUAGES"]
["Ticker","Language"]
["ML","Multilanguage"]
["DE","German"]
["IT","Italian"]
["EN","English"]
["ES","Spanish"]
["JP","Japanese"]
["NEW","News"]
["MODEL RAILWAY ERAS"]
["Era","Períodos (aprox)"]
["ERA","Years (approx)","Main characteristics"]
["I","After WWI (ca. 1920)","Early railways"]
[null,null,"First national networks created"]
[null,null,"Steam engine"]
[null,null,"Golden age of rail transport"]
["II","1920 - 1945","Setup of huge national administrations (SNCF, FS, DRG, etc)"]
[null,null,"Electric traction appearance"]
["III a","1945 - 1956","Reconstruction and reshaping of the railway network after WWII"]
[null,null,"Early migration from steam to electric and diesel traction"]
["III b","1956 - 1968","Deployment of standardized UIC numbering for wagons (1964), coaches (1966) and locomotives (1968)"]
[null,null,"Launch of TEE services"]
["IV a","1968 - 1975","Disappearance from steam traction in almost every European company"]
[null,null,"Widespread of TEE services"]
["IV b","1975 - 1986","VSE program development (Eurofima) to standardize coach fleet"]
[null,null,"High speed services launch (TGV)"]
["V a","1986 - 1994","High speed expansion (Italy, Spain)"]
[null,null,"German reunification"]
["V b","1994 - 2006","Eurotunnel is open to service"]
[null,null,"Spin off of Passenger, Freight and Infrastructure divisions from centralized companies"]
["VI","2006 - NOW","Open access"]
[null,null,"Current era"]